Workbook

Sheet Summary
A1: Dog Daycare Attendance Tracker | N1: =Assumptions!$B$14
A2: Choose a date to review expected and recorded daycare attendance. All sample records and identifiers are fictional. | N2: =Assumptions!$B$15
A3: Selected date | B3: 46274
A5: Indicator | B5: Value
A6: Expected dogs | B6: =IF($B$3="","",COUNTIFS(Attendance!$B$4:$B$103,$B$3,Attendance!$F$4:$F$103,"Yes",Attendance!$H$4:$H$103,"<>Canceled"))
A7: Actual dogs | B7: =IF($B$3="","",COUNTIFS(Attendance!$B$4:$B$103,$B$3,Attendance!$H$4:$H$103,"Checked In")+COUNTIFS(Attendance!$B$4:$B$103,$B$3,Attendance!$H$4:$H$103,"Completed"))
A8: Still scheduled | B8: =IF($B$3="","",COUNTIFS(Attendance!$B$4:$B$103,$B$3,Attendance!$H$4:$H$103,"Scheduled"))
A9: No shows | B9: =IF($B$3="","",COUNTIFS(Attendance!$B$4:$B$103,$B$3,Attendance!$H$4:$H$103,"No Show"))
A10: Canceled visits | B10: =IF($B$3="","",COUNTIFS(Attendance!$B$4:$B$103,$B$3,Attendance!$H$4:$H$103,"Canceled"))
A11: Attendance variance | B11: =IF(OR($B$6="",$B$7=""),"",IFERROR($B$7-$B$6,""))
A12: Daily capacity | B12: =IF($B$3="","",Assumptions!$B$11)
A13: Spots remaining | B13: =IF(OR($B$7="",$B$12=""),"",IFERROR($B$12-$B$7,""))
A14: Capacity used | B14: =IF($B$3="","",IFERROR($B$7/$B$12,""))
A15: Recorded hours | B15: =IF($B$3="","",IFERROR(SUMIFS(Attendance!$M$4:$M$103,Attendance!$B$4:$B$103,$B$3),0))
A16: Potential charges | B16: =IF($B$3="","",IFERROR(SUMIFS(Attendance!$O$4:$O$103,Attendance!$B$4:$B$103,$B$3),0))
A17: Items to review | B17: =IF($B$3="","",COUNTIFS(Attendance!$B$4:$B$103,$B$3,Attendance!$P$4:$P$103,"?*"))
A19: Seven-Day Headcount
A20: Date | B20: Expected | C20: Actual
A21: =IF($B$3="","",IFERROR($B$3-6,"")) | B21: =IF($A21="","",COUNTIFS(Attendance!$B$4:$B$103,$A21,Attendance!$F$4:$F$103,"Yes",Attendance!$H$4:$H$103,"<>Canceled")) | C21: =IF($A21="","",COUNTIFS(Attendance!$B$4:$B$103,$A21,Attendance!$H$4:$H$103,"Checked In")+COUNTIFS(Attendance!$B$4:$B$103,$A21,Attendance!$H$4:$H$103,"Completed"))
A22: =IF($B$3="","",IFERROR($B$3-5,"")) | B22: =IF($A22="","",COUNTIFS(Attendance!$B$4:$B$103,$A22,Attendance!$F$4:$F$103,"Yes",Attendance!$H$4:$H$103,"<>Canceled")) | C22: =IF($A22="","",COUNTIFS(Attendance!$B$4:$B$103,$A22,Attendance!$H$4:$H$103,"Checked In")+COUNTIFS(Attendance!$B$4:$B$103,$A22,Attendance!$H$4:$H$103,"Completed"))
A23: =IF($B$3="","",IFERROR($B$3-4,"")) | B23: =IF($A23="","",COUNTIFS(Attendance!$B$4:$B$103,$A23,Attendance!$F$4:$F$103,"Yes",Attendance!$H$4:$H$103,"<>Canceled")) | C23: =IF($A23="","",COUNTIFS(Attendance!$B$4:$B$103,$A23,Attendance!$H$4:$H$103,"Checked In")+COUNTIFS(Attendance!$B$4:$B$103,$A23,Attendance!$H$4:$H$103,"Completed"))
A24: =IF($B$3="","",IFERROR($B$3-3,"")) | B24: =IF($A24="","",COUNTIFS(Attendance!$B$4:$B$103,$A24,Attendance!$F$4:$F$103,"Yes",Attendance!$H$4:$H$103,"<>Canceled")) | C24: =IF($A24="","",COUNTIFS(Attendance!$B$4:$B$103,$A24,Attendance!$H$4:$H$103,"Checked In")+COUNTIFS(Attendance!$B$4:$B$103,$A24,Attendance!$H$4:$H$103,"Completed"))
A25: =IF($B$3="","",IFERROR($B$3-2,"")) | B25: =IF($A25="","",COUNTIFS(Attendance!$B$4:$B$103,$A25,Attendance!$F$4:$F$103,"Yes",Attendance!$H$4:$H$103,"<>Canceled")) | C25: =IF($A25="","",COUNTIFS(Attendance!$B$4:$B$103,$A25,Attendance!$H$4:$H$103,"Checked In")+COUNTIFS(Attendance!$B$4:$B$103,$A25,Attendance!$H$4:$H$103,"Completed"))
A26: =IF($B$3="","",IFERROR($B$3-1,"")) | B26: =IF($A26="","",COUNTIFS(Attendance!$B$4:$B$103,$A26,Attendance!$F$4:$F$103,"Yes",Attendance!$H$4:$H$103,"<>Canceled")) | C26: =IF($A26="","",COUNTIFS(Attendance!$B$4:$B$103,$A26,Attendance!$H$4:$H$103,"Checked In")+COUNTIFS(Attendance!$B$4:$B$103,$A26,Attendance!$H$4:$H$103,"Completed"))
A27: =IF($B$3="","",IFERROR($B$3-0,"")) | B27: =IF($A27="","",COUNTIFS(Attendance!$B$4:$B$103,$A27,Attendance!$F$4:$F$103,"Yes",Attendance!$H$4:$H$103,"<>Canceled")) | C27: =IF($A27="","",COUNTIFS(Attendance!$B$4:$B$103,$A27,Attendance!$H$4:$H$103,"Checked In")+COUNTIFS(Attendance!$B$4:$B$103,$A27,Attendance!$H$4:$H$103,"Completed"))

Sheet Attendance
A1: Attendance Records
A2: Enter one row per daycare visit. Yellow cells are editable; calculated fields update when the workbook recalculates.
A3: Attendance ID | B3: Date | C3: Dog ID | D3: Dog Name | E3: Client Code | F3: Expected? | G3: Service | H3: Status | I3: Check-In | J3: Check-Out | K3: Group | L3: Assigned Team | M3: Hours | N3: Rate | O3: Potential Charge | P3: Review | Q3: Attendance Notes
A4: FIC-20260907-01 | B4: 46272 | C4: FIC-D001 | D4: Pixel | E4: FIC-C101 | F4: Yes | G4: Full Day | H4: Completed | I4: 0.33333333 | J4: 0.6875 | K4: Meadow Group | L4: Pine Team | M4: =IF(OR($B4="",$I4="",$J4=""),"",IFERROR(IF($J4>=$I4,($J4-$I4)*24,""),"")) | N4: =IF(OR($B4="",$G4=""),"",IFERROR(VLOOKUP($G4,Assumptions!$A$5:$B$7,2,FALSE),"")) | O4: =IF(OR($B4="",$H4="",$N4=""),"",IFERROR(IF(OR($H4="Completed",$H4="Checked In"),$N4,IF($H4="No Show",$N4*Assumptions!$B$12,IF($H4="Canceled",0,""))),"")) | P4: =IF(COUNTA($A4:$L4,$Q4)=0,"",IFERROR(IF(OR($A4="",$B4="",$C4="",$D4="",$E4="",$F4="",$G4="",$H4=""),"Complete row",IF(COUNTIF($A$4:$A$103,$A4)>1,"Check duplicate ID",IF(COUNTIFS($B$4:$B$103,$B4,$C$4:$C$103,$C4)>1,"Check duplicate visit",IF(AND($I4<>"",$J4<>"",$J4<=$I4),"Check times",IF(AND($H4="Completed",OR($I4="",$J4="")),"Check times",IF(AND($H4="Checked In",$I4=""),"Check check-in",IF(AND($H4="Scheduled",OR($I4<>"",$J4<>"")),"Check status",IF(AND($F4="No",OR($H4="Checked In",$H4="Completed")),"Check expected flag",IF(AND(OR($H4="Scheduled",$H4="Checked In",$H4="Completed"),OR($K4="",$L4="")),"Check assignment",IF(AND($M4<>"",$M4>Assumptions!$B$13),"Check hours",IF(COUNTIFS($B$4:$B$103,$B4,$H$4:$H$103,"Checked In")+COUNTIFS($B$4:$B$103,$B4,$H$4:$H$103,"Completed")>Assumptions!$B$11,"Check capacity",""))))))))))),"Check formula inputs")) | Q4: Pickup window confirmed. | T4: =Assumptions!$A$5 | U4: =Assumptions!$D$5 | V4: =Assumptions!$F$5 | W4: =Assumptions!$H$5 | X4: =Assumptions!$J$5 | Y4: =Assumptions!$B$14 | Z4: =Assumptions!$B$13
A5: FIC-20260907-02 | B5: 46272 | C5: FIC-D002 | D5: Comet | E5: FIC-C102 | F5: Yes | G5: Half Day | H5: Completed | I5: 0.33333333 | J5: 0.5 | K5: Meadow Group | L5: Maple Team | M5: =IF(OR($B5="",$I5="",$J5=""),"",IFERROR(IF($J5>=$I5,($J5-$I5)*24,""),"")) | N5: =IF(OR($B5="",$G5=""),"",IFERROR(VLOOKUP($G5,Assumptions!$A$5:$B$7,2,FALSE),"")) | O5: =IF(OR($B5="",$H5="",$N5=""),"",IFERROR(IF(OR($H5="Completed",$H5="Checked In"),$N5,IF($H5="No Show",$N5*Assumptions!$B$12,IF($H5="Canceled",0,""))),"")) | P5: =IF(COUNTA($A5:$L5,$Q5)=0,"",IFERROR(IF(OR($A5="",$B5="",$C5="",$D5="",$E5="",$F5="",$G5="",$H5=""),"Complete row",IF(COUNTIF($A$4:$A$103,$A5)>1,"Check duplicate ID",IF(COUNTIFS($B$4:$B$103,$B5,$C$4:$C$103,$C5)>1,"Check duplicate visit",IF(AND($I5<>"",$J5<>"",$J5<=$I5),"Check times",IF(AND($H5="Completed",OR($I5="",$J5="")),"Check times",IF(AND($H5="Checked In",$I5=""),"Check check-in",IF(AND($H5="Scheduled",OR($I5<>"",$J5<>"")),"Check status",IF(AND($F5="No",OR($H5="Checked In",$H5="Completed")),"Check expected flag",IF(AND(OR($H5="Scheduled",$H5="Checked In",$H5="Completed"),OR($K5="",$L5="")),"Check assignment",IF(AND($M5<>"",$M5>Assumptions!$B$13),"Check hours",IF(COUNTIFS($B$4:$B$103,$B5,$H$4:$H$103,"Checked In")+COUNTIFS($B$4:$B$103,$B5,$H$4:$H$103,"Completed")>Assumptions!$B$11,"Check capacity",""))))))))))),"Check formula inputs")) | Q5: Half-day pickup recorded. | T5: =Assumptions!$A$6 | U5: =Assumptions!$D$6 | V5: =Assumptions!$F$6 | W5: =Assumptions!$H$6 | X5: =Assumptions!$J$6 | Y5: =Assumptions!$B$15
A6: FIC-20260908-03 | B6: 46273 | C6: FIC-D003 | D6: Waffles | E6: FIC-C103 | F6: Yes | G6: Full Day | H6: Completed | I6: 0.34375 | J6: 0.67708333 | K6: Brook Group | L6: Cedar Team | M6: =IF(OR($B6="",$I6="",$J6=""),"",IFERROR(IF($J6>=$I6,($J6-$I6)*24,""),"")) | N6: =IF(OR($B6="",$G6=""),"",IFERROR(VLOOKUP($G6,Assumptions!$A$5:$B$7,2,FALSE),"")) | O6: =IF(OR($B6="",$H6="",$N6=""),"",IFERROR(IF(OR($H6="Completed",$H6="Checked In"),$N6,IF($H6="No Show",$N6*Assumptions!$B$12,IF($H6="Canceled",0,""))),"")) | P6: =IF(COUNTA($A6:$L6,$Q6)=0,"",IFERROR(IF(OR($A6="",$B6="",$C6="",$D6="",$E6="",$F6="",$G6="",$H6=""),"Complete row",IF(COUNTIF($A$4:$A$103,$A6)>1,"Check duplicate ID",IF(COUNTIFS($B$4:$B$103,$B6,$C$4:$C$103,$C6)>1,"Check duplicate visit",IF(AND($I6<>"",$J6<>"",$J6<=$I6),"Check times",IF(AND($H6="Completed",OR($I6="",$J6="")),"Check times",IF(AND($H6="Checked In",$I6=""),"Check check-in",IF(AND($H6="Scheduled",OR($I6<>"",$J6<>"")),"Check status",IF(AND($F6="No",OR($H6="Checked In",$H6="Completed")),"Check expected flag",IF(AND(OR($H6="Scheduled",$H6="Checked In",$H6="Completed"),OR($K6="",$L6="")),"Check assignment",IF(AND($M6<>"",$M6>Assumptions!$B$13),"Check hours",IF(COUNTIFS($B$4:$B$103,$B6,$H$4:$H$103,"Checked In")+COUNTIFS($B$4:$B$103,$B6,$H$4:$H$103,"Completed")>Assumptions!$B$11,"Check capacity",""))))))))))),"Check formula inputs")) | Q6: Listed leash returned at pickup. | T6: =Assumptions!$A$7 | U6: =Assumptions!$D$7 | W6: =Assumptions!$H$7 | X6: =Assumptions!$J$7
A7: FIC-20260908-04 | B7: 46273 | C7: FIC-D004 | D7: Nori | E7: FIC-C104 | F7: Yes | G7: Half Day | H7: No Show | M7: =IF(OR($B7="",$I7="",$J7=""),"",IFERROR(IF($J7>=$I7,($J7-$I7)*24,""),"")) | N7: =IF(OR($B7="",$G7=""),"",IFERROR(VLOOKUP($G7,Assumptions!$A$5:$B$7,2,FALSE),"")) | O7: =IF(OR($B7="",$H7="",$N7=""),"",IFERROR(IF(OR($H7="Completed",$H7="Checked In"),$N7,IF($H7="No Show",$N7*Assumptions!$B$12,IF($H7="Canceled",0,""))),"")) | P7: =IF(COUNTA($A7:$L7,$Q7)=0,"",IFERROR(IF(OR($A7="",$B7="",$C7="",$D7="",$E7="",$F7="",$G7="",$H7=""),"Complete row",IF(COUNTIF($A$4:$A$103,$A7)>1,"Check duplicate ID",IF(COUNTIFS($B$4:$B$103,$B7,$C$4:$C$103,$C7)>1,"Check duplicate visit",IF(AND($I7<>"",$J7<>"",$J7<=$I7),"Check times",IF(AND($H7="Completed",OR($I7="",$J7="")),"Check times",IF(AND($H7="Checked In",$I7=""),"Check check-in",IF(AND($H7="Scheduled",OR($I7<>"",$J7<>"")),"Check status",IF(AND($F7="No",OR($H7="Checked In",$H7="Completed")),"Check expected flag",IF(AND(OR($H7="Scheduled",$H7="Checked In",$H7="Completed"),OR($K7="",$L7="")),"Check assignment",IF(AND($M7<>"",$M7>Assumptions!$B$13),"Check hours",IF(COUNTIFS($B$4:$B$103,$B7,$H$4:$H$103,"Checked In")+COUNTIFS($B$4:$B$103,$B7,$H$4:$H$103,"Completed")>Assumptions!$B$11,"Check capacity",""))))))))))),"Check formula inputs")) | Q7: No arrival was recorded. | U7: =Assumptions!$D$8 | X7: =Assumptions!$J$8
A8: FIC-20260908-05 | B8: 46273 | C8: FIC-D005 | D8: Sprout | E8: FIC-C105 | F8: Yes | G8: Extended Day | H8: Completed | I8: 0.29166667 | J8: 0.79166667 | K8: Quiet Group | L8: Pine Team | M8: =IF(OR($B8="",$I8="",$J8=""),"",IFERROR(IF($J8>=$I8,($J8-$I8)*24,""),"")) | N8: =IF(OR($B8="",$G8=""),"",IFERROR(VLOOKUP($G8,Assumptions!$A$5:$B$7,2,FALSE),"")) | O8: =IF(OR($B8="",$H8="",$N8=""),"",IFERROR(IF(OR($H8="Completed",$H8="Checked In"),$N8,IF($H8="No Show",$N8*Assumptions!$B$12,IF($H8="Canceled",0,""))),"")) | P8: =IF(COUNTA($A8:$L8,$Q8)=0,"",IFERROR(IF(OR($A8="",$B8="",$C8="",$D8="",$E8="",$F8="",$G8="",$H8=""),"Complete row",IF(COUNTIF($A$4:$A$103,$A8)>1,"Check duplicate ID",IF(COUNTIFS($B$4:$B$103,$B8,$C$4:$C$103,$C8)>1,"Check duplicate visit",IF(AND($I8<>"",$J8<>"",$J8<=$I8),"Check times",IF(AND($H8="Completed",OR($I8="",$J8="")),"Check times",IF(AND($H8="Checked In",$I8=""),"Check check-in",IF(AND($H8="Scheduled",OR($I8<>"",$J8<>"")),"Check status",IF(AND($F8="No",OR($H8="Checked In",$H8="Completed")),"Check expected flag",IF(AND(OR($H8="Scheduled",$H8="Checked In",$H8="Completed"),OR($K8="",$L8="")),"Check assignment",IF(AND($M8<>"",$M8>Assumptions!$B$13),"Check hours",IF(COUNTIFS($B$4:$B$103,$B8,$H$4:$H$103,"Checked In")+COUNTIFS($B$4:$B$103,$B8,$H$4:$H$103,"Completed")>Assumptions!$B$11,"Check capacity",""))))))))))),"Check formula inputs")) | Q8: Twelve-hour boundary example. | U8: =Assumptions!$D$9
A9: FIC-20260909-06 | B9: 46274 | C9: FIC-D006 | D9: Tinsel | E9: FIC-C106 | F9: Yes | G9: Full Day | H9: Checked In | I9: 0.33333333 | K9: Meadow Group | L9: Maple Team | M9: =IF(OR($B9="",$I9="",$J9=""),"",IFERROR(IF($J9>=$I9,($J9-$I9)*24,""),"")) | N9: =IF(OR($B9="",$G9=""),"",IFERROR(VLOOKUP($G9,Assumptions!$A$5:$B$7,2,FALSE),"")) | O9: =IF(OR($B9="",$H9="",$N9=""),"",IFERROR(IF(OR($H9="Completed",$H9="Checked In"),$N9,IF($H9="No Show",$N9*Assumptions!$B$12,IF($H9="Canceled",0,""))),"")) | P9: =IF(COUNTA($A9:$L9,$Q9)=0,"",IFERROR(IF(OR($A9="",$B9="",$C9="",$D9="",$E9="",$F9="",$G9="",$H9=""),"Complete row",IF(COUNTIF($A$4:$A$103,$A9)>1,"Check duplicate ID",IF(COUNTIFS($B$4:$B$103,$B9,$C$4:$C$103,$C9)>1,"Check duplicate visit",IF(AND($I9<>"",$J9<>"",$J9<=$I9),"Check times",IF(AND($H9="Completed",OR($I9="",$J9="")),"Check times",IF(AND($H9="Checked In",$I9=""),"Check check-in",IF(AND($H9="Scheduled",OR($I9<>"",$J9<>"")),"Check status",IF(AND($F9="No",OR($H9="Checked In",$H9="Completed")),"Check expected flag",IF(AND(OR($H9="Scheduled",$H9="Checked In",$H9="Completed"),OR($K9="",$L9="")),"Check assignment",IF(AND($M9<>"",$M9>Assumptions!$B$13),"Check hours",IF(COUNTIFS($B$4:$B$103,$B9,$H$4:$H$103,"Checked In")+COUNTIFS($B$4:$B$103,$B9,$H$4:$H$103,"Completed")>Assumptions!$B$11,"Check capacity",""))))))))))),"Check formula inputs")) | Q9: Check-out remains open.
A10: FIC-20260909-07 | B10: 46274 | C10: FIC-D007 | D10: Pebble | E10: FIC-C107 | F10: Yes | G10: Half Day | H10: Completed | I10: 0.33333333 | J10: 0.5 | K10: Brook Group | L10: Cedar Team | M10: =IF(OR($B10="",$I10="",$J10=""),"",IFERROR(IF($J10>=$I10,($J10-$I10)*24,""),"")) | N10: =IF(OR($B10="",$G10=""),"",IFERROR(VLOOKUP($G10,Assumptions!$A$5:$B$7,2,FALSE),"")) | O10: =IF(OR($B10="",$H10="",$N10=""),"",IFERROR(IF(OR($H10="Completed",$H10="Checked In"),$N10,IF($H10="No Show",$N10*Assumptions!$B$12,IF($H10="Canceled",0,""))),"")) | P10: =IF(COUNTA($A10:$L10,$Q10)=0,"",IFERROR(IF(OR($A10="",$B10="",$C10="",$D10="",$E10="",$F10="",$G10="",$H10=""),"Complete row",IF(COUNTIF($A$4:$A$103,$A10)>1,"Check duplicate ID",IF(COUNTIFS($B$4:$B$103,$B10,$C$4:$C$103,$C10)>1,"Check duplicate visit",IF(AND($I10<>"",$J10<>"",$J10<=$I10),"Check times",IF(AND($H10="Completed",OR($I10="",$J10="")),"Check times",IF(AND($H10="Checked In",$I10=""),"Check check-in",IF(AND($H10="Scheduled",OR($I10<>"",$J10<>"")),"Check status",IF(AND($F10="No",OR($H10="Checked In",$H10="Completed")),"Check expected flag",IF(AND(OR($H10="Scheduled",$H10="Checked In",$H10="Completed"),OR($K10="",$L10="")),"Check assignment",IF(AND($M10<>"",$M10>Assumptions!$B$13),"Check hours",IF(COUNTIFS($B$4:$B$103,$B10,$H$4:$H$103,"Checked In")+COUNTIFS($B$4:$B$103,$B10,$H$4:$H$103,"Completed")>Assumptions!$B$11,"Check capacity",""))))))))))),"Check formula inputs")) | Q10: Half-day pickup recorded.
A11: FIC-20260909-08 | B11: 46274 | C11: FIC-D008 | D11: Banjo | E11: FIC-C108 | F11: Yes | G11: Full Day | H11: Scheduled | K11: Quiet Group | L11: Pine Team | M11: =IF(OR($B11="",$I11="",$J11=""),"",IFERROR(IF($J11>=$I11,($J11-$I11)*24,""),"")) | N11: =IF(OR($B11="",$G11=""),"",IFERROR(VLOOKUP($G11,Assumptions!$A$5:$B$7,2,FALSE),"")) | O11: =IF(OR($B11="",$H11="",$N11=""),"",IFERROR(IF(OR($H11="Completed",$H11="Checked In"),$N11,IF($H11="No Show",$N11*Assumptions!$B$12,IF($H11="Canceled",0,""))),"")) | P11: =IF(COUNTA($A11:$L11,$Q11)=0,"",IFERROR(IF(OR($A11="",$B11="",$C11="",$D11="",$E11="",$F11="",$G11="",$H11=""),"Complete row",IF(COUNTIF($A$4:$A$103,$A11)>1,"Check duplicate ID",IF(COUNTIFS($B$4:$B$103,$B11,$C$4:$C$103,$C11)>1,"Check duplicate visit",IF(AND($I11<>"",$J11<>"",$J11<=$I11),"Check times",IF(AND($H11="Completed",OR($I11="",$J11="")),"Check times",IF(AND($H11="Checked In",$I11=""),"Check check-in",IF(AND($H11="Scheduled",OR($I11<>"",$J11<>"")),"Check status",IF(AND($F11="No",OR($H11="Checked In",$H11="Completed")),"Check expected flag",IF(AND(OR($H11="Scheduled",$H11="Checked In",$H11="Completed"),OR($K11="",$L11="")),"Check assignment",IF(AND($M11<>"",$M11>Assumptions!$B$13),"Check hours",IF(COUNTIFS($B$4:$B$103,$B11,$H$4:$H$103,"Checked In")+COUNTIFS($B$4:$B$103,$B11,$H$4:$H$103,"Completed")>Assumptions!$B$11,"Check capacity",""))))))))))),"Check formula inputs")) | Q11: Arrival has not been recorded.
A12: FIC-20260909-09 | B12: 46274 | C12: FIC-D009 | D12: Zuzu | E12: FIC-C109 | F12: No | G12: Full Day | H12: Canceled | M12: =IF(OR($B12="",$I12="",$J12=""),"",IFERROR(IF($J12>=$I12,($J12-$I12)*24,""),"")) | N12: =IF(OR($B12="",$G12=""),"",IFERROR(VLOOKUP($G12,Assumptions!$A$5:$B$7,2,FALSE),"")) | O12: =IF(OR($B12="",$H12="",$N12=""),"",IFERROR(IF(OR($H12="Completed",$H12="Checked In"),$N12,IF($H12="No Show",$N12*Assumptions!$B$12,IF($H12="Canceled",0,""))),"")) | P12: =IF(COUNTA($A12:$L12,$Q12)=0,"",IFERROR(IF(OR($A12="",$B12="",$C12="",$D12="",$E12="",$F12="",$G12="",$H12=""),"Complete row",IF(COUNTIF($A$4:$A$103,$A12)>1,"Check duplicate ID",IF(COUNTIFS($B$4:$B$103,$B12,$C$4:$C$103,$C12)>1,"Check duplicate visit",IF(AND($I12<>"",$J12<>"",$J12<=$I12),"Check times",IF(AND($H12="Completed",OR($I12="",$J12="")),"Check times",IF(AND($H12="Checked In",$I12=""),"Check check-in",IF(AND($H12="Scheduled",OR($I12<>"",$J12<>"")),"Check status",IF(AND($F12="No",OR($H12="Checked In",$H12="Completed")),"Check expected flag",IF(AND(OR($H12="Scheduled",$H12="Checked In",$H12="Completed"),OR($K12="",$L12="")),"Check assignment",IF(AND($M12<>"",$M12>Assumptions!$B$13),"Check hours",IF(COUNTIFS($B$4:$B$103,$B12,$H$4:$H$103,"Checked In")+COUNTIFS($B$4:$B$103,$B12,$H$4:$H$103,"Completed")>Assumptions!$B$11,"Check capacity",""))))))))))),"Check formula inputs")) | Q12: Cancellation retained for the daily record.
A13: FIC-20260910-10 | B13: 46275 | C13: FIC-D010 | D13: Orbit | E13: FIC-C110 | F13: Yes | G13: Extended Day | H13: Scheduled | K13: Meadow Group | L13: Maple Team | M13: =IF(OR($B13="",$I13="",$J13=""),"",IFERROR(IF($J13>=$I13,($J13-$I13)*24,""),"")) | N13: =IF(OR($B13="",$G13=""),"",IFERROR(VLOOKUP($G13,Assumptions!$A$5:$B$7,2,FALSE),"")) | O13: =IF(OR($B13="",$H13="",$N13=""),"",IFERROR(IF(OR($H13="Completed",$H13="Checked In"),$N13,IF($H13="No Show",$N13*Assumptions!$B$12,IF($H13="Canceled",0,""))),"")) | P13: =IF(COUNTA($A13:$L13,$Q13)=0,"",IFERROR(IF(OR($A13="",$B13="",$C13="",$D13="",$E13="",$F13="",$G13="",$H13=""),"Complete row",IF(COUNTIF($A$4:$A$103,$A13)>1,"Check duplicate ID",IF(COUNTIFS($B$4:$B$103,$B13,$C$4:$C$103,$C13)>1,"Check duplicate visit",IF(AND($I13<>"",$J13<>"",$J13<=$I13),"Check times",IF(AND($H13="Completed",OR($I13="",$J13="")),"Check times",IF(AND($H13="Checked In",$I13=""),"Check check-in",IF(AND($H13="Scheduled",OR($I13<>"",$J13<>"")),"Check status",IF(AND($F13="No",OR($H13="Checked In",$H13="Completed")),"Check expected flag",IF(AND(OR($H13="Scheduled",$H13="Checked In",$H13="Completed"),OR($K13="",$L13="")),"Check assignment",IF(AND($M13<>"",$M13>Assumptions!$B$13),"Check hours",IF(COUNTIFS($B$4:$B$103,$B13,$H$4:$H$103,"Checked In")+COUNTIFS($B$4:$B$103,$B13,$H$4:$H$103,"Completed")>Assumptions!$B$11,"Check capacity",""))))))))))),"Check formula inputs")) | Q13: Future visit example.
M14: =IF(OR($B14="",$I14="",$J14=""),"",IFERROR(IF($J14>=$I14,($J14-$I14)*24,""),"")) | N14: =IF(OR($B14="",$G14=""),"",IFERROR(VLOOKUP($G14,Assumptions!$A$5:$B$7,2,FALSE),"")) | O14: =IF(OR($B14="",$H14="",$N14=""),"",IFERROR(IF(OR($H14="Completed",$H14="Checked In"),$N14,IF($H14="No Show",$N14*Assumptions!$B$12,IF($H14="Canceled",0,""))),"")) | P14: =IF(COUNTA($A14:$L14,$Q14)=0,"",IFERROR(IF(OR($A14="",$B14="",$C14="",$D14="",$E14="",$F14="",$G14="",$H14=""),"Complete row",IF(COUNTIF($A$4:$A$103,$A14)>1,"Check duplicate ID",IF(COUNTIFS($B$4:$B$103,$B14,$C$4:$C$103,$C14)>1,"Check duplicate visit",IF(AND($I14<>"",$J14<>"",$J14<=$I14),"Check times",IF(AND($H14="Completed",OR($I14="",$J14="")),"Check times",IF(AND($H14="Checked In",$I14=""),"Check check-in",IF(AND($H14="Scheduled",OR($I14<>"",$J14<>"")),"Check status",IF(AND($F14="No",OR($H14="Checked In",$H14="Completed")),"Check expected flag",IF(AND(OR($H14="Scheduled",$H14="Checked In",$H14="Completed"),OR($K14="",$L14="")),"Check assignment",IF(AND($M14<>"",$M14>Assumptions!$B$13),"Check hours",IF(COUNTIFS($B$4:$B$103,$B14,$H$4:$H$103,"Checked In")+COUNTIFS($B$4:$B$103,$B14,$H$4:$H$103,"Completed")>Assumptions!$B$11,"Check capacity",""))))))))))),"Check formula inputs"))
M15: =IF(OR($B15="",$I15="",$J15=""),"",IFERROR(IF($J15>=$I15,($J15-$I15)*24,""),"")) | N15: =IF(OR($B15="",$G15=""),"",IFERROR(VLOOKUP($G15,Assumptions!$A$5:$B$7,2,FALSE),"")) | O15: =IF(OR($B15="",$H15="",$N15=""),"",IFERROR(IF(OR($H15="Completed",$H15="Checked In"),$N15,IF($H15="No Show",$N15*Assumptions!$B$12,IF($H15="Canceled",0,""))),"")) | P15: =IF(COUNTA($A15:$L15,$Q15)=0,"",IFERROR(IF(OR($A15="",$B15="",$C15="",$D15="",$E15="",$F15="",$G15="",$H15=""),"Complete row",IF(COUNTIF($A$4:$A$103,$A15)>1,"Check duplicate ID",IF(COUNTIFS($B$4:$B$103,$B15,$C$4:$C$103,$C15)>1,"Check duplicate visit",IF(AND($I15<>"",$J15<>"",$J15<=$I15),"Check times",IF(AND($H15="Completed",OR($I15="",$J15="")),"Check times",IF(AND($H15="Checked In",$I15=""),"Check check-in",IF(AND($H15="Scheduled",OR($I15<>"",$J15<>"")),"Check status",IF(AND($F15="No",OR($H15="Checked In",$H15="Completed")),"Check expected flag",IF(AND(OR($H15="Scheduled",$H15="Checked In",$H15="Completed"),OR($K15="",$L15="")),"Check assignment",IF(AND($M15<>"",$M15>Assumptions!$B$13),"Check hours",IF(COUNTIFS($B$4:$B$103,$B15,$H$4:$H$103,"Checked In")+COUNTIFS($B$4:$B$103,$B15,$H$4:$H$103,"Completed")>Assumptions!$B$11,"Check capacity",""))))))))))),"Check formula inputs"))
M16: =IF(OR($B16="",$I16="",$J16=""),"",IFERROR(IF($J16>=$I16,($J16-$I16)*24,""),"")) | N16: =IF(OR($B16="",$G16=""),"",IFERROR(VLOOKUP($G16,Assumptions!$A$5:$B$7,2,FALSE),"")) | O16: =IF(OR($B16="",$H16="",$N16=""),"",IFERROR(IF(OR($H16="Completed",$H16="Checked In"),$N16,IF($H16="No Show",$N16*Assumptions!$B$12,IF($H16="Canceled",0,""))),"")) | P16: =IF(COUNTA($A16:$L16,$Q16)=0,"",IFERROR(IF(OR($A16="",$B16="",$C16="",$D16="",$E16="",$F16="",$G16="",$H16=""),"Complete row",IF(COUNTIF($A$4:$A$103,$A16)>1,"Check duplicate ID",IF(COUNTIFS($B$4:$B$103,$B16,$C$4:$C$103,$C16)>1,"Check duplicate visit",IF(AND($I16<>"",$J16<>"",$J16<=$I16),"Check times",IF(AND($H16="Completed",OR($I16="",$J16="")),"Check times",IF(AND($H16="Checked In",$I16=""),"Check check-in",IF(AND($H16="Scheduled",OR($I16<>"",$J16<>"")),"Check status",IF(AND($F16="No",OR($H16="Checked In",$H16="Completed")),"Check expected flag",IF(AND(OR($H16="Scheduled",$H16="Checked In",$H16="Completed"),OR($K16="",$L16="")),"Check assignment",IF(AND($M16<>"",$M16>Assumptions!$B$13),"Check hours",IF(COUNTIFS($B$4:$B$103,$B16,$H$4:$H$103,"Checked In")+COUNTIFS($B$4:$B$103,$B16,$H$4:$H$103,"Completed")>Assumptions!$B$11,"Check capacity",""))))))))))),"Check formula inputs"))
M17: =IF(OR($B17="",$I17="",$J17=""),"",IFERROR(IF($J17>=$I17,($J17-$I17)*24,""),"")) | N17: =IF(OR($B17="",$G17=""),"",IFERROR(VLOOKUP($G17,Assumptions!$A$5:$B$7,2,FALSE),"")) | O17: =IF(OR($B17="",$H17="",$N17=""),"",IFERROR(IF(OR($H17="Completed",$H17="Checked In"),$N17,IF($H17="No Show",$N17*Assumptions!$B$12,IF($H17="Canceled",0,""))),"")) | P17: =IF(COUNTA($A17:$L17,$Q17)=0,"",IFERROR(IF(OR($A17="",$B17="",$C17="",$D17="",$E17="",$F17="",$G17="",$H17=""),"Complete row",IF(COUNTIF($A$4:$A$103,$A17)>1,"Check duplicate ID",IF(COUNTIFS($B$4:$B$103,$B17,$C$4:$C$103,$C17)>1,"Check duplicate visit",IF(AND($I17<>"",$J17<>"",$J17<=$I17),"Check times",IF(AND($H17="Completed",OR($I17="",$J17="")),"Check times",IF(AND($H17="Checked In",$I17=""),"Check check-in",IF(AND($H17="Scheduled",OR($I17<>"",$J17<>"")),"Check status",IF(AND($F17="No",OR($H17="Checked In",$H17="Completed")),"Check expected flag",IF(AND(OR($H17="Scheduled",$H17="Checked In",$H17="Completed"),OR($K17="",$L17="")),"Check assignment",IF(AND($M17<>"",$M17>Assumptions!$B$13),"Check hours",IF(COUNTIFS($B$4:$B$103,$B17,$H$4:$H$103,"Checked In")+COUNTIFS($B$4:$B$103,$B17,$H$4:$H$103,"Completed")>Assumptions!$B$11,"Check capacity",""))))))))))),"Check formula inputs"))
M18: =IF(OR($B18="",$I18="",$J18=""),"",IFERROR(IF($J18>=$I18,($J18-$I18)*24,""),"")) | N18: =IF(OR($B18="",$G18=""),"",IFERROR(VLOOKUP($G18,Assumptions!$A$5:$B$7,2,FALSE),"")) | O18: =IF(OR($B18="",$H18="",$N18=""),"",IFERROR(IF(OR($H18="Completed",$H18="Checked In"),$N18,IF($H18="No Show",$N18*Assumptions!$B$12,IF($H18="Canceled",0,""))),"")) | P18: =IF(COUNTA($A18:$L18,$Q18)=0,"",IFERROR(IF(OR($A18="",$B18="",$C18="",$D18="",$E18="",$F18="",$G18="",$H18=""),"Complete row",IF(COUNTIF($A$4:$A$103,$A18)>1,"Check duplicate ID",IF(COUNTIFS($B$4:$B$103,$B18,$C$4:$C$103,$C18)>1,"Check duplicate visit",IF(AND($I18<>"",$J18<>"",$J18<=$I18),"Check times",IF(AND($H18="Completed",OR($I18="",$J18="")),"Check times",IF(AND($H18="Checked In",$I18=""),"Check check-in",IF(AND($H18="Scheduled",OR($I18<>"",$J18<>"")),"Check status",IF(AND($F18="No",OR($H18="Checked In",$H18="Completed")),"Check expected flag",IF(AND(OR($H18="Scheduled",$H18="Checked In",$H18="Completed"),OR($K18="",$L18="")),"Check assignment",IF(AND($M18<>"",$M18>Assumptions!$B$13),"Check hours",IF(COUNTIFS($B$4:$B$103,$B18,$H$4:$H$103,"Checked In")+COUNTIFS($B$4:$B$103,$B18,$H$4:$H$103,"Completed")>Assumptions!$B$11,"Check capacity",""))))))))))),"Check formula inputs"))
M19: =IF(OR($B19="",$I19="",$J19=""),"",IFERROR(IF($J19>=$I19,($J19-$I19)*24,""),"")) | N19: =IF(OR($B19="",$G19=""),"",IFERROR(VLOOKUP($G19,Assumptions!$A$5:$B$7,2,FALSE),"")) | O19: =IF(OR($B19="",$H19="",$N19=""),"",IFERROR(IF(OR($H19="Completed",$H19="Checked In"),$N19,IF($H19="No Show",$N19*Assumptions!$B$12,IF($H19="Canceled",0,""))),"")) | P19: =IF(COUNTA($A19:$L19,$Q19)=0,"",IFERROR(IF(OR($A19="",$B19="",$C19="",$D19="",$E19="",$F19="",$G19="",$H19=""),"Complete row",IF(COUNTIF($A$4:$A$103,$A19)>1,"Check duplicate ID",IF(COUNTIFS($B$4:$B$103,$B19,$C$4:$C$103,$C19)>1,"Check duplicate visit",IF(AND($I19<>"",$J19<>"",$J19<=$I19),"Check times",IF(AND($H19="Completed",OR($I19="",$J19="")),"Check times",IF(AND($H19="Checked In",$I19=""),"Check check-in",IF(AND($H19="Scheduled",OR($I19<>"",$J19<>"")),"Check status",IF(AND($F19="No",OR($H19="Checked In",$H19="Completed")),"Check expected flag",IF(AND(OR($H19="Scheduled",$H19="Checked In",$H19="Completed"),OR($K19="",$L19="")),"Check assignment",IF(AND($M19<>"",$M19>Assumptions!$B$13),"Check hours",IF(COUNTIFS($B$4:$B$103,$B19,$H$4:$H$103,"Checked In")+COUNTIFS($B$4:$B$103,$B19,$H$4:$H$103,"Completed")>Assumptions!$B$11,"Check capacity",""))))))))))),"Check formula inputs"))
M20: =IF(OR($B20="",$I20="",$J20=""),"",IFERROR(IF($J20>=$I20,($J20-$I20)*24,""),"")) | N20: =IF(OR($B20="",$G20=""),"",IFERROR(VLOOKUP($G20,Assumptions!$A$5:$B$7,2,FALSE),"")) | O20: =IF(OR($B20="",$H20="",$N20=""),"",IFERROR(IF(OR($H20="Completed",$H20="Checked In"),$N20,IF($H20="No Show",$N20*Assumptions!$B$12,IF($H20="Canceled",0,""))),"")) | P20: =IF(COUNTA($A20:$L20,$Q20)=0,"",IFERROR(IF(OR($A20="",$B20="",$C20="",$D20="",$E20="",$F20="",$G20="",$H20=""),"Complete row",IF(COUNTIF($A$4:$A$103,$A20)>1,"Check duplicate ID",IF(COUNTIFS($B$4:$B$103,$B20,$C$4:$C$103,$C20)>1,"Check duplicate visit",IF(AND($I20<>"",$J20<>"",$J20<=$I20),"Check times",IF(AND($H20="Completed",OR($I20="",$J20="")),"Check times",IF(AND($H20="Checked In",$I20=""),"Check check-in",IF(AND($H20="Scheduled",OR($I20<>"",$J20<>"")),"Check status",IF(AND($F20="No",OR($H20="Checked In",$H20="Completed")),"Check expected flag",IF(AND(OR($H20="Scheduled",$H20="Checked In",$H20="Completed"),OR($K20="",$L20="")),"Check assignment",IF(AND($M20<>"",$M20>Assumptions!$B$13),"Check hours",IF(COUNTIFS($B$4:$B$103,$B20,$H$4:$H$103,"Checked In")+COUNTIFS($B$4:$B$103,$B20,$H$4:$H$103,"Completed")>Assumptions!$B$11,"Check capacity",""))))))))))),"Check formula inputs"))
M21: =IF(OR($B21="",$I21="",$J21=""),"",IFERROR(IF($J21>=$I21,($J21-$I21)*24,""),"")) | N21: =IF(OR($B21="",$G21=""),"",IFERROR(VLOOKUP($G21,Assumptions!$A$5:$B$7,2,FALSE),"")) | O21: =IF(OR($B21="",$H21="",$N21=""),"",IFERROR(IF(OR($H21="Completed",$H21="Checked In"),$N21,IF($H21="No Show",$N21*Assumptions!$B$12,IF($H21="Canceled",0,""))),"")) | P21: =IF(COUNTA($A21:$L21,$Q21)=0,"",IFERROR(IF(OR($A21="",$B21="",$C21="",$D21="",$E21="",$F21="",$G21="",$H21=""),"Complete row",IF(COUNTIF($A$4:$A$103,$A21)>1,"Check duplicate ID",IF(COUNTIFS($B$4:$B$103,$B21,$C$4:$C$103,$C21)>1,"Check duplicate visit",IF(AND($I21<>"",$J21<>"",$J21<=$I21),"Check times",IF(AND($H21="Completed",OR($I21="",$J21="")),"Check times",IF(AND($H21="Checked In",$I21=""),"Check check-in",IF(AND($H21="Scheduled",OR($I21<>"",$J21<>"")),"Check status",IF(AND($F21="No",OR($H21="Checked In",$H21="Completed")),"Check expected flag",IF(AND(OR($H21="Scheduled",$H21="Checked In",$H21="Completed"),OR($K21="",$L21="")),"Check assignment",IF(AND($M21<>"",$M21>Assumptions!$B$13),"Check hours",IF(COUNTIFS($B$4:$B$103,$B21,$H$4:$H$103,"Checked In")+COUNTIFS($B$4:$B$103,$B21,$H$4:$H$103,"Completed")>Assumptions!$B$11,"Check capacity",""))))))))))),"Check formula inputs"))
M22: =IF(OR($B22="",$I22="",$J22=""),"",IFERROR(IF($J22>=$I22,($J22-$I22)*24,""),"")) | N22: =IF(OR($B22="",$G22=""),"",IFERROR(VLOOKUP($G22,Assumptions!$A$5:$B$7,2,FALSE),"")) | O22: =IF(OR($B22="",$H22="",$N22=""),"",IFERROR(IF(OR($H22="Completed",$H22="Checked In"),$N22,IF($H22="No Show",$N22*Assumptions!$B$12,IF($H22="Canceled",0,""))),"")) | P22: =IF(COUNTA($A22:$L22,$Q22)=0,"",IFERROR(IF(OR($A22="",$B22="",$C22="",$D22="",$E22="",$F22="",$G22="",$H22=""),"Complete row",IF(COUNTIF($A$4:$A$103,$A22)>1,"Check duplicate ID",IF(COUNTIFS($B$4:$B$103,$B22,$C$4:$C$103,$C22)>1,"Check duplicate visit",IF(AND($I22<>"",$J22<>"",$J22<=$I22),"Check times",IF(AND($H22="Completed",OR($I22="",$J22="")),"Check times",IF(AND($H22="Checked In",$I22=""),"Check check-in",IF(AND($H22="Scheduled",OR($I22<>"",$J22<>"")),"Check status",IF(AND($F22="No",OR($H22="Checked In",$H22="Completed")),"Check expected flag",IF(AND(OR($H22="Scheduled",$H22="Checked In",$H22="Completed"),OR($K22="",$L22="")),"Check assignment",IF(AND($M22<>"",$M22>Assumptions!$B$13),"Check hours",IF(COUNTIFS($B$4:$B$103,$B22,$H$4:$H$103,"Checked In")+COUNTIFS($B$4:$B$103,$B22,$H$4:$H$103,"Completed")>Assumptions!$B$11,"Check capacity",""))))))))))),"Check formula inputs"))
M23: =IF(OR($B23="",$I23="",$J23=""),"",IFERROR(IF($J23>=$I23,($J23-$I23)*24,""),"")) | N23: =IF(OR($B23="",$G23=""),"",IFERROR(VLOOKUP($G23,Assumptions!$A$5:$B$7,2,FALSE),"")) | O23: =IF(OR($B23="",$H23="",$N23=""),"",IFERROR(IF(OR($H23="Completed",$H23="Checked In"),$N23,IF($H23="No Show",$N23*Assumptions!$B$12,IF($H23="Canceled",0,""))),"")) | P23: =IF(COUNTA($A23:$L23,$Q23)=0,"",IFERROR(IF(OR($A23="",$B23="",$C23="",$D23="",$E23="",$F23="",$G23="",$H23=""),"Complete row",IF(COUNTIF($A$4:$A$103,$A23)>1,"Check duplicate ID",IF(COUNTIFS($B$4:$B$103,$B23,$C$4:$C$103,$C23)>1,"Check duplicate visit",IF(AND($I23<>"",$J23<>"",$J23<=$I23),"Check times",IF(AND($H23="Completed",OR($I23="",$J23="")),"Check times",IF(AND($H23="Checked In",$I23=""),"Check check-in",IF(AND($H23="Scheduled",OR($I23<>"",$J23<>"")),"Check status",IF(AND($F23="No",OR($H23="Checked In",$H23="Completed")),"Check expected flag",IF(AND(OR($H23="Scheduled",$H23="Checked In",$H23="Completed"),OR($K23="",$L23="")),"Check assignment",IF(AND($M23<>"",$M23>Assumptions!$B$13),"Check hours",IF(COUNTIFS($B$4:$B$103,$B23,$H$4:$H$103,"Checked In")+COUNTIFS($B$4:$B$103,$B23,$H$4:$H$103,"Completed")>Assumptions!$B$11,"Check capacity",""))))))))))),"Check formula inputs"))
M24: =IF(OR($B24="",$I24="",$J24=""),"",IFERROR(IF($J24>=$I24,($J24-$I24)*24,""),"")) | N24: =IF(OR($B24="",$G24=""),"",IFERROR(VLOOKUP($G24,Assumptions!$A$5:$B$7,2,FALSE),"")) | O24: =IF(OR($B24="",$H24="",$N24=""),"",IFERROR(IF(OR($H24="Completed",$H24="Checked In"),$N24,IF($H24="No Show",$N24*Assumptions!$B$12,IF($H24="Canceled",0,""))),"")) | P24: =IF(COUNTA($A24:$L24,$Q24)=0,"",IFERROR(IF(OR($A24="",$B24="",$C24="",$D24="",$E24="",$F24="",$G24="",$H24=""),"Complete row",IF(COUNTIF($A$4:$A$103,$A24)>1,"Check duplicate ID",IF(COUNTIFS($B$4:$B$103,$B24,$C$4:$C$103,$C24)>1,"Check duplicate visit",IF(AND($I24<>"",$J24<>"",$J24<=$I24),"Check times",IF(AND($H24="Completed",OR($I24="",$J24="")),"Check times",IF(AND($H24="Checked In",$I24=""),"Check check-in",IF(AND($H24="Scheduled",OR($I24<>"",$J24<>"")),"Check status",IF(AND($F24="No",OR($H24="Checked In",$H24="Completed")),"Check expected flag",IF(AND(OR($H24="Scheduled",$H24="Checked In",$H24="Completed"),OR($K24="",$L24="")),"Check assignment",IF(AND($M24<>"",$M24>Assumptions!$B$13),"Check hours",IF(COUNTIFS($B$4:$B$103,$B24,$H$4:$H$103,"Checked In")+COUNTIFS($B$4:$B$103,$B24,$H$4:$H$103,"Completed")>Assumptions!$B$11,"Check capacity",""))))))))))),"Check formula inputs"))
M25: =IF(OR($B25="",$I25="",$J25=""),"",IFERROR(IF($J25>=$I25,($J25-$I25)*24,""),"")) | N25: =IF(OR($B25="",$G25=""),"",IFERROR(VLOOKUP($G25,Assumptions!$A$5:$B$7,2,FALSE),"")) | O25: =IF(OR($B25="",$H25="",$N25=""),"",IFERROR(IF(OR($H25="Completed",$H25="Checked In"),$N25,IF($H25="No Show",$N25*Assumptions!$B$12,IF($H25="Canceled",0,""))),"")) | P25: =IF(COUNTA($A25:$L25,$Q25)=0,"",IFERROR(IF(OR($A25="",$B25="",$C25="",$D25="",$E25="",$F25="",$G25="",$H25=""),"Complete row",IF(COUNTIF($A$4:$A$103,$A25)>1,"Check duplicate ID",IF(COUNTIFS($B$4:$B$103,$B25,$C$4:$C$103,$C25)>1,"Check duplicate visit",IF(AND($I25<>"",$J25<>"",$J25<=$I25),"Check times",IF(AND($H25="Completed",OR($I25="",$J25="")),"Check times",IF(AND($H25="Checked In",$I25=""),"Check check-in",IF(AND($H25="Scheduled",OR($I25<>"",$J25<>"")),"Check status",IF(AND($F25="No",OR($H25="Checked In",$H25="Completed")),"Check expected flag",IF(AND(OR($H25="Scheduled",$H25="Checked In",$H25="Completed"),OR($K25="",$L25="")),"Check assignment",IF(AND($M25<>"",$M25>Assumptions!$B$13),"Check hours",IF(COUNTIFS($B$4:$B$103,$B25,$H$4:$H$103,"Checked In")+COUNTIFS($B$4:$B$103,$B25,$H$4:$H$103,"Completed")>Assumptions!$B$11,"Check capacity",""))))))))))),"Check formula inputs"))
... M103: =IF(OR($B103="",$I103="",$J103=""),"",IFERROR(IF($J103>=$I103,($J103-$I103)*24,""),"")) | N103: =IF(OR($B103="",$G103=""),"",IFERROR(VLOOKUP($G103,Assumptions!$A$5:$B$7,2,FALSE),"")) | O103: =IF(OR($B103="",$H103="",$N103=""),"",IFERROR(IF(OR($H103="Completed",$H103="Checked In"),$N103,IF($H103="No Show",$N103*Assumptions!$B$12,IF($H103="Canceled",0,""))),"")) | P103: =IF(COUNTA($A103:$L103,$Q103)=0,"",IFERROR(IF(OR($A103="",$B103="",$C103="",$D103="",$E103="",$F103="",$G103="",$H103=""),"Complete row",IF(COUNTIF($A$4:$A$103,$A103)>1,"Check duplicate ID",IF(COUNTIFS($B$4:$B$103,$B103,$C$4:$C$103,$C103)>1,"Check duplicate visit",IF(AND($I103<>"",$J103<>"",$J103<=$I103),"Check times",IF(AND($H103="Completed",OR($I103="",$J103="")),"Check times",IF(AND($H103="Checked In",$I103=""),"Check check-in",IF(AND($H103="Scheduled",OR($I103<>"",$J103<>"")),"Check status",IF(AND($F103="No",OR($H103="Checked In",$H103="Completed")),"Check expected flag",IF(AND(OR($H103="Scheduled",$H103="Checked In",$H103="Completed"),OR($K103="",$L103="")),"Check assignment",IF(AND($M103<>"",$M103>Assumptions!$B$13),"Check hours",IF(COUNTIFS($B$4:$B$103,$B103,$H$4:$H$103,"Checked In")+COUNTIFS($B$4:$B$103,$B103,$H$4:$H$103,"Completed")>Assumptions!$B$11,"Check capacity",""))))))))))),"Check formula inputs"))

Sheet Assumptions
A1: Assumptions and Editable Lists
A2: Review these planning values and stable choices before using the tracker. Rates and limits are editable business assumptions, not guaranteed pricing or policy.
A4: Service | B4: Rate | D4: Status | F4: Expected Choice | H4: Group | J4: Assigned Team
A5: Half Day | B5: 28 | D5: Scheduled | F5: Yes | H5: Meadow Group | J5: Pine Team
A6: Full Day | B6: 42 | D6: Checked In | F6: No | H6: Brook Group | J6: Maple Team
A7: Extended Day | B7: 50 | D7: Completed | H7: Quiet Group | J7: Cedar Team
D8: No Show | J8: Oak Team
D9: Canceled
A10: Operating Assumption | B10: Editable Value
A11: Daily capacity | B11: 3
A12: No-show fee percentage | B12: 0.5
A13: Maximum visit hours | B13: 12
A14: Earliest entry date | B14: 45909
A15: Latest entry date | B15: 46639
