Workbook

Sheet Summary
A1: Dog Grooming Appointment Schedule Summary
A2: Indicators are calculated from the Schedule sheet. Change the yellow schedule date to review another day.
A3: Schedule Date | B3: 46275
A4: Daily Indicator | B4: Calculated Value | D4: Groomer | E4: Planned Hours
A5: Appointments entered | B5: =IF($B$3="","",COUNTIFS(Schedule!$B$7:$B$106,$B$3,Schedule!$A$7:$A$106,"<>")) | D5: =Assumptions!H4 | E5: =IF($B$3="","",IFERROR(SUMIFS(Schedule!$J$7:$J$106,Schedule!$B$7:$B$106,$B$3,Schedule!$G$7:$G$106,$D5,Schedule!$I$7:$I$106,"<>Canceled"),0))
A6: Active appointments | B6: =IF($B$3="","",COUNTIFS(Schedule!$B$7:$B$106,$B$3,Schedule!$A$7:$A$106,"<>",Schedule!$I$7:$I$106,"<>Canceled")) | D6: =Assumptions!H5 | E6: =IF($B$3="","",IFERROR(SUMIFS(Schedule!$J$7:$J$106,Schedule!$B$7:$B$106,$B$3,Schedule!$G$7:$G$106,$D6,Schedule!$I$7:$I$106,"<>Canceled"),0))
A7: Completed appointments | B7: =IF($B$3="","",COUNTIFS(Schedule!$B$7:$B$106,$B$3,Schedule!$A$7:$A$106,"<>",Schedule!$I$7:$I$106,"Completed")) | D7: =Assumptions!H6 | E7: =IF($B$3="","",IFERROR(SUMIFS(Schedule!$J$7:$J$106,Schedule!$B$7:$B$106,$B$3,Schedule!$G$7:$G$106,$D7,Schedule!$I$7:$I$106,"<>Canceled"),0))
A8: Planned service hours | B8: =IF($B$3="","",IFERROR(SUMIFS(Schedule!$J$7:$J$106,Schedule!$B$7:$B$106,$B$3,Schedule!$I$7:$I$106,"<>Canceled"),0)) | D8: =Assumptions!H7 | E8: =IF($B$3="","",IFERROR(SUMIFS(Schedule!$J$7:$J$106,Schedule!$B$7:$B$106,$B$3,Schedule!$G$7:$G$106,$D8,Schedule!$I$7:$I$106,"<>Canceled"),0))
A9: Planning amount | B9: =IF($B$3="","",IFERROR(SUMIFS(Schedule!$L$7:$L$106,Schedule!$B$7:$B$106,$B$3,Schedule!$I$7:$I$106,"<>Canceled"),0))
A10: Schedule alerts | B10: =IF($B$3="","",COUNTIFS(Schedule!$B$7:$B$106,$B$3,Schedule!$A$7:$A$106,"<>",Schedule!$M$7:$M$106,"<>"))
A11: Daily appointment limit | B11: =IF($B$3="","",IF(B6>Assumptions!$B$6,"Check daily appointment limit","Within entered limit"))

Sheet Schedule
A1: Dog Grooming Appointment Schedule
A2: All sample clients, pets, groomers, and appointments are fictional. Planning amounts and durations come from editable assumptions.
A3: Entry Guide | B3: Yellow cells are editable. Review every alert before confirming the schedule.
A6: Appointment ID | B6: Date | C6: Start Time | D6: Client | E6: Pet | F6: Service | G6: Groomer | H6: Workstation | I6: Status | J6: Planned Hours | K6: End Time | L6: Planning Amount | M6: Schedule Alert
A7: DG-1001 | B7: 46275 | C7: 0.33333333 | D7: Fictional Client A | E7: Fictional Pet A | F7: Bath & Brush | G7: Fictional Groomer A | H7: Grooming Table 1 | I7: Confirmed | J7: =IF($A7="","",IFERROR(VLOOKUP($F7,Assumptions!$D$4:$F$9,2,FALSE),"")) | K7: =IF(OR($A7="",$C7="",$J7=""),"",$C7+$J7/24) | L7: =IF($A7="","",IFERROR(VLOOKUP($F7,Assumptions!$D$4:$F$9,3,FALSE),"")) | M7: =IF($A7="","",IF(COUNTIF($A$7:$A$106,$A7)>1,"Check duplicate appointment ID",IF(OR($B7="",$C7="",$D7="",$E7="",$F7="",$G7="",$H7="",$I7="",$J7="",$K7=""),"Complete schedule fields",IF($I7="Canceled","",IF(OR($C7<Assumptions!$B$4,$K7>Assumptions!$B$5),"Check business hours",IF(COUNTIFS($B$7:$B$106,$B7,$A$7:$A$106,"<>",$I$7:$I$106,"<>Canceled")>Assumptions!$B$6,"Check daily appointment limit",IF(AND(SUMPRODUCT(($A$7:$A$106<>"")*($B$7:$B$106=$B7)*($G$7:$G$106=$G7)*($I$7:$I$106<>"Canceled")*(ROW($A$7:$A$106)<>ROW())*ISNUMBER($C$7:$C$106)*ISNUMBER($K$7:$K$106)*($C$7:$C$106<$K7)*($K$7:$K$106>$C7))>0,SUMPRODUCT(($A$7:$A$106<>"")*($B$7:$B$106=$B7)*($H$7:$H$106=$H7)*($I$7:$I$106<>"Canceled")*(ROW($A$7:$A$106)<>ROW())*ISNUMBER($C$7:$C$106)*ISNUMBER($K$7:$K$106)*($C$7:$C$106<$K7)*($K$7:$K$106>$C7))>0),"Check groomer and station overlap",IF(SUMPRODUCT(($A$7:$A$106<>"")*($B$7:$B$106=$B7)*($G$7:$G$106=$G7)*($I$7:$I$106<>"Canceled")*(ROW($A$7:$A$106)<>ROW())*ISNUMBER($C$7:$C$106)*ISNUMBER($K$7:$K$106)*($C$7:$C$106<$K7)*($K$7:$K$106>$C7))>0,"Check groomer overlap",IF(SUMPRODUCT(($A$7:$A$106<>"")*($B$7:$B$106=$B7)*($H$7:$H$106=$H7)*($I$7:$I$106<>"Canceled")*(ROW($A$7:$A$106)<>ROW())*ISNUMBER($C$7:$C$106)*ISNUMBER($K$7:$K$106)*($C$7:$C$106<$K7)*($K$7:$K$106>$C7))>0,"Check station overlap","")))))))))
A8: DG-1002 | B8: 46275 | C8: 0.35416667 | D8: Fictional Client B | E8: Fictional Pet B | F8: Nail Trim | G8: Fictional Groomer B | H8: Grooming Table 2 | I8: Booked | J8: =IF($A8="","",IFERROR(VLOOKUP($F8,Assumptions!$D$4:$F$9,2,FALSE),"")) | K8: =IF(OR($A8="",$C8="",$J8=""),"",$C8+$J8/24) | L8: =IF($A8="","",IFERROR(VLOOKUP($F8,Assumptions!$D$4:$F$9,3,FALSE),"")) | M8: =IF($A8="","",IF(COUNTIF($A$7:$A$106,$A8)>1,"Check duplicate appointment ID",IF(OR($B8="",$C8="",$D8="",$E8="",$F8="",$G8="",$H8="",$I8="",$J8="",$K8=""),"Complete schedule fields",IF($I8="Canceled","",IF(OR($C8<Assumptions!$B$4,$K8>Assumptions!$B$5),"Check business hours",IF(COUNTIFS($B$7:$B$106,$B8,$A$7:$A$106,"<>",$I$7:$I$106,"<>Canceled")>Assumptions!$B$6,"Check daily appointment limit",IF(AND(SUMPRODUCT(($A$7:$A$106<>"")*($B$7:$B$106=$B8)*($G$7:$G$106=$G8)*($I$7:$I$106<>"Canceled")*(ROW($A$7:$A$106)<>ROW())*ISNUMBER($C$7:$C$106)*ISNUMBER($K$7:$K$106)*($C$7:$C$106<$K8)*($K$7:$K$106>$C8))>0,SUMPRODUCT(($A$7:$A$106<>"")*($B$7:$B$106=$B8)*($H$7:$H$106=$H8)*($I$7:$I$106<>"Canceled")*(ROW($A$7:$A$106)<>ROW())*ISNUMBER($C$7:$C$106)*ISNUMBER($K$7:$K$106)*($C$7:$C$106<$K8)*($K$7:$K$106>$C8))>0),"Check groomer and station overlap",IF(SUMPRODUCT(($A$7:$A$106<>"")*($B$7:$B$106=$B8)*($G$7:$G$106=$G8)*($I$7:$I$106<>"Canceled")*(ROW($A$7:$A$106)<>ROW())*ISNUMBER($C$7:$C$106)*ISNUMBER($K$7:$K$106)*($C$7:$C$106<$K8)*($K$7:$K$106>$C8))>0,"Check groomer overlap",IF(SUMPRODUCT(($A$7:$A$106<>"")*($B$7:$B$106=$B8)*($H$7:$H$106=$H8)*($I$7:$I$106<>"Canceled")*(ROW($A$7:$A$106)<>ROW())*ISNUMBER($C$7:$C$106)*ISNUMBER($K$7:$K$106)*($C$7:$C$106<$K8)*($K$7:$K$106>$C8))>0,"Check station overlap","")))))))))
A9: DG-1003 | B9: 46275 | C9: 0.375 | D9: Fictional Client C | E9: Fictional Pet C | F9: Full Groom | G9: Fictional Groomer A | H9: Grooming Table 2 | I9: Confirmed | J9: =IF($A9="","",IFERROR(VLOOKUP($F9,Assumptions!$D$4:$F$9,2,FALSE),"")) | K9: =IF(OR($A9="",$C9="",$J9=""),"",$C9+$J9/24) | L9: =IF($A9="","",IFERROR(VLOOKUP($F9,Assumptions!$D$4:$F$9,3,FALSE),"")) | M9: =IF($A9="","",IF(COUNTIF($A$7:$A$106,$A9)>1,"Check duplicate appointment ID",IF(OR($B9="",$C9="",$D9="",$E9="",$F9="",$G9="",$H9="",$I9="",$J9="",$K9=""),"Complete schedule fields",IF($I9="Canceled","",IF(OR($C9<Assumptions!$B$4,$K9>Assumptions!$B$5),"Check business hours",IF(COUNTIFS($B$7:$B$106,$B9,$A$7:$A$106,"<>",$I$7:$I$106,"<>Canceled")>Assumptions!$B$6,"Check daily appointment limit",IF(AND(SUMPRODUCT(($A$7:$A$106<>"")*($B$7:$B$106=$B9)*($G$7:$G$106=$G9)*($I$7:$I$106<>"Canceled")*(ROW($A$7:$A$106)<>ROW())*ISNUMBER($C$7:$C$106)*ISNUMBER($K$7:$K$106)*($C$7:$C$106<$K9)*($K$7:$K$106>$C9))>0,SUMPRODUCT(($A$7:$A$106<>"")*($B$7:$B$106=$B9)*($H$7:$H$106=$H9)*($I$7:$I$106<>"Canceled")*(ROW($A$7:$A$106)<>ROW())*ISNUMBER($C$7:$C$106)*ISNUMBER($K$7:$K$106)*($C$7:$C$106<$K9)*($K$7:$K$106>$C9))>0),"Check groomer and station overlap",IF(SUMPRODUCT(($A$7:$A$106<>"")*($B$7:$B$106=$B9)*($G$7:$G$106=$G9)*($I$7:$I$106<>"Canceled")*(ROW($A$7:$A$106)<>ROW())*ISNUMBER($C$7:$C$106)*ISNUMBER($K$7:$K$106)*($C$7:$C$106<$K9)*($K$7:$K$106>$C9))>0,"Check groomer overlap",IF(SUMPRODUCT(($A$7:$A$106<>"")*($B$7:$B$106=$B9)*($H$7:$H$106=$H9)*($I$7:$I$106<>"Canceled")*(ROW($A$7:$A$106)<>ROW())*ISNUMBER($C$7:$C$106)*ISNUMBER($K$7:$K$106)*($C$7:$C$106<$K9)*($K$7:$K$106>$C9))>0,"Check station overlap","")))))))))
A10: DG-1004 | B10: 46275 | C10: 0.41666667 | D10: Fictional Client D | E10: Fictional Pet D | F10: De-shedding | G10: Fictional Groomer C | H10: Grooming Table 1 | I10: Confirmed | J10: =IF($A10="","",IFERROR(VLOOKUP($F10,Assumptions!$D$4:$F$9,2,FALSE),"")) | K10: =IF(OR($A10="",$C10="",$J10=""),"",$C10+$J10/24) | L10: =IF($A10="","",IFERROR(VLOOKUP($F10,Assumptions!$D$4:$F$9,3,FALSE),"")) | M10: =IF($A10="","",IF(COUNTIF($A$7:$A$106,$A10)>1,"Check duplicate appointment ID",IF(OR($B10="",$C10="",$D10="",$E10="",$F10="",$G10="",$H10="",$I10="",$J10="",$K10=""),"Complete schedule fields",IF($I10="Canceled","",IF(OR($C10<Assumptions!$B$4,$K10>Assumptions!$B$5),"Check business hours",IF(COUNTIFS($B$7:$B$106,$B10,$A$7:$A$106,"<>",$I$7:$I$106,"<>Canceled")>Assumptions!$B$6,"Check daily appointment limit",IF(AND(SUMPRODUCT(($A$7:$A$106<>"")*($B$7:$B$106=$B10)*($G$7:$G$106=$G10)*($I$7:$I$106<>"Canceled")*(ROW($A$7:$A$106)<>ROW())*ISNUMBER($C$7:$C$106)*ISNUMBER($K$7:$K$106)*($C$7:$C$106<$K10)*($K$7:$K$106>$C10))>0,SUMPRODUCT(($A$7:$A$106<>"")*($B$7:$B$106=$B10)*($H$7:$H$106=$H10)*($I$7:$I$106<>"Canceled")*(ROW($A$7:$A$106)<>ROW())*ISNUMBER($C$7:$C$106)*ISNUMBER($K$7:$K$106)*($C$7:$C$106<$K10)*($K$7:$K$106>$C10))>0),"Check groomer and station overlap",IF(SUMPRODUCT(($A$7:$A$106<>"")*($B$7:$B$106=$B10)*($G$7:$G$106=$G10)*($I$7:$I$106<>"Canceled")*(ROW($A$7:$A$106)<>ROW())*ISNUMBER($C$7:$C$106)*ISNUMBER($K$7:$K$106)*($C$7:$C$106<$K10)*($K$7:$K$106>$C10))>0,"Check groomer overlap",IF(SUMPRODUCT(($A$7:$A$106<>"")*($B$7:$B$106=$B10)*($H$7:$H$106=$H10)*($I$7:$I$106<>"Canceled")*(ROW($A$7:$A$106)<>ROW())*ISNUMBER($C$7:$C$106)*ISNUMBER($K$7:$K$106)*($C$7:$C$106<$K10)*($K$7:$K$106>$C10))>0,"Check station overlap","")))))))))
A11: DG-1005 | B11: 46275 | C11: 0.45833333 | D11: Fictional Client E | E11: Fictional Pet E | F11: Puppy Intro | G11: Fictional Groomer B | H11: Grooming Table 1 | I11: Booked | J11: =IF($A11="","",IFERROR(VLOOKUP($F11,Assumptions!$D$4:$F$9,2,FALSE),"")) | K11: =IF(OR($A11="",$C11="",$J11=""),"",$C11+$J11/24) | L11: =IF($A11="","",IFERROR(VLOOKUP($F11,Assumptions!$D$4:$F$9,3,FALSE),"")) | M11: =IF($A11="","",IF(COUNTIF($A$7:$A$106,$A11)>1,"Check duplicate appointment ID",IF(OR($B11="",$C11="",$D11="",$E11="",$F11="",$G11="",$H11="",$I11="",$J11="",$K11=""),"Complete schedule fields",IF($I11="Canceled","",IF(OR($C11<Assumptions!$B$4,$K11>Assumptions!$B$5),"Check business hours",IF(COUNTIFS($B$7:$B$106,$B11,$A$7:$A$106,"<>",$I$7:$I$106,"<>Canceled")>Assumptions!$B$6,"Check daily appointment limit",IF(AND(SUMPRODUCT(($A$7:$A$106<>"")*($B$7:$B$106=$B11)*($G$7:$G$106=$G11)*($I$7:$I$106<>"Canceled")*(ROW($A$7:$A$106)<>ROW())*ISNUMBER($C$7:$C$106)*ISNUMBER($K$7:$K$106)*($C$7:$C$106<$K11)*($K$7:$K$106>$C11))>0,SUMPRODUCT(($A$7:$A$106<>"")*($B$7:$B$106=$B11)*($H$7:$H$106=$H11)*($I$7:$I$106<>"Canceled")*(ROW($A$7:$A$106)<>ROW())*ISNUMBER($C$7:$C$106)*ISNUMBER($K$7:$K$106)*($C$7:$C$106<$K11)*($K$7:$K$106>$C11))>0),"Check groomer and station overlap",IF(SUMPRODUCT(($A$7:$A$106<>"")*($B$7:$B$106=$B11)*($G$7:$G$106=$G11)*($I$7:$I$106<>"Canceled")*(ROW($A$7:$A$106)<>ROW())*ISNUMBER($C$7:$C$106)*ISNUMBER($K$7:$K$106)*($C$7:$C$106<$K11)*($K$7:$K$106>$C11))>0,"Check groomer overlap",IF(SUMPRODUCT(($A$7:$A$106<>"")*($B$7:$B$106=$B11)*($H$7:$H$106=$H11)*($I$7:$I$106<>"Canceled")*(ROW($A$7:$A$106)<>ROW())*ISNUMBER($C$7:$C$106)*ISNUMBER($K$7:$K$106)*($C$7:$C$106<$K11)*($K$7:$K$106>$C11))>0,"Check station overlap","")))))))))
A12: DG-1006 | B12: 46275 | C12: 0.52083333 | D12: Fictional Client F | E12: Fictional Pet F | F12: Full Groom | G12: Fictional Groomer A | H12: Finishing Area | I12: Confirmed | J12: =IF($A12="","",IFERROR(VLOOKUP($F12,Assumptions!$D$4:$F$9,2,FALSE),"")) | K12: =IF(OR($A12="",$C12="",$J12=""),"",$C12+$J12/24) | L12: =IF($A12="","",IFERROR(VLOOKUP($F12,Assumptions!$D$4:$F$9,3,FALSE),"")) | M12: =IF($A12="","",IF(COUNTIF($A$7:$A$106,$A12)>1,"Check duplicate appointment ID",IF(OR($B12="",$C12="",$D12="",$E12="",$F12="",$G12="",$H12="",$I12="",$J12="",$K12=""),"Complete schedule fields",IF($I12="Canceled","",IF(OR($C12<Assumptions!$B$4,$K12>Assumptions!$B$5),"Check business hours",IF(COUNTIFS($B$7:$B$106,$B12,$A$7:$A$106,"<>",$I$7:$I$106,"<>Canceled")>Assumptions!$B$6,"Check daily appointment limit",IF(AND(SUMPRODUCT(($A$7:$A$106<>"")*($B$7:$B$106=$B12)*($G$7:$G$106=$G12)*($I$7:$I$106<>"Canceled")*(ROW($A$7:$A$106)<>ROW())*ISNUMBER($C$7:$C$106)*ISNUMBER($K$7:$K$106)*($C$7:$C$106<$K12)*($K$7:$K$106>$C12))>0,SUMPRODUCT(($A$7:$A$106<>"")*($B$7:$B$106=$B12)*($H$7:$H$106=$H12)*($I$7:$I$106<>"Canceled")*(ROW($A$7:$A$106)<>ROW())*ISNUMBER($C$7:$C$106)*ISNUMBER($K$7:$K$106)*($C$7:$C$106<$K12)*($K$7:$K$106>$C12))>0),"Check groomer and station overlap",IF(SUMPRODUCT(($A$7:$A$106<>"")*($B$7:$B$106=$B12)*($G$7:$G$106=$G12)*($I$7:$I$106<>"Canceled")*(ROW($A$7:$A$106)<>ROW())*ISNUMBER($C$7:$C$106)*ISNUMBER($K$7:$K$106)*($C$7:$C$106<$K12)*($K$7:$K$106>$C12))>0,"Check groomer overlap",IF(SUMPRODUCT(($A$7:$A$106<>"")*($B$7:$B$106=$B12)*($H$7:$H$106=$H12)*($I$7:$I$106<>"Canceled")*(ROW($A$7:$A$106)<>ROW())*ISNUMBER($C$7:$C$106)*ISNUMBER($K$7:$K$106)*($C$7:$C$106<$K12)*($K$7:$K$106>$C12))>0,"Check station overlap","")))))))))
A13: DG-1007 | B13: 46276 | C13: 0.33333333 | D13: Fictional Client G | E13: Fictional Pet G | F13: Bath & Brush | G13: Fictional Groomer C | H13: Bath Station | I13: Confirmed | J13: =IF($A13="","",IFERROR(VLOOKUP($F13,Assumptions!$D$4:$F$9,2,FALSE),"")) | K13: =IF(OR($A13="",$C13="",$J13=""),"",$C13+$J13/24) | L13: =IF($A13="","",IFERROR(VLOOKUP($F13,Assumptions!$D$4:$F$9,3,FALSE),"")) | M13: =IF($A13="","",IF(COUNTIF($A$7:$A$106,$A13)>1,"Check duplicate appointment ID",IF(OR($B13="",$C13="",$D13="",$E13="",$F13="",$G13="",$H13="",$I13="",$J13="",$K13=""),"Complete schedule fields",IF($I13="Canceled","",IF(OR($C13<Assumptions!$B$4,$K13>Assumptions!$B$5),"Check business hours",IF(COUNTIFS($B$7:$B$106,$B13,$A$7:$A$106,"<>",$I$7:$I$106,"<>Canceled")>Assumptions!$B$6,"Check daily appointment limit",IF(AND(SUMPRODUCT(($A$7:$A$106<>"")*($B$7:$B$106=$B13)*($G$7:$G$106=$G13)*($I$7:$I$106<>"Canceled")*(ROW($A$7:$A$106)<>ROW())*ISNUMBER($C$7:$C$106)*ISNUMBER($K$7:$K$106)*($C$7:$C$106<$K13)*($K$7:$K$106>$C13))>0,SUMPRODUCT(($A$7:$A$106<>"")*($B$7:$B$106=$B13)*($H$7:$H$106=$H13)*($I$7:$I$106<>"Canceled")*(ROW($A$7:$A$106)<>ROW())*ISNUMBER($C$7:$C$106)*ISNUMBER($K$7:$K$106)*($C$7:$C$106<$K13)*($K$7:$K$106>$C13))>0),"Check groomer and station overlap",IF(SUMPRODUCT(($A$7:$A$106<>"")*($B$7:$B$106=$B13)*($G$7:$G$106=$G13)*($I$7:$I$106<>"Canceled")*(ROW($A$7:$A$106)<>ROW())*ISNUMBER($C$7:$C$106)*ISNUMBER($K$7:$K$106)*($C$7:$C$106<$K13)*($K$7:$K$106>$C13))>0,"Check groomer overlap",IF(SUMPRODUCT(($A$7:$A$106<>"")*($B$7:$B$106=$B13)*($H$7:$H$106=$H13)*($I$7:$I$106<>"Canceled")*(ROW($A$7:$A$106)<>ROW())*ISNUMBER($C$7:$C$106)*ISNUMBER($K$7:$K$106)*($C$7:$C$106<$K13)*($K$7:$K$106>$C13))>0,"Check station overlap","")))))))))
A14: DG-1008 | B14: 46276 | C14: 0.66666667 | D14: Fictional Client H | E14: Fictional Pet H | F14: Full Groom | G14: Fictional Groomer B | H14: Grooming Table 2 | I14: Booked | J14: =IF($A14="","",IFERROR(VLOOKUP($F14,Assumptions!$D$4:$F$9,2,FALSE),"")) | K14: =IF(OR($A14="",$C14="",$J14=""),"",$C14+$J14/24) | L14: =IF($A14="","",IFERROR(VLOOKUP($F14,Assumptions!$D$4:$F$9,3,FALSE),"")) | M14: =IF($A14="","",IF(COUNTIF($A$7:$A$106,$A14)>1,"Check duplicate appointment ID",IF(OR($B14="",$C14="",$D14="",$E14="",$F14="",$G14="",$H14="",$I14="",$J14="",$K14=""),"Complete schedule fields",IF($I14="Canceled","",IF(OR($C14<Assumptions!$B$4,$K14>Assumptions!$B$5),"Check business hours",IF(COUNTIFS($B$7:$B$106,$B14,$A$7:$A$106,"<>",$I$7:$I$106,"<>Canceled")>Assumptions!$B$6,"Check daily appointment limit",IF(AND(SUMPRODUCT(($A$7:$A$106<>"")*($B$7:$B$106=$B14)*($G$7:$G$106=$G14)*($I$7:$I$106<>"Canceled")*(ROW($A$7:$A$106)<>ROW())*ISNUMBER($C$7:$C$106)*ISNUMBER($K$7:$K$106)*($C$7:$C$106<$K14)*($K$7:$K$106>$C14))>0,SUMPRODUCT(($A$7:$A$106<>"")*($B$7:$B$106=$B14)*($H$7:$H$106=$H14)*($I$7:$I$106<>"Canceled")*(ROW($A$7:$A$106)<>ROW())*ISNUMBER($C$7:$C$106)*ISNUMBER($K$7:$K$106)*($C$7:$C$106<$K14)*($K$7:$K$106>$C14))>0),"Check groomer and station overlap",IF(SUMPRODUCT(($A$7:$A$106<>"")*($B$7:$B$106=$B14)*($G$7:$G$106=$G14)*($I$7:$I$106<>"Canceled")*(ROW($A$7:$A$106)<>ROW())*ISNUMBER($C$7:$C$106)*ISNUMBER($K$7:$K$106)*($C$7:$C$106<$K14)*($K$7:$K$106>$C14))>0,"Check groomer overlap",IF(SUMPRODUCT(($A$7:$A$106<>"")*($B$7:$B$106=$B14)*($H$7:$H$106=$H14)*($I$7:$I$106<>"Canceled")*(ROW($A$7:$A$106)<>ROW())*ISNUMBER($C$7:$C$106)*ISNUMBER($K$7:$K$106)*($C$7:$C$106<$K14)*($K$7:$K$106>$C14))>0,"Check station overlap","")))))))))
A15: DG-1009 | B15: 46276 | C15: 0.54166667 | D15: Fictional Client I | E15: Fictional Pet I | F15: Face & Feet Trim | G15: Fictional Groomer A | H15: Grooming Table 1 | I15: Confirmed | J15: =IF($A15="","",IFERROR(VLOOKUP($F15,Assumptions!$D$4:$F$9,2,FALSE),"")) | K15: =IF(OR($A15="",$C15="",$J15=""),"",$C15+$J15/24) | L15: =IF($A15="","",IFERROR(VLOOKUP($F15,Assumptions!$D$4:$F$9,3,FALSE),"")) | M15: =IF($A15="","",IF(COUNTIF($A$7:$A$106,$A15)>1,"Check duplicate appointment ID",IF(OR($B15="",$C15="",$D15="",$E15="",$F15="",$G15="",$H15="",$I15="",$J15="",$K15=""),"Complete schedule fields",IF($I15="Canceled","",IF(OR($C15<Assumptions!$B$4,$K15>Assumptions!$B$5),"Check business hours",IF(COUNTIFS($B$7:$B$106,$B15,$A$7:$A$106,"<>",$I$7:$I$106,"<>Canceled")>Assumptions!$B$6,"Check daily appointment limit",IF(AND(SUMPRODUCT(($A$7:$A$106<>"")*($B$7:$B$106=$B15)*($G$7:$G$106=$G15)*($I$7:$I$106<>"Canceled")*(ROW($A$7:$A$106)<>ROW())*ISNUMBER($C$7:$C$106)*ISNUMBER($K$7:$K$106)*($C$7:$C$106<$K15)*($K$7:$K$106>$C15))>0,SUMPRODUCT(($A$7:$A$106<>"")*($B$7:$B$106=$B15)*($H$7:$H$106=$H15)*($I$7:$I$106<>"Canceled")*(ROW($A$7:$A$106)<>ROW())*ISNUMBER($C$7:$C$106)*ISNUMBER($K$7:$K$106)*($C$7:$C$106<$K15)*($K$7:$K$106>$C15))>0),"Check groomer and station overlap",IF(SUMPRODUCT(($A$7:$A$106<>"")*($B$7:$B$106=$B15)*($G$7:$G$106=$G15)*($I$7:$I$106<>"Canceled")*(ROW($A$7:$A$106)<>ROW())*ISNUMBER($C$7:$C$106)*ISNUMBER($K$7:$K$106)*($C$7:$C$106<$K15)*($K$7:$K$106>$C15))>0,"Check groomer overlap",IF(SUMPRODUCT(($A$7:$A$106<>"")*($B$7:$B$106=$B15)*($H$7:$H$106=$H15)*($I$7:$I$106<>"Canceled")*(ROW($A$7:$A$106)<>ROW())*ISNUMBER($C$7:$C$106)*ISNUMBER($K$7:$K$106)*($C$7:$C$106<$K15)*($K$7:$K$106>$C15))>0,"Check station overlap","")))))))))
A16: DG-1010 | B16: 46276 | C16: 0.58333333 | D16: Fictional Client J | E16: Fictional Pet J | F16: Nail Trim | G16: Fictional Groomer C | H16: Bath Station | I16: Canceled | J16: =IF($A16="","",IFERROR(VLOOKUP($F16,Assumptions!$D$4:$F$9,2,FALSE),"")) | K16: =IF(OR($A16="",$C16="",$J16=""),"",$C16+$J16/24) | L16: =IF($A16="","",IFERROR(VLOOKUP($F16,Assumptions!$D$4:$F$9,3,FALSE),"")) | M16: =IF($A16="","",IF(COUNTIF($A$7:$A$106,$A16)>1,"Check duplicate appointment ID",IF(OR($B16="",$C16="",$D16="",$E16="",$F16="",$G16="",$H16="",$I16="",$J16="",$K16=""),"Complete schedule fields",IF($I16="Canceled","",IF(OR($C16<Assumptions!$B$4,$K16>Assumptions!$B$5),"Check business hours",IF(COUNTIFS($B$7:$B$106,$B16,$A$7:$A$106,"<>",$I$7:$I$106,"<>Canceled")>Assumptions!$B$6,"Check daily appointment limit",IF(AND(SUMPRODUCT(($A$7:$A$106<>"")*($B$7:$B$106=$B16)*($G$7:$G$106=$G16)*($I$7:$I$106<>"Canceled")*(ROW($A$7:$A$106)<>ROW())*ISNUMBER($C$7:$C$106)*ISNUMBER($K$7:$K$106)*($C$7:$C$106<$K16)*($K$7:$K$106>$C16))>0,SUMPRODUCT(($A$7:$A$106<>"")*($B$7:$B$106=$B16)*($H$7:$H$106=$H16)*($I$7:$I$106<>"Canceled")*(ROW($A$7:$A$106)<>ROW())*ISNUMBER($C$7:$C$106)*ISNUMBER($K$7:$K$106)*($C$7:$C$106<$K16)*($K$7:$K$106>$C16))>0),"Check groomer and station overlap",IF(SUMPRODUCT(($A$7:$A$106<>"")*($B$7:$B$106=$B16)*($G$7:$G$106=$G16)*($I$7:$I$106<>"Canceled")*(ROW($A$7:$A$106)<>ROW())*ISNUMBER($C$7:$C$106)*ISNUMBER($K$7:$K$106)*($C$7:$C$106<$K16)*($K$7:$K$106>$C16))>0,"Check groomer overlap",IF(SUMPRODUCT(($A$7:$A$106<>"")*($B$7:$B$106=$B16)*($H$7:$H$106=$H16)*($I$7:$I$106<>"Canceled")*(ROW($A$7:$A$106)<>ROW())*ISNUMBER($C$7:$C$106)*ISNUMBER($K$7:$K$106)*($C$7:$C$106<$K16)*($K$7:$K$106>$C16))>0,"Check station overlap","")))))))))
J17: =IF($A17="","",IFERROR(VLOOKUP($F17,Assumptions!$D$4:$F$9,2,FALSE),"")) | K17: =IF(OR($A17="",$C17="",$J17=""),"",$C17+$J17/24) | L17: =IF($A17="","",IFERROR(VLOOKUP($F17,Assumptions!$D$4:$F$9,3,FALSE),"")) | M17: =IF($A17="","",IF(COUNTIF($A$7:$A$106,$A17)>1,"Check duplicate appointment ID",IF(OR($B17="",$C17="",$D17="",$E17="",$F17="",$G17="",$H17="",$I17="",$J17="",$K17=""),"Complete schedule fields",IF($I17="Canceled","",IF(OR($C17<Assumptions!$B$4,$K17>Assumptions!$B$5),"Check business hours",IF(COUNTIFS($B$7:$B$106,$B17,$A$7:$A$106,"<>",$I$7:$I$106,"<>Canceled")>Assumptions!$B$6,"Check daily appointment limit",IF(AND(SUMPRODUCT(($A$7:$A$106<>"")*($B$7:$B$106=$B17)*($G$7:$G$106=$G17)*($I$7:$I$106<>"Canceled")*(ROW($A$7:$A$106)<>ROW())*ISNUMBER($C$7:$C$106)*ISNUMBER($K$7:$K$106)*($C$7:$C$106<$K17)*($K$7:$K$106>$C17))>0,SUMPRODUCT(($A$7:$A$106<>"")*($B$7:$B$106=$B17)*($H$7:$H$106=$H17)*($I$7:$I$106<>"Canceled")*(ROW($A$7:$A$106)<>ROW())*ISNUMBER($C$7:$C$106)*ISNUMBER($K$7:$K$106)*($C$7:$C$106<$K17)*($K$7:$K$106>$C17))>0),"Check groomer and station overlap",IF(SUMPRODUCT(($A$7:$A$106<>"")*($B$7:$B$106=$B17)*($G$7:$G$106=$G17)*($I$7:$I$106<>"Canceled")*(ROW($A$7:$A$106)<>ROW())*ISNUMBER($C$7:$C$106)*ISNUMBER($K$7:$K$106)*($C$7:$C$106<$K17)*($K$7:$K$106>$C17))>0,"Check groomer overlap",IF(SUMPRODUCT(($A$7:$A$106<>"")*($B$7:$B$106=$B17)*($H$7:$H$106=$H17)*($I$7:$I$106<>"Canceled")*(ROW($A$7:$A$106)<>ROW())*ISNUMBER($C$7:$C$106)*ISNUMBER($K$7:$K$106)*($C$7:$C$106<$K17)*($K$7:$K$106>$C17))>0,"Check station overlap","")))))))))
J18: =IF($A18="","",IFERROR(VLOOKUP($F18,Assumptions!$D$4:$F$9,2,FALSE),"")) | K18: =IF(OR($A18="",$C18="",$J18=""),"",$C18+$J18/24) | L18: =IF($A18="","",IFERROR(VLOOKUP($F18,Assumptions!$D$4:$F$9,3,FALSE),"")) | M18: =IF($A18="","",IF(COUNTIF($A$7:$A$106,$A18)>1,"Check duplicate appointment ID",IF(OR($B18="",$C18="",$D18="",$E18="",$F18="",$G18="",$H18="",$I18="",$J18="",$K18=""),"Complete schedule fields",IF($I18="Canceled","",IF(OR($C18<Assumptions!$B$4,$K18>Assumptions!$B$5),"Check business hours",IF(COUNTIFS($B$7:$B$106,$B18,$A$7:$A$106,"<>",$I$7:$I$106,"<>Canceled")>Assumptions!$B$6,"Check daily appointment limit",IF(AND(SUMPRODUCT(($A$7:$A$106<>"")*($B$7:$B$106=$B18)*($G$7:$G$106=$G18)*($I$7:$I$106<>"Canceled")*(ROW($A$7:$A$106)<>ROW())*ISNUMBER($C$7:$C$106)*ISNUMBER($K$7:$K$106)*($C$7:$C$106<$K18)*($K$7:$K$106>$C18))>0,SUMPRODUCT(($A$7:$A$106<>"")*($B$7:$B$106=$B18)*($H$7:$H$106=$H18)*($I$7:$I$106<>"Canceled")*(ROW($A$7:$A$106)<>ROW())*ISNUMBER($C$7:$C$106)*ISNUMBER($K$7:$K$106)*($C$7:$C$106<$K18)*($K$7:$K$106>$C18))>0),"Check groomer and station overlap",IF(SUMPRODUCT(($A$7:$A$106<>"")*($B$7:$B$106=$B18)*($G$7:$G$106=$G18)*($I$7:$I$106<>"Canceled")*(ROW($A$7:$A$106)<>ROW())*ISNUMBER($C$7:$C$106)*ISNUMBER($K$7:$K$106)*($C$7:$C$106<$K18)*($K$7:$K$106>$C18))>0,"Check groomer overlap",IF(SUMPRODUCT(($A$7:$A$106<>"")*($B$7:$B$106=$B18)*($H$7:$H$106=$H18)*($I$7:$I$106<>"Canceled")*(ROW($A$7:$A$106)<>ROW())*ISNUMBER($C$7:$C$106)*ISNUMBER($K$7:$K$106)*($C$7:$C$106<$K18)*($K$7:$K$106>$C18))>0,"Check station overlap","")))))))))
J19: =IF($A19="","",IFERROR(VLOOKUP($F19,Assumptions!$D$4:$F$9,2,FALSE),"")) | K19: =IF(OR($A19="",$C19="",$J19=""),"",$C19+$J19/24) | L19: =IF($A19="","",IFERROR(VLOOKUP($F19,Assumptions!$D$4:$F$9,3,FALSE),"")) | M19: =IF($A19="","",IF(COUNTIF($A$7:$A$106,$A19)>1,"Check duplicate appointment ID",IF(OR($B19="",$C19="",$D19="",$E19="",$F19="",$G19="",$H19="",$I19="",$J19="",$K19=""),"Complete schedule fields",IF($I19="Canceled","",IF(OR($C19<Assumptions!$B$4,$K19>Assumptions!$B$5),"Check business hours",IF(COUNTIFS($B$7:$B$106,$B19,$A$7:$A$106,"<>",$I$7:$I$106,"<>Canceled")>Assumptions!$B$6,"Check daily appointment limit",IF(AND(SUMPRODUCT(($A$7:$A$106<>"")*($B$7:$B$106=$B19)*($G$7:$G$106=$G19)*($I$7:$I$106<>"Canceled")*(ROW($A$7:$A$106)<>ROW())*ISNUMBER($C$7:$C$106)*ISNUMBER($K$7:$K$106)*($C$7:$C$106<$K19)*($K$7:$K$106>$C19))>0,SUMPRODUCT(($A$7:$A$106<>"")*($B$7:$B$106=$B19)*($H$7:$H$106=$H19)*($I$7:$I$106<>"Canceled")*(ROW($A$7:$A$106)<>ROW())*ISNUMBER($C$7:$C$106)*ISNUMBER($K$7:$K$106)*($C$7:$C$106<$K19)*($K$7:$K$106>$C19))>0),"Check groomer and station overlap",IF(SUMPRODUCT(($A$7:$A$106<>"")*($B$7:$B$106=$B19)*($G$7:$G$106=$G19)*($I$7:$I$106<>"Canceled")*(ROW($A$7:$A$106)<>ROW())*ISNUMBER($C$7:$C$106)*ISNUMBER($K$7:$K$106)*($C$7:$C$106<$K19)*($K$7:$K$106>$C19))>0,"Check groomer overlap",IF(SUMPRODUCT(($A$7:$A$106<>"")*($B$7:$B$106=$B19)*($H$7:$H$106=$H19)*($I$7:$I$106<>"Canceled")*(ROW($A$7:$A$106)<>ROW())*ISNUMBER($C$7:$C$106)*ISNUMBER($K$7:$K$106)*($C$7:$C$106<$K19)*($K$7:$K$106>$C19))>0,"Check station overlap","")))))))))
J20: =IF($A20="","",IFERROR(VLOOKUP($F20,Assumptions!$D$4:$F$9,2,FALSE),"")) | K20: =IF(OR($A20="",$C20="",$J20=""),"",$C20+$J20/24) | L20: =IF($A20="","",IFERROR(VLOOKUP($F20,Assumptions!$D$4:$F$9,3,FALSE),"")) | M20: =IF($A20="","",IF(COUNTIF($A$7:$A$106,$A20)>1,"Check duplicate appointment ID",IF(OR($B20="",$C20="",$D20="",$E20="",$F20="",$G20="",$H20="",$I20="",$J20="",$K20=""),"Complete schedule fields",IF($I20="Canceled","",IF(OR($C20<Assumptions!$B$4,$K20>Assumptions!$B$5),"Check business hours",IF(COUNTIFS($B$7:$B$106,$B20,$A$7:$A$106,"<>",$I$7:$I$106,"<>Canceled")>Assumptions!$B$6,"Check daily appointment limit",IF(AND(SUMPRODUCT(($A$7:$A$106<>"")*($B$7:$B$106=$B20)*($G$7:$G$106=$G20)*($I$7:$I$106<>"Canceled")*(ROW($A$7:$A$106)<>ROW())*ISNUMBER($C$7:$C$106)*ISNUMBER($K$7:$K$106)*($C$7:$C$106<$K20)*($K$7:$K$106>$C20))>0,SUMPRODUCT(($A$7:$A$106<>"")*($B$7:$B$106=$B20)*($H$7:$H$106=$H20)*($I$7:$I$106<>"Canceled")*(ROW($A$7:$A$106)<>ROW())*ISNUMBER($C$7:$C$106)*ISNUMBER($K$7:$K$106)*($C$7:$C$106<$K20)*($K$7:$K$106>$C20))>0),"Check groomer and station overlap",IF(SUMPRODUCT(($A$7:$A$106<>"")*($B$7:$B$106=$B20)*($G$7:$G$106=$G20)*($I$7:$I$106<>"Canceled")*(ROW($A$7:$A$106)<>ROW())*ISNUMBER($C$7:$C$106)*ISNUMBER($K$7:$K$106)*($C$7:$C$106<$K20)*($K$7:$K$106>$C20))>0,"Check groomer overlap",IF(SUMPRODUCT(($A$7:$A$106<>"")*($B$7:$B$106=$B20)*($H$7:$H$106=$H20)*($I$7:$I$106<>"Canceled")*(ROW($A$7:$A$106)<>ROW())*ISNUMBER($C$7:$C$106)*ISNUMBER($K$7:$K$106)*($C$7:$C$106<$K20)*($K$7:$K$106>$C20))>0,"Check station overlap","")))))))))
J21: =IF($A21="","",IFERROR(VLOOKUP($F21,Assumptions!$D$4:$F$9,2,FALSE),"")) | K21: =IF(OR($A21="",$C21="",$J21=""),"",$C21+$J21/24) | L21: =IF($A21="","",IFERROR(VLOOKUP($F21,Assumptions!$D$4:$F$9,3,FALSE),"")) | M21: =IF($A21="","",IF(COUNTIF($A$7:$A$106,$A21)>1,"Check duplicate appointment ID",IF(OR($B21="",$C21="",$D21="",$E21="",$F21="",$G21="",$H21="",$I21="",$J21="",$K21=""),"Complete schedule fields",IF($I21="Canceled","",IF(OR($C21<Assumptions!$B$4,$K21>Assumptions!$B$5),"Check business hours",IF(COUNTIFS($B$7:$B$106,$B21,$A$7:$A$106,"<>",$I$7:$I$106,"<>Canceled")>Assumptions!$B$6,"Check daily appointment limit",IF(AND(SUMPRODUCT(($A$7:$A$106<>"")*($B$7:$B$106=$B21)*($G$7:$G$106=$G21)*($I$7:$I$106<>"Canceled")*(ROW($A$7:$A$106)<>ROW())*ISNUMBER($C$7:$C$106)*ISNUMBER($K$7:$K$106)*($C$7:$C$106<$K21)*($K$7:$K$106>$C21))>0,SUMPRODUCT(($A$7:$A$106<>"")*($B$7:$B$106=$B21)*($H$7:$H$106=$H21)*($I$7:$I$106<>"Canceled")*(ROW($A$7:$A$106)<>ROW())*ISNUMBER($C$7:$C$106)*ISNUMBER($K$7:$K$106)*($C$7:$C$106<$K21)*($K$7:$K$106>$C21))>0),"Check groomer and station overlap",IF(SUMPRODUCT(($A$7:$A$106<>"")*($B$7:$B$106=$B21)*($G$7:$G$106=$G21)*($I$7:$I$106<>"Canceled")*(ROW($A$7:$A$106)<>ROW())*ISNUMBER($C$7:$C$106)*ISNUMBER($K$7:$K$106)*($C$7:$C$106<$K21)*($K$7:$K$106>$C21))>0,"Check groomer overlap",IF(SUMPRODUCT(($A$7:$A$106<>"")*($B$7:$B$106=$B21)*($H$7:$H$106=$H21)*($I$7:$I$106<>"Canceled")*(ROW($A$7:$A$106)<>ROW())*ISNUMBER($C$7:$C$106)*ISNUMBER($K$7:$K$106)*($C$7:$C$106<$K21)*($K$7:$K$106>$C21))>0,"Check station overlap","")))))))))
J22: =IF($A22="","",IFERROR(VLOOKUP($F22,Assumptions!$D$4:$F$9,2,FALSE),"")) | K22: =IF(OR($A22="",$C22="",$J22=""),"",$C22+$J22/24) | L22: =IF($A22="","",IFERROR(VLOOKUP($F22,Assumptions!$D$4:$F$9,3,FALSE),"")) | M22: =IF($A22="","",IF(COUNTIF($A$7:$A$106,$A22)>1,"Check duplicate appointment ID",IF(OR($B22="",$C22="",$D22="",$E22="",$F22="",$G22="",$H22="",$I22="",$J22="",$K22=""),"Complete schedule fields",IF($I22="Canceled","",IF(OR($C22<Assumptions!$B$4,$K22>Assumptions!$B$5),"Check business hours",IF(COUNTIFS($B$7:$B$106,$B22,$A$7:$A$106,"<>",$I$7:$I$106,"<>Canceled")>Assumptions!$B$6,"Check daily appointment limit",IF(AND(SUMPRODUCT(($A$7:$A$106<>"")*($B$7:$B$106=$B22)*($G$7:$G$106=$G22)*($I$7:$I$106<>"Canceled")*(ROW($A$7:$A$106)<>ROW())*ISNUMBER($C$7:$C$106)*ISNUMBER($K$7:$K$106)*($C$7:$C$106<$K22)*($K$7:$K$106>$C22))>0,SUMPRODUCT(($A$7:$A$106<>"")*($B$7:$B$106=$B22)*($H$7:$H$106=$H22)*($I$7:$I$106<>"Canceled")*(ROW($A$7:$A$106)<>ROW())*ISNUMBER($C$7:$C$106)*ISNUMBER($K$7:$K$106)*($C$7:$C$106<$K22)*($K$7:$K$106>$C22))>0),"Check groomer and station overlap",IF(SUMPRODUCT(($A$7:$A$106<>"")*($B$7:$B$106=$B22)*($G$7:$G$106=$G22)*($I$7:$I$106<>"Canceled")*(ROW($A$7:$A$106)<>ROW())*ISNUMBER($C$7:$C$106)*ISNUMBER($K$7:$K$106)*($C$7:$C$106<$K22)*($K$7:$K$106>$C22))>0,"Check groomer overlap",IF(SUMPRODUCT(($A$7:$A$106<>"")*($B$7:$B$106=$B22)*($H$7:$H$106=$H22)*($I$7:$I$106<>"Canceled")*(ROW($A$7:$A$106)<>ROW())*ISNUMBER($C$7:$C$106)*ISNUMBER($K$7:$K$106)*($C$7:$C$106<$K22)*($K$7:$K$106>$C22))>0,"Check station overlap","")))))))))
J23: =IF($A23="","",IFERROR(VLOOKUP($F23,Assumptions!$D$4:$F$9,2,FALSE),"")) | K23: =IF(OR($A23="",$C23="",$J23=""),"",$C23+$J23/24) | L23: =IF($A23="","",IFERROR(VLOOKUP($F23,Assumptions!$D$4:$F$9,3,FALSE),"")) | M23: =IF($A23="","",IF(COUNTIF($A$7:$A$106,$A23)>1,"Check duplicate appointment ID",IF(OR($B23="",$C23="",$D23="",$E23="",$F23="",$G23="",$H23="",$I23="",$J23="",$K23=""),"Complete schedule fields",IF($I23="Canceled","",IF(OR($C23<Assumptions!$B$4,$K23>Assumptions!$B$5),"Check business hours",IF(COUNTIFS($B$7:$B$106,$B23,$A$7:$A$106,"<>",$I$7:$I$106,"<>Canceled")>Assumptions!$B$6,"Check daily appointment limit",IF(AND(SUMPRODUCT(($A$7:$A$106<>"")*($B$7:$B$106=$B23)*($G$7:$G$106=$G23)*($I$7:$I$106<>"Canceled")*(ROW($A$7:$A$106)<>ROW())*ISNUMBER($C$7:$C$106)*ISNUMBER($K$7:$K$106)*($C$7:$C$106<$K23)*($K$7:$K$106>$C23))>0,SUMPRODUCT(($A$7:$A$106<>"")*($B$7:$B$106=$B23)*($H$7:$H$106=$H23)*($I$7:$I$106<>"Canceled")*(ROW($A$7:$A$106)<>ROW())*ISNUMBER($C$7:$C$106)*ISNUMBER($K$7:$K$106)*($C$7:$C$106<$K23)*($K$7:$K$106>$C23))>0),"Check groomer and station overlap",IF(SUMPRODUCT(($A$7:$A$106<>"")*($B$7:$B$106=$B23)*($G$7:$G$106=$G23)*($I$7:$I$106<>"Canceled")*(ROW($A$7:$A$106)<>ROW())*ISNUMBER($C$7:$C$106)*ISNUMBER($K$7:$K$106)*($C$7:$C$106<$K23)*($K$7:$K$106>$C23))>0,"Check groomer overlap",IF(SUMPRODUCT(($A$7:$A$106<>"")*($B$7:$B$106=$B23)*($H$7:$H$106=$H23)*($I$7:$I$106<>"Canceled")*(ROW($A$7:$A$106)<>ROW())*ISNUMBER($C$7:$C$106)*ISNUMBER($K$7:$K$106)*($C$7:$C$106<$K23)*($K$7:$K$106>$C23))>0,"Check station overlap","")))))))))
J24: =IF($A24="","",IFERROR(VLOOKUP($F24,Assumptions!$D$4:$F$9,2,FALSE),"")) | K24: =IF(OR($A24="",$C24="",$J24=""),"",$C24+$J24/24) | L24: =IF($A24="","",IFERROR(VLOOKUP($F24,Assumptions!$D$4:$F$9,3,FALSE),"")) | M24: =IF($A24="","",IF(COUNTIF($A$7:$A$106,$A24)>1,"Check duplicate appointment ID",IF(OR($B24="",$C24="",$D24="",$E24="",$F24="",$G24="",$H24="",$I24="",$J24="",$K24=""),"Complete schedule fields",IF($I24="Canceled","",IF(OR($C24<Assumptions!$B$4,$K24>Assumptions!$B$5),"Check business hours",IF(COUNTIFS($B$7:$B$106,$B24,$A$7:$A$106,"<>",$I$7:$I$106,"<>Canceled")>Assumptions!$B$6,"Check daily appointment limit",IF(AND(SUMPRODUCT(($A$7:$A$106<>"")*($B$7:$B$106=$B24)*($G$7:$G$106=$G24)*($I$7:$I$106<>"Canceled")*(ROW($A$7:$A$106)<>ROW())*ISNUMBER($C$7:$C$106)*ISNUMBER($K$7:$K$106)*($C$7:$C$106<$K24)*($K$7:$K$106>$C24))>0,SUMPRODUCT(($A$7:$A$106<>"")*($B$7:$B$106=$B24)*($H$7:$H$106=$H24)*($I$7:$I$106<>"Canceled")*(ROW($A$7:$A$106)<>ROW())*ISNUMBER($C$7:$C$106)*ISNUMBER($K$7:$K$106)*($C$7:$C$106<$K24)*($K$7:$K$106>$C24))>0),"Check groomer and station overlap",IF(SUMPRODUCT(($A$7:$A$106<>"")*($B$7:$B$106=$B24)*($G$7:$G$106=$G24)*($I$7:$I$106<>"Canceled")*(ROW($A$7:$A$106)<>ROW())*ISNUMBER($C$7:$C$106)*ISNUMBER($K$7:$K$106)*($C$7:$C$106<$K24)*($K$7:$K$106>$C24))>0,"Check groomer overlap",IF(SUMPRODUCT(($A$7:$A$106<>"")*($B$7:$B$106=$B24)*($H$7:$H$106=$H24)*($I$7:$I$106<>"Canceled")*(ROW($A$7:$A$106)<>ROW())*ISNUMBER($C$7:$C$106)*ISNUMBER($K$7:$K$106)*($C$7:$C$106<$K24)*($K$7:$K$106>$C24))>0,"Check station overlap","")))))))))
J25: =IF($A25="","",IFERROR(VLOOKUP($F25,Assumptions!$D$4:$F$9,2,FALSE),"")) | K25: =IF(OR($A25="",$C25="",$J25=""),"",$C25+$J25/24) | L25: =IF($A25="","",IFERROR(VLOOKUP($F25,Assumptions!$D$4:$F$9,3,FALSE),"")) | M25: =IF($A25="","",IF(COUNTIF($A$7:$A$106,$A25)>1,"Check duplicate appointment ID",IF(OR($B25="",$C25="",$D25="",$E25="",$F25="",$G25="",$H25="",$I25="",$J25="",$K25=""),"Complete schedule fields",IF($I25="Canceled","",IF(OR($C25<Assumptions!$B$4,$K25>Assumptions!$B$5),"Check business hours",IF(COUNTIFS($B$7:$B$106,$B25,$A$7:$A$106,"<>",$I$7:$I$106,"<>Canceled")>Assumptions!$B$6,"Check daily appointment limit",IF(AND(SUMPRODUCT(($A$7:$A$106<>"")*($B$7:$B$106=$B25)*($G$7:$G$106=$G25)*($I$7:$I$106<>"Canceled")*(ROW($A$7:$A$106)<>ROW())*ISNUMBER($C$7:$C$106)*ISNUMBER($K$7:$K$106)*($C$7:$C$106<$K25)*($K$7:$K$106>$C25))>0,SUMPRODUCT(($A$7:$A$106<>"")*($B$7:$B$106=$B25)*($H$7:$H$106=$H25)*($I$7:$I$106<>"Canceled")*(ROW($A$7:$A$106)<>ROW())*ISNUMBER($C$7:$C$106)*ISNUMBER($K$7:$K$106)*($C$7:$C$106<$K25)*($K$7:$K$106>$C25))>0),"Check groomer and station overlap",IF(SUMPRODUCT(($A$7:$A$106<>"")*($B$7:$B$106=$B25)*($G$7:$G$106=$G25)*($I$7:$I$106<>"Canceled")*(ROW($A$7:$A$106)<>ROW())*ISNUMBER($C$7:$C$106)*ISNUMBER($K$7:$K$106)*($C$7:$C$106<$K25)*($K$7:$K$106>$C25))>0,"Check groomer overlap",IF(SUMPRODUCT(($A$7:$A$106<>"")*($B$7:$B$106=$B25)*($H$7:$H$106=$H25)*($I$7:$I$106<>"Canceled")*(ROW($A$7:$A$106)<>ROW())*ISNUMBER($C$7:$C$106)*ISNUMBER($K$7:$K$106)*($C$7:$C$106<$K25)*($K$7:$K$106>$C25))>0,"Check station overlap","")))))))))
J26: =IF($A26="","",IFERROR(VLOOKUP($F26,Assumptions!$D$4:$F$9,2,FALSE),"")) | K26: =IF(OR($A26="",$C26="",$J26=""),"",$C26+$J26/24) | L26: =IF($A26="","",IFERROR(VLOOKUP($F26,Assumptions!$D$4:$F$9,3,FALSE),"")) | M26: =IF($A26="","",IF(COUNTIF($A$7:$A$106,$A26)>1,"Check duplicate appointment ID",IF(OR($B26="",$C26="",$D26="",$E26="",$F26="",$G26="",$H26="",$I26="",$J26="",$K26=""),"Complete schedule fields",IF($I26="Canceled","",IF(OR($C26<Assumptions!$B$4,$K26>Assumptions!$B$5),"Check business hours",IF(COUNTIFS($B$7:$B$106,$B26,$A$7:$A$106,"<>",$I$7:$I$106,"<>Canceled")>Assumptions!$B$6,"Check daily appointment limit",IF(AND(SUMPRODUCT(($A$7:$A$106<>"")*($B$7:$B$106=$B26)*($G$7:$G$106=$G26)*($I$7:$I$106<>"Canceled")*(ROW($A$7:$A$106)<>ROW())*ISNUMBER($C$7:$C$106)*ISNUMBER($K$7:$K$106)*($C$7:$C$106<$K26)*($K$7:$K$106>$C26))>0,SUMPRODUCT(($A$7:$A$106<>"")*($B$7:$B$106=$B26)*($H$7:$H$106=$H26)*($I$7:$I$106<>"Canceled")*(ROW($A$7:$A$106)<>ROW())*ISNUMBER($C$7:$C$106)*ISNUMBER($K$7:$K$106)*($C$7:$C$106<$K26)*($K$7:$K$106>$C26))>0),"Check groomer and station overlap",IF(SUMPRODUCT(($A$7:$A$106<>"")*($B$7:$B$106=$B26)*($G$7:$G$106=$G26)*($I$7:$I$106<>"Canceled")*(ROW($A$7:$A$106)<>ROW())*ISNUMBER($C$7:$C$106)*ISNUMBER($K$7:$K$106)*($C$7:$C$106<$K26)*($K$7:$K$106>$C26))>0,"Check groomer overlap",IF(SUMPRODUCT(($A$7:$A$106<>"")*($B$7:$B$106=$B26)*($H$7:$H$106=$H26)*($I$7:$I$106<>"Canceled")*(ROW($A$7:$A$106)<>ROW())*ISNUMBER($C$7:$C$106)*ISNUMBER($K$7:$K$106)*($C$7:$C$106<$K26)*($K$7:$K$106>$C26))>0,"Check station overlap","")))))))))
J27: =IF($A27="","",IFERROR(VLOOKUP($F27,Assumptions!$D$4:$F$9,2,FALSE),"")) | K27: =IF(OR($A27="",$C27="",$J27=""),"",$C27+$J27/24) | L27: =IF($A27="","",IFERROR(VLOOKUP($F27,Assumptions!$D$4:$F$9,3,FALSE),"")) | M27: =IF($A27="","",IF(COUNTIF($A$7:$A$106,$A27)>1,"Check duplicate appointment ID",IF(OR($B27="",$C27="",$D27="",$E27="",$F27="",$G27="",$H27="",$I27="",$J27="",$K27=""),"Complete schedule fields",IF($I27="Canceled","",IF(OR($C27<Assumptions!$B$4,$K27>Assumptions!$B$5),"Check business hours",IF(COUNTIFS($B$7:$B$106,$B27,$A$7:$A$106,"<>",$I$7:$I$106,"<>Canceled")>Assumptions!$B$6,"Check daily appointment limit",IF(AND(SUMPRODUCT(($A$7:$A$106<>"")*($B$7:$B$106=$B27)*($G$7:$G$106=$G27)*($I$7:$I$106<>"Canceled")*(ROW($A$7:$A$106)<>ROW())*ISNUMBER($C$7:$C$106)*ISNUMBER($K$7:$K$106)*($C$7:$C$106<$K27)*($K$7:$K$106>$C27))>0,SUMPRODUCT(($A$7:$A$106<>"")*($B$7:$B$106=$B27)*($H$7:$H$106=$H27)*($I$7:$I$106<>"Canceled")*(ROW($A$7:$A$106)<>ROW())*ISNUMBER($C$7:$C$106)*ISNUMBER($K$7:$K$106)*($C$7:$C$106<$K27)*($K$7:$K$106>$C27))>0),"Check groomer and station overlap",IF(SUMPRODUCT(($A$7:$A$106<>"")*($B$7:$B$106=$B27)*($G$7:$G$106=$G27)*($I$7:$I$106<>"Canceled")*(ROW($A$7:$A$106)<>ROW())*ISNUMBER($C$7:$C$106)*ISNUMBER($K$7:$K$106)*($C$7:$C$106<$K27)*($K$7:$K$106>$C27))>0,"Check groomer overlap",IF(SUMPRODUCT(($A$7:$A$106<>"")*($B$7:$B$106=$B27)*($H$7:$H$106=$H27)*($I$7:$I$106<>"Canceled")*(ROW($A$7:$A$106)<>ROW())*ISNUMBER($C$7:$C$106)*ISNUMBER($K$7:$K$106)*($C$7:$C$106<$K27)*($K$7:$K$106>$C27))>0,"Check station overlap","")))))))))
J28: =IF($A28="","",IFERROR(VLOOKUP($F28,Assumptions!$D$4:$F$9,2,FALSE),"")) | K28: =IF(OR($A28="",$C28="",$J28=""),"",$C28+$J28/24) | L28: =IF($A28="","",IFERROR(VLOOKUP($F28,Assumptions!$D$4:$F$9,3,FALSE),"")) | M28: =IF($A28="","",IF(COUNTIF($A$7:$A$106,$A28)>1,"Check duplicate appointment ID",IF(OR($B28="",$C28="",$D28="",$E28="",$F28="",$G28="",$H28="",$I28="",$J28="",$K28=""),"Complete schedule fields",IF($I28="Canceled","",IF(OR($C28<Assumptions!$B$4,$K28>Assumptions!$B$5),"Check business hours",IF(COUNTIFS($B$7:$B$106,$B28,$A$7:$A$106,"<>",$I$7:$I$106,"<>Canceled")>Assumptions!$B$6,"Check daily appointment limit",IF(AND(SUMPRODUCT(($A$7:$A$106<>"")*($B$7:$B$106=$B28)*($G$7:$G$106=$G28)*($I$7:$I$106<>"Canceled")*(ROW($A$7:$A$106)<>ROW())*ISNUMBER($C$7:$C$106)*ISNUMBER($K$7:$K$106)*($C$7:$C$106<$K28)*($K$7:$K$106>$C28))>0,SUMPRODUCT(($A$7:$A$106<>"")*($B$7:$B$106=$B28)*($H$7:$H$106=$H28)*($I$7:$I$106<>"Canceled")*(ROW($A$7:$A$106)<>ROW())*ISNUMBER($C$7:$C$106)*ISNUMBER($K$7:$K$106)*($C$7:$C$106<$K28)*($K$7:$K$106>$C28))>0),"Check groomer and station overlap",IF(SUMPRODUCT(($A$7:$A$106<>"")*($B$7:$B$106=$B28)*($G$7:$G$106=$G28)*($I$7:$I$106<>"Canceled")*(ROW($A$7:$A$106)<>ROW())*ISNUMBER($C$7:$C$106)*ISNUMBER($K$7:$K$106)*($C$7:$C$106<$K28)*($K$7:$K$106>$C28))>0,"Check groomer overlap",IF(SUMPRODUCT(($A$7:$A$106<>"")*($B$7:$B$106=$B28)*($H$7:$H$106=$H28)*($I$7:$I$106<>"Canceled")*(ROW($A$7:$A$106)<>ROW())*ISNUMBER($C$7:$C$106)*ISNUMBER($K$7:$K$106)*($C$7:$C$106<$K28)*($K$7:$K$106>$C28))>0,"Check station overlap","")))))))))
... J106: =IF($A106="","",IFERROR(VLOOKUP($F106,Assumptions!$D$4:$F$9,2,FALSE),"")) | K106: =IF(OR($A106="",$C106="",$J106=""),"",$C106+$J106/24) | L106: =IF($A106="","",IFERROR(VLOOKUP($F106,Assumptions!$D$4:$F$9,3,FALSE),"")) | M106: =IF($A106="","",IF(COUNTIF($A$7:$A$106,$A106)>1,"Check duplicate appointment ID",IF(OR($B106="",$C106="",$D106="",$E106="",$F106="",$G106="",$H106="",$I106="",$J106="",$K106=""),"Complete schedule fields",IF($I106="Canceled","",IF(OR($C106<Assumptions!$B$4,$K106>Assumptions!$B$5),"Check business hours",IF(COUNTIFS($B$7:$B$106,$B106,$A$7:$A$106,"<>",$I$7:$I$106,"<>Canceled")>Assumptions!$B$6,"Check daily appointment limit",IF(AND(SUMPRODUCT(($A$7:$A$106<>"")*($B$7:$B$106=$B106)*($G$7:$G$106=$G106)*($I$7:$I$106<>"Canceled")*(ROW($A$7:$A$106)<>ROW())*ISNUMBER($C$7:$C$106)*ISNUMBER($K$7:$K$106)*($C$7:$C$106<$K106)*($K$7:$K$106>$C106))>0,SUMPRODUCT(($A$7:$A$106<>"")*($B$7:$B$106=$B106)*($H$7:$H$106=$H106)*($I$7:$I$106<>"Canceled")*(ROW($A$7:$A$106)<>ROW())*ISNUMBER($C$7:$C$106)*ISNUMBER($K$7:$K$106)*($C$7:$C$106<$K106)*($K$7:$K$106>$C106))>0),"Check groomer and station overlap",IF(SUMPRODUCT(($A$7:$A$106<>"")*($B$7:$B$106=$B106)*($G$7:$G$106=$G106)*($I$7:$I$106<>"Canceled")*(ROW($A$7:$A$106)<>ROW())*ISNUMBER($C$7:$C$106)*ISNUMBER($K$7:$K$106)*($C$7:$C$106<$K106)*($K$7:$K$106>$C106))>0,"Check groomer overlap",IF(SUMPRODUCT(($A$7:$A$106<>"")*($B$7:$B$106=$B106)*($H$7:$H$106=$H106)*($I$7:$I$106<>"Canceled")*(ROW($A$7:$A$106)<>ROW())*ISNUMBER($C$7:$C$106)*ISNUMBER($K$7:$K$106)*($C$7:$C$106<$K106)*($K$7:$K$106>$C106))>0,"Check station overlap","")))))))))

Sheet Assumptions
A1: Editable Scheduling Assumptions
A2: These are editable planning defaults, not guaranteed prices or service times. Update them for the business before using the schedule.
A3: Scheduling Limit | B3: Editable Value | D3: Service | E3: Default Hours | F3: Planning Amount | H3: Groomer | J3: Workstation | L3: Status
A4: Opening Time | B4: 0.33333333 | D4: Bath & Brush | E4: 1.5 | F4: 55 | H4: Fictional Groomer A | J4: Grooming Table 1 | L4: Booked
A5: Closing Time | B5: 0.70833333 | D5: Full Groom | E5: 2.5 | F5: 90 | H5: Fictional Groomer B | J5: Grooming Table 2 | L5: Confirmed
A6: Maximum Active Appointments per Day | B6: 12 | D6: Nail Trim | E6: 0.5 | F6: 20 | H6: Fictional Groomer C | J6: Bath Station | L6: Checked In
A7: Earliest Schedule Date | B7: 46244 | D7: De-shedding | E7: 1.75 | F7: 75 | H7: Fictional Groomer D | J7: Finishing Area | L7: Completed
A8: Latest Schedule Date | B8: 47004 | D8: Puppy Intro | E8: 1 | F8: 45 | L8: Canceled
D9: Face & Feet Trim | E9: 0.75 | F9: 35 | L9: No-show
