Workbook

Sheet Summary
A1: Dog Grooming Price List Summary
A2: Indicators are calculated from the entered price rows and editable assumptions.
A3: Indicator | B3: Calculated Value | D3: Service | E3: Average Published Total
A4: Published price rows | B4: =COUNTIF('Price List'!$I$5:$I$124,Assumptions!$I$5) | D4: =Assumptions!$D$4 | E4: =IF($D4="","",IFERROR(SUMIFS('Price List'!$H$5:$H$124,'Price List'!$C$5:$C$124,$D4,'Price List'!$I$5:$I$124,Assumptions!$I$5)/COUNTIFS('Price List'!$C$5:$C$124,$D4,'Price List'!$I$5:$I$124,Assumptions!$I$5),""))
A5: Draft price rows | B5: =COUNTIF('Price List'!$I$5:$I$124,Assumptions!$I$4) | D5: =Assumptions!$D$5 | E5: =IF($D5="","",IFERROR(SUMIFS('Price List'!$H$5:$H$124,'Price List'!$C$5:$C$124,$D5,'Price List'!$I$5:$I$124,Assumptions!$I$5)/COUNTIFS('Price List'!$C$5:$C$124,$D5,'Price List'!$I$5:$I$124,Assumptions!$I$5),""))
A6: Retired price rows | B6: =COUNTIF('Price List'!$I$5:$I$124,Assumptions!$I$6) | D6: =Assumptions!$D$6 | E6: =IF($D6="","",IFERROR(SUMIFS('Price List'!$H$5:$H$124,'Price List'!$C$5:$C$124,$D6,'Price List'!$I$5:$I$124,Assumptions!$I$5)/COUNTIFS('Price List'!$C$5:$C$124,$D6,'Price List'!$I$5:$I$124,Assumptions!$I$5),""))
A7: Average published total | B7: =IFERROR(SUMIF('Price List'!$I$5:$I$124,Assumptions!$I$5,'Price List'!$H$5:$H$124)/COUNTIF('Price List'!$I$5:$I$124,Assumptions!$I$5),"") | D7: =Assumptions!$D$7 | E7: =IF($D7="","",IFERROR(SUMIFS('Price List'!$H$5:$H$124,'Price List'!$C$5:$C$124,$D7,'Price List'!$I$5:$I$124,Assumptions!$I$5)/COUNTIFS('Price List'!$C$5:$C$124,$D7,'Price List'!$I$5:$I$124,Assumptions!$I$5),""))
A8: Published rows with an add-on | B8: =COUNTIFS('Price List'!$I$5:$I$124,Assumptions!$I$5,'Price List'!$F$5:$F$124,"<>",'Price List'!$F$5:$F$124,"<>"&Assumptions!$F$4) | D8: =Assumptions!$D$8 | E8: =IF($D8="","",IFERROR(SUMIFS('Price List'!$H$5:$H$124,'Price List'!$C$5:$C$124,$D8,'Price List'!$I$5:$I$124,Assumptions!$I$5)/COUNTIFS('Price List'!$C$5:$C$124,$D8,'Price List'!$I$5:$I$124,Assumptions!$I$5),""))
A9: Published reviews due by window end | B9: =IF(AND(ISNUMBER(Assumptions!$B$5),ISNUMBER(Assumptions!$B$6)),IFERROR(COUNTIFS('Price List'!$I$5:$I$124,Assumptions!$I$5,'Price List'!$J$5:$J$124,"<>",'Price List'!$J$5:$J$124,"<="&(Assumptions!$B$5+Assumptions!$B$6)),0),"") | D9: =Assumptions!$D$9 | E9: =IF($D9="","",IFERROR(SUMIFS('Price List'!$H$5:$H$124,'Price List'!$C$5:$C$124,$D9,'Price List'!$I$5:$I$124,Assumptions!$I$5)/COUNTIFS('Price List'!$C$5:$C$124,$D9,'Price List'!$I$5:$I$124,Assumptions!$I$5),""))
A10: Review window ends | B10: =IF(AND(ISNUMBER(Assumptions!$B$5),ISNUMBER(Assumptions!$B$6)),Assumptions!$B$5+Assumptions!$B$6,"")
A11: Entered price rows | B11: =COUNTIF('Price List'!$A$5:$A$124,"<>")

Sheet Price List
A1: Controlled Dog Grooming Price List
A2: Yellow cells are editable. Filter Status for a working published list and review highlighted rows before sharing prices.
A4: Price ID | B4: Effective Date | C4: Service | D4: Pet Size | E4: Base Price | F4: Approved Add-On | G4: Add-On Amount | H4: Calculated Total | I4: Status | J4: Review Date | K4: Price Note
A5: CGP-001 | B5: 46215 | C5: Bath & Brush | D5: Small (11–25 lb) | E5: 42 | F5: Teeth Brushing | G5: =IF(OR($A5="",$F5=""),"",IFERROR(VLOOKUP($F5,Assumptions!$F$4:$G$11,2,FALSE),"")) | H5: =IF(OR($A5="",NOT(ISNUMBER($E5)),$F5="",NOT(ISNUMBER($G5))),"",IFERROR($E5+$G5,"")) | I5: Published | J5: 46295 | K5: Includes shampoo and brush-out.
A6: CGP-002 | B6: 46230 | C6: Full Groom | D6: Medium (26–50 lb) | E6: 78 | F6: De-shed Treatment | G6: =IF(OR($A6="",$F6=""),"",IFERROR(VLOOKUP($F6,Assumptions!$F$4:$G$11,2,FALSE),"")) | H6: =IF(OR($A6="",NOT(ISNUMBER($E6)),$F6="",NOT(ISNUMBER($G6))),"",IFERROR($E6+$G6,"")) | I6: Published | J6: 46320 | K6: Standard style selection.
A7: CGP-003 | B7: 46245 | C7: Nail Trim | D7: Small (11–25 lb) | E7: 18 | F7: None | G7: =IF(OR($A7="",$F7=""),"",IFERROR(VLOOKUP($F7,Assumptions!$F$4:$G$11,2,FALSE),"")) | H7: =IF(OR($A7="",NOT(ISNUMBER($E7)),$F7="",NOT(ISNUMBER($G7))),"",IFERROR($E7+$G7,"")) | I7: Published | J7: 46305 | K7: Trim-only price point.
A8: CGP-004 | B8: 46254 | C8: Puppy Intro | D8: Toy (up to 10 lb) | E8: 35 | F8: None | G8: =IF(OR($A8="",$F8=""),"",IFERROR(VLOOKUP($F8,Assumptions!$F$4:$G$11,2,FALSE),"")) | H8: =IF(OR($A8="",NOT(ISNUMBER($E8)),$F8="",NOT(ISNUMBER($G8))),"",IFERROR($E8+$G8,"")) | I8: Published | J8: 46305 | K8: Brief introductory grooming visit.
A9: CGP-005 | B9: 46260 | C9: De-shed | D9: Large (51–75 lb) | E9: 85 | F9: Paw Balm | G9: =IF(OR($A9="",$F9=""),"",IFERROR(VLOOKUP($F9,Assumptions!$F$4:$G$11,2,FALSE),"")) | H9: =IF(OR($A9="",NOT(ISNUMBER($E9)),$F9="",NOT(ISNUMBER($G9))),"",IFERROR($E9+$G9,"")) | I9: Published | J9: 46274 | K9: Extra undercoat time reflected.
A10: CGP-006 | B10: 46265 | C10: Face, Feet & Sanitary | D10: Medium (26–50 lb) | E10: 48 | F10: Ear Cleaning | G10: =IF(OR($A10="",$F10=""),"",IFERROR(VLOOKUP($F10,Assumptions!$F$4:$G$11,2,FALSE),"")) | H10: =IF(OR($A10="",NOT(ISNUMBER($E10)),$F10="",NOT(ISNUMBER($G10))),"",IFERROR($E10+$G10,"")) | I10: Published | J10: 46365 | K10: Hygiene-area tidy price point.
A11: CGP-007 | B11: 46268 | C11: Bath & Brush | D11: Extra-large (76+ lb) | E11: 82 | F11: Oatmeal Shampoo | G11: =IF(OR($A11="",$F11=""),"",IFERROR(VLOOKUP($F11,Assumptions!$F$4:$G$11,2,FALSE),"")) | H11: =IF(OR($A11="",NOT(ISNUMBER($E11)),$F11="",NOT(ISNUMBER($G11))),"",IFERROR($E11+$G11,"")) | I11: Published | J11: 46300 | K11: Large-dog bath slot.
A12: CGP-008 | B12: 46272 | C12: Full Groom | D12: Toy (up to 10 lb) | E12: 62 | F12: Nail Grinding | G12: =IF(OR($A12="",$F12=""),"",IFERROR(VLOOKUP($F12,Assumptions!$F$4:$G$11,2,FALSE),"")) | H12: =IF(OR($A12="",NOT(ISNUMBER($E12)),$F12="",NOT(ISNUMBER($G12))),"",IFERROR($E12+$G12,"")) | I12: Draft | J12: 46335 | K12: Draft seasonal price.
A13: CGP-009 | B13: 46273 | C13: Full Groom | D13: Large (51–75 lb) | E13: 105 | F13: Teeth Brushing | G13: =IF(OR($A13="",$F13=""),"",IFERROR(VLOOKUP($F13,Assumptions!$F$4:$G$11,2,FALSE),"")) | H13: =IF(OR($A13="",NOT(ISNUMBER($E13)),$F13="",NOT(ISNUMBER($G13))),"",IFERROR($E13+$G13,"")) | I13: Published | J13: 46285 | K13: Long-coat timing reflected.
A14: CGP-010 | B14: 46185 | C14: Nail Trim | D14: Medium (26–50 lb) | E14: 20 | F14: Nail Grinding | G14: =IF(OR($A14="",$F14=""),"",IFERROR(VLOOKUP($F14,Assumptions!$F$4:$G$11,2,FALSE),"")) | H14: =IF(OR($A14="",NOT(ISNUMBER($E14)),$F14="",NOT(ISNUMBER($G14))),"",IFERROR($E14+$G14,"")) | I14: Retired | J14: 46245 | K14: Retired fictional test price.
G15: =IF(OR($A15="",$F15=""),"",IFERROR(VLOOKUP($F15,Assumptions!$F$4:$G$11,2,FALSE),"")) | H15: =IF(OR($A15="",NOT(ISNUMBER($E15)),$F15="",NOT(ISNUMBER($G15))),"",IFERROR($E15+$G15,""))
G16: =IF(OR($A16="",$F16=""),"",IFERROR(VLOOKUP($F16,Assumptions!$F$4:$G$11,2,FALSE),"")) | H16: =IF(OR($A16="",NOT(ISNUMBER($E16)),$F16="",NOT(ISNUMBER($G16))),"",IFERROR($E16+$G16,""))
G17: =IF(OR($A17="",$F17=""),"",IFERROR(VLOOKUP($F17,Assumptions!$F$4:$G$11,2,FALSE),"")) | H17: =IF(OR($A17="",NOT(ISNUMBER($E17)),$F17="",NOT(ISNUMBER($G17))),"",IFERROR($E17+$G17,""))
G18: =IF(OR($A18="",$F18=""),"",IFERROR(VLOOKUP($F18,Assumptions!$F$4:$G$11,2,FALSE),"")) | H18: =IF(OR($A18="",NOT(ISNUMBER($E18)),$F18="",NOT(ISNUMBER($G18))),"",IFERROR($E18+$G18,""))
G19: =IF(OR($A19="",$F19=""),"",IFERROR(VLOOKUP($F19,Assumptions!$F$4:$G$11,2,FALSE),"")) | H19: =IF(OR($A19="",NOT(ISNUMBER($E19)),$F19="",NOT(ISNUMBER($G19))),"",IFERROR($E19+$G19,""))
G20: =IF(OR($A20="",$F20=""),"",IFERROR(VLOOKUP($F20,Assumptions!$F$4:$G$11,2,FALSE),"")) | H20: =IF(OR($A20="",NOT(ISNUMBER($E20)),$F20="",NOT(ISNUMBER($G20))),"",IFERROR($E20+$G20,""))
G21: =IF(OR($A21="",$F21=""),"",IFERROR(VLOOKUP($F21,Assumptions!$F$4:$G$11,2,FALSE),"")) | H21: =IF(OR($A21="",NOT(ISNUMBER($E21)),$F21="",NOT(ISNUMBER($G21))),"",IFERROR($E21+$G21,""))
G22: =IF(OR($A22="",$F22=""),"",IFERROR(VLOOKUP($F22,Assumptions!$F$4:$G$11,2,FALSE),"")) | H22: =IF(OR($A22="",NOT(ISNUMBER($E22)),$F22="",NOT(ISNUMBER($G22))),"",IFERROR($E22+$G22,""))
G23: =IF(OR($A23="",$F23=""),"",IFERROR(VLOOKUP($F23,Assumptions!$F$4:$G$11,2,FALSE),"")) | H23: =IF(OR($A23="",NOT(ISNUMBER($E23)),$F23="",NOT(ISNUMBER($G23))),"",IFERROR($E23+$G23,""))
G24: =IF(OR($A24="",$F24=""),"",IFERROR(VLOOKUP($F24,Assumptions!$F$4:$G$11,2,FALSE),"")) | H24: =IF(OR($A24="",NOT(ISNUMBER($E24)),$F24="",NOT(ISNUMBER($G24))),"",IFERROR($E24+$G24,""))
G25: =IF(OR($A25="",$F25=""),"",IFERROR(VLOOKUP($F25,Assumptions!$F$4:$G$11,2,FALSE),"")) | H25: =IF(OR($A25="",NOT(ISNUMBER($E25)),$F25="",NOT(ISNUMBER($G25))),"",IFERROR($E25+$G25,""))
G26: =IF(OR($A26="",$F26=""),"",IFERROR(VLOOKUP($F26,Assumptions!$F$4:$G$11,2,FALSE),"")) | H26: =IF(OR($A26="",NOT(ISNUMBER($E26)),$F26="",NOT(ISNUMBER($G26))),"",IFERROR($E26+$G26,""))
... G124: =IF(OR($A124="",$F124=""),"",IFERROR(VLOOKUP($F124,Assumptions!$F$4:$G$11,2,FALSE),"")) | H124: =IF(OR($A124="",NOT(ISNUMBER($E124)),$F124="",NOT(ISNUMBER($G124))),"",IFERROR($E124+$G124,""))

Sheet Assumptions
A1: Price List Assumptions
A2: Edit yellow cells to maintain choices, add-on amounts, the reference date, and the review window. Check all amounts before use.
A3: Setting | B3: Editable Value | C3: Use | D3: Service Choices | E3: Pet Size Choices | F3: Approved Add-On | G3: Default Amount | I3: Status Choices
A4: Business display name | B4: Cedar Lane Grooming Studio (Fictional) | C4: Shown as an editable planning label. | D4: Bath & Brush | E4: Toy (up to 10 lb) | F4: None | G4: 0 | I4: Draft
A5: Reference date | B5: 46275 | C5: Used to calculate the review alert window. | D5: Full Groom | E5: Small (11–25 lb) | F5: Teeth Brushing | G5: 12 | I5: Published
A6: Review look-ahead days | B6: 30 | C6: Flags published rows due by the window end. | D6: Puppy Intro | E6: Medium (26–50 lb) | F6: Nail Grinding | G6: 14 | I6: Retired
D7: De-shed | E7: Large (51–75 lb) | F7: De-shed Treatment | G7: 22
D8: Nail Trim | E8: Extra-large (76+ lb) | F8: Oatmeal Shampoo | G8: 15
D9: Face, Feet & Sanitary | F9: Paw Balm | G9: 10
F10: Ear Cleaning | G10: 10
F11: Matting Time Block | G11: 18
