Workbook

Sheet Summary
A1: Dog Grooming Size Pricing Summary — Fictional Harbor Paws Grooming
A2: Indicators recalculate from the editable assumptions, pricing matrix, and quote entries.
A3: Calculated Indicator | B3: Current Value | D3: Size Band | E3: Quote Count
A4: Active pricing tiers | B4: =COUNTIFS('Pricing Matrix'!$E$6:$E$105,"Yes",'Pricing Matrix'!$G$6:$G$105,"Ready") | D4: =Assumptions!B5 | E4: =COUNTIF(Quotes!$I$6:$I$105,D4)
A5: Pricing rows to review | B5: =COUNTIF('Pricing Matrix'!$G$6:$G$105,"Review*") | D5: =Assumptions!B6 | E5: =COUNTIF(Quotes!$I$6:$I$105,D5)
A6: Size bands to review | B6: =COUNTIF(Assumptions!$D$5:$D$9,"Review*") | D6: =Assumptions!B7 | E6: =COUNTIF(Quotes!$I$6:$I$105,D6)
A7: Quotes entered | B7: =COUNTIF(Quotes!$A$6:$A$105,"<>") | D7: =Assumptions!B8 | E7: =COUNTIF(Quotes!$I$6:$I$105,D7)
A8: Quotes ready | B8: =COUNTIF(Quotes!$N$6:$N$105,"Ready") | D8: =Assumptions!B9 | E8: =COUNTIF(Quotes!$I$6:$I$105,D8)
A9: Quotes needing review | B9: =COUNTIF(Quotes!$N$6:$N$105,"Review*")
A10: Average base price | B10: =IFERROR(AVERAGE(Quotes!$K$6:$K$105),"")
A11: Average estimated price | B11: =IFERROR(AVERAGE(Quotes!$L$6:$L$105),"")
A12: Accepted estimated total | B12: =IFERROR(SUMIF(Quotes!$M$6:$M$105,"Accepted",Quotes!$L$6:$L$105),"")

Sheet Pricing Matrix
A1: Dog Grooming Size Pricing Matrix — Fictional Harbor Paws Grooming
A2: Yellow cells are editable. Each active size-and-coat combination supplies one base price.
A5: Tier Key | B5: Size Band | C5: Coat Type | D5: Base Price | E5: Active | F5: Pricing Description | G5: Check
A6: =IF(OR(B6="",C6=""),"",B6&"|"&C6) | B6: Toy | C6: Smooth / Short | D6: 38 | E6: Yes | F6: Fictional standard groom baseline | G6: =IF(A6="","",IFERROR(IF(OR(D6="",E6=""),"Review - incomplete",IF(NOT(ISNUMBER(D6)),"Review - price format",IF(D6<0,"Review - negative price",IF(COUNTIF($A$6:$A$105,A6)>1,"Review - duplicate tier","Ready")))),"Review - formula input"))
A7: =IF(OR(B7="",C7=""),"",B7&"|"&C7) | B7: Toy | C7: Plush / Long | D7: 48 | E7: Yes | F7: Fictional standard groom baseline | G7: =IF(A7="","",IFERROR(IF(OR(D7="",E7=""),"Review - incomplete",IF(NOT(ISNUMBER(D7)),"Review - price format",IF(D7<0,"Review - negative price",IF(COUNTIF($A$6:$A$105,A7)>1,"Review - duplicate tier","Ready")))),"Review - formula input"))
A8: =IF(OR(B8="",C8=""),"",B8&"|"&C8) | B8: Small | C8: Smooth / Short | D8: 48 | E8: Yes | F8: Fictional standard groom baseline | G8: =IF(A8="","",IFERROR(IF(OR(D8="",E8=""),"Review - incomplete",IF(NOT(ISNUMBER(D8)),"Review - price format",IF(D8<0,"Review - negative price",IF(COUNTIF($A$6:$A$105,A8)>1,"Review - duplicate tier","Ready")))),"Review - formula input"))
A9: =IF(OR(B9="",C9=""),"",B9&"|"&C9) | B9: Small | C9: Plush / Long | D9: 60 | E9: Yes | F9: Fictional standard groom baseline | G9: =IF(A9="","",IFERROR(IF(OR(D9="",E9=""),"Review - incomplete",IF(NOT(ISNUMBER(D9)),"Review - price format",IF(D9<0,"Review - negative price",IF(COUNTIF($A$6:$A$105,A9)>1,"Review - duplicate tier","Ready")))),"Review - formula input"))
A10: =IF(OR(B10="",C10=""),"",B10&"|"&C10) | B10: Medium | C10: Smooth / Short | D10: 62 | E10: Yes | F10: Fictional standard groom baseline | G10: =IF(A10="","",IFERROR(IF(OR(D10="",E10=""),"Review - incomplete",IF(NOT(ISNUMBER(D10)),"Review - price format",IF(D10<0,"Review - negative price",IF(COUNTIF($A$6:$A$105,A10)>1,"Review - duplicate tier","Ready")))),"Review - formula input"))
A11: =IF(OR(B11="",C11=""),"",B11&"|"&C11) | B11: Medium | C11: Plush / Long | D11: 78 | E11: Yes | F11: Fictional standard groom baseline | G11: =IF(A11="","",IFERROR(IF(OR(D11="",E11=""),"Review - incomplete",IF(NOT(ISNUMBER(D11)),"Review - price format",IF(D11<0,"Review - negative price",IF(COUNTIF($A$6:$A$105,A11)>1,"Review - duplicate tier","Ready")))),"Review - formula input"))
A12: =IF(OR(B12="",C12=""),"",B12&"|"&C12) | B12: Large | C12: Smooth / Short | D12: 82 | E12: Yes | F12: Fictional standard groom baseline | G12: =IF(A12="","",IFERROR(IF(OR(D12="",E12=""),"Review - incomplete",IF(NOT(ISNUMBER(D12)),"Review - price format",IF(D12<0,"Review - negative price",IF(COUNTIF($A$6:$A$105,A12)>1,"Review - duplicate tier","Ready")))),"Review - formula input"))
A13: =IF(OR(B13="",C13=""),"",B13&"|"&C13) | B13: Large | C13: Plush / Long | D13: 102 | E13: Yes | F13: Fictional standard groom baseline | G13: =IF(A13="","",IFERROR(IF(OR(D13="",E13=""),"Review - incomplete",IF(NOT(ISNUMBER(D13)),"Review - price format",IF(D13<0,"Review - negative price",IF(COUNTIF($A$6:$A$105,A13)>1,"Review - duplicate tier","Ready")))),"Review - formula input"))
A14: =IF(OR(B14="",C14=""),"",B14&"|"&C14) | B14: Giant | C14: Smooth / Short | D14: 110 | E14: Yes | F14: Fictional standard groom baseline | G14: =IF(A14="","",IFERROR(IF(OR(D14="",E14=""),"Review - incomplete",IF(NOT(ISNUMBER(D14)),"Review - price format",IF(D14<0,"Review - negative price",IF(COUNTIF($A$6:$A$105,A14)>1,"Review - duplicate tier","Ready")))),"Review - formula input"))
A15: =IF(OR(B15="",C15=""),"",B15&"|"&C15) | B15: Giant | C15: Plush / Long | D15: 138 | E15: No | F15: Fictional tier held for staff review | G15: =IF(A15="","",IFERROR(IF(OR(D15="",E15=""),"Review - incomplete",IF(NOT(ISNUMBER(D15)),"Review - price format",IF(D15<0,"Review - negative price",IF(COUNTIF($A$6:$A$105,A15)>1,"Review - duplicate tier","Ready")))),"Review - formula input"))
A16: =IF(OR(B16="",C16=""),"",B16&"|"&C16) | G16: =IF(A16="","",IFERROR(IF(OR(D16="",E16=""),"Review - incomplete",IF(NOT(ISNUMBER(D16)),"Review - price format",IF(D16<0,"Review - negative price",IF(COUNTIF($A$6:$A$105,A16)>1,"Review - duplicate tier","Ready")))),"Review - formula input"))
A17: =IF(OR(B17="",C17=""),"",B17&"|"&C17) | G17: =IF(A17="","",IFERROR(IF(OR(D17="",E17=""),"Review - incomplete",IF(NOT(ISNUMBER(D17)),"Review - price format",IF(D17<0,"Review - negative price",IF(COUNTIF($A$6:$A$105,A17)>1,"Review - duplicate tier","Ready")))),"Review - formula input"))
A18: =IF(OR(B18="",C18=""),"",B18&"|"&C18) | G18: =IF(A18="","",IFERROR(IF(OR(D18="",E18=""),"Review - incomplete",IF(NOT(ISNUMBER(D18)),"Review - price format",IF(D18<0,"Review - negative price",IF(COUNTIF($A$6:$A$105,A18)>1,"Review - duplicate tier","Ready")))),"Review - formula input"))
A19: =IF(OR(B19="",C19=""),"",B19&"|"&C19) | G19: =IF(A19="","",IFERROR(IF(OR(D19="",E19=""),"Review - incomplete",IF(NOT(ISNUMBER(D19)),"Review - price format",IF(D19<0,"Review - negative price",IF(COUNTIF($A$6:$A$105,A19)>1,"Review - duplicate tier","Ready")))),"Review - formula input"))
A20: =IF(OR(B20="",C20=""),"",B20&"|"&C20) | G20: =IF(A20="","",IFERROR(IF(OR(D20="",E20=""),"Review - incomplete",IF(NOT(ISNUMBER(D20)),"Review - price format",IF(D20<0,"Review - negative price",IF(COUNTIF($A$6:$A$105,A20)>1,"Review - duplicate tier","Ready")))),"Review - formula input"))
A21: =IF(OR(B21="",C21=""),"",B21&"|"&C21) | G21: =IF(A21="","",IFERROR(IF(OR(D21="",E21=""),"Review - incomplete",IF(NOT(ISNUMBER(D21)),"Review - price format",IF(D21<0,"Review - negative price",IF(COUNTIF($A$6:$A$105,A21)>1,"Review - duplicate tier","Ready")))),"Review - formula input"))
A22: =IF(OR(B22="",C22=""),"",B22&"|"&C22) | G22: =IF(A22="","",IFERROR(IF(OR(D22="",E22=""),"Review - incomplete",IF(NOT(ISNUMBER(D22)),"Review - price format",IF(D22<0,"Review - negative price",IF(COUNTIF($A$6:$A$105,A22)>1,"Review - duplicate tier","Ready")))),"Review - formula input"))
A23: =IF(OR(B23="",C23=""),"",B23&"|"&C23) | G23: =IF(A23="","",IFERROR(IF(OR(D23="",E23=""),"Review - incomplete",IF(NOT(ISNUMBER(D23)),"Review - price format",IF(D23<0,"Review - negative price",IF(COUNTIF($A$6:$A$105,A23)>1,"Review - duplicate tier","Ready")))),"Review - formula input"))
A24: =IF(OR(B24="",C24=""),"",B24&"|"&C24) | G24: =IF(A24="","",IFERROR(IF(OR(D24="",E24=""),"Review - incomplete",IF(NOT(ISNUMBER(D24)),"Review - price format",IF(D24<0,"Review - negative price",IF(COUNTIF($A$6:$A$105,A24)>1,"Review - duplicate tier","Ready")))),"Review - formula input"))
A25: =IF(OR(B25="",C25=""),"",B25&"|"&C25) | G25: =IF(A25="","",IFERROR(IF(OR(D25="",E25=""),"Review - incomplete",IF(NOT(ISNUMBER(D25)),"Review - price format",IF(D25<0,"Review - negative price",IF(COUNTIF($A$6:$A$105,A25)>1,"Review - duplicate tier","Ready")))),"Review - formula input"))
A26: =IF(OR(B26="",C26=""),"",B26&"|"&C26) | G26: =IF(A26="","",IFERROR(IF(OR(D26="",E26=""),"Review - incomplete",IF(NOT(ISNUMBER(D26)),"Review - price format",IF(D26<0,"Review - negative price",IF(COUNTIF($A$6:$A$105,A26)>1,"Review - duplicate tier","Ready")))),"Review - formula input"))
A27: =IF(OR(B27="",C27=""),"",B27&"|"&C27) | G27: =IF(A27="","",IFERROR(IF(OR(D27="",E27=""),"Review - incomplete",IF(NOT(ISNUMBER(D27)),"Review - price format",IF(D27<0,"Review - negative price",IF(COUNTIF($A$6:$A$105,A27)>1,"Review - duplicate tier","Ready")))),"Review - formula input"))
... A105: =IF(OR(B105="",C105=""),"",B105&"|"&C105) | G105: =IF(A105="","",IFERROR(IF(OR(D105="",E105=""),"Review - incomplete",IF(NOT(ISNUMBER(D105)),"Review - price format",IF(D105<0,"Review - negative price",IF(COUNTIF($A$6:$A$105,A105)>1,"Review - duplicate tier","Ready")))),"Review - formula input"))

Sheet Quotes
A1: Grooming Quote Checks — Fictional Harbor Paws Grooming
A2: Enter fictional or business-approved aliases, weight, coat type, adjustments, and quote status.
A5: Quote ID | B5: Quote Date | C5: Client Alias | D5: Pet Alias | E5: Weight (lb) | F5: Coat Type | G5: Add-ons | H5: Manual Adjustment | I5: Size Band | J5: Tier Key | K5: Base Price | L5: Estimated Price | M5: Quote Status | N5: Check
A6: FQ-1001 | B6: 46257 | C6: Fictional Client A01 | D6: Fictional Pet Maple | E6: 0.1 | F6: Smooth / Short | G6: 5 | H6: 0 | I6: Accepted | J6: =IF(OR(I6="",F6=""),"",I6&"|"&F6) | K6: =IF(J6="","",IFERROR(IF(VLOOKUP(J6,'Pricing Matrix'!$A$6:$G$105,5,FALSE)="Yes",VLOOKUP(J6,'Pricing Matrix'!$A$6:$G$105,4,FALSE),""),"")) | L6: =IF(K6="","",IFERROR(K6+IF(G6="",0,G6)+IF(H6="",0,H6),"")) | N6: =IF(A6="","",IFERROR(IF(OR(B6="",C6="",D6="",E6="",F6="",M6=""),"Review - missing input",IF(OR(NOT(ISNUMBER(B6)),NOT(ISNUMBER(E6)),AND(G6<>"",NOT(ISNUMBER(G6))),AND(H6<>"",NOT(ISNUMBER(H6)))),"Review - input format",IF(I6="","Review - weight band",IF(K6="","Review - tier missing/inactive",IF(ABS(IF(H6="",0,H6))>K6*Assumptions!$F$4,"Review - adjustment","Ready"))))),"Review - formula input"))
A7: FQ-1002 | B7: 46258 | C7: Fictional Client A02 | D7: Fictional Pet Clover | E7: 10 | F7: Plush / Long | G7: 8 | H7: -3 | I7: Reviewed | J7: =IF(OR(I7="",F7=""),"",I7&"|"&F7) | K7: =IF(J7="","",IFERROR(IF(VLOOKUP(J7,'Pricing Matrix'!$A$6:$G$105,5,FALSE)="Yes",VLOOKUP(J7,'Pricing Matrix'!$A$6:$G$105,4,FALSE),""),"")) | L7: =IF(K7="","",IFERROR(K7+IF(G7="",0,G7)+IF(H7="",0,H7),"")) | N7: =IF(A7="","",IFERROR(IF(OR(B7="",C7="",D7="",E7="",F7="",M7=""),"Review - missing input",IF(OR(NOT(ISNUMBER(B7)),NOT(ISNUMBER(E7)),AND(G7<>"",NOT(ISNUMBER(G7))),AND(H7<>"",NOT(ISNUMBER(H7)))),"Review - input format",IF(I7="","Review - weight band",IF(K7="","Review - tier missing/inactive",IF(ABS(IF(H7="",0,H7))>K7*Assumptions!$F$4,"Review - adjustment","Ready"))))),"Review - formula input"))
A8: FQ-1003 | B8: 46259 | C8: Fictional Client A03 | D8: Fictional Pet Juniper | E8: 10.1 | F8: Smooth / Short | G8: 0 | H8: 0 | I8: Draft | J8: =IF(OR(I8="",F8=""),"",I8&"|"&F8) | K8: =IF(J8="","",IFERROR(IF(VLOOKUP(J8,'Pricing Matrix'!$A$6:$G$105,5,FALSE)="Yes",VLOOKUP(J8,'Pricing Matrix'!$A$6:$G$105,4,FALSE),""),"")) | L8: =IF(K8="","",IFERROR(K8+IF(G8="",0,G8)+IF(H8="",0,H8),"")) | N8: =IF(A8="","",IFERROR(IF(OR(B8="",C8="",D8="",E8="",F8="",M8=""),"Review - missing input",IF(OR(NOT(ISNUMBER(B8)),NOT(ISNUMBER(E8)),AND(G8<>"",NOT(ISNUMBER(G8))),AND(H8<>"",NOT(ISNUMBER(H8)))),"Review - input format",IF(I8="","Review - weight band",IF(K8="","Review - tier missing/inactive",IF(ABS(IF(H8="",0,H8))>K8*Assumptions!$F$4,"Review - adjustment","Ready"))))),"Review - formula input"))
A9: FQ-1004 | B9: 46260 | C9: Fictional Client A04 | D9: Fictional Pet Pebble | E9: 25 | F9: Plush / Long | G9: 12 | H9: 5 | I9: Accepted | J9: =IF(OR(I9="",F9=""),"",I9&"|"&F9) | K9: =IF(J9="","",IFERROR(IF(VLOOKUP(J9,'Pricing Matrix'!$A$6:$G$105,5,FALSE)="Yes",VLOOKUP(J9,'Pricing Matrix'!$A$6:$G$105,4,FALSE),""),"")) | L9: =IF(K9="","",IFERROR(K9+IF(G9="",0,G9)+IF(H9="",0,H9),"")) | N9: =IF(A9="","",IFERROR(IF(OR(B9="",C9="",D9="",E9="",F9="",M9=""),"Review - missing input",IF(OR(NOT(ISNUMBER(B9)),NOT(ISNUMBER(E9)),AND(G9<>"",NOT(ISNUMBER(G9))),AND(H9<>"",NOT(ISNUMBER(H9)))),"Review - input format",IF(I9="","Review - weight band",IF(K9="","Review - tier missing/inactive",IF(ABS(IF(H9="",0,H9))>K9*Assumptions!$F$4,"Review - adjustment","Ready"))))),"Review - formula input"))
A10: FQ-1005 | B10: 46261 | C10: Fictional Client A05 | D10: Fictional Pet Acorn | E10: 25.1 | F10: Smooth / Short | G10: 6 | H10: 0 | I10: Reviewed | J10: =IF(OR(I10="",F10=""),"",I10&"|"&F10) | K10: =IF(J10="","",IFERROR(IF(VLOOKUP(J10,'Pricing Matrix'!$A$6:$G$105,5,FALSE)="Yes",VLOOKUP(J10,'Pricing Matrix'!$A$6:$G$105,4,FALSE),""),"")) | L10: =IF(K10="","",IFERROR(K10+IF(G10="",0,G10)+IF(H10="",0,H10),"")) | N10: =IF(A10="","",IFERROR(IF(OR(B10="",C10="",D10="",E10="",F10="",M10=""),"Review - missing input",IF(OR(NOT(ISNUMBER(B10)),NOT(ISNUMBER(E10)),AND(G10<>"",NOT(ISNUMBER(G10))),AND(H10<>"",NOT(ISNUMBER(H10)))),"Review - input format",IF(I10="","Review - weight band",IF(K10="","Review - tier missing/inactive",IF(ABS(IF(H10="",0,H10))>K10*Assumptions!$F$4,"Review - adjustment","Ready"))))),"Review - formula input"))
A11: FQ-1006 | B11: 46262 | C11: Fictional Client A06 | D11: Fictional Pet Marigold | E11: 50 | F11: Plush / Long | G11: 10 | H11: 25 | I11: Draft | J11: =IF(OR(I11="",F11=""),"",I11&"|"&F11) | K11: =IF(J11="","",IFERROR(IF(VLOOKUP(J11,'Pricing Matrix'!$A$6:$G$105,5,FALSE)="Yes",VLOOKUP(J11,'Pricing Matrix'!$A$6:$G$105,4,FALSE),""),"")) | L11: =IF(K11="","",IFERROR(K11+IF(G11="",0,G11)+IF(H11="",0,H11),"")) | N11: =IF(A11="","",IFERROR(IF(OR(B11="",C11="",D11="",E11="",F11="",M11=""),"Review - missing input",IF(OR(NOT(ISNUMBER(B11)),NOT(ISNUMBER(E11)),AND(G11<>"",NOT(ISNUMBER(G11))),AND(H11<>"",NOT(ISNUMBER(H11)))),"Review - input format",IF(I11="","Review - weight band",IF(K11="","Review - tier missing/inactive",IF(ABS(IF(H11="",0,H11))>K11*Assumptions!$F$4,"Review - adjustment","Ready"))))),"Review - formula input"))
A12: FQ-1007 | B12: 46263 | C12: Fictional Client A07 | D12: Fictional Pet Riverstone | E12: 50.1 | F12: Smooth / Short | G12: 15 | H12: -5 | I12: Accepted | J12: =IF(OR(I12="",F12=""),"",I12&"|"&F12) | K12: =IF(J12="","",IFERROR(IF(VLOOKUP(J12,'Pricing Matrix'!$A$6:$G$105,5,FALSE)="Yes",VLOOKUP(J12,'Pricing Matrix'!$A$6:$G$105,4,FALSE),""),"")) | L12: =IF(K12="","",IFERROR(K12+IF(G12="",0,G12)+IF(H12="",0,H12),"")) | N12: =IF(A12="","",IFERROR(IF(OR(B12="",C12="",D12="",E12="",F12="",M12=""),"Review - missing input",IF(OR(NOT(ISNUMBER(B12)),NOT(ISNUMBER(E12)),AND(G12<>"",NOT(ISNUMBER(G12))),AND(H12<>"",NOT(ISNUMBER(H12)))),"Review - input format",IF(I12="","Review - weight band",IF(K12="","Review - tier missing/inactive",IF(ABS(IF(H12="",0,H12))>K12*Assumptions!$F$4,"Review - adjustment","Ready"))))),"Review - formula input"))
A13: FQ-1008 | B13: 46264 | C13: Fictional Client A08 | D13: Fictional Pet Thistle | E13: 80 | F13: Plush / Long | G13: 18 | H13: 0 | I13: Declined | J13: =IF(OR(I13="",F13=""),"",I13&"|"&F13) | K13: =IF(J13="","",IFERROR(IF(VLOOKUP(J13,'Pricing Matrix'!$A$6:$G$105,5,FALSE)="Yes",VLOOKUP(J13,'Pricing Matrix'!$A$6:$G$105,4,FALSE),""),"")) | L13: =IF(K13="","",IFERROR(K13+IF(G13="",0,G13)+IF(H13="",0,H13),"")) | N13: =IF(A13="","",IFERROR(IF(OR(B13="",C13="",D13="",E13="",F13="",M13=""),"Review - missing input",IF(OR(NOT(ISNUMBER(B13)),NOT(ISNUMBER(E13)),AND(G13<>"",NOT(ISNUMBER(G13))),AND(H13<>"",NOT(ISNUMBER(H13)))),"Review - input format",IF(I13="","Review - weight band",IF(K13="","Review - tier missing/inactive",IF(ABS(IF(H13="",0,H13))>K13*Assumptions!$F$4,"Review - adjustment","Ready"))))),"Review - formula input"))
A14: FQ-1009 | B14: 46265 | C14: Fictional Client A09 | D14: Fictional Pet Moonbeam | E14: 80.1 | F14: Smooth / Short | G14: 20 | H14: 10 | I14: Reviewed | J14: =IF(OR(I14="",F14=""),"",I14&"|"&F14) | K14: =IF(J14="","",IFERROR(IF(VLOOKUP(J14,'Pricing Matrix'!$A$6:$G$105,5,FALSE)="Yes",VLOOKUP(J14,'Pricing Matrix'!$A$6:$G$105,4,FALSE),""),"")) | L14: =IF(K14="","",IFERROR(K14+IF(G14="",0,G14)+IF(H14="",0,H14),"")) | N14: =IF(A14="","",IFERROR(IF(OR(B14="",C14="",D14="",E14="",F14="",M14=""),"Review - missing input",IF(OR(NOT(ISNUMBER(B14)),NOT(ISNUMBER(E14)),AND(G14<>"",NOT(ISNUMBER(G14))),AND(H14<>"",NOT(ISNUMBER(H14)))),"Review - input format",IF(I14="","Review - weight band",IF(K14="","Review - tier missing/inactive",IF(ABS(IF(H14="",0,H14))>K14*Assumptions!$F$4,"Review - adjustment","Ready"))))),"Review - formula input"))
A15: FQ-1010 | B15: 46266 | C15: Fictional Client A10 | D15: Fictional Pet Pinecone | E15: 150 | F15: Plush / Long | G15: 25 | H15: 0 | I15: Draft | J15: =IF(OR(I15="",F15=""),"",I15&"|"&F15) | K15: =IF(J15="","",IFERROR(IF(VLOOKUP(J15,'Pricing Matrix'!$A$6:$G$105,5,FALSE)="Yes",VLOOKUP(J15,'Pricing Matrix'!$A$6:$G$105,4,FALSE),""),"")) | L15: =IF(K15="","",IFERROR(K15+IF(G15="",0,G15)+IF(H15="",0,H15),"")) | N15: =IF(A15="","",IFERROR(IF(OR(B15="",C15="",D15="",E15="",F15="",M15=""),"Review - missing input",IF(OR(NOT(ISNUMBER(B15)),NOT(ISNUMBER(E15)),AND(G15<>"",NOT(ISNUMBER(G15))),AND(H15<>"",NOT(ISNUMBER(H15)))),"Review - input format",IF(I15="","Review - weight band",IF(K15="","Review - tier missing/inactive",IF(ABS(IF(H15="",0,H15))>K15*Assumptions!$F$4,"Review - adjustment","Ready"))))),"Review - formula input"))
I16: =IF(E16="","",IF(OR(E16<Assumptions!$A$5,E16>Assumptions!$C$9),"",IFERROR(VLOOKUP(E16,Assumptions!$A$5:$C$9,2,TRUE),""))) | J16: =IF(OR(I16="",F16=""),"",I16&"|"&F16) | K16: =IF(J16="","",IFERROR(IF(VLOOKUP(J16,'Pricing Matrix'!$A$6:$G$105,5,FALSE)="Yes",VLOOKUP(J16,'Pricing Matrix'!$A$6:$G$105,4,FALSE),""),"")) | L16: =IF(K16="","",IFERROR(K16+IF(G16="",0,G16)+IF(H16="",0,H16),"")) | N16: =IF(A16="","",IFERROR(IF(OR(B16="",C16="",D16="",E16="",F16="",M16=""),"Review - missing input",IF(OR(NOT(ISNUMBER(B16)),NOT(ISNUMBER(E16)),AND(G16<>"",NOT(ISNUMBER(G16))),AND(H16<>"",NOT(ISNUMBER(H16)))),"Review - input format",IF(I16="","Review - weight band",IF(K16="","Review - tier missing/inactive",IF(ABS(IF(H16="",0,H16))>K16*Assumptions!$F$4,"Review - adjustment","Ready"))))),"Review - formula input"))
I17: =IF(E17="","",IF(OR(E17<Assumptions!$A$5,E17>Assumptions!$C$9),"",IFERROR(VLOOKUP(E17,Assumptions!$A$5:$C$9,2,TRUE),""))) | J17: =IF(OR(I17="",F17=""),"",I17&"|"&F17) | K17: =IF(J17="","",IFERROR(IF(VLOOKUP(J17,'Pricing Matrix'!$A$6:$G$105,5,FALSE)="Yes",VLOOKUP(J17,'Pricing Matrix'!$A$6:$G$105,4,FALSE),""),"")) | L17: =IF(K17="","",IFERROR(K17+IF(G17="",0,G17)+IF(H17="",0,H17),"")) | N17: =IF(A17="","",IFERROR(IF(OR(B17="",C17="",D17="",E17="",F17="",M17=""),"Review - missing input",IF(OR(NOT(ISNUMBER(B17)),NOT(ISNUMBER(E17)),AND(G17<>"",NOT(ISNUMBER(G17))),AND(H17<>"",NOT(ISNUMBER(H17)))),"Review - input format",IF(I17="","Review - weight band",IF(K17="","Review - tier missing/inactive",IF(ABS(IF(H17="",0,H17))>K17*Assumptions!$F$4,"Review - adjustment","Ready"))))),"Review - formula input"))
I18: =IF(E18="","",IF(OR(E18<Assumptions!$A$5,E18>Assumptions!$C$9),"",IFERROR(VLOOKUP(E18,Assumptions!$A$5:$C$9,2,TRUE),""))) | J18: =IF(OR(I18="",F18=""),"",I18&"|"&F18) | K18: =IF(J18="","",IFERROR(IF(VLOOKUP(J18,'Pricing Matrix'!$A$6:$G$105,5,FALSE)="Yes",VLOOKUP(J18,'Pricing Matrix'!$A$6:$G$105,4,FALSE),""),"")) | L18: =IF(K18="","",IFERROR(K18+IF(G18="",0,G18)+IF(H18="",0,H18),"")) | N18: =IF(A18="","",IFERROR(IF(OR(B18="",C18="",D18="",E18="",F18="",M18=""),"Review - missing input",IF(OR(NOT(ISNUMBER(B18)),NOT(ISNUMBER(E18)),AND(G18<>"",NOT(ISNUMBER(G18))),AND(H18<>"",NOT(ISNUMBER(H18)))),"Review - input format",IF(I18="","Review - weight band",IF(K18="","Review - tier missing/inactive",IF(ABS(IF(H18="",0,H18))>K18*Assumptions!$F$4,"Review - adjustment","Ready"))))),"Review - formula input"))
I19: =IF(E19="","",IF(OR(E19<Assumptions!$A$5,E19>Assumptions!$C$9),"",IFERROR(VLOOKUP(E19,Assumptions!$A$5:$C$9,2,TRUE),""))) | J19: =IF(OR(I19="",F19=""),"",I19&"|"&F19) | K19: =IF(J19="","",IFERROR(IF(VLOOKUP(J19,'Pricing Matrix'!$A$6:$G$105,5,FALSE)="Yes",VLOOKUP(J19,'Pricing Matrix'!$A$6:$G$105,4,FALSE),""),"")) | L19: =IF(K19="","",IFERROR(K19+IF(G19="",0,G19)+IF(H19="",0,H19),"")) | N19: =IF(A19="","",IFERROR(IF(OR(B19="",C19="",D19="",E19="",F19="",M19=""),"Review - missing input",IF(OR(NOT(ISNUMBER(B19)),NOT(ISNUMBER(E19)),AND(G19<>"",NOT(ISNUMBER(G19))),AND(H19<>"",NOT(ISNUMBER(H19)))),"Review - input format",IF(I19="","Review - weight band",IF(K19="","Review - tier missing/inactive",IF(ABS(IF(H19="",0,H19))>K19*Assumptions!$F$4,"Review - adjustment","Ready"))))),"Review - formula input"))
I20: =IF(E20="","",IF(OR(E20<Assumptions!$A$5,E20>Assumptions!$C$9),"",IFERROR(VLOOKUP(E20,Assumptions!$A$5:$C$9,2,TRUE),""))) | J20: =IF(OR(I20="",F20=""),"",I20&"|"&F20) | K20: =IF(J20="","",IFERROR(IF(VLOOKUP(J20,'Pricing Matrix'!$A$6:$G$105,5,FALSE)="Yes",VLOOKUP(J20,'Pricing Matrix'!$A$6:$G$105,4,FALSE),""),"")) | L20: =IF(K20="","",IFERROR(K20+IF(G20="",0,G20)+IF(H20="",0,H20),"")) | N20: =IF(A20="","",IFERROR(IF(OR(B20="",C20="",D20="",E20="",F20="",M20=""),"Review - missing input",IF(OR(NOT(ISNUMBER(B20)),NOT(ISNUMBER(E20)),AND(G20<>"",NOT(ISNUMBER(G20))),AND(H20<>"",NOT(ISNUMBER(H20)))),"Review - input format",IF(I20="","Review - weight band",IF(K20="","Review - tier missing/inactive",IF(ABS(IF(H20="",0,H20))>K20*Assumptions!$F$4,"Review - adjustment","Ready"))))),"Review - formula input"))
I21: =IF(E21="","",IF(OR(E21<Assumptions!$A$5,E21>Assumptions!$C$9),"",IFERROR(VLOOKUP(E21,Assumptions!$A$5:$C$9,2,TRUE),""))) | J21: =IF(OR(I21="",F21=""),"",I21&"|"&F21) | K21: =IF(J21="","",IFERROR(IF(VLOOKUP(J21,'Pricing Matrix'!$A$6:$G$105,5,FALSE)="Yes",VLOOKUP(J21,'Pricing Matrix'!$A$6:$G$105,4,FALSE),""),"")) | L21: =IF(K21="","",IFERROR(K21+IF(G21="",0,G21)+IF(H21="",0,H21),"")) | N21: =IF(A21="","",IFERROR(IF(OR(B21="",C21="",D21="",E21="",F21="",M21=""),"Review - missing input",IF(OR(NOT(ISNUMBER(B21)),NOT(ISNUMBER(E21)),AND(G21<>"",NOT(ISNUMBER(G21))),AND(H21<>"",NOT(ISNUMBER(H21)))),"Review - input format",IF(I21="","Review - weight band",IF(K21="","Review - tier missing/inactive",IF(ABS(IF(H21="",0,H21))>K21*Assumptions!$F$4,"Review - adjustment","Ready"))))),"Review - formula input"))
I22: =IF(E22="","",IF(OR(E22<Assumptions!$A$5,E22>Assumptions!$C$9),"",IFERROR(VLOOKUP(E22,Assumptions!$A$5:$C$9,2,TRUE),""))) | J22: =IF(OR(I22="",F22=""),"",I22&"|"&F22) | K22: =IF(J22="","",IFERROR(IF(VLOOKUP(J22,'Pricing Matrix'!$A$6:$G$105,5,FALSE)="Yes",VLOOKUP(J22,'Pricing Matrix'!$A$6:$G$105,4,FALSE),""),"")) | L22: =IF(K22="","",IFERROR(K22+IF(G22="",0,G22)+IF(H22="",0,H22),"")) | N22: =IF(A22="","",IFERROR(IF(OR(B22="",C22="",D22="",E22="",F22="",M22=""),"Review - missing input",IF(OR(NOT(ISNUMBER(B22)),NOT(ISNUMBER(E22)),AND(G22<>"",NOT(ISNUMBER(G22))),AND(H22<>"",NOT(ISNUMBER(H22)))),"Review - input format",IF(I22="","Review - weight band",IF(K22="","Review - tier missing/inactive",IF(ABS(IF(H22="",0,H22))>K22*Assumptions!$F$4,"Review - adjustment","Ready"))))),"Review - formula input"))
I23: =IF(E23="","",IF(OR(E23<Assumptions!$A$5,E23>Assumptions!$C$9),"",IFERROR(VLOOKUP(E23,Assumptions!$A$5:$C$9,2,TRUE),""))) | J23: =IF(OR(I23="",F23=""),"",I23&"|"&F23) | K23: =IF(J23="","",IFERROR(IF(VLOOKUP(J23,'Pricing Matrix'!$A$6:$G$105,5,FALSE)="Yes",VLOOKUP(J23,'Pricing Matrix'!$A$6:$G$105,4,FALSE),""),"")) | L23: =IF(K23="","",IFERROR(K23+IF(G23="",0,G23)+IF(H23="",0,H23),"")) | N23: =IF(A23="","",IFERROR(IF(OR(B23="",C23="",D23="",E23="",F23="",M23=""),"Review - missing input",IF(OR(NOT(ISNUMBER(B23)),NOT(ISNUMBER(E23)),AND(G23<>"",NOT(ISNUMBER(G23))),AND(H23<>"",NOT(ISNUMBER(H23)))),"Review - input format",IF(I23="","Review - weight band",IF(K23="","Review - tier missing/inactive",IF(ABS(IF(H23="",0,H23))>K23*Assumptions!$F$4,"Review - adjustment","Ready"))))),"Review - formula input"))
I24: =IF(E24="","",IF(OR(E24<Assumptions!$A$5,E24>Assumptions!$C$9),"",IFERROR(VLOOKUP(E24,Assumptions!$A$5:$C$9,2,TRUE),""))) | J24: =IF(OR(I24="",F24=""),"",I24&"|"&F24) | K24: =IF(J24="","",IFERROR(IF(VLOOKUP(J24,'Pricing Matrix'!$A$6:$G$105,5,FALSE)="Yes",VLOOKUP(J24,'Pricing Matrix'!$A$6:$G$105,4,FALSE),""),"")) | L24: =IF(K24="","",IFERROR(K24+IF(G24="",0,G24)+IF(H24="",0,H24),"")) | N24: =IF(A24="","",IFERROR(IF(OR(B24="",C24="",D24="",E24="",F24="",M24=""),"Review - missing input",IF(OR(NOT(ISNUMBER(B24)),NOT(ISNUMBER(E24)),AND(G24<>"",NOT(ISNUMBER(G24))),AND(H24<>"",NOT(ISNUMBER(H24)))),"Review - input format",IF(I24="","Review - weight band",IF(K24="","Review - tier missing/inactive",IF(ABS(IF(H24="",0,H24))>K24*Assumptions!$F$4,"Review - adjustment","Ready"))))),"Review - formula input"))
I25: =IF(E25="","",IF(OR(E25<Assumptions!$A$5,E25>Assumptions!$C$9),"",IFERROR(VLOOKUP(E25,Assumptions!$A$5:$C$9,2,TRUE),""))) | J25: =IF(OR(I25="",F25=""),"",I25&"|"&F25) | K25: =IF(J25="","",IFERROR(IF(VLOOKUP(J25,'Pricing Matrix'!$A$6:$G$105,5,FALSE)="Yes",VLOOKUP(J25,'Pricing Matrix'!$A$6:$G$105,4,FALSE),""),"")) | L25: =IF(K25="","",IFERROR(K25+IF(G25="",0,G25)+IF(H25="",0,H25),"")) | N25: =IF(A25="","",IFERROR(IF(OR(B25="",C25="",D25="",E25="",F25="",M25=""),"Review - missing input",IF(OR(NOT(ISNUMBER(B25)),NOT(ISNUMBER(E25)),AND(G25<>"",NOT(ISNUMBER(G25))),AND(H25<>"",NOT(ISNUMBER(H25)))),"Review - input format",IF(I25="","Review - weight band",IF(K25="","Review - tier missing/inactive",IF(ABS(IF(H25="",0,H25))>K25*Assumptions!$F$4,"Review - adjustment","Ready"))))),"Review - formula input"))
I26: =IF(E26="","",IF(OR(E26<Assumptions!$A$5,E26>Assumptions!$C$9),"",IFERROR(VLOOKUP(E26,Assumptions!$A$5:$C$9,2,TRUE),""))) | J26: =IF(OR(I26="",F26=""),"",I26&"|"&F26) | K26: =IF(J26="","",IFERROR(IF(VLOOKUP(J26,'Pricing Matrix'!$A$6:$G$105,5,FALSE)="Yes",VLOOKUP(J26,'Pricing Matrix'!$A$6:$G$105,4,FALSE),""),"")) | L26: =IF(K26="","",IFERROR(K26+IF(G26="",0,G26)+IF(H26="",0,H26),"")) | N26: =IF(A26="","",IFERROR(IF(OR(B26="",C26="",D26="",E26="",F26="",M26=""),"Review - missing input",IF(OR(NOT(ISNUMBER(B26)),NOT(ISNUMBER(E26)),AND(G26<>"",NOT(ISNUMBER(G26))),AND(H26<>"",NOT(ISNUMBER(H26)))),"Review - input format",IF(I26="","Review - weight band",IF(K26="","Review - tier missing/inactive",IF(ABS(IF(H26="",0,H26))>K26*Assumptions!$F$4,"Review - adjustment","Ready"))))),"Review - formula input"))
I27: =IF(E27="","",IF(OR(E27<Assumptions!$A$5,E27>Assumptions!$C$9),"",IFERROR(VLOOKUP(E27,Assumptions!$A$5:$C$9,2,TRUE),""))) | J27: =IF(OR(I27="",F27=""),"",I27&"|"&F27) | K27: =IF(J27="","",IFERROR(IF(VLOOKUP(J27,'Pricing Matrix'!$A$6:$G$105,5,FALSE)="Yes",VLOOKUP(J27,'Pricing Matrix'!$A$6:$G$105,4,FALSE),""),"")) | L27: =IF(K27="","",IFERROR(K27+IF(G27="",0,G27)+IF(H27="",0,H27),"")) | N27: =IF(A27="","",IFERROR(IF(OR(B27="",C27="",D27="",E27="",F27="",M27=""),"Review - missing input",IF(OR(NOT(ISNUMBER(B27)),NOT(ISNUMBER(E27)),AND(G27<>"",NOT(ISNUMBER(G27))),AND(H27<>"",NOT(ISNUMBER(H27)))),"Review - input format",IF(I27="","Review - weight band",IF(K27="","Review - tier missing/inactive",IF(ABS(IF(H27="",0,H27))>K27*Assumptions!$F$4,"Review - adjustment","Ready"))))),"Review - formula input"))
... I105: =IF(E105="","",IF(OR(E105<Assumptions!$A$5,E105>Assumptions!$C$9),"",IFERROR(VLOOKUP(E105,Assumptions!$A$5:$C$9,2,TRUE),""))) | J105: =IF(OR(I105="",F105=""),"",I105&"|"&F105) | K105: =IF(J105="","",IFERROR(IF(VLOOKUP(J105,'Pricing Matrix'!$A$6:$G$105,5,FALSE)="Yes",VLOOKUP(J105,'Pricing Matrix'!$A$6:$G$105,4,FALSE),""),"")) | L105: =IF(K105="","",IFERROR(K105+IF(G105="",0,G105)+IF(H105="",0,H105),"")) | N105: =IF(A105="","",IFERROR(IF(OR(B105="",C105="",D105="",E105="",F105="",M105=""),"Review - missing input",IF(OR(NOT(ISNUMBER(B105)),NOT(ISNUMBER(E105)),AND(G105<>"",NOT(ISNUMBER(G105))),AND(H105<>"",NOT(ISNUMBER(H105)))),"Review - input format",IF(I105="","Review - weight band",IF(K105="","Review - tier missing/inactive",IF(ABS(IF(H105="",0,H105))>K105*Assumptions!$F$4,"Review - adjustment","Ready"))))),"Review - formula input"))

Sheet Assumptions
A1: Editable Pricing Assumptions — Fictional Harbor Paws Grooming
A2: Edit the weight bands, review threshold, and stable choices before using the matrix.
A3: Weight Band Configuration | E3: Quote Review Limit | F3: Editable Value
A4: Minimum Weight (lb) | B4: Size Band | C4: Maximum Weight (lb) | D4: Check | E4: Manual adjustment review threshold | F4: 0.25
A5: 0.1 | B5: Toy | C5: 10 | D5: =IFERROR(IF(OR(A5="",B5="",C5=""),"Review - incomplete",IF(COUNTIF($B$5:$B$9,B5)>1,"Review - duplicate label",IF(OR(A5<=0,C5<A5),"Review - bounds","Ready"))),"Review - formula input")
A6: 10.1 | B6: Small | C6: 25 | D6: =IFERROR(IF(OR(A6="",B6="",C6=""),"Review - incomplete",IF(COUNTIF($B$5:$B$9,B6)>1,"Review - duplicate label",IF(OR(A6<=C5,C6<A6),"Review - overlap/order",IF(ABS(A6-C5-0.1)>0.0001,"Review - gap","Ready")))),"Review - formula input")
A7: 25.1 | B7: Medium | C7: 50 | D7: =IFERROR(IF(OR(A7="",B7="",C7=""),"Review - incomplete",IF(COUNTIF($B$5:$B$9,B7)>1,"Review - duplicate label",IF(OR(A7<=C6,C7<A7),"Review - overlap/order",IF(ABS(A7-C6-0.1)>0.0001,"Review - gap","Ready")))),"Review - formula input") | E7: Coat Choices
A8: 50.1 | B8: Large | C8: 80 | D8: =IFERROR(IF(OR(A8="",B8="",C8=""),"Review - incomplete",IF(COUNTIF($B$5:$B$9,B8)>1,"Review - duplicate label",IF(OR(A8<=C7,C8<A8),"Review - overlap/order",IF(ABS(A8-C7-0.1)>0.0001,"Review - gap","Ready")))),"Review - formula input") | E8: Smooth / Short
A9: 80.1 | B9: Giant | C9: 150 | D9: =IFERROR(IF(OR(A9="",B9="",C9=""),"Review - incomplete",IF(COUNTIF($B$5:$B$9,B9)>1,"Review - duplicate label",IF(OR(A9<=C8,C9<A9),"Review - overlap/order",IF(ABS(A9-C8-0.1)>0.0001,"Review - gap","Ready")))),"Review - formula input") | E9: Plush / Long
E11: Quote Status Choices
A12: Pricing values are editable internal planning assumptions; staff should review each quote. | E12: Draft
E13: Reviewed
E14: Accepted
E15: Declined
E17: Active Choices
E18: Yes
E19: No
