Workbook

Sheet Summary
A1: Dog Walking Route Planner Summary
A2: Selections are maintained on Assumptions; every result below is calculated from route entries.
A3: Current summary view
A4: Route date | B4: =Assumptions!$B$9
A5: Walker | B5: =Assumptions!$B$10
A7: Route indicators
A8: Planned visits | B8: =IF(Assumptions!$B$9="","",IF(Assumptions!$B$10="All",COUNTIFS('Route Planner'!$A$5:$A$104,Assumptions!$B$9,'Route Planner'!$P$5:$P$104,"<>Canceled"),COUNTIFS('Route Planner'!$A$5:$A$104,Assumptions!$B$9,'Route Planner'!$B$5:$B$104,Assumptions!$B$10,'Route Planner'!$P$5:$P$104,"<>Canceled")))
A9: Completed visits | B9: =IF(Assumptions!$B$9="","",IF(Assumptions!$B$10="All",COUNTIFS('Route Planner'!$A$5:$A$104,Assumptions!$B$9,'Route Planner'!$P$5:$P$104,"Completed"),COUNTIFS('Route Planner'!$A$5:$A$104,Assumptions!$B$9,'Route Planner'!$B$5:$B$104,Assumptions!$B$10,'Route Planner'!$P$5:$P$104,"Completed")))
A10: Walk hours | B10: =IF(Assumptions!$B$9="","",IFERROR(IF(Assumptions!$B$10="All",SUMIFS('Route Planner'!$I$5:$I$104,'Route Planner'!$A$5:$A$104,Assumptions!$B$9,'Route Planner'!$P$5:$P$104,"<>Canceled"),SUMIFS('Route Planner'!$I$5:$I$104,'Route Planner'!$A$5:$A$104,Assumptions!$B$9,'Route Planner'!$B$5:$B$104,Assumptions!$B$10,'Route Planner'!$P$5:$P$104,"<>Canceled"))/60,0))
A11: Travel minutes | B11: =IF(Assumptions!$B$9="","",IF(Assumptions!$B$10="All",SUMIFS('Route Planner'!$J$5:$J$104,'Route Planner'!$A$5:$A$104,Assumptions!$B$9,'Route Planner'!$P$5:$P$104,"<>Canceled"),SUMIFS('Route Planner'!$J$5:$J$104,'Route Planner'!$A$5:$A$104,Assumptions!$B$9,'Route Planner'!$B$5:$B$104,Assumptions!$B$10,'Route Planner'!$P$5:$P$104,"<>Canceled")))
A12: Travel miles | B12: =IF(Assumptions!$B$9="","",IF(Assumptions!$B$10="All",SUMIFS('Route Planner'!$K$5:$K$104,'Route Planner'!$A$5:$A$104,Assumptions!$B$9,'Route Planner'!$P$5:$P$104,"<>Canceled"),SUMIFS('Route Planner'!$K$5:$K$104,'Route Planner'!$A$5:$A$104,Assumptions!$B$9,'Route Planner'!$B$5:$B$104,Assumptions!$B$10,'Route Planner'!$P$5:$P$104,"<>Canceled")))
A13: Window reviews | B13: =IF(Assumptions!$B$9="","",IF(Assumptions!$B$10="All",COUNTIFS('Route Planner'!$A$5:$A$104,Assumptions!$B$9,'Route Planner'!$N$5:$N$104,"Review window"),COUNTIFS('Route Planner'!$A$5:$A$104,Assumptions!$B$9,'Route Planner'!$B$5:$B$104,Assumptions!$B$10,'Route Planner'!$N$5:$N$104,"Review window")))
A14: Route reviews | B14: =IF(Assumptions!$B$9="","",IF(Assumptions!$B$10="All",COUNTIFS('Route Planner'!$A$5:$A$104,Assumptions!$B$9,'Route Planner'!$O$5:$O$104,"Review*"),COUNTIFS('Route Planner'!$A$5:$A$104,Assumptions!$B$9,'Route Planner'!$B$5:$B$104,Assumptions!$B$10,'Route Planner'!$O$5:$O$104,"Review*")))
A16: Walker | B16: Visits | C16: Planned Hours | D16: Workload Check
A17: =Assumptions!D4 | B17: =IF(A17="","",COUNTIFS('Route Planner'!$A$5:$A$104,Assumptions!$B$9,'Route Planner'!$B$5:$B$104,A17,'Route Planner'!$P$5:$P$104,"<>Canceled")) | C17: =IF(A17="","",IFERROR((SUMIFS('Route Planner'!$I$5:$I$104,'Route Planner'!$A$5:$A$104,Assumptions!$B$9,'Route Planner'!$B$5:$B$104,A17,'Route Planner'!$P$5:$P$104,"<>Canceled")+SUMIFS('Route Planner'!$J$5:$J$104,'Route Planner'!$A$5:$A$104,Assumptions!$B$9,'Route Planner'!$B$5:$B$104,A17,'Route Planner'!$P$5:$P$104,"<>Canceled"))/60,0)) | D17: =IF(A17="","",IF(C17>Assumptions!$B$8,"Review hours","Within guide"))
A18: =Assumptions!D5 | B18: =IF(A18="","",COUNTIFS('Route Planner'!$A$5:$A$104,Assumptions!$B$9,'Route Planner'!$B$5:$B$104,A18,'Route Planner'!$P$5:$P$104,"<>Canceled")) | C18: =IF(A18="","",IFERROR((SUMIFS('Route Planner'!$I$5:$I$104,'Route Planner'!$A$5:$A$104,Assumptions!$B$9,'Route Planner'!$B$5:$B$104,A18,'Route Planner'!$P$5:$P$104,"<>Canceled")+SUMIFS('Route Planner'!$J$5:$J$104,'Route Planner'!$A$5:$A$104,Assumptions!$B$9,'Route Planner'!$B$5:$B$104,A18,'Route Planner'!$P$5:$P$104,"<>Canceled"))/60,0)) | D18: =IF(A18="","",IF(C18>Assumptions!$B$8,"Review hours","Within guide"))
A19: =Assumptions!D6 | B19: =IF(A19="","",COUNTIFS('Route Planner'!$A$5:$A$104,Assumptions!$B$9,'Route Planner'!$B$5:$B$104,A19,'Route Planner'!$P$5:$P$104,"<>Canceled")) | C19: =IF(A19="","",IFERROR((SUMIFS('Route Planner'!$I$5:$I$104,'Route Planner'!$A$5:$A$104,Assumptions!$B$9,'Route Planner'!$B$5:$B$104,A19,'Route Planner'!$P$5:$P$104,"<>Canceled")+SUMIFS('Route Planner'!$J$5:$J$104,'Route Planner'!$A$5:$A$104,Assumptions!$B$9,'Route Planner'!$B$5:$B$104,A19,'Route Planner'!$P$5:$P$104,"<>Canceled"))/60,0)) | D19: =IF(A19="","",IF(C19>Assumptions!$B$8,"Review hours","Within guide"))
A20: =Assumptions!D7 | B20: =IF(A20="","",COUNTIFS('Route Planner'!$A$5:$A$104,Assumptions!$B$9,'Route Planner'!$B$5:$B$104,A20,'Route Planner'!$P$5:$P$104,"<>Canceled")) | C20: =IF(A20="","",IFERROR((SUMIFS('Route Planner'!$I$5:$I$104,'Route Planner'!$A$5:$A$104,Assumptions!$B$9,'Route Planner'!$B$5:$B$104,A20,'Route Planner'!$P$5:$P$104,"<>Canceled")+SUMIFS('Route Planner'!$J$5:$J$104,'Route Planner'!$A$5:$A$104,Assumptions!$B$9,'Route Planner'!$B$5:$B$104,A20,'Route Planner'!$P$5:$P$104,"<>Canceled"))/60,0)) | D20: =IF(A20="","",IF(C20>Assumptions!$B$8,"Review hours","Within guide"))

Sheet Route Planner
A1: Dog Walking Route Planner
A2: Enter rows in date, walker, and stop order. Planned times flow from the prior matching row. Alerts request a human review. All shown names and visit details are fictional examples.
A4: Route Date | B4: Walker | C4: Stop Order | D4: Client ID | E4: Dog | F4: Area | G4: Window Start | H4: Window End | I4: Walk Minutes | J4: Travel Minutes From Prior | K4: Travel Miles From Prior | L4: Planned Start | M4: Planned End | N4: Window Check | O4: Route Check | P4: Status | Q4: Owner Care Note
A5: 46275 | B5: Avery Lane | C5: 1 | D5: FIC-001 | E5: Biscuit | F5: Cedar Loop | G5: 0.33333333 | H5: 0.375 | I5: 30 | J5: 0 | K5: 0 | L5: =IF(OR(A5="",B5="",C5="",G5="",H5="",I5="",P5="Canceled"),"",IF(OR(NOT(ISNUMBER(G5)),NOT(ISNUMBER(I5))),"",G5)) | M5: =IF(OR(L5="",NOT(ISNUMBER(L5)),NOT(ISNUMBER(I5))),"",IFERROR(L5+I5/1440,"")) | N5: =IF(OR(A5="",B5="",C5="",G5="",H5="",I5=""),"",IF(P5="Canceled","Not routed",IF(OR(NOT(ISNUMBER(G5)),NOT(ISNUMBER(H5)),NOT(ISNUMBER(M5))),"Review window",IF(OR(H5<G5,M5>H5),"Review window","Within window")))) | O5: =IF(OR(A5="",B5="",C5="",I5=""),"",IF(P5="Canceled","Not routed",IF(OR(NOT(ISNUMBER(C5)),NOT(ISNUMBER(I5))),"Review entries",IF(OR(Assumptions!$B$4="",Assumptions!$B$5="",Assumptions!$B$6="",Assumptions!$B$7=""),"Review limits",IF(OR(I5<Assumptions!$B$4,I5>Assumptions!$B$5),"Review duration",IF(OR(AND(ISNUMBER(J5),J5>Assumptions!$B$6),AND(ISNUMBER(K5),K5>Assumptions!$B$7)),"Review travel",IF(C5<>1,"Review order","Ready"))))))) | P5: Completed | Q5: Use leash stored by the front hook.
A6: 46275 | B6: Avery Lane | C6: 2 | D6: FIC-002 | E6: Juniper | F6: Cedar Loop | G6: 0.375 | H6: 0.41666667 | I6: 45 | J6: 20 | K6: 4.1 | L6: =IF(OR(A6="",B6="",C6="",G6="",H6="",I6="",P6="Canceled"),"",IF(OR(NOT(ISNUMBER(G6)),NOT(ISNUMBER(I6))),"",MAX(G6,IF(AND(A6=A5,B6=B5,ISNUMBER(M5)),M5+IFERROR(IF(ISNUMBER(J6),J6,0)/1440,0),G6)))) | M6: =IF(OR(L6="",NOT(ISNUMBER(L6)),NOT(ISNUMBER(I6))),"",IFERROR(L6+I6/1440,"")) | N6: =IF(OR(A6="",B6="",C6="",G6="",H6="",I6=""),"",IF(P6="Canceled","Not routed",IF(OR(NOT(ISNUMBER(G6)),NOT(ISNUMBER(H6)),NOT(ISNUMBER(M6))),"Review window",IF(OR(H6<G6,M6>H6),"Review window","Within window")))) | O6: =IF(OR(A6="",B6="",C6="",I6=""),"",IF(P6="Canceled","Not routed",IF(OR(NOT(ISNUMBER(C6)),NOT(ISNUMBER(I6))),"Review entries",IF(OR(Assumptions!$B$4="",Assumptions!$B$5="",Assumptions!$B$6="",Assumptions!$B$7=""),"Review limits",IF(OR(I6<Assumptions!$B$4,I6>Assumptions!$B$5),"Review duration",IF(OR(AND(ISNUMBER(J6),J6>Assumptions!$B$6),AND(ISNUMBER(K6),K6>Assumptions!$B$7)),"Review travel",IF(AND(A6=A5,B6=B5),IF(NOT(ISNUMBER(C5)),"Review order",IF(C6<>C5+1,"Review order","Ready")),IF(C6<>1,"Review order","Ready")))))))) | P6: Confirmed | Q6: Return the leash to the labeled basket.
A7: 46275 | B7: Avery Lane | C7: 3 | D7: FIC-003 | E7: Orbit | F7: Harbor East | G7: 0.41666667 | H7: 0.45833333 | I7: 30 | J7: 15 | K7: 5 | L7: =IF(OR(A7="",B7="",C7="",G7="",H7="",I7="",P7="Canceled"),"",IF(OR(NOT(ISNUMBER(G7)),NOT(ISNUMBER(I7))),"",MAX(G7,IF(AND(A7=A6,B7=B6,ISNUMBER(M6)),M6+IFERROR(IF(ISNUMBER(J7),J7,0)/1440,0),G7)))) | M7: =IF(OR(L7="",NOT(ISNUMBER(L7)),NOT(ISNUMBER(I7))),"",IFERROR(L7+I7/1440,"")) | N7: =IF(OR(A7="",B7="",C7="",G7="",H7="",I7=""),"",IF(P7="Canceled","Not routed",IF(OR(NOT(ISNUMBER(G7)),NOT(ISNUMBER(H7)),NOT(ISNUMBER(M7))),"Review window",IF(OR(H7<G7,M7>H7),"Review window","Within window")))) | O7: =IF(OR(A7="",B7="",C7="",I7=""),"",IF(P7="Canceled","Not routed",IF(OR(NOT(ISNUMBER(C7)),NOT(ISNUMBER(I7))),"Review entries",IF(OR(Assumptions!$B$4="",Assumptions!$B$5="",Assumptions!$B$6="",Assumptions!$B$7=""),"Review limits",IF(OR(I7<Assumptions!$B$4,I7>Assumptions!$B$5),"Review duration",IF(OR(AND(ISNUMBER(J7),J7>Assumptions!$B$6),AND(ISNUMBER(K7),K7>Assumptions!$B$7)),"Review travel",IF(AND(A7=A6,B7=B6),IF(NOT(ISNUMBER(C6)),"Review order",IF(C7<>C6+1,"Review order","Ready")),IF(C7<>1,"Review order","Ready")))))))) | P7: Scheduled | Q7: Use the green harness from the entry bench.
A8: 46275 | B8: Jordan Pike | C8: 1 | D8: FIC-004 | E8: Kite | F8: Maple North | G8: 0.375 | H8: 0.41666667 | I8: 30 | J8: 0 | K8: 0 | L8: =IF(OR(A8="",B8="",C8="",G8="",H8="",I8="",P8="Canceled"),"",IF(OR(NOT(ISNUMBER(G8)),NOT(ISNUMBER(I8))),"",MAX(G8,IF(AND(A8=A7,B8=B7,ISNUMBER(M7)),M7+IFERROR(IF(ISNUMBER(J8),J8,0)/1440,0),G8)))) | M8: =IF(OR(L8="",NOT(ISNUMBER(L8)),NOT(ISNUMBER(I8))),"",IFERROR(L8+I8/1440,"")) | N8: =IF(OR(A8="",B8="",C8="",G8="",H8="",I8=""),"",IF(P8="Canceled","Not routed",IF(OR(NOT(ISNUMBER(G8)),NOT(ISNUMBER(H8)),NOT(ISNUMBER(M8))),"Review window",IF(OR(H8<G8,M8>H8),"Review window","Within window")))) | O8: =IF(OR(A8="",B8="",C8="",I8=""),"",IF(P8="Canceled","Not routed",IF(OR(NOT(ISNUMBER(C8)),NOT(ISNUMBER(I8))),"Review entries",IF(OR(Assumptions!$B$4="",Assumptions!$B$5="",Assumptions!$B$6="",Assumptions!$B$7=""),"Review limits",IF(OR(I8<Assumptions!$B$4,I8>Assumptions!$B$5),"Review duration",IF(OR(AND(ISNUMBER(J8),J8>Assumptions!$B$6),AND(ISNUMBER(K8),K8>Assumptions!$B$7)),"Review travel",IF(AND(A8=A7,B8=B7),IF(NOT(ISNUMBER(C7)),"Review order",IF(C8<>C7+1,"Review order","Ready")),IF(C8<>1,"Review order","Ready")))))))) | P8: Completed | Q8: This visit is for Kite only.
A9: 46275 | B9: Jordan Pike | C9: 2 | D9: FIC-005 | E9: Noodle | F9: Maple North | G9: 0.40625 | H9: 0.4375 | I9: 30 | J9: 20 | K9: 3.8 | L9: =IF(OR(A9="",B9="",C9="",G9="",H9="",I9="",P9="Canceled"),"",IF(OR(NOT(ISNUMBER(G9)),NOT(ISNUMBER(I9))),"",MAX(G9,IF(AND(A9=A8,B9=B8,ISNUMBER(M8)),M8+IFERROR(IF(ISNUMBER(J9),J9,0)/1440,0),G9)))) | M9: =IF(OR(L9="",NOT(ISNUMBER(L9)),NOT(ISNUMBER(I9))),"",IFERROR(L9+I9/1440,"")) | N9: =IF(OR(A9="",B9="",C9="",G9="",H9="",I9=""),"",IF(P9="Canceled","Not routed",IF(OR(NOT(ISNUMBER(G9)),NOT(ISNUMBER(H9)),NOT(ISNUMBER(M9))),"Review window",IF(OR(H9<G9,M9>H9),"Review window","Within window")))) | O9: =IF(OR(A9="",B9="",C9="",I9=""),"",IF(P9="Canceled","Not routed",IF(OR(NOT(ISNUMBER(C9)),NOT(ISNUMBER(I9))),"Review entries",IF(OR(Assumptions!$B$4="",Assumptions!$B$5="",Assumptions!$B$6="",Assumptions!$B$7=""),"Review limits",IF(OR(I9<Assumptions!$B$4,I9>Assumptions!$B$5),"Review duration",IF(OR(AND(ISNUMBER(J9),J9>Assumptions!$B$6),AND(ISNUMBER(K9),K9>Assumptions!$B$7)),"Review travel",IF(AND(A9=A8,B9=B8),IF(NOT(ISNUMBER(C8)),"Review order",IF(C9<>C8+1,"Review order","Ready")),IF(C9<>1,"Review order","Ready")))))))) | P9: Confirmed | Q9: Leash hangs beside the side door.
A10: 46275 | B10: Jordan Pike | C10: 3 | D10: FIC-006 | E10: Pixel | F10: River West | G10: 0.4375 | H10: 0.46875 | I10: 45 | J10: 15 | K10: 4.6 | L10: =IF(OR(A10="",B10="",C10="",G10="",H10="",I10="",P10="Canceled"),"",IF(OR(NOT(ISNUMBER(G10)),NOT(ISNUMBER(I10))),"",MAX(G10,IF(AND(A10=A9,B10=B9,ISNUMBER(M9)),M9+IFERROR(IF(ISNUMBER(J10),J10,0)/1440,0),G10)))) | M10: =IF(OR(L10="",NOT(ISNUMBER(L10)),NOT(ISNUMBER(I10))),"",IFERROR(L10+I10/1440,"")) | N10: =IF(OR(A10="",B10="",C10="",G10="",H10="",I10=""),"",IF(P10="Canceled","Not routed",IF(OR(NOT(ISNUMBER(G10)),NOT(ISNUMBER(H10)),NOT(ISNUMBER(M10))),"Review window",IF(OR(H10<G10,M10>H10),"Review window","Within window")))) | O10: =IF(OR(A10="",B10="",C10="",I10=""),"",IF(P10="Canceled","Not routed",IF(OR(NOT(ISNUMBER(C10)),NOT(ISNUMBER(I10))),"Review entries",IF(OR(Assumptions!$B$4="",Assumptions!$B$5="",Assumptions!$B$6="",Assumptions!$B$7=""),"Review limits",IF(OR(I10<Assumptions!$B$4,I10>Assumptions!$B$5),"Review duration",IF(OR(AND(ISNUMBER(J10),J10>Assumptions!$B$6),AND(ISNUMBER(K10),K10>Assumptions!$B$7)),"Review travel",IF(AND(A10=A9,B10=B9),IF(NOT(ISNUMBER(C9)),"Review order",IF(C10<>C9+1,"Review order","Ready")),IF(C10<>1,"Review order","Ready")))))))) | P10: Scheduled | Q10: No treats requested for this visit.
A11: 46276 | B11: Casey Rowan | C11: 1 | D11: FIC-007 | E11: Riddle | F11: Harbor East | G11: 0.35416667 | H11: 0.39583333 | I11: 60 | J11: 0 | K11: 0 | L11: =IF(OR(A11="",B11="",C11="",G11="",H11="",I11="",P11="Canceled"),"",IF(OR(NOT(ISNUMBER(G11)),NOT(ISNUMBER(I11))),"",MAX(G11,IF(AND(A11=A10,B11=B10,ISNUMBER(M10)),M10+IFERROR(IF(ISNUMBER(J11),J11,0)/1440,0),G11)))) | M11: =IF(OR(L11="",NOT(ISNUMBER(L11)),NOT(ISNUMBER(I11))),"",IFERROR(L11+I11/1440,"")) | N11: =IF(OR(A11="",B11="",C11="",G11="",H11="",I11=""),"",IF(P11="Canceled","Not routed",IF(OR(NOT(ISNUMBER(G11)),NOT(ISNUMBER(H11)),NOT(ISNUMBER(M11))),"Review window",IF(OR(H11<G11,M11>H11),"Review window","Within window")))) | O11: =IF(OR(A11="",B11="",C11="",I11=""),"",IF(P11="Canceled","Not routed",IF(OR(NOT(ISNUMBER(C11)),NOT(ISNUMBER(I11))),"Review entries",IF(OR(Assumptions!$B$4="",Assumptions!$B$5="",Assumptions!$B$6="",Assumptions!$B$7=""),"Review limits",IF(OR(I11<Assumptions!$B$4,I11>Assumptions!$B$5),"Review duration",IF(OR(AND(ISNUMBER(J11),J11>Assumptions!$B$6),AND(ISNUMBER(K11),K11>Assumptions!$B$7)),"Review travel",IF(AND(A11=A10,B11=B10),IF(NOT(ISNUMBER(C10)),"Review order",IF(C11<>C10+1,"Review order","Ready")),IF(C11<>1,"Review order","Ready")))))))) | P11: Completed | Q11: Return key to the labeled lockbox.
A12: 46276 | B12: Casey Rowan | C12: 2 | D12: FIC-008 | E12: Mochi | F12: Harbor East | G12: 0.41666667 | H12: 0.45833333 | I12: 30 | J12: 30 | K12: 12 | L12: =IF(OR(A12="",B12="",C12="",G12="",H12="",I12="",P12="Canceled"),"",IF(OR(NOT(ISNUMBER(G12)),NOT(ISNUMBER(I12))),"",MAX(G12,IF(AND(A12=A11,B12=B11,ISNUMBER(M11)),M11+IFERROR(IF(ISNUMBER(J12),J12,0)/1440,0),G12)))) | M12: =IF(OR(L12="",NOT(ISNUMBER(L12)),NOT(ISNUMBER(I12))),"",IFERROR(L12+I12/1440,"")) | N12: =IF(OR(A12="",B12="",C12="",G12="",H12="",I12=""),"",IF(P12="Canceled","Not routed",IF(OR(NOT(ISNUMBER(G12)),NOT(ISNUMBER(H12)),NOT(ISNUMBER(M12))),"Review window",IF(OR(H12<G12,M12>H12),"Review window","Within window")))) | O12: =IF(OR(A12="",B12="",C12="",I12=""),"",IF(P12="Canceled","Not routed",IF(OR(NOT(ISNUMBER(C12)),NOT(ISNUMBER(I12))),"Review entries",IF(OR(Assumptions!$B$4="",Assumptions!$B$5="",Assumptions!$B$6="",Assumptions!$B$7=""),"Review limits",IF(OR(I12<Assumptions!$B$4,I12>Assumptions!$B$5),"Review duration",IF(OR(AND(ISNUMBER(J12),J12>Assumptions!$B$6),AND(ISNUMBER(K12),K12>Assumptions!$B$7)),"Review travel",IF(AND(A12=A11,B12=B11),IF(NOT(ISNUMBER(C11)),"Review order",IF(C12<>C11+1,"Review order","Ready")),IF(C12<>1,"Review order","Ready")))))))) | P12: Confirmed | Q12: Use the blue leash from the entry shelf.
A13: 46276 | B13: Casey Rowan | C13: 3 | D13: FIC-009 | E13: Tango | F13: River West | G13: 0.45833333 | H13: 0.5 | I13: 30 | J13: 35 | K13: 13 | L13: =IF(OR(A13="",B13="",C13="",G13="",H13="",I13="",P13="Canceled"),"",IF(OR(NOT(ISNUMBER(G13)),NOT(ISNUMBER(I13))),"",MAX(G13,IF(AND(A13=A12,B13=B12,ISNUMBER(M12)),M12+IFERROR(IF(ISNUMBER(J13),J13,0)/1440,0),G13)))) | M13: =IF(OR(L13="",NOT(ISNUMBER(L13)),NOT(ISNUMBER(I13))),"",IFERROR(L13+I13/1440,"")) | N13: =IF(OR(A13="",B13="",C13="",G13="",H13="",I13=""),"",IF(P13="Canceled","Not routed",IF(OR(NOT(ISNUMBER(G13)),NOT(ISNUMBER(H13)),NOT(ISNUMBER(M13))),"Review window",IF(OR(H13<G13,M13>H13),"Review window","Within window")))) | O13: =IF(OR(A13="",B13="",C13="",I13=""),"",IF(P13="Canceled","Not routed",IF(OR(NOT(ISNUMBER(C13)),NOT(ISNUMBER(I13))),"Review entries",IF(OR(Assumptions!$B$4="",Assumptions!$B$5="",Assumptions!$B$6="",Assumptions!$B$7=""),"Review limits",IF(OR(I13<Assumptions!$B$4,I13>Assumptions!$B$5),"Review duration",IF(OR(AND(ISNUMBER(J13),J13>Assumptions!$B$6),AND(ISNUMBER(K13),K13>Assumptions!$B$7)),"Review travel",IF(AND(A13=A12,B13=B12),IF(NOT(ISNUMBER(C12)),"Review order",IF(C13<>C12+1,"Review order","Ready")),IF(C13<>1,"Review order","Ready")))))))) | P13: Scheduled | Q13: Place the leash back on the marked hook.
A14: 46276 | B14: Morgan Vale | C14: 1 | D14: FIC-010 | E14: Waffle | F14: Cedar Loop | G14: 0.54166667 | H14: 0.58333333 | I14: 30 | J14: 0 | K14: 0 | L14: =IF(OR(A14="",B14="",C14="",G14="",H14="",I14="",P14="Canceled"),"",IF(OR(NOT(ISNUMBER(G14)),NOT(ISNUMBER(I14))),"",MAX(G14,IF(AND(A14=A13,B14=B13,ISNUMBER(M13)),M13+IFERROR(IF(ISNUMBER(J14),J14,0)/1440,0),G14)))) | M14: =IF(OR(L14="",NOT(ISNUMBER(L14)),NOT(ISNUMBER(I14))),"",IFERROR(L14+I14/1440,"")) | N14: =IF(OR(A14="",B14="",C14="",G14="",H14="",I14=""),"",IF(P14="Canceled","Not routed",IF(OR(NOT(ISNUMBER(G14)),NOT(ISNUMBER(H14)),NOT(ISNUMBER(M14))),"Review window",IF(OR(H14<G14,M14>H14),"Review window","Within window")))) | O14: =IF(OR(A14="",B14="",C14="",I14=""),"",IF(P14="Canceled","Not routed",IF(OR(NOT(ISNUMBER(C14)),NOT(ISNUMBER(I14))),"Review entries",IF(OR(Assumptions!$B$4="",Assumptions!$B$5="",Assumptions!$B$6="",Assumptions!$B$7=""),"Review limits",IF(OR(I14<Assumptions!$B$4,I14>Assumptions!$B$5),"Review duration",IF(OR(AND(ISNUMBER(J14),J14>Assumptions!$B$6),AND(ISNUMBER(K14),K14>Assumptions!$B$7)),"Review travel",IF(AND(A14=A13,B14=B13),IF(NOT(ISNUMBER(C13)),"Review order",IF(C14<>C13+1,"Review order","Ready")),IF(C14<>1,"Review order","Ready")))))))) | P14: Confirmed | Q14: Use the red leash from the front closet.
A15: 46276 | B15: Morgan Vale | C15: 2 | D15: FIC-011 | E15: Comet | F15: Cedar Loop | G15: 0.58333333 | H15: 0.625 | I15: 30 | J15: 10 | K15: 2.5 | L15: =IF(OR(A15="",B15="",C15="",G15="",H15="",I15="",P15="Canceled"),"",IF(OR(NOT(ISNUMBER(G15)),NOT(ISNUMBER(I15))),"",MAX(G15,IF(AND(A15=A14,B15=B14,ISNUMBER(M14)),M14+IFERROR(IF(ISNUMBER(J15),J15,0)/1440,0),G15)))) | M15: =IF(OR(L15="",NOT(ISNUMBER(L15)),NOT(ISNUMBER(I15))),"",IFERROR(L15+I15/1440,"")) | N15: =IF(OR(A15="",B15="",C15="",G15="",H15="",I15=""),"",IF(P15="Canceled","Not routed",IF(OR(NOT(ISNUMBER(G15)),NOT(ISNUMBER(H15)),NOT(ISNUMBER(M15))),"Review window",IF(OR(H15<G15,M15>H15),"Review window","Within window")))) | O15: =IF(OR(A15="",B15="",C15="",I15=""),"",IF(P15="Canceled","Not routed",IF(OR(NOT(ISNUMBER(C15)),NOT(ISNUMBER(I15))),"Review entries",IF(OR(Assumptions!$B$4="",Assumptions!$B$5="",Assumptions!$B$6="",Assumptions!$B$7=""),"Review limits",IF(OR(I15<Assumptions!$B$4,I15>Assumptions!$B$5),"Review duration",IF(OR(AND(ISNUMBER(J15),J15>Assumptions!$B$6),AND(ISNUMBER(K15),K15>Assumptions!$B$7)),"Review travel",IF(AND(A15=A14,B15=B14),IF(NOT(ISNUMBER(C14)),"Review order",IF(C15<>C14+1,"Review order","Ready")),IF(C15<>1,"Review order","Ready")))))))) | P15: Canceled | Q15: Leave all walking items in place.
L16: =IF(OR(A16="",B16="",C16="",G16="",H16="",I16="",P16="Canceled"),"",IF(OR(NOT(ISNUMBER(G16)),NOT(ISNUMBER(I16))),"",MAX(G16,IF(AND(A16=A15,B16=B15,ISNUMBER(M15)),M15+IFERROR(IF(ISNUMBER(J16),J16,0)/1440,0),G16)))) | M16: =IF(OR(L16="",NOT(ISNUMBER(L16)),NOT(ISNUMBER(I16))),"",IFERROR(L16+I16/1440,"")) | N16: =IF(OR(A16="",B16="",C16="",G16="",H16="",I16=""),"",IF(P16="Canceled","Not routed",IF(OR(NOT(ISNUMBER(G16)),NOT(ISNUMBER(H16)),NOT(ISNUMBER(M16))),"Review window",IF(OR(H16<G16,M16>H16),"Review window","Within window")))) | O16: =IF(OR(A16="",B16="",C16="",I16=""),"",IF(P16="Canceled","Not routed",IF(OR(NOT(ISNUMBER(C16)),NOT(ISNUMBER(I16))),"Review entries",IF(OR(Assumptions!$B$4="",Assumptions!$B$5="",Assumptions!$B$6="",Assumptions!$B$7=""),"Review limits",IF(OR(I16<Assumptions!$B$4,I16>Assumptions!$B$5),"Review duration",IF(OR(AND(ISNUMBER(J16),J16>Assumptions!$B$6),AND(ISNUMBER(K16),K16>Assumptions!$B$7)),"Review travel",IF(AND(A16=A15,B16=B15),IF(NOT(ISNUMBER(C15)),"Review order",IF(C16<>C15+1,"Review order","Ready")),IF(C16<>1,"Review order","Ready"))))))))
L17: =IF(OR(A17="",B17="",C17="",G17="",H17="",I17="",P17="Canceled"),"",IF(OR(NOT(ISNUMBER(G17)),NOT(ISNUMBER(I17))),"",MAX(G17,IF(AND(A17=A16,B17=B16,ISNUMBER(M16)),M16+IFERROR(IF(ISNUMBER(J17),J17,0)/1440,0),G17)))) | M17: =IF(OR(L17="",NOT(ISNUMBER(L17)),NOT(ISNUMBER(I17))),"",IFERROR(L17+I17/1440,"")) | N17: =IF(OR(A17="",B17="",C17="",G17="",H17="",I17=""),"",IF(P17="Canceled","Not routed",IF(OR(NOT(ISNUMBER(G17)),NOT(ISNUMBER(H17)),NOT(ISNUMBER(M17))),"Review window",IF(OR(H17<G17,M17>H17),"Review window","Within window")))) | O17: =IF(OR(A17="",B17="",C17="",I17=""),"",IF(P17="Canceled","Not routed",IF(OR(NOT(ISNUMBER(C17)),NOT(ISNUMBER(I17))),"Review entries",IF(OR(Assumptions!$B$4="",Assumptions!$B$5="",Assumptions!$B$6="",Assumptions!$B$7=""),"Review limits",IF(OR(I17<Assumptions!$B$4,I17>Assumptions!$B$5),"Review duration",IF(OR(AND(ISNUMBER(J17),J17>Assumptions!$B$6),AND(ISNUMBER(K17),K17>Assumptions!$B$7)),"Review travel",IF(AND(A17=A16,B17=B16),IF(NOT(ISNUMBER(C16)),"Review order",IF(C17<>C16+1,"Review order","Ready")),IF(C17<>1,"Review order","Ready"))))))))
L18: =IF(OR(A18="",B18="",C18="",G18="",H18="",I18="",P18="Canceled"),"",IF(OR(NOT(ISNUMBER(G18)),NOT(ISNUMBER(I18))),"",MAX(G18,IF(AND(A18=A17,B18=B17,ISNUMBER(M17)),M17+IFERROR(IF(ISNUMBER(J18),J18,0)/1440,0),G18)))) | M18: =IF(OR(L18="",NOT(ISNUMBER(L18)),NOT(ISNUMBER(I18))),"",IFERROR(L18+I18/1440,"")) | N18: =IF(OR(A18="",B18="",C18="",G18="",H18="",I18=""),"",IF(P18="Canceled","Not routed",IF(OR(NOT(ISNUMBER(G18)),NOT(ISNUMBER(H18)),NOT(ISNUMBER(M18))),"Review window",IF(OR(H18<G18,M18>H18),"Review window","Within window")))) | O18: =IF(OR(A18="",B18="",C18="",I18=""),"",IF(P18="Canceled","Not routed",IF(OR(NOT(ISNUMBER(C18)),NOT(ISNUMBER(I18))),"Review entries",IF(OR(Assumptions!$B$4="",Assumptions!$B$5="",Assumptions!$B$6="",Assumptions!$B$7=""),"Review limits",IF(OR(I18<Assumptions!$B$4,I18>Assumptions!$B$5),"Review duration",IF(OR(AND(ISNUMBER(J18),J18>Assumptions!$B$6),AND(ISNUMBER(K18),K18>Assumptions!$B$7)),"Review travel",IF(AND(A18=A17,B18=B17),IF(NOT(ISNUMBER(C17)),"Review order",IF(C18<>C17+1,"Review order","Ready")),IF(C18<>1,"Review order","Ready"))))))))
L19: =IF(OR(A19="",B19="",C19="",G19="",H19="",I19="",P19="Canceled"),"",IF(OR(NOT(ISNUMBER(G19)),NOT(ISNUMBER(I19))),"",MAX(G19,IF(AND(A19=A18,B19=B18,ISNUMBER(M18)),M18+IFERROR(IF(ISNUMBER(J19),J19,0)/1440,0),G19)))) | M19: =IF(OR(L19="",NOT(ISNUMBER(L19)),NOT(ISNUMBER(I19))),"",IFERROR(L19+I19/1440,"")) | N19: =IF(OR(A19="",B19="",C19="",G19="",H19="",I19=""),"",IF(P19="Canceled","Not routed",IF(OR(NOT(ISNUMBER(G19)),NOT(ISNUMBER(H19)),NOT(ISNUMBER(M19))),"Review window",IF(OR(H19<G19,M19>H19),"Review window","Within window")))) | O19: =IF(OR(A19="",B19="",C19="",I19=""),"",IF(P19="Canceled","Not routed",IF(OR(NOT(ISNUMBER(C19)),NOT(ISNUMBER(I19))),"Review entries",IF(OR(Assumptions!$B$4="",Assumptions!$B$5="",Assumptions!$B$6="",Assumptions!$B$7=""),"Review limits",IF(OR(I19<Assumptions!$B$4,I19>Assumptions!$B$5),"Review duration",IF(OR(AND(ISNUMBER(J19),J19>Assumptions!$B$6),AND(ISNUMBER(K19),K19>Assumptions!$B$7)),"Review travel",IF(AND(A19=A18,B19=B18),IF(NOT(ISNUMBER(C18)),"Review order",IF(C19<>C18+1,"Review order","Ready")),IF(C19<>1,"Review order","Ready"))))))))
L20: =IF(OR(A20="",B20="",C20="",G20="",H20="",I20="",P20="Canceled"),"",IF(OR(NOT(ISNUMBER(G20)),NOT(ISNUMBER(I20))),"",MAX(G20,IF(AND(A20=A19,B20=B19,ISNUMBER(M19)),M19+IFERROR(IF(ISNUMBER(J20),J20,0)/1440,0),G20)))) | M20: =IF(OR(L20="",NOT(ISNUMBER(L20)),NOT(ISNUMBER(I20))),"",IFERROR(L20+I20/1440,"")) | N20: =IF(OR(A20="",B20="",C20="",G20="",H20="",I20=""),"",IF(P20="Canceled","Not routed",IF(OR(NOT(ISNUMBER(G20)),NOT(ISNUMBER(H20)),NOT(ISNUMBER(M20))),"Review window",IF(OR(H20<G20,M20>H20),"Review window","Within window")))) | O20: =IF(OR(A20="",B20="",C20="",I20=""),"",IF(P20="Canceled","Not routed",IF(OR(NOT(ISNUMBER(C20)),NOT(ISNUMBER(I20))),"Review entries",IF(OR(Assumptions!$B$4="",Assumptions!$B$5="",Assumptions!$B$6="",Assumptions!$B$7=""),"Review limits",IF(OR(I20<Assumptions!$B$4,I20>Assumptions!$B$5),"Review duration",IF(OR(AND(ISNUMBER(J20),J20>Assumptions!$B$6),AND(ISNUMBER(K20),K20>Assumptions!$B$7)),"Review travel",IF(AND(A20=A19,B20=B19),IF(NOT(ISNUMBER(C19)),"Review order",IF(C20<>C19+1,"Review order","Ready")),IF(C20<>1,"Review order","Ready"))))))))
L21: =IF(OR(A21="",B21="",C21="",G21="",H21="",I21="",P21="Canceled"),"",IF(OR(NOT(ISNUMBER(G21)),NOT(ISNUMBER(I21))),"",MAX(G21,IF(AND(A21=A20,B21=B20,ISNUMBER(M20)),M20+IFERROR(IF(ISNUMBER(J21),J21,0)/1440,0),G21)))) | M21: =IF(OR(L21="",NOT(ISNUMBER(L21)),NOT(ISNUMBER(I21))),"",IFERROR(L21+I21/1440,"")) | N21: =IF(OR(A21="",B21="",C21="",G21="",H21="",I21=""),"",IF(P21="Canceled","Not routed",IF(OR(NOT(ISNUMBER(G21)),NOT(ISNUMBER(H21)),NOT(ISNUMBER(M21))),"Review window",IF(OR(H21<G21,M21>H21),"Review window","Within window")))) | O21: =IF(OR(A21="",B21="",C21="",I21=""),"",IF(P21="Canceled","Not routed",IF(OR(NOT(ISNUMBER(C21)),NOT(ISNUMBER(I21))),"Review entries",IF(OR(Assumptions!$B$4="",Assumptions!$B$5="",Assumptions!$B$6="",Assumptions!$B$7=""),"Review limits",IF(OR(I21<Assumptions!$B$4,I21>Assumptions!$B$5),"Review duration",IF(OR(AND(ISNUMBER(J21),J21>Assumptions!$B$6),AND(ISNUMBER(K21),K21>Assumptions!$B$7)),"Review travel",IF(AND(A21=A20,B21=B20),IF(NOT(ISNUMBER(C20)),"Review order",IF(C21<>C20+1,"Review order","Ready")),IF(C21<>1,"Review order","Ready"))))))))
L22: =IF(OR(A22="",B22="",C22="",G22="",H22="",I22="",P22="Canceled"),"",IF(OR(NOT(ISNUMBER(G22)),NOT(ISNUMBER(I22))),"",MAX(G22,IF(AND(A22=A21,B22=B21,ISNUMBER(M21)),M21+IFERROR(IF(ISNUMBER(J22),J22,0)/1440,0),G22)))) | M22: =IF(OR(L22="",NOT(ISNUMBER(L22)),NOT(ISNUMBER(I22))),"",IFERROR(L22+I22/1440,"")) | N22: =IF(OR(A22="",B22="",C22="",G22="",H22="",I22=""),"",IF(P22="Canceled","Not routed",IF(OR(NOT(ISNUMBER(G22)),NOT(ISNUMBER(H22)),NOT(ISNUMBER(M22))),"Review window",IF(OR(H22<G22,M22>H22),"Review window","Within window")))) | O22: =IF(OR(A22="",B22="",C22="",I22=""),"",IF(P22="Canceled","Not routed",IF(OR(NOT(ISNUMBER(C22)),NOT(ISNUMBER(I22))),"Review entries",IF(OR(Assumptions!$B$4="",Assumptions!$B$5="",Assumptions!$B$6="",Assumptions!$B$7=""),"Review limits",IF(OR(I22<Assumptions!$B$4,I22>Assumptions!$B$5),"Review duration",IF(OR(AND(ISNUMBER(J22),J22>Assumptions!$B$6),AND(ISNUMBER(K22),K22>Assumptions!$B$7)),"Review travel",IF(AND(A22=A21,B22=B21),IF(NOT(ISNUMBER(C21)),"Review order",IF(C22<>C21+1,"Review order","Ready")),IF(C22<>1,"Review order","Ready"))))))))
L23: =IF(OR(A23="",B23="",C23="",G23="",H23="",I23="",P23="Canceled"),"",IF(OR(NOT(ISNUMBER(G23)),NOT(ISNUMBER(I23))),"",MAX(G23,IF(AND(A23=A22,B23=B22,ISNUMBER(M22)),M22+IFERROR(IF(ISNUMBER(J23),J23,0)/1440,0),G23)))) | M23: =IF(OR(L23="",NOT(ISNUMBER(L23)),NOT(ISNUMBER(I23))),"",IFERROR(L23+I23/1440,"")) | N23: =IF(OR(A23="",B23="",C23="",G23="",H23="",I23=""),"",IF(P23="Canceled","Not routed",IF(OR(NOT(ISNUMBER(G23)),NOT(ISNUMBER(H23)),NOT(ISNUMBER(M23))),"Review window",IF(OR(H23<G23,M23>H23),"Review window","Within window")))) | O23: =IF(OR(A23="",B23="",C23="",I23=""),"",IF(P23="Canceled","Not routed",IF(OR(NOT(ISNUMBER(C23)),NOT(ISNUMBER(I23))),"Review entries",IF(OR(Assumptions!$B$4="",Assumptions!$B$5="",Assumptions!$B$6="",Assumptions!$B$7=""),"Review limits",IF(OR(I23<Assumptions!$B$4,I23>Assumptions!$B$5),"Review duration",IF(OR(AND(ISNUMBER(J23),J23>Assumptions!$B$6),AND(ISNUMBER(K23),K23>Assumptions!$B$7)),"Review travel",IF(AND(A23=A22,B23=B22),IF(NOT(ISNUMBER(C22)),"Review order",IF(C23<>C22+1,"Review order","Ready")),IF(C23<>1,"Review order","Ready"))))))))
L24: =IF(OR(A24="",B24="",C24="",G24="",H24="",I24="",P24="Canceled"),"",IF(OR(NOT(ISNUMBER(G24)),NOT(ISNUMBER(I24))),"",MAX(G24,IF(AND(A24=A23,B24=B23,ISNUMBER(M23)),M23+IFERROR(IF(ISNUMBER(J24),J24,0)/1440,0),G24)))) | M24: =IF(OR(L24="",NOT(ISNUMBER(L24)),NOT(ISNUMBER(I24))),"",IFERROR(L24+I24/1440,"")) | N24: =IF(OR(A24="",B24="",C24="",G24="",H24="",I24=""),"",IF(P24="Canceled","Not routed",IF(OR(NOT(ISNUMBER(G24)),NOT(ISNUMBER(H24)),NOT(ISNUMBER(M24))),"Review window",IF(OR(H24<G24,M24>H24),"Review window","Within window")))) | O24: =IF(OR(A24="",B24="",C24="",I24=""),"",IF(P24="Canceled","Not routed",IF(OR(NOT(ISNUMBER(C24)),NOT(ISNUMBER(I24))),"Review entries",IF(OR(Assumptions!$B$4="",Assumptions!$B$5="",Assumptions!$B$6="",Assumptions!$B$7=""),"Review limits",IF(OR(I24<Assumptions!$B$4,I24>Assumptions!$B$5),"Review duration",IF(OR(AND(ISNUMBER(J24),J24>Assumptions!$B$6),AND(ISNUMBER(K24),K24>Assumptions!$B$7)),"Review travel",IF(AND(A24=A23,B24=B23),IF(NOT(ISNUMBER(C23)),"Review order",IF(C24<>C23+1,"Review order","Ready")),IF(C24<>1,"Review order","Ready"))))))))
L25: =IF(OR(A25="",B25="",C25="",G25="",H25="",I25="",P25="Canceled"),"",IF(OR(NOT(ISNUMBER(G25)),NOT(ISNUMBER(I25))),"",MAX(G25,IF(AND(A25=A24,B25=B24,ISNUMBER(M24)),M24+IFERROR(IF(ISNUMBER(J25),J25,0)/1440,0),G25)))) | M25: =IF(OR(L25="",NOT(ISNUMBER(L25)),NOT(ISNUMBER(I25))),"",IFERROR(L25+I25/1440,"")) | N25: =IF(OR(A25="",B25="",C25="",G25="",H25="",I25=""),"",IF(P25="Canceled","Not routed",IF(OR(NOT(ISNUMBER(G25)),NOT(ISNUMBER(H25)),NOT(ISNUMBER(M25))),"Review window",IF(OR(H25<G25,M25>H25),"Review window","Within window")))) | O25: =IF(OR(A25="",B25="",C25="",I25=""),"",IF(P25="Canceled","Not routed",IF(OR(NOT(ISNUMBER(C25)),NOT(ISNUMBER(I25))),"Review entries",IF(OR(Assumptions!$B$4="",Assumptions!$B$5="",Assumptions!$B$6="",Assumptions!$B$7=""),"Review limits",IF(OR(I25<Assumptions!$B$4,I25>Assumptions!$B$5),"Review duration",IF(OR(AND(ISNUMBER(J25),J25>Assumptions!$B$6),AND(ISNUMBER(K25),K25>Assumptions!$B$7)),"Review travel",IF(AND(A25=A24,B25=B24),IF(NOT(ISNUMBER(C24)),"Review order",IF(C25<>C24+1,"Review order","Ready")),IF(C25<>1,"Review order","Ready"))))))))
L26: =IF(OR(A26="",B26="",C26="",G26="",H26="",I26="",P26="Canceled"),"",IF(OR(NOT(ISNUMBER(G26)),NOT(ISNUMBER(I26))),"",MAX(G26,IF(AND(A26=A25,B26=B25,ISNUMBER(M25)),M25+IFERROR(IF(ISNUMBER(J26),J26,0)/1440,0),G26)))) | M26: =IF(OR(L26="",NOT(ISNUMBER(L26)),NOT(ISNUMBER(I26))),"",IFERROR(L26+I26/1440,"")) | N26: =IF(OR(A26="",B26="",C26="",G26="",H26="",I26=""),"",IF(P26="Canceled","Not routed",IF(OR(NOT(ISNUMBER(G26)),NOT(ISNUMBER(H26)),NOT(ISNUMBER(M26))),"Review window",IF(OR(H26<G26,M26>H26),"Review window","Within window")))) | O26: =IF(OR(A26="",B26="",C26="",I26=""),"",IF(P26="Canceled","Not routed",IF(OR(NOT(ISNUMBER(C26)),NOT(ISNUMBER(I26))),"Review entries",IF(OR(Assumptions!$B$4="",Assumptions!$B$5="",Assumptions!$B$6="",Assumptions!$B$7=""),"Review limits",IF(OR(I26<Assumptions!$B$4,I26>Assumptions!$B$5),"Review duration",IF(OR(AND(ISNUMBER(J26),J26>Assumptions!$B$6),AND(ISNUMBER(K26),K26>Assumptions!$B$7)),"Review travel",IF(AND(A26=A25,B26=B25),IF(NOT(ISNUMBER(C25)),"Review order",IF(C26<>C25+1,"Review order","Ready")),IF(C26<>1,"Review order","Ready"))))))))
L27: =IF(OR(A27="",B27="",C27="",G27="",H27="",I27="",P27="Canceled"),"",IF(OR(NOT(ISNUMBER(G27)),NOT(ISNUMBER(I27))),"",MAX(G27,IF(AND(A27=A26,B27=B26,ISNUMBER(M26)),M26+IFERROR(IF(ISNUMBER(J27),J27,0)/1440,0),G27)))) | M27: =IF(OR(L27="",NOT(ISNUMBER(L27)),NOT(ISNUMBER(I27))),"",IFERROR(L27+I27/1440,"")) | N27: =IF(OR(A27="",B27="",C27="",G27="",H27="",I27=""),"",IF(P27="Canceled","Not routed",IF(OR(NOT(ISNUMBER(G27)),NOT(ISNUMBER(H27)),NOT(ISNUMBER(M27))),"Review window",IF(OR(H27<G27,M27>H27),"Review window","Within window")))) | O27: =IF(OR(A27="",B27="",C27="",I27=""),"",IF(P27="Canceled","Not routed",IF(OR(NOT(ISNUMBER(C27)),NOT(ISNUMBER(I27))),"Review entries",IF(OR(Assumptions!$B$4="",Assumptions!$B$5="",Assumptions!$B$6="",Assumptions!$B$7=""),"Review limits",IF(OR(I27<Assumptions!$B$4,I27>Assumptions!$B$5),"Review duration",IF(OR(AND(ISNUMBER(J27),J27>Assumptions!$B$6),AND(ISNUMBER(K27),K27>Assumptions!$B$7)),"Review travel",IF(AND(A27=A26,B27=B26),IF(NOT(ISNUMBER(C26)),"Review order",IF(C27<>C26+1,"Review order","Ready")),IF(C27<>1,"Review order","Ready"))))))))
... L104: =IF(OR(A104="",B104="",C104="",G104="",H104="",I104="",P104="Canceled"),"",IF(OR(NOT(ISNUMBER(G104)),NOT(ISNUMBER(I104))),"",MAX(G104,IF(AND(A104=A103,B104=B103,ISNUMBER(M103)),M103+IFERROR(IF(ISNUMBER(J104),J104,0)/1440,0),G104)))) | M104: =IF(OR(L104="",NOT(ISNUMBER(L104)),NOT(ISNUMBER(I104))),"",IFERROR(L104+I104/1440,"")) | N104: =IF(OR(A104="",B104="",C104="",G104="",H104="",I104=""),"",IF(P104="Canceled","Not routed",IF(OR(NOT(ISNUMBER(G104)),NOT(ISNUMBER(H104)),NOT(ISNUMBER(M104))),"Review window",IF(OR(H104<G104,M104>H104),"Review window","Within window")))) | O104: =IF(OR(A104="",B104="",C104="",I104=""),"",IF(P104="Canceled","Not routed",IF(OR(NOT(ISNUMBER(C104)),NOT(ISNUMBER(I104))),"Review entries",IF(OR(Assumptions!$B$4="",Assumptions!$B$5="",Assumptions!$B$6="",Assumptions!$B$7=""),"Review limits",IF(OR(I104<Assumptions!$B$4,I104>Assumptions!$B$5),"Review duration",IF(OR(AND(ISNUMBER(J104),J104>Assumptions!$B$6),AND(ISNUMBER(K104),K104>Assumptions!$B$7)),"Review travel",IF(AND(A104=A103,B104=B103),IF(NOT(ISNUMBER(C103)),"Review order",IF(C104<>C103+1,"Review order","Ready")),IF(C104<>1,"Review order","Ready"))))))))

Sheet Assumptions
A1: Route Assumptions and Editable Lists
A2: Yellow cells are editable. Limits are planning guides only; review unusual routes before assignment.
A3: Setting | B3: Value | D3: Walker Choices | E3: Summary Walker Choices | F3: Status Choices | G3: Area Choices
A4: Minimum walk minutes | B4: 15 | D4: Avery Lane | E4: All | F4: Scheduled | G4: Cedar Loop
A5: Maximum walk minutes | B5: 60 | D5: Jordan Pike | E5: Avery Lane | F5: Confirmed | G5: Harbor East
A6: Review travel minutes over | B6: 30 | D6: Casey Rowan | E6: Jordan Pike | F6: Completed | G6: Maple North
A7: Review travel miles over | B7: 12 | D7: Morgan Vale | E7: Casey Rowan | F7: Canceled | G7: River West
A8: Review daily route hours over | B8: 6 | E8: Morgan Vale
A9: Summary date | B9: 46275
A10: Summary walker | B10: All
A11: Earliest route date | B11: 46244
A12: Latest route date | B12: 46639
