Workbook

Sheet Summary
A1: Dog Walking Schedule Summary
A2: Calculated from the recurring assignments and fictional sample records in this workbook.
A4: Active weekly assignments | C4: Scheduled hours per week | E4: Schedule alerts | G4: Pet record alerts
A5: =COUNTIF(Schedule!$K$6:$K$105,"Active") | C5: =IFERROR(SUMIF(Schedule!$K$6:$K$105,"Active",Schedule!$H$6:$H$105),0) | E5: =COUNTIF(Schedule!$M$6:$M$105,"CHECK*") | G5: =COUNTIFS(Schedule!$N$6:$N$105,"<>OK",Schedule!$N$6:$N$105,"<>")
A8: Schedule status | B8: Rows
A9: Active | B9: =COUNTIF(Schedule!$K$6:$K$105,A9)
A10: Paused | B10: =COUNTIF(Schedule!$K$6:$K$105,A10)
A11: Ended | B11: =COUNTIF(Schedule!$K$6:$K$105,A11)
A14: Weekday | B14: Active walks | C14: Hours
A15: Monday | B15: =COUNTIFS(Schedule!$K$6:$K$105,"Active",Schedule!$E$6:$E$105,A15) | C15: =IFERROR(SUMIFS(Schedule!$H$6:$H$105,Schedule!$K$6:$K$105,"Active",Schedule!$E$6:$E$105,A15),0)
A16: Tuesday | B16: =COUNTIFS(Schedule!$K$6:$K$105,"Active",Schedule!$E$6:$E$105,A16) | C16: =IFERROR(SUMIFS(Schedule!$H$6:$H$105,Schedule!$K$6:$K$105,"Active",Schedule!$E$6:$E$105,A16),0)
A17: Wednesday | B17: =COUNTIFS(Schedule!$K$6:$K$105,"Active",Schedule!$E$6:$E$105,A17) | C17: =IFERROR(SUMIFS(Schedule!$H$6:$H$105,Schedule!$K$6:$K$105,"Active",Schedule!$E$6:$E$105,A17),0)
A18: Thursday | B18: =COUNTIFS(Schedule!$K$6:$K$105,"Active",Schedule!$E$6:$E$105,A18) | C18: =IFERROR(SUMIFS(Schedule!$H$6:$H$105,Schedule!$K$6:$K$105,"Active",Schedule!$E$6:$E$105,A18),0)
A19: Friday | B19: =COUNTIFS(Schedule!$K$6:$K$105,"Active",Schedule!$E$6:$E$105,A19) | C19: =IFERROR(SUMIFS(Schedule!$H$6:$H$105,Schedule!$K$6:$K$105,"Active",Schedule!$E$6:$E$105,A19),0)
A20: Saturday | B20: =COUNTIFS(Schedule!$K$6:$K$105,"Active",Schedule!$E$6:$E$105,A20) | C20: =IFERROR(SUMIFS(Schedule!$H$6:$H$105,Schedule!$K$6:$K$105,"Active",Schedule!$E$6:$E$105,A20),0)
A21: Sunday | B21: =COUNTIFS(Schedule!$K$6:$K$105,"Active",Schedule!$E$6:$E$105,A21) | C21: =IFERROR(SUMIFS(Schedule!$H$6:$H$105,Schedule!$K$6:$K$105,"Active",Schedule!$E$6:$E$105,A21),0)
A23: Schedule alerts identify rows that need a person to review timing, assignments, or planning limits.

Sheet Schedule
A1: Recurring Dog Walking Schedule
A2: Enter one weekly recurring assignment per row. Yellow cells are editable; check flags require human review.
A3: Time conflicts require the same weekday, overlapping time windows, and overlapping effective dates.
A5: Schedule ID | B5: Pet ID | C5: Pet Name | D5: Assigned Walker | E5: Weekday | F5: Window Start | G5: Window End | H5: Duration Hours | I5: Effective Start | J5: Effective End | K5: Status | L5: Route or Access Note | M5: Schedule Check | N5: Pet Record Check
A6: SCH-001 | B6: PET-001 | C6: =IF($B6="","",IFERROR(VLOOKUP($B6,Pets!$A$6:$D$105,2,FALSE),"NOT FOUND")) | D6: Avery Fiction | E6: Monday | F6: 0.375 | G6: 0.39583333 | H6: =IF(OR($F6="",$G6=""),"",IF($G6<=$F6,"",($G6-$F6)*24)) | I6: 46266 | J6: 46387 | K6: Active | L6: Meet at the front gate; owner says the leash is in the entry bin. | M6: =IF($A6="","",IF($K6<>"Active","NOT ACTIVE",IF(OR($B6="",$D6="",$E6="",$F6="",$G6="",$I6="",$J6=""),"CHECK REQUIRED FIELDS",IF(OR($G6<=$F6,$J6<$I6),"CHECK TIME OR DATES",IF(OR($H6<Assumptions!$B$5,$H6>Assumptions!$B$6),"CHECK DURATION",IF(COUNTIF($A$6:$A$105,$A6)>1,"CHECK DUPLICATE ID",IF(AND(COUNTIFS($K$6:$K$105,"Active",$D$6:$D$105,$D6,$E$6:$E$105,$E6,$F$6:$F$105,"<"&$G6,$G$6:$G$105,">"&$F6,$I$6:$I$105,"<="&$J6,$J$6:$J$105,">="&$I6)>1,COUNTIFS($K$6:$K$105,"Active",$B$6:$B$105,$B6,$E$6:$E$105,$E6,$F$6:$F$105,"<"&$G6,$G$6:$G$105,">"&$F6,$I$6:$I$105,"<="&$J6,$J$6:$J$105,">="&$I6)>1),"CHECK WALKER + PET",IF(COUNTIFS($K$6:$K$105,"Active",$D$6:$D$105,$D6,$E$6:$E$105,$E6,$F$6:$F$105,"<"&$G6,$G$6:$G$105,">"&$F6,$I$6:$I$105,"<="&$J6,$J$6:$J$105,">="&$I6)>1,"CHECK WALKER",IF(COUNTIFS($K$6:$K$105,"Active",$B$6:$B$105,$B6,$E$6:$E$105,$E6,$F$6:$F$105,"<"&$G6,$G$6:$G$105,">"&$F6,$I$6:$I$105,"<="&$J6,$J$6:$J$105,">="&$I6)>1,"CHECK PET",IF(SUMIFS($H$6:$H$105,$K$6:$K$105,"Active",$D$6:$D$105,$D6,$E$6:$E$105,$E6)>Assumptions!$B$4,"CHECK DAY HOURS","OK")))))))))) | N6: =IF($A6="","",IF($B6="","CHECK PET ID",IF(COUNTIF(Pets!$A$6:$A$105,$B6)=0,"PET NOT FOUND",IF(COUNTIF(Pets!$A$6:$A$105,$B6)>1,"CHECK PET ID",IF(IFERROR(VLOOKUP($B6,Pets!$A$6:$D$105,4,FALSE),"")<>"Active","CHECK PET STATUS","OK")))))
A7: SCH-002 | B7: PET-002 | C7: =IF($B7="","",IFERROR(VLOOKUP($B7,Pets!$A$6:$D$105,2,FALSE),"NOT FOUND")) | D7: Avery Fiction | E7: Monday | F7: 0.38541667 | G7: 0.40625 | H7: =IF(OR($F7="",$G7=""),"",IF($G7<=$F7,"",($G7-$F7)*24)) | I7: 46266 | J7: 46387 | K7: Active | L7: Use the marked guest parking space. | M7: =IF($A7="","",IF($K7<>"Active","NOT ACTIVE",IF(OR($B7="",$D7="",$E7="",$F7="",$G7="",$I7="",$J7=""),"CHECK REQUIRED FIELDS",IF(OR($G7<=$F7,$J7<$I7),"CHECK TIME OR DATES",IF(OR($H7<Assumptions!$B$5,$H7>Assumptions!$B$6),"CHECK DURATION",IF(COUNTIF($A$6:$A$105,$A7)>1,"CHECK DUPLICATE ID",IF(AND(COUNTIFS($K$6:$K$105,"Active",$D$6:$D$105,$D7,$E$6:$E$105,$E7,$F$6:$F$105,"<"&$G7,$G$6:$G$105,">"&$F7,$I$6:$I$105,"<="&$J7,$J$6:$J$105,">="&$I7)>1,COUNTIFS($K$6:$K$105,"Active",$B$6:$B$105,$B7,$E$6:$E$105,$E7,$F$6:$F$105,"<"&$G7,$G$6:$G$105,">"&$F7,$I$6:$I$105,"<="&$J7,$J$6:$J$105,">="&$I7)>1),"CHECK WALKER + PET",IF(COUNTIFS($K$6:$K$105,"Active",$D$6:$D$105,$D7,$E$6:$E$105,$E7,$F$6:$F$105,"<"&$G7,$G$6:$G$105,">"&$F7,$I$6:$I$105,"<="&$J7,$J$6:$J$105,">="&$I7)>1,"CHECK WALKER",IF(COUNTIFS($K$6:$K$105,"Active",$B$6:$B$105,$B7,$E$6:$E$105,$E7,$F$6:$F$105,"<"&$G7,$G$6:$G$105,">"&$F7,$I$6:$I$105,"<="&$J7,$J$6:$J$105,">="&$I7)>1,"CHECK PET",IF(SUMIFS($H$6:$H$105,$K$6:$K$105,"Active",$D$6:$D$105,$D7,$E$6:$E$105,$E7)>Assumptions!$B$4,"CHECK DAY HOURS","OK")))))))))) | N7: =IF($A7="","",IF($B7="","CHECK PET ID",IF(COUNTIF(Pets!$A$6:$A$105,$B7)=0,"PET NOT FOUND",IF(COUNTIF(Pets!$A$6:$A$105,$B7)>1,"CHECK PET ID",IF(IFERROR(VLOOKUP($B7,Pets!$A$6:$D$105,4,FALSE),"")<>"Active","CHECK PET STATUS","OK")))))
A8: SCH-003 | B8: PET-003 | C8: =IF($B8="","",IFERROR(VLOOKUP($B8,Pets!$A$6:$D$105,2,FALSE),"NOT FOUND")) | D8: Morgan Sample | E8: Monday | F8: 0.38194444 | G8: 0.40277778 | H8: =IF(OR($F8="",$G8=""),"",IF($G8<=$F8,"",($G8-$F8)*24)) | I8: 46266 | J8: 46387 | K8: Active | L8: Owner requests the shaded neighborhood loop. | M8: =IF($A8="","",IF($K8<>"Active","NOT ACTIVE",IF(OR($B8="",$D8="",$E8="",$F8="",$G8="",$I8="",$J8=""),"CHECK REQUIRED FIELDS",IF(OR($G8<=$F8,$J8<$I8),"CHECK TIME OR DATES",IF(OR($H8<Assumptions!$B$5,$H8>Assumptions!$B$6),"CHECK DURATION",IF(COUNTIF($A$6:$A$105,$A8)>1,"CHECK DUPLICATE ID",IF(AND(COUNTIFS($K$6:$K$105,"Active",$D$6:$D$105,$D8,$E$6:$E$105,$E8,$F$6:$F$105,"<"&$G8,$G$6:$G$105,">"&$F8,$I$6:$I$105,"<="&$J8,$J$6:$J$105,">="&$I8)>1,COUNTIFS($K$6:$K$105,"Active",$B$6:$B$105,$B8,$E$6:$E$105,$E8,$F$6:$F$105,"<"&$G8,$G$6:$G$105,">"&$F8,$I$6:$I$105,"<="&$J8,$J$6:$J$105,">="&$I8)>1),"CHECK WALKER + PET",IF(COUNTIFS($K$6:$K$105,"Active",$D$6:$D$105,$D8,$E$6:$E$105,$E8,$F$6:$F$105,"<"&$G8,$G$6:$G$105,">"&$F8,$I$6:$I$105,"<="&$J8,$J$6:$J$105,">="&$I8)>1,"CHECK WALKER",IF(COUNTIFS($K$6:$K$105,"Active",$B$6:$B$105,$B8,$E$6:$E$105,$E8,$F$6:$F$105,"<"&$G8,$G$6:$G$105,">"&$F8,$I$6:$I$105,"<="&$J8,$J$6:$J$105,">="&$I8)>1,"CHECK PET",IF(SUMIFS($H$6:$H$105,$K$6:$K$105,"Active",$D$6:$D$105,$D8,$E$6:$E$105,$E8)>Assumptions!$B$4,"CHECK DAY HOURS","OK")))))))))) | N8: =IF($A8="","",IF($B8="","CHECK PET ID",IF(COUNTIF(Pets!$A$6:$A$105,$B8)=0,"PET NOT FOUND",IF(COUNTIF(Pets!$A$6:$A$105,$B8)>1,"CHECK PET ID",IF(IFERROR(VLOOKUP($B8,Pets!$A$6:$D$105,4,FALSE),"")<>"Active","CHECK PET STATUS","OK")))))
A9: SCH-004 | B9: PET-001 | C9: =IF($B9="","",IFERROR(VLOOKUP($B9,Pets!$A$6:$D$105,2,FALSE),"NOT FOUND")) | D9: Morgan Sample | E9: Monday | F9: 0.38888889 | G9: 0.40972222 | H9: =IF(OR($F9="",$G9=""),"",IF($G9<=$F9,"",($G9-$F9)*24)) | I9: 46266 | J9: 46387 | K9: Active | L9: Return the leash to the entry bin. | M9: =IF($A9="","",IF($K9<>"Active","NOT ACTIVE",IF(OR($B9="",$D9="",$E9="",$F9="",$G9="",$I9="",$J9=""),"CHECK REQUIRED FIELDS",IF(OR($G9<=$F9,$J9<$I9),"CHECK TIME OR DATES",IF(OR($H9<Assumptions!$B$5,$H9>Assumptions!$B$6),"CHECK DURATION",IF(COUNTIF($A$6:$A$105,$A9)>1,"CHECK DUPLICATE ID",IF(AND(COUNTIFS($K$6:$K$105,"Active",$D$6:$D$105,$D9,$E$6:$E$105,$E9,$F$6:$F$105,"<"&$G9,$G$6:$G$105,">"&$F9,$I$6:$I$105,"<="&$J9,$J$6:$J$105,">="&$I9)>1,COUNTIFS($K$6:$K$105,"Active",$B$6:$B$105,$B9,$E$6:$E$105,$E9,$F$6:$F$105,"<"&$G9,$G$6:$G$105,">"&$F9,$I$6:$I$105,"<="&$J9,$J$6:$J$105,">="&$I9)>1),"CHECK WALKER + PET",IF(COUNTIFS($K$6:$K$105,"Active",$D$6:$D$105,$D9,$E$6:$E$105,$E9,$F$6:$F$105,"<"&$G9,$G$6:$G$105,">"&$F9,$I$6:$I$105,"<="&$J9,$J$6:$J$105,">="&$I9)>1,"CHECK WALKER",IF(COUNTIFS($K$6:$K$105,"Active",$B$6:$B$105,$B9,$E$6:$E$105,$E9,$F$6:$F$105,"<"&$G9,$G$6:$G$105,">"&$F9,$I$6:$I$105,"<="&$J9,$J$6:$J$105,">="&$I9)>1,"CHECK PET",IF(SUMIFS($H$6:$H$105,$K$6:$K$105,"Active",$D$6:$D$105,$D9,$E$6:$E$105,$E9)>Assumptions!$B$4,"CHECK DAY HOURS","OK")))))))))) | N9: =IF($A9="","",IF($B9="","CHECK PET ID",IF(COUNTIF(Pets!$A$6:$A$105,$B9)=0,"PET NOT FOUND",IF(COUNTIF(Pets!$A$6:$A$105,$B9)>1,"CHECK PET ID",IF(IFERROR(VLOOKUP($B9,Pets!$A$6:$D$105,4,FALSE),"")<>"Active","CHECK PET STATUS","OK")))))
A10: SCH-005 | B10: PET-004 | C10: =IF($B10="","",IFERROR(VLOOKUP($B10,Pets!$A$6:$D$105,2,FALSE),"NOT FOUND")) | D10: Riley Example | E10: Tuesday | F10: 0.5 | G10: 0.54166667 | H10: =IF(OR($F10="",$G10=""),"",IF($G10<=$F10,"",($G10-$F10)*24)) | I10: 46266 | J10: 46477 | K10: Active | L10: Use the side gate noted by the fictional owner. | M10: =IF($A10="","",IF($K10<>"Active","NOT ACTIVE",IF(OR($B10="",$D10="",$E10="",$F10="",$G10="",$I10="",$J10=""),"CHECK REQUIRED FIELDS",IF(OR($G10<=$F10,$J10<$I10),"CHECK TIME OR DATES",IF(OR($H10<Assumptions!$B$5,$H10>Assumptions!$B$6),"CHECK DURATION",IF(COUNTIF($A$6:$A$105,$A10)>1,"CHECK DUPLICATE ID",IF(AND(COUNTIFS($K$6:$K$105,"Active",$D$6:$D$105,$D10,$E$6:$E$105,$E10,$F$6:$F$105,"<"&$G10,$G$6:$G$105,">"&$F10,$I$6:$I$105,"<="&$J10,$J$6:$J$105,">="&$I10)>1,COUNTIFS($K$6:$K$105,"Active",$B$6:$B$105,$B10,$E$6:$E$105,$E10,$F$6:$F$105,"<"&$G10,$G$6:$G$105,">"&$F10,$I$6:$I$105,"<="&$J10,$J$6:$J$105,">="&$I10)>1),"CHECK WALKER + PET",IF(COUNTIFS($K$6:$K$105,"Active",$D$6:$D$105,$D10,$E$6:$E$105,$E10,$F$6:$F$105,"<"&$G10,$G$6:$G$105,">"&$F10,$I$6:$I$105,"<="&$J10,$J$6:$J$105,">="&$I10)>1,"CHECK WALKER",IF(COUNTIFS($K$6:$K$105,"Active",$B$6:$B$105,$B10,$E$6:$E$105,$E10,$F$6:$F$105,"<"&$G10,$G$6:$G$105,">"&$F10,$I$6:$I$105,"<="&$J10,$J$6:$J$105,">="&$I10)>1,"CHECK PET",IF(SUMIFS($H$6:$H$105,$K$6:$K$105,"Active",$D$6:$D$105,$D10,$E$6:$E$105,$E10)>Assumptions!$B$4,"CHECK DAY HOURS","OK")))))))))) | N10: =IF($A10="","",IF($B10="","CHECK PET ID",IF(COUNTIF(Pets!$A$6:$A$105,$B10)=0,"PET NOT FOUND",IF(COUNTIF(Pets!$A$6:$A$105,$B10)>1,"CHECK PET ID",IF(IFERROR(VLOOKUP($B10,Pets!$A$6:$D$105,4,FALSE),"")<>"Active","CHECK PET STATUS","OK")))))
A11: SCH-006 | B11: PET-005 | C11: =IF($B11="","",IFERROR(VLOOKUP($B11,Pets!$A$6:$D$105,2,FALSE),"NOT FOUND")) | D11: Riley Example | E11: Tuesday | F11: 0.54166667 | G11: 0.58333333 | H11: =IF(OR($F11="",$G11=""),"",IF($G11<=$F11,"",($G11-$F11)*24)) | I11: 46266 | J11: 46477 | K11: Active | L11: Building desk has the fictional visit note. | M11: =IF($A11="","",IF($K11<>"Active","NOT ACTIVE",IF(OR($B11="",$D11="",$E11="",$F11="",$G11="",$I11="",$J11=""),"CHECK REQUIRED FIELDS",IF(OR($G11<=$F11,$J11<$I11),"CHECK TIME OR DATES",IF(OR($H11<Assumptions!$B$5,$H11>Assumptions!$B$6),"CHECK DURATION",IF(COUNTIF($A$6:$A$105,$A11)>1,"CHECK DUPLICATE ID",IF(AND(COUNTIFS($K$6:$K$105,"Active",$D$6:$D$105,$D11,$E$6:$E$105,$E11,$F$6:$F$105,"<"&$G11,$G$6:$G$105,">"&$F11,$I$6:$I$105,"<="&$J11,$J$6:$J$105,">="&$I11)>1,COUNTIFS($K$6:$K$105,"Active",$B$6:$B$105,$B11,$E$6:$E$105,$E11,$F$6:$F$105,"<"&$G11,$G$6:$G$105,">"&$F11,$I$6:$I$105,"<="&$J11,$J$6:$J$105,">="&$I11)>1),"CHECK WALKER + PET",IF(COUNTIFS($K$6:$K$105,"Active",$D$6:$D$105,$D11,$E$6:$E$105,$E11,$F$6:$F$105,"<"&$G11,$G$6:$G$105,">"&$F11,$I$6:$I$105,"<="&$J11,$J$6:$J$105,">="&$I11)>1,"CHECK WALKER",IF(COUNTIFS($K$6:$K$105,"Active",$B$6:$B$105,$B11,$E$6:$E$105,$E11,$F$6:$F$105,"<"&$G11,$G$6:$G$105,">"&$F11,$I$6:$I$105,"<="&$J11,$J$6:$J$105,">="&$I11)>1,"CHECK PET",IF(SUMIFS($H$6:$H$105,$K$6:$K$105,"Active",$D$6:$D$105,$D11,$E$6:$E$105,$E11)>Assumptions!$B$4,"CHECK DAY HOURS","OK")))))))))) | N11: =IF($A11="","",IF($B11="","CHECK PET ID",IF(COUNTIF(Pets!$A$6:$A$105,$B11)=0,"PET NOT FOUND",IF(COUNTIF(Pets!$A$6:$A$105,$B11)>1,"CHECK PET ID",IF(IFERROR(VLOOKUP($B11,Pets!$A$6:$D$105,4,FALSE),"")<>"Active","CHECK PET STATUS","OK")))))
A12: SCH-007 | B12: PET-006 | C12: =IF($B12="","",IFERROR(VLOOKUP($B12,Pets!$A$6:$D$105,2,FALSE),"NOT FOUND")) | D12: Casey Demo | E12: Wednesday | F12: 0.29166667 | G12: 0.375 | H12: =IF(OR($F12="",$G12=""),"",IF($G12<=$F12,"",($G12-$F12)*24)) | I12: 46266 | J12: 46356 | K12: Active | L12: Two-hour planning boundary example. | M12: =IF($A12="","",IF($K12<>"Active","NOT ACTIVE",IF(OR($B12="",$D12="",$E12="",$F12="",$G12="",$I12="",$J12=""),"CHECK REQUIRED FIELDS",IF(OR($G12<=$F12,$J12<$I12),"CHECK TIME OR DATES",IF(OR($H12<Assumptions!$B$5,$H12>Assumptions!$B$6),"CHECK DURATION",IF(COUNTIF($A$6:$A$105,$A12)>1,"CHECK DUPLICATE ID",IF(AND(COUNTIFS($K$6:$K$105,"Active",$D$6:$D$105,$D12,$E$6:$E$105,$E12,$F$6:$F$105,"<"&$G12,$G$6:$G$105,">"&$F12,$I$6:$I$105,"<="&$J12,$J$6:$J$105,">="&$I12)>1,COUNTIFS($K$6:$K$105,"Active",$B$6:$B$105,$B12,$E$6:$E$105,$E12,$F$6:$F$105,"<"&$G12,$G$6:$G$105,">"&$F12,$I$6:$I$105,"<="&$J12,$J$6:$J$105,">="&$I12)>1),"CHECK WALKER + PET",IF(COUNTIFS($K$6:$K$105,"Active",$D$6:$D$105,$D12,$E$6:$E$105,$E12,$F$6:$F$105,"<"&$G12,$G$6:$G$105,">"&$F12,$I$6:$I$105,"<="&$J12,$J$6:$J$105,">="&$I12)>1,"CHECK WALKER",IF(COUNTIFS($K$6:$K$105,"Active",$B$6:$B$105,$B12,$E$6:$E$105,$E12,$F$6:$F$105,"<"&$G12,$G$6:$G$105,">"&$F12,$I$6:$I$105,"<="&$J12,$J$6:$J$105,">="&$I12)>1,"CHECK PET",IF(SUMIFS($H$6:$H$105,$K$6:$K$105,"Active",$D$6:$D$105,$D12,$E$6:$E$105,$E12)>Assumptions!$B$4,"CHECK DAY HOURS","OK")))))))))) | N12: =IF($A12="","",IF($B12="","CHECK PET ID",IF(COUNTIF(Pets!$A$6:$A$105,$B12)=0,"PET NOT FOUND",IF(COUNTIF(Pets!$A$6:$A$105,$B12)>1,"CHECK PET ID",IF(IFERROR(VLOOKUP($B12,Pets!$A$6:$D$105,4,FALSE),"")<>"Active","CHECK PET STATUS","OK")))))
A13: SCH-008 | B13: PET-007 | C13: =IF($B13="","",IFERROR(VLOOKUP($B13,Pets!$A$6:$D$105,2,FALSE),"NOT FOUND")) | D13: Avery Fiction | E13: Thursday | F13: 0.41666667 | G13: 0.4375 | H13: =IF(OR($F13="",$G13=""),"",IF($G13<=$F13,"",($G13-$F13)*24)) | I13: 46266 | J13: 46387 | K13: Paused | L13: Paused by the fictional client for scheduling review. | M13: =IF($A13="","",IF($K13<>"Active","NOT ACTIVE",IF(OR($B13="",$D13="",$E13="",$F13="",$G13="",$I13="",$J13=""),"CHECK REQUIRED FIELDS",IF(OR($G13<=$F13,$J13<$I13),"CHECK TIME OR DATES",IF(OR($H13<Assumptions!$B$5,$H13>Assumptions!$B$6),"CHECK DURATION",IF(COUNTIF($A$6:$A$105,$A13)>1,"CHECK DUPLICATE ID",IF(AND(COUNTIFS($K$6:$K$105,"Active",$D$6:$D$105,$D13,$E$6:$E$105,$E13,$F$6:$F$105,"<"&$G13,$G$6:$G$105,">"&$F13,$I$6:$I$105,"<="&$J13,$J$6:$J$105,">="&$I13)>1,COUNTIFS($K$6:$K$105,"Active",$B$6:$B$105,$B13,$E$6:$E$105,$E13,$F$6:$F$105,"<"&$G13,$G$6:$G$105,">"&$F13,$I$6:$I$105,"<="&$J13,$J$6:$J$105,">="&$I13)>1),"CHECK WALKER + PET",IF(COUNTIFS($K$6:$K$105,"Active",$D$6:$D$105,$D13,$E$6:$E$105,$E13,$F$6:$F$105,"<"&$G13,$G$6:$G$105,">"&$F13,$I$6:$I$105,"<="&$J13,$J$6:$J$105,">="&$I13)>1,"CHECK WALKER",IF(COUNTIFS($K$6:$K$105,"Active",$B$6:$B$105,$B13,$E$6:$E$105,$E13,$F$6:$F$105,"<"&$G13,$G$6:$G$105,">"&$F13,$I$6:$I$105,"<="&$J13,$J$6:$J$105,">="&$I13)>1,"CHECK PET",IF(SUMIFS($H$6:$H$105,$K$6:$K$105,"Active",$D$6:$D$105,$D13,$E$6:$E$105,$E13)>Assumptions!$B$4,"CHECK DAY HOURS","OK")))))))))) | N13: =IF($A13="","",IF($B13="","CHECK PET ID",IF(COUNTIF(Pets!$A$6:$A$105,$B13)=0,"PET NOT FOUND",IF(COUNTIF(Pets!$A$6:$A$105,$B13)>1,"CHECK PET ID",IF(IFERROR(VLOOKUP($B13,Pets!$A$6:$D$105,4,FALSE),"")<>"Active","CHECK PET STATUS","OK")))))
A14: SCH-009 | B14: PET-008 | C14: =IF($B14="","",IFERROR(VLOOKUP($B14,Pets!$A$6:$D$105,2,FALSE),"NOT FOUND")) | D14: Morgan Sample | E14: Friday | F14: 0.625 | G14: 0.66666667 | H14: =IF(OR($F14="",$G14=""),"",IF($G14<=$F14,"",($G14-$F14)*24)) | I14: 46266 | J14: 46295 | K14: Active | L14: Use the courtyard entrance. | M14: =IF($A14="","",IF($K14<>"Active","NOT ACTIVE",IF(OR($B14="",$D14="",$E14="",$F14="",$G14="",$I14="",$J14=""),"CHECK REQUIRED FIELDS",IF(OR($G14<=$F14,$J14<$I14),"CHECK TIME OR DATES",IF(OR($H14<Assumptions!$B$5,$H14>Assumptions!$B$6),"CHECK DURATION",IF(COUNTIF($A$6:$A$105,$A14)>1,"CHECK DUPLICATE ID",IF(AND(COUNTIFS($K$6:$K$105,"Active",$D$6:$D$105,$D14,$E$6:$E$105,$E14,$F$6:$F$105,"<"&$G14,$G$6:$G$105,">"&$F14,$I$6:$I$105,"<="&$J14,$J$6:$J$105,">="&$I14)>1,COUNTIFS($K$6:$K$105,"Active",$B$6:$B$105,$B14,$E$6:$E$105,$E14,$F$6:$F$105,"<"&$G14,$G$6:$G$105,">"&$F14,$I$6:$I$105,"<="&$J14,$J$6:$J$105,">="&$I14)>1),"CHECK WALKER + PET",IF(COUNTIFS($K$6:$K$105,"Active",$D$6:$D$105,$D14,$E$6:$E$105,$E14,$F$6:$F$105,"<"&$G14,$G$6:$G$105,">"&$F14,$I$6:$I$105,"<="&$J14,$J$6:$J$105,">="&$I14)>1,"CHECK WALKER",IF(COUNTIFS($K$6:$K$105,"Active",$B$6:$B$105,$B14,$E$6:$E$105,$E14,$F$6:$F$105,"<"&$G14,$G$6:$G$105,">"&$F14,$I$6:$I$105,"<="&$J14,$J$6:$J$105,">="&$I14)>1,"CHECK PET",IF(SUMIFS($H$6:$H$105,$K$6:$K$105,"Active",$D$6:$D$105,$D14,$E$6:$E$105,$E14)>Assumptions!$B$4,"CHECK DAY HOURS","OK")))))))))) | N14: =IF($A14="","",IF($B14="","CHECK PET ID",IF(COUNTIF(Pets!$A$6:$A$105,$B14)=0,"PET NOT FOUND",IF(COUNTIF(Pets!$A$6:$A$105,$B14)>1,"CHECK PET ID",IF(IFERROR(VLOOKUP($B14,Pets!$A$6:$D$105,4,FALSE),"")<>"Active","CHECK PET STATUS","OK")))))
A15: SCH-010 | B15: PET-010 | C15: =IF($B15="","",IFERROR(VLOOKUP($B15,Pets!$A$6:$D$105,2,FALSE),"NOT FOUND")) | D15: Riley Example | E15: Friday | F15: 0.66666667 | G15: 0.6875 | H15: =IF(OR($F15="",$G15=""),"",IF($G15<=$F15,"",($G15-$F15)*24)) | I15: 46266 | J15: 46387 | K15: Active | L15: Pet status example requiring a record check. | M15: =IF($A15="","",IF($K15<>"Active","NOT ACTIVE",IF(OR($B15="",$D15="",$E15="",$F15="",$G15="",$I15="",$J15=""),"CHECK REQUIRED FIELDS",IF(OR($G15<=$F15,$J15<$I15),"CHECK TIME OR DATES",IF(OR($H15<Assumptions!$B$5,$H15>Assumptions!$B$6),"CHECK DURATION",IF(COUNTIF($A$6:$A$105,$A15)>1,"CHECK DUPLICATE ID",IF(AND(COUNTIFS($K$6:$K$105,"Active",$D$6:$D$105,$D15,$E$6:$E$105,$E15,$F$6:$F$105,"<"&$G15,$G$6:$G$105,">"&$F15,$I$6:$I$105,"<="&$J15,$J$6:$J$105,">="&$I15)>1,COUNTIFS($K$6:$K$105,"Active",$B$6:$B$105,$B15,$E$6:$E$105,$E15,$F$6:$F$105,"<"&$G15,$G$6:$G$105,">"&$F15,$I$6:$I$105,"<="&$J15,$J$6:$J$105,">="&$I15)>1),"CHECK WALKER + PET",IF(COUNTIFS($K$6:$K$105,"Active",$D$6:$D$105,$D15,$E$6:$E$105,$E15,$F$6:$F$105,"<"&$G15,$G$6:$G$105,">"&$F15,$I$6:$I$105,"<="&$J15,$J$6:$J$105,">="&$I15)>1,"CHECK WALKER",IF(COUNTIFS($K$6:$K$105,"Active",$B$6:$B$105,$B15,$E$6:$E$105,$E15,$F$6:$F$105,"<"&$G15,$G$6:$G$105,">"&$F15,$I$6:$I$105,"<="&$J15,$J$6:$J$105,">="&$I15)>1,"CHECK PET",IF(SUMIFS($H$6:$H$105,$K$6:$K$105,"Active",$D$6:$D$105,$D15,$E$6:$E$105,$E15)>Assumptions!$B$4,"CHECK DAY HOURS","OK")))))))))) | N15: =IF($A15="","",IF($B15="","CHECK PET ID",IF(COUNTIF(Pets!$A$6:$A$105,$B15)=0,"PET NOT FOUND",IF(COUNTIF(Pets!$A$6:$A$105,$B15)>1,"CHECK PET ID",IF(IFERROR(VLOOKUP($B15,Pets!$A$6:$D$105,4,FALSE),"")<>"Active","CHECK PET STATUS","OK")))))
C16: =IF($B16="","",IFERROR(VLOOKUP($B16,Pets!$A$6:$D$105,2,FALSE),"NOT FOUND")) | H16: =IF(OR($F16="",$G16=""),"",IF($G16<=$F16,"",($G16-$F16)*24)) | M16: =IF($A16="","",IF($K16<>"Active","NOT ACTIVE",IF(OR($B16="",$D16="",$E16="",$F16="",$G16="",$I16="",$J16=""),"CHECK REQUIRED FIELDS",IF(OR($G16<=$F16,$J16<$I16),"CHECK TIME OR DATES",IF(OR($H16<Assumptions!$B$5,$H16>Assumptions!$B$6),"CHECK DURATION",IF(COUNTIF($A$6:$A$105,$A16)>1,"CHECK DUPLICATE ID",IF(AND(COUNTIFS($K$6:$K$105,"Active",$D$6:$D$105,$D16,$E$6:$E$105,$E16,$F$6:$F$105,"<"&$G16,$G$6:$G$105,">"&$F16,$I$6:$I$105,"<="&$J16,$J$6:$J$105,">="&$I16)>1,COUNTIFS($K$6:$K$105,"Active",$B$6:$B$105,$B16,$E$6:$E$105,$E16,$F$6:$F$105,"<"&$G16,$G$6:$G$105,">"&$F16,$I$6:$I$105,"<="&$J16,$J$6:$J$105,">="&$I16)>1),"CHECK WALKER + PET",IF(COUNTIFS($K$6:$K$105,"Active",$D$6:$D$105,$D16,$E$6:$E$105,$E16,$F$6:$F$105,"<"&$G16,$G$6:$G$105,">"&$F16,$I$6:$I$105,"<="&$J16,$J$6:$J$105,">="&$I16)>1,"CHECK WALKER",IF(COUNTIFS($K$6:$K$105,"Active",$B$6:$B$105,$B16,$E$6:$E$105,$E16,$F$6:$F$105,"<"&$G16,$G$6:$G$105,">"&$F16,$I$6:$I$105,"<="&$J16,$J$6:$J$105,">="&$I16)>1,"CHECK PET",IF(SUMIFS($H$6:$H$105,$K$6:$K$105,"Active",$D$6:$D$105,$D16,$E$6:$E$105,$E16)>Assumptions!$B$4,"CHECK DAY HOURS","OK")))))))))) | N16: =IF($A16="","",IF($B16="","CHECK PET ID",IF(COUNTIF(Pets!$A$6:$A$105,$B16)=0,"PET NOT FOUND",IF(COUNTIF(Pets!$A$6:$A$105,$B16)>1,"CHECK PET ID",IF(IFERROR(VLOOKUP($B16,Pets!$A$6:$D$105,4,FALSE),"")<>"Active","CHECK PET STATUS","OK")))))
C17: =IF($B17="","",IFERROR(VLOOKUP($B17,Pets!$A$6:$D$105,2,FALSE),"NOT FOUND")) | H17: =IF(OR($F17="",$G17=""),"",IF($G17<=$F17,"",($G17-$F17)*24)) | M17: =IF($A17="","",IF($K17<>"Active","NOT ACTIVE",IF(OR($B17="",$D17="",$E17="",$F17="",$G17="",$I17="",$J17=""),"CHECK REQUIRED FIELDS",IF(OR($G17<=$F17,$J17<$I17),"CHECK TIME OR DATES",IF(OR($H17<Assumptions!$B$5,$H17>Assumptions!$B$6),"CHECK DURATION",IF(COUNTIF($A$6:$A$105,$A17)>1,"CHECK DUPLICATE ID",IF(AND(COUNTIFS($K$6:$K$105,"Active",$D$6:$D$105,$D17,$E$6:$E$105,$E17,$F$6:$F$105,"<"&$G17,$G$6:$G$105,">"&$F17,$I$6:$I$105,"<="&$J17,$J$6:$J$105,">="&$I17)>1,COUNTIFS($K$6:$K$105,"Active",$B$6:$B$105,$B17,$E$6:$E$105,$E17,$F$6:$F$105,"<"&$G17,$G$6:$G$105,">"&$F17,$I$6:$I$105,"<="&$J17,$J$6:$J$105,">="&$I17)>1),"CHECK WALKER + PET",IF(COUNTIFS($K$6:$K$105,"Active",$D$6:$D$105,$D17,$E$6:$E$105,$E17,$F$6:$F$105,"<"&$G17,$G$6:$G$105,">"&$F17,$I$6:$I$105,"<="&$J17,$J$6:$J$105,">="&$I17)>1,"CHECK WALKER",IF(COUNTIFS($K$6:$K$105,"Active",$B$6:$B$105,$B17,$E$6:$E$105,$E17,$F$6:$F$105,"<"&$G17,$G$6:$G$105,">"&$F17,$I$6:$I$105,"<="&$J17,$J$6:$J$105,">="&$I17)>1,"CHECK PET",IF(SUMIFS($H$6:$H$105,$K$6:$K$105,"Active",$D$6:$D$105,$D17,$E$6:$E$105,$E17)>Assumptions!$B$4,"CHECK DAY HOURS","OK")))))))))) | N17: =IF($A17="","",IF($B17="","CHECK PET ID",IF(COUNTIF(Pets!$A$6:$A$105,$B17)=0,"PET NOT FOUND",IF(COUNTIF(Pets!$A$6:$A$105,$B17)>1,"CHECK PET ID",IF(IFERROR(VLOOKUP($B17,Pets!$A$6:$D$105,4,FALSE),"")<>"Active","CHECK PET STATUS","OK")))))
C18: =IF($B18="","",IFERROR(VLOOKUP($B18,Pets!$A$6:$D$105,2,FALSE),"NOT FOUND")) | H18: =IF(OR($F18="",$G18=""),"",IF($G18<=$F18,"",($G18-$F18)*24)) | M18: =IF($A18="","",IF($K18<>"Active","NOT ACTIVE",IF(OR($B18="",$D18="",$E18="",$F18="",$G18="",$I18="",$J18=""),"CHECK REQUIRED FIELDS",IF(OR($G18<=$F18,$J18<$I18),"CHECK TIME OR DATES",IF(OR($H18<Assumptions!$B$5,$H18>Assumptions!$B$6),"CHECK DURATION",IF(COUNTIF($A$6:$A$105,$A18)>1,"CHECK DUPLICATE ID",IF(AND(COUNTIFS($K$6:$K$105,"Active",$D$6:$D$105,$D18,$E$6:$E$105,$E18,$F$6:$F$105,"<"&$G18,$G$6:$G$105,">"&$F18,$I$6:$I$105,"<="&$J18,$J$6:$J$105,">="&$I18)>1,COUNTIFS($K$6:$K$105,"Active",$B$6:$B$105,$B18,$E$6:$E$105,$E18,$F$6:$F$105,"<"&$G18,$G$6:$G$105,">"&$F18,$I$6:$I$105,"<="&$J18,$J$6:$J$105,">="&$I18)>1),"CHECK WALKER + PET",IF(COUNTIFS($K$6:$K$105,"Active",$D$6:$D$105,$D18,$E$6:$E$105,$E18,$F$6:$F$105,"<"&$G18,$G$6:$G$105,">"&$F18,$I$6:$I$105,"<="&$J18,$J$6:$J$105,">="&$I18)>1,"CHECK WALKER",IF(COUNTIFS($K$6:$K$105,"Active",$B$6:$B$105,$B18,$E$6:$E$105,$E18,$F$6:$F$105,"<"&$G18,$G$6:$G$105,">"&$F18,$I$6:$I$105,"<="&$J18,$J$6:$J$105,">="&$I18)>1,"CHECK PET",IF(SUMIFS($H$6:$H$105,$K$6:$K$105,"Active",$D$6:$D$105,$D18,$E$6:$E$105,$E18)>Assumptions!$B$4,"CHECK DAY HOURS","OK")))))))))) | N18: =IF($A18="","",IF($B18="","CHECK PET ID",IF(COUNTIF(Pets!$A$6:$A$105,$B18)=0,"PET NOT FOUND",IF(COUNTIF(Pets!$A$6:$A$105,$B18)>1,"CHECK PET ID",IF(IFERROR(VLOOKUP($B18,Pets!$A$6:$D$105,4,FALSE),"")<>"Active","CHECK PET STATUS","OK")))))
C19: =IF($B19="","",IFERROR(VLOOKUP($B19,Pets!$A$6:$D$105,2,FALSE),"NOT FOUND")) | H19: =IF(OR($F19="",$G19=""),"",IF($G19<=$F19,"",($G19-$F19)*24)) | M19: =IF($A19="","",IF($K19<>"Active","NOT ACTIVE",IF(OR($B19="",$D19="",$E19="",$F19="",$G19="",$I19="",$J19=""),"CHECK REQUIRED FIELDS",IF(OR($G19<=$F19,$J19<$I19),"CHECK TIME OR DATES",IF(OR($H19<Assumptions!$B$5,$H19>Assumptions!$B$6),"CHECK DURATION",IF(COUNTIF($A$6:$A$105,$A19)>1,"CHECK DUPLICATE ID",IF(AND(COUNTIFS($K$6:$K$105,"Active",$D$6:$D$105,$D19,$E$6:$E$105,$E19,$F$6:$F$105,"<"&$G19,$G$6:$G$105,">"&$F19,$I$6:$I$105,"<="&$J19,$J$6:$J$105,">="&$I19)>1,COUNTIFS($K$6:$K$105,"Active",$B$6:$B$105,$B19,$E$6:$E$105,$E19,$F$6:$F$105,"<"&$G19,$G$6:$G$105,">"&$F19,$I$6:$I$105,"<="&$J19,$J$6:$J$105,">="&$I19)>1),"CHECK WALKER + PET",IF(COUNTIFS($K$6:$K$105,"Active",$D$6:$D$105,$D19,$E$6:$E$105,$E19,$F$6:$F$105,"<"&$G19,$G$6:$G$105,">"&$F19,$I$6:$I$105,"<="&$J19,$J$6:$J$105,">="&$I19)>1,"CHECK WALKER",IF(COUNTIFS($K$6:$K$105,"Active",$B$6:$B$105,$B19,$E$6:$E$105,$E19,$F$6:$F$105,"<"&$G19,$G$6:$G$105,">"&$F19,$I$6:$I$105,"<="&$J19,$J$6:$J$105,">="&$I19)>1,"CHECK PET",IF(SUMIFS($H$6:$H$105,$K$6:$K$105,"Active",$D$6:$D$105,$D19,$E$6:$E$105,$E19)>Assumptions!$B$4,"CHECK DAY HOURS","OK")))))))))) | N19: =IF($A19="","",IF($B19="","CHECK PET ID",IF(COUNTIF(Pets!$A$6:$A$105,$B19)=0,"PET NOT FOUND",IF(COUNTIF(Pets!$A$6:$A$105,$B19)>1,"CHECK PET ID",IF(IFERROR(VLOOKUP($B19,Pets!$A$6:$D$105,4,FALSE),"")<>"Active","CHECK PET STATUS","OK")))))
C20: =IF($B20="","",IFERROR(VLOOKUP($B20,Pets!$A$6:$D$105,2,FALSE),"NOT FOUND")) | H20: =IF(OR($F20="",$G20=""),"",IF($G20<=$F20,"",($G20-$F20)*24)) | M20: =IF($A20="","",IF($K20<>"Active","NOT ACTIVE",IF(OR($B20="",$D20="",$E20="",$F20="",$G20="",$I20="",$J20=""),"CHECK REQUIRED FIELDS",IF(OR($G20<=$F20,$J20<$I20),"CHECK TIME OR DATES",IF(OR($H20<Assumptions!$B$5,$H20>Assumptions!$B$6),"CHECK DURATION",IF(COUNTIF($A$6:$A$105,$A20)>1,"CHECK DUPLICATE ID",IF(AND(COUNTIFS($K$6:$K$105,"Active",$D$6:$D$105,$D20,$E$6:$E$105,$E20,$F$6:$F$105,"<"&$G20,$G$6:$G$105,">"&$F20,$I$6:$I$105,"<="&$J20,$J$6:$J$105,">="&$I20)>1,COUNTIFS($K$6:$K$105,"Active",$B$6:$B$105,$B20,$E$6:$E$105,$E20,$F$6:$F$105,"<"&$G20,$G$6:$G$105,">"&$F20,$I$6:$I$105,"<="&$J20,$J$6:$J$105,">="&$I20)>1),"CHECK WALKER + PET",IF(COUNTIFS($K$6:$K$105,"Active",$D$6:$D$105,$D20,$E$6:$E$105,$E20,$F$6:$F$105,"<"&$G20,$G$6:$G$105,">"&$F20,$I$6:$I$105,"<="&$J20,$J$6:$J$105,">="&$I20)>1,"CHECK WALKER",IF(COUNTIFS($K$6:$K$105,"Active",$B$6:$B$105,$B20,$E$6:$E$105,$E20,$F$6:$F$105,"<"&$G20,$G$6:$G$105,">"&$F20,$I$6:$I$105,"<="&$J20,$J$6:$J$105,">="&$I20)>1,"CHECK PET",IF(SUMIFS($H$6:$H$105,$K$6:$K$105,"Active",$D$6:$D$105,$D20,$E$6:$E$105,$E20)>Assumptions!$B$4,"CHECK DAY HOURS","OK")))))))))) | N20: =IF($A20="","",IF($B20="","CHECK PET ID",IF(COUNTIF(Pets!$A$6:$A$105,$B20)=0,"PET NOT FOUND",IF(COUNTIF(Pets!$A$6:$A$105,$B20)>1,"CHECK PET ID",IF(IFERROR(VLOOKUP($B20,Pets!$A$6:$D$105,4,FALSE),"")<>"Active","CHECK PET STATUS","OK")))))
C21: =IF($B21="","",IFERROR(VLOOKUP($B21,Pets!$A$6:$D$105,2,FALSE),"NOT FOUND")) | H21: =IF(OR($F21="",$G21=""),"",IF($G21<=$F21,"",($G21-$F21)*24)) | M21: =IF($A21="","",IF($K21<>"Active","NOT ACTIVE",IF(OR($B21="",$D21="",$E21="",$F21="",$G21="",$I21="",$J21=""),"CHECK REQUIRED FIELDS",IF(OR($G21<=$F21,$J21<$I21),"CHECK TIME OR DATES",IF(OR($H21<Assumptions!$B$5,$H21>Assumptions!$B$6),"CHECK DURATION",IF(COUNTIF($A$6:$A$105,$A21)>1,"CHECK DUPLICATE ID",IF(AND(COUNTIFS($K$6:$K$105,"Active",$D$6:$D$105,$D21,$E$6:$E$105,$E21,$F$6:$F$105,"<"&$G21,$G$6:$G$105,">"&$F21,$I$6:$I$105,"<="&$J21,$J$6:$J$105,">="&$I21)>1,COUNTIFS($K$6:$K$105,"Active",$B$6:$B$105,$B21,$E$6:$E$105,$E21,$F$6:$F$105,"<"&$G21,$G$6:$G$105,">"&$F21,$I$6:$I$105,"<="&$J21,$J$6:$J$105,">="&$I21)>1),"CHECK WALKER + PET",IF(COUNTIFS($K$6:$K$105,"Active",$D$6:$D$105,$D21,$E$6:$E$105,$E21,$F$6:$F$105,"<"&$G21,$G$6:$G$105,">"&$F21,$I$6:$I$105,"<="&$J21,$J$6:$J$105,">="&$I21)>1,"CHECK WALKER",IF(COUNTIFS($K$6:$K$105,"Active",$B$6:$B$105,$B21,$E$6:$E$105,$E21,$F$6:$F$105,"<"&$G21,$G$6:$G$105,">"&$F21,$I$6:$I$105,"<="&$J21,$J$6:$J$105,">="&$I21)>1,"CHECK PET",IF(SUMIFS($H$6:$H$105,$K$6:$K$105,"Active",$D$6:$D$105,$D21,$E$6:$E$105,$E21)>Assumptions!$B$4,"CHECK DAY HOURS","OK")))))))))) | N21: =IF($A21="","",IF($B21="","CHECK PET ID",IF(COUNTIF(Pets!$A$6:$A$105,$B21)=0,"PET NOT FOUND",IF(COUNTIF(Pets!$A$6:$A$105,$B21)>1,"CHECK PET ID",IF(IFERROR(VLOOKUP($B21,Pets!$A$6:$D$105,4,FALSE),"")<>"Active","CHECK PET STATUS","OK")))))
C22: =IF($B22="","",IFERROR(VLOOKUP($B22,Pets!$A$6:$D$105,2,FALSE),"NOT FOUND")) | H22: =IF(OR($F22="",$G22=""),"",IF($G22<=$F22,"",($G22-$F22)*24)) | M22: =IF($A22="","",IF($K22<>"Active","NOT ACTIVE",IF(OR($B22="",$D22="",$E22="",$F22="",$G22="",$I22="",$J22=""),"CHECK REQUIRED FIELDS",IF(OR($G22<=$F22,$J22<$I22),"CHECK TIME OR DATES",IF(OR($H22<Assumptions!$B$5,$H22>Assumptions!$B$6),"CHECK DURATION",IF(COUNTIF($A$6:$A$105,$A22)>1,"CHECK DUPLICATE ID",IF(AND(COUNTIFS($K$6:$K$105,"Active",$D$6:$D$105,$D22,$E$6:$E$105,$E22,$F$6:$F$105,"<"&$G22,$G$6:$G$105,">"&$F22,$I$6:$I$105,"<="&$J22,$J$6:$J$105,">="&$I22)>1,COUNTIFS($K$6:$K$105,"Active",$B$6:$B$105,$B22,$E$6:$E$105,$E22,$F$6:$F$105,"<"&$G22,$G$6:$G$105,">"&$F22,$I$6:$I$105,"<="&$J22,$J$6:$J$105,">="&$I22)>1),"CHECK WALKER + PET",IF(COUNTIFS($K$6:$K$105,"Active",$D$6:$D$105,$D22,$E$6:$E$105,$E22,$F$6:$F$105,"<"&$G22,$G$6:$G$105,">"&$F22,$I$6:$I$105,"<="&$J22,$J$6:$J$105,">="&$I22)>1,"CHECK WALKER",IF(COUNTIFS($K$6:$K$105,"Active",$B$6:$B$105,$B22,$E$6:$E$105,$E22,$F$6:$F$105,"<"&$G22,$G$6:$G$105,">"&$F22,$I$6:$I$105,"<="&$J22,$J$6:$J$105,">="&$I22)>1,"CHECK PET",IF(SUMIFS($H$6:$H$105,$K$6:$K$105,"Active",$D$6:$D$105,$D22,$E$6:$E$105,$E22)>Assumptions!$B$4,"CHECK DAY HOURS","OK")))))))))) | N22: =IF($A22="","",IF($B22="","CHECK PET ID",IF(COUNTIF(Pets!$A$6:$A$105,$B22)=0,"PET NOT FOUND",IF(COUNTIF(Pets!$A$6:$A$105,$B22)>1,"CHECK PET ID",IF(IFERROR(VLOOKUP($B22,Pets!$A$6:$D$105,4,FALSE),"")<>"Active","CHECK PET STATUS","OK")))))
C23: =IF($B23="","",IFERROR(VLOOKUP($B23,Pets!$A$6:$D$105,2,FALSE),"NOT FOUND")) | H23: =IF(OR($F23="",$G23=""),"",IF($G23<=$F23,"",($G23-$F23)*24)) | M23: =IF($A23="","",IF($K23<>"Active","NOT ACTIVE",IF(OR($B23="",$D23="",$E23="",$F23="",$G23="",$I23="",$J23=""),"CHECK REQUIRED FIELDS",IF(OR($G23<=$F23,$J23<$I23),"CHECK TIME OR DATES",IF(OR($H23<Assumptions!$B$5,$H23>Assumptions!$B$6),"CHECK DURATION",IF(COUNTIF($A$6:$A$105,$A23)>1,"CHECK DUPLICATE ID",IF(AND(COUNTIFS($K$6:$K$105,"Active",$D$6:$D$105,$D23,$E$6:$E$105,$E23,$F$6:$F$105,"<"&$G23,$G$6:$G$105,">"&$F23,$I$6:$I$105,"<="&$J23,$J$6:$J$105,">="&$I23)>1,COUNTIFS($K$6:$K$105,"Active",$B$6:$B$105,$B23,$E$6:$E$105,$E23,$F$6:$F$105,"<"&$G23,$G$6:$G$105,">"&$F23,$I$6:$I$105,"<="&$J23,$J$6:$J$105,">="&$I23)>1),"CHECK WALKER + PET",IF(COUNTIFS($K$6:$K$105,"Active",$D$6:$D$105,$D23,$E$6:$E$105,$E23,$F$6:$F$105,"<"&$G23,$G$6:$G$105,">"&$F23,$I$6:$I$105,"<="&$J23,$J$6:$J$105,">="&$I23)>1,"CHECK WALKER",IF(COUNTIFS($K$6:$K$105,"Active",$B$6:$B$105,$B23,$E$6:$E$105,$E23,$F$6:$F$105,"<"&$G23,$G$6:$G$105,">"&$F23,$I$6:$I$105,"<="&$J23,$J$6:$J$105,">="&$I23)>1,"CHECK PET",IF(SUMIFS($H$6:$H$105,$K$6:$K$105,"Active",$D$6:$D$105,$D23,$E$6:$E$105,$E23)>Assumptions!$B$4,"CHECK DAY HOURS","OK")))))))))) | N23: =IF($A23="","",IF($B23="","CHECK PET ID",IF(COUNTIF(Pets!$A$6:$A$105,$B23)=0,"PET NOT FOUND",IF(COUNTIF(Pets!$A$6:$A$105,$B23)>1,"CHECK PET ID",IF(IFERROR(VLOOKUP($B23,Pets!$A$6:$D$105,4,FALSE),"")<>"Active","CHECK PET STATUS","OK")))))
C24: =IF($B24="","",IFERROR(VLOOKUP($B24,Pets!$A$6:$D$105,2,FALSE),"NOT FOUND")) | H24: =IF(OR($F24="",$G24=""),"",IF($G24<=$F24,"",($G24-$F24)*24)) | M24: =IF($A24="","",IF($K24<>"Active","NOT ACTIVE",IF(OR($B24="",$D24="",$E24="",$F24="",$G24="",$I24="",$J24=""),"CHECK REQUIRED FIELDS",IF(OR($G24<=$F24,$J24<$I24),"CHECK TIME OR DATES",IF(OR($H24<Assumptions!$B$5,$H24>Assumptions!$B$6),"CHECK DURATION",IF(COUNTIF($A$6:$A$105,$A24)>1,"CHECK DUPLICATE ID",IF(AND(COUNTIFS($K$6:$K$105,"Active",$D$6:$D$105,$D24,$E$6:$E$105,$E24,$F$6:$F$105,"<"&$G24,$G$6:$G$105,">"&$F24,$I$6:$I$105,"<="&$J24,$J$6:$J$105,">="&$I24)>1,COUNTIFS($K$6:$K$105,"Active",$B$6:$B$105,$B24,$E$6:$E$105,$E24,$F$6:$F$105,"<"&$G24,$G$6:$G$105,">"&$F24,$I$6:$I$105,"<="&$J24,$J$6:$J$105,">="&$I24)>1),"CHECK WALKER + PET",IF(COUNTIFS($K$6:$K$105,"Active",$D$6:$D$105,$D24,$E$6:$E$105,$E24,$F$6:$F$105,"<"&$G24,$G$6:$G$105,">"&$F24,$I$6:$I$105,"<="&$J24,$J$6:$J$105,">="&$I24)>1,"CHECK WALKER",IF(COUNTIFS($K$6:$K$105,"Active",$B$6:$B$105,$B24,$E$6:$E$105,$E24,$F$6:$F$105,"<"&$G24,$G$6:$G$105,">"&$F24,$I$6:$I$105,"<="&$J24,$J$6:$J$105,">="&$I24)>1,"CHECK PET",IF(SUMIFS($H$6:$H$105,$K$6:$K$105,"Active",$D$6:$D$105,$D24,$E$6:$E$105,$E24)>Assumptions!$B$4,"CHECK DAY HOURS","OK")))))))))) | N24: =IF($A24="","",IF($B24="","CHECK PET ID",IF(COUNTIF(Pets!$A$6:$A$105,$B24)=0,"PET NOT FOUND",IF(COUNTIF(Pets!$A$6:$A$105,$B24)>1,"CHECK PET ID",IF(IFERROR(VLOOKUP($B24,Pets!$A$6:$D$105,4,FALSE),"")<>"Active","CHECK PET STATUS","OK")))))
C25: =IF($B25="","",IFERROR(VLOOKUP($B25,Pets!$A$6:$D$105,2,FALSE),"NOT FOUND")) | H25: =IF(OR($F25="",$G25=""),"",IF($G25<=$F25,"",($G25-$F25)*24)) | M25: =IF($A25="","",IF($K25<>"Active","NOT ACTIVE",IF(OR($B25="",$D25="",$E25="",$F25="",$G25="",$I25="",$J25=""),"CHECK REQUIRED FIELDS",IF(OR($G25<=$F25,$J25<$I25),"CHECK TIME OR DATES",IF(OR($H25<Assumptions!$B$5,$H25>Assumptions!$B$6),"CHECK DURATION",IF(COUNTIF($A$6:$A$105,$A25)>1,"CHECK DUPLICATE ID",IF(AND(COUNTIFS($K$6:$K$105,"Active",$D$6:$D$105,$D25,$E$6:$E$105,$E25,$F$6:$F$105,"<"&$G25,$G$6:$G$105,">"&$F25,$I$6:$I$105,"<="&$J25,$J$6:$J$105,">="&$I25)>1,COUNTIFS($K$6:$K$105,"Active",$B$6:$B$105,$B25,$E$6:$E$105,$E25,$F$6:$F$105,"<"&$G25,$G$6:$G$105,">"&$F25,$I$6:$I$105,"<="&$J25,$J$6:$J$105,">="&$I25)>1),"CHECK WALKER + PET",IF(COUNTIFS($K$6:$K$105,"Active",$D$6:$D$105,$D25,$E$6:$E$105,$E25,$F$6:$F$105,"<"&$G25,$G$6:$G$105,">"&$F25,$I$6:$I$105,"<="&$J25,$J$6:$J$105,">="&$I25)>1,"CHECK WALKER",IF(COUNTIFS($K$6:$K$105,"Active",$B$6:$B$105,$B25,$E$6:$E$105,$E25,$F$6:$F$105,"<"&$G25,$G$6:$G$105,">"&$F25,$I$6:$I$105,"<="&$J25,$J$6:$J$105,">="&$I25)>1,"CHECK PET",IF(SUMIFS($H$6:$H$105,$K$6:$K$105,"Active",$D$6:$D$105,$D25,$E$6:$E$105,$E25)>Assumptions!$B$4,"CHECK DAY HOURS","OK")))))))))) | N25: =IF($A25="","",IF($B25="","CHECK PET ID",IF(COUNTIF(Pets!$A$6:$A$105,$B25)=0,"PET NOT FOUND",IF(COUNTIF(Pets!$A$6:$A$105,$B25)>1,"CHECK PET ID",IF(IFERROR(VLOOKUP($B25,Pets!$A$6:$D$105,4,FALSE),"")<>"Active","CHECK PET STATUS","OK")))))
C26: =IF($B26="","",IFERROR(VLOOKUP($B26,Pets!$A$6:$D$105,2,FALSE),"NOT FOUND")) | H26: =IF(OR($F26="",$G26=""),"",IF($G26<=$F26,"",($G26-$F26)*24)) | M26: =IF($A26="","",IF($K26<>"Active","NOT ACTIVE",IF(OR($B26="",$D26="",$E26="",$F26="",$G26="",$I26="",$J26=""),"CHECK REQUIRED FIELDS",IF(OR($G26<=$F26,$J26<$I26),"CHECK TIME OR DATES",IF(OR($H26<Assumptions!$B$5,$H26>Assumptions!$B$6),"CHECK DURATION",IF(COUNTIF($A$6:$A$105,$A26)>1,"CHECK DUPLICATE ID",IF(AND(COUNTIFS($K$6:$K$105,"Active",$D$6:$D$105,$D26,$E$6:$E$105,$E26,$F$6:$F$105,"<"&$G26,$G$6:$G$105,">"&$F26,$I$6:$I$105,"<="&$J26,$J$6:$J$105,">="&$I26)>1,COUNTIFS($K$6:$K$105,"Active",$B$6:$B$105,$B26,$E$6:$E$105,$E26,$F$6:$F$105,"<"&$G26,$G$6:$G$105,">"&$F26,$I$6:$I$105,"<="&$J26,$J$6:$J$105,">="&$I26)>1),"CHECK WALKER + PET",IF(COUNTIFS($K$6:$K$105,"Active",$D$6:$D$105,$D26,$E$6:$E$105,$E26,$F$6:$F$105,"<"&$G26,$G$6:$G$105,">"&$F26,$I$6:$I$105,"<="&$J26,$J$6:$J$105,">="&$I26)>1,"CHECK WALKER",IF(COUNTIFS($K$6:$K$105,"Active",$B$6:$B$105,$B26,$E$6:$E$105,$E26,$F$6:$F$105,"<"&$G26,$G$6:$G$105,">"&$F26,$I$6:$I$105,"<="&$J26,$J$6:$J$105,">="&$I26)>1,"CHECK PET",IF(SUMIFS($H$6:$H$105,$K$6:$K$105,"Active",$D$6:$D$105,$D26,$E$6:$E$105,$E26)>Assumptions!$B$4,"CHECK DAY HOURS","OK")))))))))) | N26: =IF($A26="","",IF($B26="","CHECK PET ID",IF(COUNTIF(Pets!$A$6:$A$105,$B26)=0,"PET NOT FOUND",IF(COUNTIF(Pets!$A$6:$A$105,$B26)>1,"CHECK PET ID",IF(IFERROR(VLOOKUP($B26,Pets!$A$6:$D$105,4,FALSE),"")<>"Active","CHECK PET STATUS","OK")))))
C27: =IF($B27="","",IFERROR(VLOOKUP($B27,Pets!$A$6:$D$105,2,FALSE),"NOT FOUND")) | H27: =IF(OR($F27="",$G27=""),"",IF($G27<=$F27,"",($G27-$F27)*24)) | M27: =IF($A27="","",IF($K27<>"Active","NOT ACTIVE",IF(OR($B27="",$D27="",$E27="",$F27="",$G27="",$I27="",$J27=""),"CHECK REQUIRED FIELDS",IF(OR($G27<=$F27,$J27<$I27),"CHECK TIME OR DATES",IF(OR($H27<Assumptions!$B$5,$H27>Assumptions!$B$6),"CHECK DURATION",IF(COUNTIF($A$6:$A$105,$A27)>1,"CHECK DUPLICATE ID",IF(AND(COUNTIFS($K$6:$K$105,"Active",$D$6:$D$105,$D27,$E$6:$E$105,$E27,$F$6:$F$105,"<"&$G27,$G$6:$G$105,">"&$F27,$I$6:$I$105,"<="&$J27,$J$6:$J$105,">="&$I27)>1,COUNTIFS($K$6:$K$105,"Active",$B$6:$B$105,$B27,$E$6:$E$105,$E27,$F$6:$F$105,"<"&$G27,$G$6:$G$105,">"&$F27,$I$6:$I$105,"<="&$J27,$J$6:$J$105,">="&$I27)>1),"CHECK WALKER + PET",IF(COUNTIFS($K$6:$K$105,"Active",$D$6:$D$105,$D27,$E$6:$E$105,$E27,$F$6:$F$105,"<"&$G27,$G$6:$G$105,">"&$F27,$I$6:$I$105,"<="&$J27,$J$6:$J$105,">="&$I27)>1,"CHECK WALKER",IF(COUNTIFS($K$6:$K$105,"Active",$B$6:$B$105,$B27,$E$6:$E$105,$E27,$F$6:$F$105,"<"&$G27,$G$6:$G$105,">"&$F27,$I$6:$I$105,"<="&$J27,$J$6:$J$105,">="&$I27)>1,"CHECK PET",IF(SUMIFS($H$6:$H$105,$K$6:$K$105,"Active",$D$6:$D$105,$D27,$E$6:$E$105,$E27)>Assumptions!$B$4,"CHECK DAY HOURS","OK")))))))))) | N27: =IF($A27="","",IF($B27="","CHECK PET ID",IF(COUNTIF(Pets!$A$6:$A$105,$B27)=0,"PET NOT FOUND",IF(COUNTIF(Pets!$A$6:$A$105,$B27)>1,"CHECK PET ID",IF(IFERROR(VLOOKUP($B27,Pets!$A$6:$D$105,4,FALSE),"")<>"Active","CHECK PET STATUS","OK")))))
... C105: =IF($B105="","",IFERROR(VLOOKUP($B105,Pets!$A$6:$D$105,2,FALSE),"NOT FOUND")) | H105: =IF(OR($F105="",$G105=""),"",IF($G105<=$F105,"",($G105-$F105)*24)) | M105: =IF($A105="","",IF($K105<>"Active","NOT ACTIVE",IF(OR($B105="",$D105="",$E105="",$F105="",$G105="",$I105="",$J105=""),"CHECK REQUIRED FIELDS",IF(OR($G105<=$F105,$J105<$I105),"CHECK TIME OR DATES",IF(OR($H105<Assumptions!$B$5,$H105>Assumptions!$B$6),"CHECK DURATION",IF(COUNTIF($A$6:$A$105,$A105)>1,"CHECK DUPLICATE ID",IF(AND(COUNTIFS($K$6:$K$105,"Active",$D$6:$D$105,$D105,$E$6:$E$105,$E105,$F$6:$F$105,"<"&$G105,$G$6:$G$105,">"&$F105,$I$6:$I$105,"<="&$J105,$J$6:$J$105,">="&$I105)>1,COUNTIFS($K$6:$K$105,"Active",$B$6:$B$105,$B105,$E$6:$E$105,$E105,$F$6:$F$105,"<"&$G105,$G$6:$G$105,">"&$F105,$I$6:$I$105,"<="&$J105,$J$6:$J$105,">="&$I105)>1),"CHECK WALKER + PET",IF(COUNTIFS($K$6:$K$105,"Active",$D$6:$D$105,$D105,$E$6:$E$105,$E105,$F$6:$F$105,"<"&$G105,$G$6:$G$105,">"&$F105,$I$6:$I$105,"<="&$J105,$J$6:$J$105,">="&$I105)>1,"CHECK WALKER",IF(COUNTIFS($K$6:$K$105,"Active",$B$6:$B$105,$B105,$E$6:$E$105,$E105,$F$6:$F$105,"<"&$G105,$G$6:$G$105,">"&$F105,$I$6:$I$105,"<="&$J105,$J$6:$J$105,">="&$I105)>1,"CHECK PET",IF(SUMIFS($H$6:$H$105,$K$6:$K$105,"Active",$D$6:$D$105,$D105,$E$6:$E$105,$E105)>Assumptions!$B$4,"CHECK DAY HOURS","OK")))))))))) | N105: =IF($A105="","",IF($B105="","CHECK PET ID",IF(COUNTIF(Pets!$A$6:$A$105,$B105)=0,"PET NOT FOUND",IF(COUNTIF(Pets!$A$6:$A$105,$B105)>1,"CHECK PET ID",IF(IFERROR(VLOOKUP($B105,Pets!$A$6:$D$105,4,FALSE),"")<>"Active","CHECK PET STATUS","OK")))))

Sheet Pets
A1: Pet and Client Reference
A2: Yellow cells are editable. Care notes are owner-supplied administrative details only; all sample names are fictional.
A5: Pet ID | B5: Pet Name | C5: Client Name | D5: Pet Status | E5: Owner-Supplied Care Note
A6: PET-001 | B6: Maple | C6: Jamie Fiction | D6: Active | E6: Leash is in the blue entry bin.
A7: PET-002 | B7: Scout | C7: Robin Sample | D7: Active | E7: Use the lobby entrance listed by the owner.
A8: PET-003 | B8: Luna | C8: Devon Example | D8: Active | E8: Owner requests the shaded neighborhood loop.
A9: PET-004 | B9: Otis | C9: Cameron Demo | D9: Active | E9: Use the side gate and return the latch.
A10: PET-005 | B10: Pepper | C10: Alex Placeholder | D10: Active | E10: Building desk holds the fictional visit note.
A11: PET-006 | B11: Milo | C11: Drew Mock | D11: Active | E11: Owner requests the long park loop.
A12: PET-007 | B12: Nori | C12: Reese Test | D12: Active | E12: Use the courtyard entrance.
A13: PET-008 | B13: Gus | C13: Parker Practice | D13: Active | E13: Leash hangs beside the coat rack.
A14: PET-009 | B14: Tilly | C14: Blake Fiction | D14: Active | E14: Owner prefers the quieter side street.
A15: PET-010 | B15: Zeke | C15: Rowan Sample | D15: Inactive | E15: Inactive sample record for schedule review.

Sheet Assumptions
A1: Editable Scheduling Assumptions
A2: Edit yellow limits and lists to fit the business. Limits are planning prompts, not guarantees.
A3: Planning Limit | B3: Value | C3: Use | D3: Walker List | F3: Weekday List | H3: Pet Status | J3: Schedule Status
A4: Maximum scheduled hours per walker and day | B4: 6 | C4: Flags active rows above this planning limit. | D4: Avery Fiction | F4: Monday | H4: Active | J4: Active
A5: Minimum walk duration | B5: 0.25 | C5: Hours; used by the duration check. | D5: Morgan Sample | F5: Tuesday | H5: Inactive | J5: Paused
A6: Maximum walk duration | B6: 2 | C6: Hours; used by the duration check. | D6: Riley Example | F6: Wednesday | J6: Ended
A7: Earliest effective date | B7: 43831 | C7: Earliest date allowed in the prepared schedule. | D7: Casey Demo | F7: Thursday
A8: Latest effective date | B8: 73415 | C8: Latest date allowed in the prepared schedule. | D8: Jordan Placeholder | F8: Friday
D9: Taylor Mock | F9: Saturday
D10: Quinn Test | F10: Sunday
D11: Skyler Practice
