Workbook

Sheet Summary
A1: Grooming Station Schedule — Summary
A2: Calculated from the Schedule sheet. All DEMO appointments, clients, pets, and groomer labels are fictional. Review flagged assignments with staff.
A4: Schedule indicator | B4: Calculated value | D4: Status | E4: Appointments | G4: Conflict type | H4: Rows flagged
A5: Entered appointments | B5: =IFERROR(COUNTA(Schedule!$A$5:$A$104),0) | D5: Scheduled | E5: =IFERROR(COUNTIFS(Schedule!$A$5:$A$104,"<>",Schedule!$G$5:$G$104,$D5),0) | G5: Table conflicts | H5: =IFERROR(COUNTIF(Schedule!$R$5:$R$104,"Conflict"),0)
A6: Non-canceled appointments | B6: =IFERROR(COUNTIFS(Schedule!$A$5:$A$104,"<>",Schedule!$G$5:$G$104,"<>Canceled"),0) | D6: Confirmed | E6: =IFERROR(COUNTIFS(Schedule!$A$5:$A$104,"<>",Schedule!$G$5:$G$104,$D6),0) | G6: Tub conflicts | H6: =IFERROR(COUNTIF(Schedule!$S$5:$S$104,"Conflict"),0)
A7: Clear schedule rows | B7: =IFERROR(COUNTIF(Schedule!$U$5:$U$104,"Clear"),0) | D7: In Progress | E7: =IFERROR(COUNTIFS(Schedule!$A$5:$A$104,"<>",Schedule!$G$5:$G$104,$D7),0) | G7: Dryer conflicts | H7: =IFERROR(COUNTIF(Schedule!$T$5:$T$104,"Conflict"),0)
A8: Rows needing review | B8: =IFERROR(COUNTIF(Schedule!$U$5:$U$104,"Review")+COUNTIF(Schedule!$U$5:$U$104,"Incomplete"),0) | D8: Completed | E8: =IFERROR(COUNTIFS(Schedule!$A$5:$A$104,"<>",Schedule!$G$5:$G$104,$D8),0)
A9: Planned active hours | B9: =IFERROR(SUM(Schedule!$Q$5:$Q$104),0) | D9: Canceled | E9: =IFERROR(COUNTIFS(Schedule!$A$5:$A$104,"<>",Schedule!$G$5:$G$104,$D9),0)

Sheet Schedule
A1: Grooming Station Schedule
A2: Assign each active appointment a table, tub, and dryer window. Canceled rows are excluded from conflict counts; every alert is a prompt for staff review.
A3: Yellow cells are editable. | R3: Green = clear; rust = review.
A4: Appointment ID | B4: Date | C4: Client | D4: Pet | E4: Service | F4: Groomer | G4: Status | H4: Table | I4: Table Start | J4: Table End | K4: Tub | L4: Tub Start | M4: Tub End | N4: Dryer | O4: Dryer Start | P4: Dryer End | Q4: Planned Hours | R4: Table Check | S4: Tub Check | T4: Dryer Check | U4: Schedule Check | V4: Appointment Note
A5: DEMO-001 | B5: 46279 | C5: Fictional Client 01 | D5: Fictional Pet 01 | E5: Full Groom | F5: Demo Groomer A | G5: Confirmed | H5: Table 1 | I5: 0.33333333 | J5: 0.36458333 | K5: Tub 1 | L5: 0.36458333 | M5: 0.38541667 | N5: Dryer 1 | O5: 0.38541667 | P5: 0.40625 | Q5: =IFERROR(IF(OR($A5="",$G5="Canceled",$I5="",$J5="",$L5="",$M5="",$O5="",$P5=""),"",IF(OR($J5<=$I5,$M5<=$L5,$P5<=$O5,$L5<$J5,$O5<$M5,$I5<Assumptions!$B$5,$J5>Assumptions!$B$6,$L5<Assumptions!$B$5,$M5>Assumptions!$B$6,$O5<Assumptions!$B$5,$P5>Assumptions!$B$6),"",(MAX($J5,$M5,$P5)-MIN($I5,$L5,$O5))*24)),"") | R5: =IFERROR(IF($A5="","",IF($G5="Canceled","Not active",IF(OR($B5="",$H5="",$I5="",$J5=""),"Incomplete",IF(OR($I5<Assumptions!$B$5,$J5>Assumptions!$B$6,$J5<=$I5),"Check times",IF(COUNTIFS($B$5:$B$104,$B5,$H$5:$H$104,$H5,$I$5:$I$104,"<"&$J5,$J$5:$J$104,">"&$I5,$G$5:$G$104,"<>Canceled")>1,"Conflict","Clear"))))),"Check inputs") | S5: =IFERROR(IF($A5="","",IF($G5="Canceled","Not active",IF(OR($B5="",$K5="",$L5="",$M5=""),"Incomplete",IF(OR($L5<Assumptions!$B$5,$M5>Assumptions!$B$6,$M5<=$L5),"Check times",IF(COUNTIFS($B$5:$B$104,$B5,$K$5:$K$104,$K5,$L$5:$L$104,"<"&$M5,$M$5:$M$104,">"&$L5,$G$5:$G$104,"<>Canceled")>1,"Conflict","Clear"))))),"Check inputs") | T5: =IFERROR(IF($A5="","",IF($G5="Canceled","Not active",IF(OR($B5="",$N5="",$O5="",$P5=""),"Incomplete",IF(OR($O5<Assumptions!$B$5,$P5>Assumptions!$B$6,$P5<=$O5),"Check times",IF(COUNTIFS($B$5:$B$104,$B5,$N$5:$N$104,$N5,$O$5:$O$104,"<"&$P5,$P$5:$P$104,">"&$O5,$G$5:$G$104,"<>Canceled")>1,"Conflict","Clear"))))),"Check inputs") | U5: =IFERROR(IF($A5="","",IF($G5="Canceled","Not active",IF(OR($B5="",$E5="",$F5="",$G5="",$H5="",$I5="",$J5="",$K5="",$L5="",$M5="",$N5="",$O5="",$P5=""),"Incomplete",IF(OR(COUNTIF($A$5:$A$104,$A5)>1,$B5<Assumptions!$B$7,$B5>Assumptions!$B$8,$R5<>"Clear",$S5<>"Clear",$T5<>"Clear",$L5<$J5,$O5<$M5),"Review","Clear")))),"Review") | V5: Confirm coat-length preference at check-in.
A6: DEMO-002 | B6: 46279 | C6: Fictional Client 02 | D6: Fictional Pet 02 | E6: Bath & Brush | F6: Demo Groomer B | G6: Scheduled | H6: Table 2 | I6: 0.34375 | J6: 0.375 | K6: Tub 1 | L6: 0.375 | M6: 0.39583333 | N6: Dryer 2 | O6: 0.39583333 | P6: 0.41666667 | Q6: =IFERROR(IF(OR($A6="",$G6="Canceled",$I6="",$J6="",$L6="",$M6="",$O6="",$P6=""),"",IF(OR($J6<=$I6,$M6<=$L6,$P6<=$O6,$L6<$J6,$O6<$M6,$I6<Assumptions!$B$5,$J6>Assumptions!$B$6,$L6<Assumptions!$B$5,$M6>Assumptions!$B$6,$O6<Assumptions!$B$5,$P6>Assumptions!$B$6),"",(MAX($J6,$M6,$P6)-MIN($I6,$L6,$O6))*24)),"") | R6: =IFERROR(IF($A6="","",IF($G6="Canceled","Not active",IF(OR($B6="",$H6="",$I6="",$J6=""),"Incomplete",IF(OR($I6<Assumptions!$B$5,$J6>Assumptions!$B$6,$J6<=$I6),"Check times",IF(COUNTIFS($B$5:$B$104,$B6,$H$5:$H$104,$H6,$I$5:$I$104,"<"&$J6,$J$5:$J$104,">"&$I6,$G$5:$G$104,"<>Canceled")>1,"Conflict","Clear"))))),"Check inputs") | S6: =IFERROR(IF($A6="","",IF($G6="Canceled","Not active",IF(OR($B6="",$K6="",$L6="",$M6=""),"Incomplete",IF(OR($L6<Assumptions!$B$5,$M6>Assumptions!$B$6,$M6<=$L6),"Check times",IF(COUNTIFS($B$5:$B$104,$B6,$K$5:$K$104,$K6,$L$5:$L$104,"<"&$M6,$M$5:$M$104,">"&$L6,$G$5:$G$104,"<>Canceled")>1,"Conflict","Clear"))))),"Check inputs") | T6: =IFERROR(IF($A6="","",IF($G6="Canceled","Not active",IF(OR($B6="",$N6="",$O6="",$P6=""),"Incomplete",IF(OR($O6<Assumptions!$B$5,$P6>Assumptions!$B$6,$P6<=$O6),"Check times",IF(COUNTIFS($B$5:$B$104,$B6,$N$5:$N$104,$N6,$O$5:$O$104,"<"&$P6,$P$5:$P$104,">"&$O6,$G$5:$G$104,"<>Canceled")>1,"Conflict","Clear"))))),"Check inputs") | U6: =IFERROR(IF($A6="","",IF($G6="Canceled","Not active",IF(OR($B6="",$E6="",$F6="",$G6="",$H6="",$I6="",$J6="",$K6="",$L6="",$M6="",$N6="",$O6="",$P6=""),"Incomplete",IF(OR(COUNTIF($A$5:$A$104,$A6)>1,$B6<Assumptions!$B$7,$B6>Assumptions!$B$8,$R6<>"Clear",$S6<>"Clear",$T6<>"Clear",$L6<$J6,$O6<$M6),"Review","Clear")))),"Review") | V6: Review the overlapping tub window before confirming.
A7: DEMO-003 | B7: 46279 | C7: Fictional Client 03 | D7: Fictional Pet 03 | E7: Deshedding | F7: Demo Groomer C | G7: Confirmed | H7: Table 1 | I7: 0.35416667 | J7: 0.38194444 | K7: Tub 2 | L7: 0.38194444 | M7: 0.40277778 | N7: Dryer 3 | O7: 0.40277778 | P7: 0.42708333 | Q7: =IFERROR(IF(OR($A7="",$G7="Canceled",$I7="",$J7="",$L7="",$M7="",$O7="",$P7=""),"",IF(OR($J7<=$I7,$M7<=$L7,$P7<=$O7,$L7<$J7,$O7<$M7,$I7<Assumptions!$B$5,$J7>Assumptions!$B$6,$L7<Assumptions!$B$5,$M7>Assumptions!$B$6,$O7<Assumptions!$B$5,$P7>Assumptions!$B$6),"",(MAX($J7,$M7,$P7)-MIN($I7,$L7,$O7))*24)),"") | R7: =IFERROR(IF($A7="","",IF($G7="Canceled","Not active",IF(OR($B7="",$H7="",$I7="",$J7=""),"Incomplete",IF(OR($I7<Assumptions!$B$5,$J7>Assumptions!$B$6,$J7<=$I7),"Check times",IF(COUNTIFS($B$5:$B$104,$B7,$H$5:$H$104,$H7,$I$5:$I$104,"<"&$J7,$J$5:$J$104,">"&$I7,$G$5:$G$104,"<>Canceled")>1,"Conflict","Clear"))))),"Check inputs") | S7: =IFERROR(IF($A7="","",IF($G7="Canceled","Not active",IF(OR($B7="",$K7="",$L7="",$M7=""),"Incomplete",IF(OR($L7<Assumptions!$B$5,$M7>Assumptions!$B$6,$M7<=$L7),"Check times",IF(COUNTIFS($B$5:$B$104,$B7,$K$5:$K$104,$K7,$L$5:$L$104,"<"&$M7,$M$5:$M$104,">"&$L7,$G$5:$G$104,"<>Canceled")>1,"Conflict","Clear"))))),"Check inputs") | T7: =IFERROR(IF($A7="","",IF($G7="Canceled","Not active",IF(OR($B7="",$N7="",$O7="",$P7=""),"Incomplete",IF(OR($O7<Assumptions!$B$5,$P7>Assumptions!$B$6,$P7<=$O7),"Check times",IF(COUNTIFS($B$5:$B$104,$B7,$N$5:$N$104,$N7,$O$5:$O$104,"<"&$P7,$P$5:$P$104,">"&$O7,$G$5:$G$104,"<>Canceled")>1,"Conflict","Clear"))))),"Check inputs") | U7: =IFERROR(IF($A7="","",IF($G7="Canceled","Not active",IF(OR($B7="",$E7="",$F7="",$G7="",$H7="",$I7="",$J7="",$K7="",$L7="",$M7="",$N7="",$O7="",$P7=""),"Incomplete",IF(OR(COUNTIF($A$5:$A$104,$A7)>1,$B7<Assumptions!$B$7,$B7>Assumptions!$B$8,$R7<>"Clear",$S7<>"Clear",$T7<>"Clear",$L7<$J7,$O7<$M7),"Review","Clear")))),"Review") | V7: Review the overlapping table window.
A8: DEMO-004 | B8: 46279 | C8: Fictional Client 04 | D8: Fictional Pet 04 | E8: Puppy Groom | F8: Demo Groomer D | G8: Scheduled | H8: Table 3 | I8: 0.41666667 | J8: 0.44791667 | K8: Tub 2 | L8: 0.44791667 | M8: 0.46875 | N8: Dryer 1 | O8: 0.46875 | P8: 0.48958333 | Q8: =IFERROR(IF(OR($A8="",$G8="Canceled",$I8="",$J8="",$L8="",$M8="",$O8="",$P8=""),"",IF(OR($J8<=$I8,$M8<=$L8,$P8<=$O8,$L8<$J8,$O8<$M8,$I8<Assumptions!$B$5,$J8>Assumptions!$B$6,$L8<Assumptions!$B$5,$M8>Assumptions!$B$6,$O8<Assumptions!$B$5,$P8>Assumptions!$B$6),"",(MAX($J8,$M8,$P8)-MIN($I8,$L8,$O8))*24)),"") | R8: =IFERROR(IF($A8="","",IF($G8="Canceled","Not active",IF(OR($B8="",$H8="",$I8="",$J8=""),"Incomplete",IF(OR($I8<Assumptions!$B$5,$J8>Assumptions!$B$6,$J8<=$I8),"Check times",IF(COUNTIFS($B$5:$B$104,$B8,$H$5:$H$104,$H8,$I$5:$I$104,"<"&$J8,$J$5:$J$104,">"&$I8,$G$5:$G$104,"<>Canceled")>1,"Conflict","Clear"))))),"Check inputs") | S8: =IFERROR(IF($A8="","",IF($G8="Canceled","Not active",IF(OR($B8="",$K8="",$L8="",$M8=""),"Incomplete",IF(OR($L8<Assumptions!$B$5,$M8>Assumptions!$B$6,$M8<=$L8),"Check times",IF(COUNTIFS($B$5:$B$104,$B8,$K$5:$K$104,$K8,$L$5:$L$104,"<"&$M8,$M$5:$M$104,">"&$L8,$G$5:$G$104,"<>Canceled")>1,"Conflict","Clear"))))),"Check inputs") | T8: =IFERROR(IF($A8="","",IF($G8="Canceled","Not active",IF(OR($B8="",$N8="",$O8="",$P8=""),"Incomplete",IF(OR($O8<Assumptions!$B$5,$P8>Assumptions!$B$6,$P8<=$O8),"Check times",IF(COUNTIFS($B$5:$B$104,$B8,$N$5:$N$104,$N8,$O$5:$O$104,"<"&$P8,$P$5:$P$104,">"&$O8,$G$5:$G$104,"<>Canceled")>1,"Conflict","Clear"))))),"Check inputs") | U8: =IFERROR(IF($A8="","",IF($G8="Canceled","Not active",IF(OR($B8="",$E8="",$F8="",$G8="",$H8="",$I8="",$J8="",$K8="",$L8="",$M8="",$N8="",$O8="",$P8=""),"Incomplete",IF(OR(COUNTIF($A$5:$A$104,$A8)>1,$B8<Assumptions!$B$7,$B8>Assumptions!$B$8,$R8<>"Clear",$S8<>"Clear",$T8<>"Clear",$L8<$J8,$O8<$M8),"Review","Clear")))),"Review") | V8: Allow staff to confirm the handoff between stations.
A9: DEMO-005 | B9: 46279 | C9: Fictional Client 05 | D9: Fictional Pet 05 | E9: Coat Trim | F9: Demo Groomer A | G9: Scheduled | H9: Table 4 | I9: 0.5 | J9: 0.52083333 | K9: Tub 3 | L9: 0.52083333 | M9: 0.54166667 | N9: Dryer 4 | O9: 0.54166667 | P9: 0.5625 | Q9: =IFERROR(IF(OR($A9="",$G9="Canceled",$I9="",$J9="",$L9="",$M9="",$O9="",$P9=""),"",IF(OR($J9<=$I9,$M9<=$L9,$P9<=$O9,$L9<$J9,$O9<$M9,$I9<Assumptions!$B$5,$J9>Assumptions!$B$6,$L9<Assumptions!$B$5,$M9>Assumptions!$B$6,$O9<Assumptions!$B$5,$P9>Assumptions!$B$6),"",(MAX($J9,$M9,$P9)-MIN($I9,$L9,$O9))*24)),"") | R9: =IFERROR(IF($A9="","",IF($G9="Canceled","Not active",IF(OR($B9="",$H9="",$I9="",$J9=""),"Incomplete",IF(OR($I9<Assumptions!$B$5,$J9>Assumptions!$B$6,$J9<=$I9),"Check times",IF(COUNTIFS($B$5:$B$104,$B9,$H$5:$H$104,$H9,$I$5:$I$104,"<"&$J9,$J$5:$J$104,">"&$I9,$G$5:$G$104,"<>Canceled")>1,"Conflict","Clear"))))),"Check inputs") | S9: =IFERROR(IF($A9="","",IF($G9="Canceled","Not active",IF(OR($B9="",$K9="",$L9="",$M9=""),"Incomplete",IF(OR($L9<Assumptions!$B$5,$M9>Assumptions!$B$6,$M9<=$L9),"Check times",IF(COUNTIFS($B$5:$B$104,$B9,$K$5:$K$104,$K9,$L$5:$L$104,"<"&$M9,$M$5:$M$104,">"&$L9,$G$5:$G$104,"<>Canceled")>1,"Conflict","Clear"))))),"Check inputs") | T9: =IFERROR(IF($A9="","",IF($G9="Canceled","Not active",IF(OR($B9="",$N9="",$O9="",$P9=""),"Incomplete",IF(OR($O9<Assumptions!$B$5,$P9>Assumptions!$B$6,$P9<=$O9),"Check times",IF(COUNTIFS($B$5:$B$104,$B9,$N$5:$N$104,$N9,$O$5:$O$104,"<"&$P9,$P$5:$P$104,">"&$O9,$G$5:$G$104,"<>Canceled")>1,"Conflict","Clear"))))),"Check inputs") | U9: =IFERROR(IF($A9="","",IF($G9="Canceled","Not active",IF(OR($B9="",$E9="",$F9="",$G9="",$H9="",$I9="",$J9="",$K9="",$L9="",$M9="",$N9="",$O9="",$P9=""),"Incomplete",IF(OR(COUNTIF($A$5:$A$104,$A9)>1,$B9<Assumptions!$B$7,$B9>Assumptions!$B$8,$R9<>"Clear",$S9<>"Clear",$T9<>"Clear",$L9<$J9,$O9<$M9),"Review","Clear")))),"Review") | V9: Confirm the requested finish during check-in.
A10: DEMO-006 | B10: 46280 | C10: Fictional Client 06 | D10: Fictional Pet 06 | E10: Full Groom | F10: Demo Groomer B | G10: Confirmed | H10: Table 1 | I10: 0.29166667 | J10: 0.32291667 | K10: Tub 1 | L10: 0.32291667 | M10: 0.34375 | N10: Dryer 1 | O10: 0.34375 | P10: 0.375 | Q10: =IFERROR(IF(OR($A10="",$G10="Canceled",$I10="",$J10="",$L10="",$M10="",$O10="",$P10=""),"",IF(OR($J10<=$I10,$M10<=$L10,$P10<=$O10,$L10<$J10,$O10<$M10,$I10<Assumptions!$B$5,$J10>Assumptions!$B$6,$L10<Assumptions!$B$5,$M10>Assumptions!$B$6,$O10<Assumptions!$B$5,$P10>Assumptions!$B$6),"",(MAX($J10,$M10,$P10)-MIN($I10,$L10,$O10))*24)),"") | R10: =IFERROR(IF($A10="","",IF($G10="Canceled","Not active",IF(OR($B10="",$H10="",$I10="",$J10=""),"Incomplete",IF(OR($I10<Assumptions!$B$5,$J10>Assumptions!$B$6,$J10<=$I10),"Check times",IF(COUNTIFS($B$5:$B$104,$B10,$H$5:$H$104,$H10,$I$5:$I$104,"<"&$J10,$J$5:$J$104,">"&$I10,$G$5:$G$104,"<>Canceled")>1,"Conflict","Clear"))))),"Check inputs") | S10: =IFERROR(IF($A10="","",IF($G10="Canceled","Not active",IF(OR($B10="",$K10="",$L10="",$M10=""),"Incomplete",IF(OR($L10<Assumptions!$B$5,$M10>Assumptions!$B$6,$M10<=$L10),"Check times",IF(COUNTIFS($B$5:$B$104,$B10,$K$5:$K$104,$K10,$L$5:$L$104,"<"&$M10,$M$5:$M$104,">"&$L10,$G$5:$G$104,"<>Canceled")>1,"Conflict","Clear"))))),"Check inputs") | T10: =IFERROR(IF($A10="","",IF($G10="Canceled","Not active",IF(OR($B10="",$N10="",$O10="",$P10=""),"Incomplete",IF(OR($O10<Assumptions!$B$5,$P10>Assumptions!$B$6,$P10<=$O10),"Check times",IF(COUNTIFS($B$5:$B$104,$B10,$N$5:$N$104,$N10,$O$5:$O$104,"<"&$P10,$P$5:$P$104,">"&$O10,$G$5:$G$104,"<>Canceled")>1,"Conflict","Clear"))))),"Check inputs") | U10: =IFERROR(IF($A10="","",IF($G10="Canceled","Not active",IF(OR($B10="",$E10="",$F10="",$G10="",$H10="",$I10="",$J10="",$K10="",$L10="",$M10="",$N10="",$O10="",$P10=""),"Incomplete",IF(OR(COUNTIF($A$5:$A$104,$A10)>1,$B10<Assumptions!$B$7,$B10>Assumptions!$B$8,$R10<>"Clear",$S10<>"Clear",$T10<>"Clear",$L10<$J10,$O10<$M10),"Review","Clear")))),"Review") | V10: Uses the editable earliest-start boundary.
A11: DEMO-007 | B11: 46280 | C11: Fictional Client 07 | D11: Fictional Pet 07 | E11: Express Bath | F11: Demo Groomer C | G11: Confirmed | H11: Table 2 | I11: 0.32291667 | J11: 0.34375 | K11: Tub 2 | L11: 0.34375 | M11: 0.36458333 | N11: Dryer 1 | O11: 0.36458333 | P11: 0.38541667 | Q11: =IFERROR(IF(OR($A11="",$G11="Canceled",$I11="",$J11="",$L11="",$M11="",$O11="",$P11=""),"",IF(OR($J11<=$I11,$M11<=$L11,$P11<=$O11,$L11<$J11,$O11<$M11,$I11<Assumptions!$B$5,$J11>Assumptions!$B$6,$L11<Assumptions!$B$5,$M11>Assumptions!$B$6,$O11<Assumptions!$B$5,$P11>Assumptions!$B$6),"",(MAX($J11,$M11,$P11)-MIN($I11,$L11,$O11))*24)),"") | R11: =IFERROR(IF($A11="","",IF($G11="Canceled","Not active",IF(OR($B11="",$H11="",$I11="",$J11=""),"Incomplete",IF(OR($I11<Assumptions!$B$5,$J11>Assumptions!$B$6,$J11<=$I11),"Check times",IF(COUNTIFS($B$5:$B$104,$B11,$H$5:$H$104,$H11,$I$5:$I$104,"<"&$J11,$J$5:$J$104,">"&$I11,$G$5:$G$104,"<>Canceled")>1,"Conflict","Clear"))))),"Check inputs") | S11: =IFERROR(IF($A11="","",IF($G11="Canceled","Not active",IF(OR($B11="",$K11="",$L11="",$M11=""),"Incomplete",IF(OR($L11<Assumptions!$B$5,$M11>Assumptions!$B$6,$M11<=$L11),"Check times",IF(COUNTIFS($B$5:$B$104,$B11,$K$5:$K$104,$K11,$L$5:$L$104,"<"&$M11,$M$5:$M$104,">"&$L11,$G$5:$G$104,"<>Canceled")>1,"Conflict","Clear"))))),"Check inputs") | T11: =IFERROR(IF($A11="","",IF($G11="Canceled","Not active",IF(OR($B11="",$N11="",$O11="",$P11=""),"Incomplete",IF(OR($O11<Assumptions!$B$5,$P11>Assumptions!$B$6,$P11<=$O11),"Check times",IF(COUNTIFS($B$5:$B$104,$B11,$N$5:$N$104,$N11,$O$5:$O$104,"<"&$P11,$P$5:$P$104,">"&$O11,$G$5:$G$104,"<>Canceled")>1,"Conflict","Clear"))))),"Check inputs") | U11: =IFERROR(IF($A11="","",IF($G11="Canceled","Not active",IF(OR($B11="",$E11="",$F11="",$G11="",$H11="",$I11="",$J11="",$K11="",$L11="",$M11="",$N11="",$O11="",$P11=""),"Incomplete",IF(OR(COUNTIF($A$5:$A$104,$A11)>1,$B11<Assumptions!$B$7,$B11>Assumptions!$B$8,$R11<>"Clear",$S11<>"Clear",$T11<>"Clear",$L11<$J11,$O11<$M11),"Review","Clear")))),"Review") | V11: Review the overlapping dryer window.
A12: DEMO-008 | B12: 46280 | C12: Fictional Client 08 | D12: Fictional Pet 08 | E12: Bath & Brush | F12: Demo Groomer D | G12: Canceled | H12: Table 1 | I12: 0.30208333 | J12: 0.33333333 | K12: Tub 1 | L12: 0.33333333 | M12: 0.35416667 | N12: Dryer 1 | O12: 0.35416667 | P12: 0.375 | Q12: =IFERROR(IF(OR($A12="",$G12="Canceled",$I12="",$J12="",$L12="",$M12="",$O12="",$P12=""),"",IF(OR($J12<=$I12,$M12<=$L12,$P12<=$O12,$L12<$J12,$O12<$M12,$I12<Assumptions!$B$5,$J12>Assumptions!$B$6,$L12<Assumptions!$B$5,$M12>Assumptions!$B$6,$O12<Assumptions!$B$5,$P12>Assumptions!$B$6),"",(MAX($J12,$M12,$P12)-MIN($I12,$L12,$O12))*24)),"") | R12: =IFERROR(IF($A12="","",IF($G12="Canceled","Not active",IF(OR($B12="",$H12="",$I12="",$J12=""),"Incomplete",IF(OR($I12<Assumptions!$B$5,$J12>Assumptions!$B$6,$J12<=$I12),"Check times",IF(COUNTIFS($B$5:$B$104,$B12,$H$5:$H$104,$H12,$I$5:$I$104,"<"&$J12,$J$5:$J$104,">"&$I12,$G$5:$G$104,"<>Canceled")>1,"Conflict","Clear"))))),"Check inputs") | S12: =IFERROR(IF($A12="","",IF($G12="Canceled","Not active",IF(OR($B12="",$K12="",$L12="",$M12=""),"Incomplete",IF(OR($L12<Assumptions!$B$5,$M12>Assumptions!$B$6,$M12<=$L12),"Check times",IF(COUNTIFS($B$5:$B$104,$B12,$K$5:$K$104,$K12,$L$5:$L$104,"<"&$M12,$M$5:$M$104,">"&$L12,$G$5:$G$104,"<>Canceled")>1,"Conflict","Clear"))))),"Check inputs") | T12: =IFERROR(IF($A12="","",IF($G12="Canceled","Not active",IF(OR($B12="",$N12="",$O12="",$P12=""),"Incomplete",IF(OR($O12<Assumptions!$B$5,$P12>Assumptions!$B$6,$P12<=$O12),"Check times",IF(COUNTIFS($B$5:$B$104,$B12,$N$5:$N$104,$N12,$O$5:$O$104,"<"&$P12,$P$5:$P$104,">"&$O12,$G$5:$G$104,"<>Canceled")>1,"Conflict","Clear"))))),"Check inputs") | U12: =IFERROR(IF($A12="","",IF($G12="Canceled","Not active",IF(OR($B12="",$E12="",$F12="",$G12="",$H12="",$I12="",$J12="",$K12="",$L12="",$M12="",$N12="",$O12="",$P12=""),"Incomplete",IF(OR(COUNTIF($A$5:$A$104,$A12)>1,$B12<Assumptions!$B$7,$B12>Assumptions!$B$8,$R12<>"Clear",$S12<>"Clear",$T12<>"Clear",$L12<$J12,$O12<$M12),"Review","Clear")))),"Review") | V12: Canceled example; excluded from active conflicts.
A13: DEMO-009 | B13: 46281 | C13: Fictional Client 09 | D13: Fictional Pet 09 | E13: Deshedding | F13: Demo Groomer A | G13: Scheduled | H13: Table 3 | I13: 0.58333333 | J13: 0.625 | K13: Tub 3 | L13: 0.625 | M13: 0.64583333 | N13: Dryer 2 | O13: 0.64583333 | P13: 0.66666667 | Q13: =IFERROR(IF(OR($A13="",$G13="Canceled",$I13="",$J13="",$L13="",$M13="",$O13="",$P13=""),"",IF(OR($J13<=$I13,$M13<=$L13,$P13<=$O13,$L13<$J13,$O13<$M13,$I13<Assumptions!$B$5,$J13>Assumptions!$B$6,$L13<Assumptions!$B$5,$M13>Assumptions!$B$6,$O13<Assumptions!$B$5,$P13>Assumptions!$B$6),"",(MAX($J13,$M13,$P13)-MIN($I13,$L13,$O13))*24)),"") | R13: =IFERROR(IF($A13="","",IF($G13="Canceled","Not active",IF(OR($B13="",$H13="",$I13="",$J13=""),"Incomplete",IF(OR($I13<Assumptions!$B$5,$J13>Assumptions!$B$6,$J13<=$I13),"Check times",IF(COUNTIFS($B$5:$B$104,$B13,$H$5:$H$104,$H13,$I$5:$I$104,"<"&$J13,$J$5:$J$104,">"&$I13,$G$5:$G$104,"<>Canceled")>1,"Conflict","Clear"))))),"Check inputs") | S13: =IFERROR(IF($A13="","",IF($G13="Canceled","Not active",IF(OR($B13="",$K13="",$L13="",$M13=""),"Incomplete",IF(OR($L13<Assumptions!$B$5,$M13>Assumptions!$B$6,$M13<=$L13),"Check times",IF(COUNTIFS($B$5:$B$104,$B13,$K$5:$K$104,$K13,$L$5:$L$104,"<"&$M13,$M$5:$M$104,">"&$L13,$G$5:$G$104,"<>Canceled")>1,"Conflict","Clear"))))),"Check inputs") | T13: =IFERROR(IF($A13="","",IF($G13="Canceled","Not active",IF(OR($B13="",$N13="",$O13="",$P13=""),"Incomplete",IF(OR($O13<Assumptions!$B$5,$P13>Assumptions!$B$6,$P13<=$O13),"Check times",IF(COUNTIFS($B$5:$B$104,$B13,$N$5:$N$104,$N13,$O$5:$O$104,"<"&$P13,$P$5:$P$104,">"&$O13,$G$5:$G$104,"<>Canceled")>1,"Conflict","Clear"))))),"Check inputs") | U13: =IFERROR(IF($A13="","",IF($G13="Canceled","Not active",IF(OR($B13="",$E13="",$F13="",$G13="",$H13="",$I13="",$J13="",$K13="",$L13="",$M13="",$N13="",$O13="",$P13=""),"Incomplete",IF(OR(COUNTIF($A$5:$A$104,$A13)>1,$B13<Assumptions!$B$7,$B13>Assumptions!$B$8,$R13<>"Clear",$S13<>"Clear",$T13<>"Clear",$L13<$J13,$O13<$M13),"Review","Clear")))),"Review") | V13: Confirm station readiness before the appointment.
A14: DEMO-010 | B14: 46281 | C14: Fictional Client 10 | D14: Fictional Pet 10 | E14: Full Groom | F14: Demo Groomer B | G14: Confirmed | H14: Table 4 | I14: 0.72916667 | J14: 0.75 | K14: Tub 2 | L14: 0.75 | M14: 0.77083333 | N14: Dryer 4 | O14: 0.77083333 | P14: 0.79166667 | Q14: =IFERROR(IF(OR($A14="",$G14="Canceled",$I14="",$J14="",$L14="",$M14="",$O14="",$P14=""),"",IF(OR($J14<=$I14,$M14<=$L14,$P14<=$O14,$L14<$J14,$O14<$M14,$I14<Assumptions!$B$5,$J14>Assumptions!$B$6,$L14<Assumptions!$B$5,$M14>Assumptions!$B$6,$O14<Assumptions!$B$5,$P14>Assumptions!$B$6),"",(MAX($J14,$M14,$P14)-MIN($I14,$L14,$O14))*24)),"") | R14: =IFERROR(IF($A14="","",IF($G14="Canceled","Not active",IF(OR($B14="",$H14="",$I14="",$J14=""),"Incomplete",IF(OR($I14<Assumptions!$B$5,$J14>Assumptions!$B$6,$J14<=$I14),"Check times",IF(COUNTIFS($B$5:$B$104,$B14,$H$5:$H$104,$H14,$I$5:$I$104,"<"&$J14,$J$5:$J$104,">"&$I14,$G$5:$G$104,"<>Canceled")>1,"Conflict","Clear"))))),"Check inputs") | S14: =IFERROR(IF($A14="","",IF($G14="Canceled","Not active",IF(OR($B14="",$K14="",$L14="",$M14=""),"Incomplete",IF(OR($L14<Assumptions!$B$5,$M14>Assumptions!$B$6,$M14<=$L14),"Check times",IF(COUNTIFS($B$5:$B$104,$B14,$K$5:$K$104,$K14,$L$5:$L$104,"<"&$M14,$M$5:$M$104,">"&$L14,$G$5:$G$104,"<>Canceled")>1,"Conflict","Clear"))))),"Check inputs") | T14: =IFERROR(IF($A14="","",IF($G14="Canceled","Not active",IF(OR($B14="",$N14="",$O14="",$P14=""),"Incomplete",IF(OR($O14<Assumptions!$B$5,$P14>Assumptions!$B$6,$P14<=$O14),"Check times",IF(COUNTIFS($B$5:$B$104,$B14,$N$5:$N$104,$N14,$O$5:$O$104,"<"&$P14,$P$5:$P$104,">"&$O14,$G$5:$G$104,"<>Canceled")>1,"Conflict","Clear"))))),"Check inputs") | U14: =IFERROR(IF($A14="","",IF($G14="Canceled","Not active",IF(OR($B14="",$E14="",$F14="",$G14="",$H14="",$I14="",$J14="",$K14="",$L14="",$M14="",$N14="",$O14="",$P14=""),"Incomplete",IF(OR(COUNTIF($A$5:$A$104,$A14)>1,$B14<Assumptions!$B$7,$B14>Assumptions!$B$8,$R14<>"Clear",$S14<>"Clear",$T14<>"Clear",$L14<$J14,$O14<$M14),"Review","Clear")))),"Review") | V14: Uses the editable latest-finish boundary.
Q15: =IFERROR(IF(OR($A15="",$G15="Canceled",$I15="",$J15="",$L15="",$M15="",$O15="",$P15=""),"",IF(OR($J15<=$I15,$M15<=$L15,$P15<=$O15,$L15<$J15,$O15<$M15,$I15<Assumptions!$B$5,$J15>Assumptions!$B$6,$L15<Assumptions!$B$5,$M15>Assumptions!$B$6,$O15<Assumptions!$B$5,$P15>Assumptions!$B$6),"",(MAX($J15,$M15,$P15)-MIN($I15,$L15,$O15))*24)),"") | R15: =IFERROR(IF($A15="","",IF($G15="Canceled","Not active",IF(OR($B15="",$H15="",$I15="",$J15=""),"Incomplete",IF(OR($I15<Assumptions!$B$5,$J15>Assumptions!$B$6,$J15<=$I15),"Check times",IF(COUNTIFS($B$5:$B$104,$B15,$H$5:$H$104,$H15,$I$5:$I$104,"<"&$J15,$J$5:$J$104,">"&$I15,$G$5:$G$104,"<>Canceled")>1,"Conflict","Clear"))))),"Check inputs") | S15: =IFERROR(IF($A15="","",IF($G15="Canceled","Not active",IF(OR($B15="",$K15="",$L15="",$M15=""),"Incomplete",IF(OR($L15<Assumptions!$B$5,$M15>Assumptions!$B$6,$M15<=$L15),"Check times",IF(COUNTIFS($B$5:$B$104,$B15,$K$5:$K$104,$K15,$L$5:$L$104,"<"&$M15,$M$5:$M$104,">"&$L15,$G$5:$G$104,"<>Canceled")>1,"Conflict","Clear"))))),"Check inputs") | T15: =IFERROR(IF($A15="","",IF($G15="Canceled","Not active",IF(OR($B15="",$N15="",$O15="",$P15=""),"Incomplete",IF(OR($O15<Assumptions!$B$5,$P15>Assumptions!$B$6,$P15<=$O15),"Check times",IF(COUNTIFS($B$5:$B$104,$B15,$N$5:$N$104,$N15,$O$5:$O$104,"<"&$P15,$P$5:$P$104,">"&$O15,$G$5:$G$104,"<>Canceled")>1,"Conflict","Clear"))))),"Check inputs") | U15: =IFERROR(IF($A15="","",IF($G15="Canceled","Not active",IF(OR($B15="",$E15="",$F15="",$G15="",$H15="",$I15="",$J15="",$K15="",$L15="",$M15="",$N15="",$O15="",$P15=""),"Incomplete",IF(OR(COUNTIF($A$5:$A$104,$A15)>1,$B15<Assumptions!$B$7,$B15>Assumptions!$B$8,$R15<>"Clear",$S15<>"Clear",$T15<>"Clear",$L15<$J15,$O15<$M15),"Review","Clear")))),"Review")
Q16: =IFERROR(IF(OR($A16="",$G16="Canceled",$I16="",$J16="",$L16="",$M16="",$O16="",$P16=""),"",IF(OR($J16<=$I16,$M16<=$L16,$P16<=$O16,$L16<$J16,$O16<$M16,$I16<Assumptions!$B$5,$J16>Assumptions!$B$6,$L16<Assumptions!$B$5,$M16>Assumptions!$B$6,$O16<Assumptions!$B$5,$P16>Assumptions!$B$6),"",(MAX($J16,$M16,$P16)-MIN($I16,$L16,$O16))*24)),"") | R16: =IFERROR(IF($A16="","",IF($G16="Canceled","Not active",IF(OR($B16="",$H16="",$I16="",$J16=""),"Incomplete",IF(OR($I16<Assumptions!$B$5,$J16>Assumptions!$B$6,$J16<=$I16),"Check times",IF(COUNTIFS($B$5:$B$104,$B16,$H$5:$H$104,$H16,$I$5:$I$104,"<"&$J16,$J$5:$J$104,">"&$I16,$G$5:$G$104,"<>Canceled")>1,"Conflict","Clear"))))),"Check inputs") | S16: =IFERROR(IF($A16="","",IF($G16="Canceled","Not active",IF(OR($B16="",$K16="",$L16="",$M16=""),"Incomplete",IF(OR($L16<Assumptions!$B$5,$M16>Assumptions!$B$6,$M16<=$L16),"Check times",IF(COUNTIFS($B$5:$B$104,$B16,$K$5:$K$104,$K16,$L$5:$L$104,"<"&$M16,$M$5:$M$104,">"&$L16,$G$5:$G$104,"<>Canceled")>1,"Conflict","Clear"))))),"Check inputs") | T16: =IFERROR(IF($A16="","",IF($G16="Canceled","Not active",IF(OR($B16="",$N16="",$O16="",$P16=""),"Incomplete",IF(OR($O16<Assumptions!$B$5,$P16>Assumptions!$B$6,$P16<=$O16),"Check times",IF(COUNTIFS($B$5:$B$104,$B16,$N$5:$N$104,$N16,$O$5:$O$104,"<"&$P16,$P$5:$P$104,">"&$O16,$G$5:$G$104,"<>Canceled")>1,"Conflict","Clear"))))),"Check inputs") | U16: =IFERROR(IF($A16="","",IF($G16="Canceled","Not active",IF(OR($B16="",$E16="",$F16="",$G16="",$H16="",$I16="",$J16="",$K16="",$L16="",$M16="",$N16="",$O16="",$P16=""),"Incomplete",IF(OR(COUNTIF($A$5:$A$104,$A16)>1,$B16<Assumptions!$B$7,$B16>Assumptions!$B$8,$R16<>"Clear",$S16<>"Clear",$T16<>"Clear",$L16<$J16,$O16<$M16),"Review","Clear")))),"Review")
Q17: =IFERROR(IF(OR($A17="",$G17="Canceled",$I17="",$J17="",$L17="",$M17="",$O17="",$P17=""),"",IF(OR($J17<=$I17,$M17<=$L17,$P17<=$O17,$L17<$J17,$O17<$M17,$I17<Assumptions!$B$5,$J17>Assumptions!$B$6,$L17<Assumptions!$B$5,$M17>Assumptions!$B$6,$O17<Assumptions!$B$5,$P17>Assumptions!$B$6),"",(MAX($J17,$M17,$P17)-MIN($I17,$L17,$O17))*24)),"") | R17: =IFERROR(IF($A17="","",IF($G17="Canceled","Not active",IF(OR($B17="",$H17="",$I17="",$J17=""),"Incomplete",IF(OR($I17<Assumptions!$B$5,$J17>Assumptions!$B$6,$J17<=$I17),"Check times",IF(COUNTIFS($B$5:$B$104,$B17,$H$5:$H$104,$H17,$I$5:$I$104,"<"&$J17,$J$5:$J$104,">"&$I17,$G$5:$G$104,"<>Canceled")>1,"Conflict","Clear"))))),"Check inputs") | S17: =IFERROR(IF($A17="","",IF($G17="Canceled","Not active",IF(OR($B17="",$K17="",$L17="",$M17=""),"Incomplete",IF(OR($L17<Assumptions!$B$5,$M17>Assumptions!$B$6,$M17<=$L17),"Check times",IF(COUNTIFS($B$5:$B$104,$B17,$K$5:$K$104,$K17,$L$5:$L$104,"<"&$M17,$M$5:$M$104,">"&$L17,$G$5:$G$104,"<>Canceled")>1,"Conflict","Clear"))))),"Check inputs") | T17: =IFERROR(IF($A17="","",IF($G17="Canceled","Not active",IF(OR($B17="",$N17="",$O17="",$P17=""),"Incomplete",IF(OR($O17<Assumptions!$B$5,$P17>Assumptions!$B$6,$P17<=$O17),"Check times",IF(COUNTIFS($B$5:$B$104,$B17,$N$5:$N$104,$N17,$O$5:$O$104,"<"&$P17,$P$5:$P$104,">"&$O17,$G$5:$G$104,"<>Canceled")>1,"Conflict","Clear"))))),"Check inputs") | U17: =IFERROR(IF($A17="","",IF($G17="Canceled","Not active",IF(OR($B17="",$E17="",$F17="",$G17="",$H17="",$I17="",$J17="",$K17="",$L17="",$M17="",$N17="",$O17="",$P17=""),"Incomplete",IF(OR(COUNTIF($A$5:$A$104,$A17)>1,$B17<Assumptions!$B$7,$B17>Assumptions!$B$8,$R17<>"Clear",$S17<>"Clear",$T17<>"Clear",$L17<$J17,$O17<$M17),"Review","Clear")))),"Review")
Q18: =IFERROR(IF(OR($A18="",$G18="Canceled",$I18="",$J18="",$L18="",$M18="",$O18="",$P18=""),"",IF(OR($J18<=$I18,$M18<=$L18,$P18<=$O18,$L18<$J18,$O18<$M18,$I18<Assumptions!$B$5,$J18>Assumptions!$B$6,$L18<Assumptions!$B$5,$M18>Assumptions!$B$6,$O18<Assumptions!$B$5,$P18>Assumptions!$B$6),"",(MAX($J18,$M18,$P18)-MIN($I18,$L18,$O18))*24)),"") | R18: =IFERROR(IF($A18="","",IF($G18="Canceled","Not active",IF(OR($B18="",$H18="",$I18="",$J18=""),"Incomplete",IF(OR($I18<Assumptions!$B$5,$J18>Assumptions!$B$6,$J18<=$I18),"Check times",IF(COUNTIFS($B$5:$B$104,$B18,$H$5:$H$104,$H18,$I$5:$I$104,"<"&$J18,$J$5:$J$104,">"&$I18,$G$5:$G$104,"<>Canceled")>1,"Conflict","Clear"))))),"Check inputs") | S18: =IFERROR(IF($A18="","",IF($G18="Canceled","Not active",IF(OR($B18="",$K18="",$L18="",$M18=""),"Incomplete",IF(OR($L18<Assumptions!$B$5,$M18>Assumptions!$B$6,$M18<=$L18),"Check times",IF(COUNTIFS($B$5:$B$104,$B18,$K$5:$K$104,$K18,$L$5:$L$104,"<"&$M18,$M$5:$M$104,">"&$L18,$G$5:$G$104,"<>Canceled")>1,"Conflict","Clear"))))),"Check inputs") | T18: =IFERROR(IF($A18="","",IF($G18="Canceled","Not active",IF(OR($B18="",$N18="",$O18="",$P18=""),"Incomplete",IF(OR($O18<Assumptions!$B$5,$P18>Assumptions!$B$6,$P18<=$O18),"Check times",IF(COUNTIFS($B$5:$B$104,$B18,$N$5:$N$104,$N18,$O$5:$O$104,"<"&$P18,$P$5:$P$104,">"&$O18,$G$5:$G$104,"<>Canceled")>1,"Conflict","Clear"))))),"Check inputs") | U18: =IFERROR(IF($A18="","",IF($G18="Canceled","Not active",IF(OR($B18="",$E18="",$F18="",$G18="",$H18="",$I18="",$J18="",$K18="",$L18="",$M18="",$N18="",$O18="",$P18=""),"Incomplete",IF(OR(COUNTIF($A$5:$A$104,$A18)>1,$B18<Assumptions!$B$7,$B18>Assumptions!$B$8,$R18<>"Clear",$S18<>"Clear",$T18<>"Clear",$L18<$J18,$O18<$M18),"Review","Clear")))),"Review")
Q19: =IFERROR(IF(OR($A19="",$G19="Canceled",$I19="",$J19="",$L19="",$M19="",$O19="",$P19=""),"",IF(OR($J19<=$I19,$M19<=$L19,$P19<=$O19,$L19<$J19,$O19<$M19,$I19<Assumptions!$B$5,$J19>Assumptions!$B$6,$L19<Assumptions!$B$5,$M19>Assumptions!$B$6,$O19<Assumptions!$B$5,$P19>Assumptions!$B$6),"",(MAX($J19,$M19,$P19)-MIN($I19,$L19,$O19))*24)),"") | R19: =IFERROR(IF($A19="","",IF($G19="Canceled","Not active",IF(OR($B19="",$H19="",$I19="",$J19=""),"Incomplete",IF(OR($I19<Assumptions!$B$5,$J19>Assumptions!$B$6,$J19<=$I19),"Check times",IF(COUNTIFS($B$5:$B$104,$B19,$H$5:$H$104,$H19,$I$5:$I$104,"<"&$J19,$J$5:$J$104,">"&$I19,$G$5:$G$104,"<>Canceled")>1,"Conflict","Clear"))))),"Check inputs") | S19: =IFERROR(IF($A19="","",IF($G19="Canceled","Not active",IF(OR($B19="",$K19="",$L19="",$M19=""),"Incomplete",IF(OR($L19<Assumptions!$B$5,$M19>Assumptions!$B$6,$M19<=$L19),"Check times",IF(COUNTIFS($B$5:$B$104,$B19,$K$5:$K$104,$K19,$L$5:$L$104,"<"&$M19,$M$5:$M$104,">"&$L19,$G$5:$G$104,"<>Canceled")>1,"Conflict","Clear"))))),"Check inputs") | T19: =IFERROR(IF($A19="","",IF($G19="Canceled","Not active",IF(OR($B19="",$N19="",$O19="",$P19=""),"Incomplete",IF(OR($O19<Assumptions!$B$5,$P19>Assumptions!$B$6,$P19<=$O19),"Check times",IF(COUNTIFS($B$5:$B$104,$B19,$N$5:$N$104,$N19,$O$5:$O$104,"<"&$P19,$P$5:$P$104,">"&$O19,$G$5:$G$104,"<>Canceled")>1,"Conflict","Clear"))))),"Check inputs") | U19: =IFERROR(IF($A19="","",IF($G19="Canceled","Not active",IF(OR($B19="",$E19="",$F19="",$G19="",$H19="",$I19="",$J19="",$K19="",$L19="",$M19="",$N19="",$O19="",$P19=""),"Incomplete",IF(OR(COUNTIF($A$5:$A$104,$A19)>1,$B19<Assumptions!$B$7,$B19>Assumptions!$B$8,$R19<>"Clear",$S19<>"Clear",$T19<>"Clear",$L19<$J19,$O19<$M19),"Review","Clear")))),"Review")
Q20: =IFERROR(IF(OR($A20="",$G20="Canceled",$I20="",$J20="",$L20="",$M20="",$O20="",$P20=""),"",IF(OR($J20<=$I20,$M20<=$L20,$P20<=$O20,$L20<$J20,$O20<$M20,$I20<Assumptions!$B$5,$J20>Assumptions!$B$6,$L20<Assumptions!$B$5,$M20>Assumptions!$B$6,$O20<Assumptions!$B$5,$P20>Assumptions!$B$6),"",(MAX($J20,$M20,$P20)-MIN($I20,$L20,$O20))*24)),"") | R20: =IFERROR(IF($A20="","",IF($G20="Canceled","Not active",IF(OR($B20="",$H20="",$I20="",$J20=""),"Incomplete",IF(OR($I20<Assumptions!$B$5,$J20>Assumptions!$B$6,$J20<=$I20),"Check times",IF(COUNTIFS($B$5:$B$104,$B20,$H$5:$H$104,$H20,$I$5:$I$104,"<"&$J20,$J$5:$J$104,">"&$I20,$G$5:$G$104,"<>Canceled")>1,"Conflict","Clear"))))),"Check inputs") | S20: =IFERROR(IF($A20="","",IF($G20="Canceled","Not active",IF(OR($B20="",$K20="",$L20="",$M20=""),"Incomplete",IF(OR($L20<Assumptions!$B$5,$M20>Assumptions!$B$6,$M20<=$L20),"Check times",IF(COUNTIFS($B$5:$B$104,$B20,$K$5:$K$104,$K20,$L$5:$L$104,"<"&$M20,$M$5:$M$104,">"&$L20,$G$5:$G$104,"<>Canceled")>1,"Conflict","Clear"))))),"Check inputs") | T20: =IFERROR(IF($A20="","",IF($G20="Canceled","Not active",IF(OR($B20="",$N20="",$O20="",$P20=""),"Incomplete",IF(OR($O20<Assumptions!$B$5,$P20>Assumptions!$B$6,$P20<=$O20),"Check times",IF(COUNTIFS($B$5:$B$104,$B20,$N$5:$N$104,$N20,$O$5:$O$104,"<"&$P20,$P$5:$P$104,">"&$O20,$G$5:$G$104,"<>Canceled")>1,"Conflict","Clear"))))),"Check inputs") | U20: =IFERROR(IF($A20="","",IF($G20="Canceled","Not active",IF(OR($B20="",$E20="",$F20="",$G20="",$H20="",$I20="",$J20="",$K20="",$L20="",$M20="",$N20="",$O20="",$P20=""),"Incomplete",IF(OR(COUNTIF($A$5:$A$104,$A20)>1,$B20<Assumptions!$B$7,$B20>Assumptions!$B$8,$R20<>"Clear",$S20<>"Clear",$T20<>"Clear",$L20<$J20,$O20<$M20),"Review","Clear")))),"Review")
Q21: =IFERROR(IF(OR($A21="",$G21="Canceled",$I21="",$J21="",$L21="",$M21="",$O21="",$P21=""),"",IF(OR($J21<=$I21,$M21<=$L21,$P21<=$O21,$L21<$J21,$O21<$M21,$I21<Assumptions!$B$5,$J21>Assumptions!$B$6,$L21<Assumptions!$B$5,$M21>Assumptions!$B$6,$O21<Assumptions!$B$5,$P21>Assumptions!$B$6),"",(MAX($J21,$M21,$P21)-MIN($I21,$L21,$O21))*24)),"") | R21: =IFERROR(IF($A21="","",IF($G21="Canceled","Not active",IF(OR($B21="",$H21="",$I21="",$J21=""),"Incomplete",IF(OR($I21<Assumptions!$B$5,$J21>Assumptions!$B$6,$J21<=$I21),"Check times",IF(COUNTIFS($B$5:$B$104,$B21,$H$5:$H$104,$H21,$I$5:$I$104,"<"&$J21,$J$5:$J$104,">"&$I21,$G$5:$G$104,"<>Canceled")>1,"Conflict","Clear"))))),"Check inputs") | S21: =IFERROR(IF($A21="","",IF($G21="Canceled","Not active",IF(OR($B21="",$K21="",$L21="",$M21=""),"Incomplete",IF(OR($L21<Assumptions!$B$5,$M21>Assumptions!$B$6,$M21<=$L21),"Check times",IF(COUNTIFS($B$5:$B$104,$B21,$K$5:$K$104,$K21,$L$5:$L$104,"<"&$M21,$M$5:$M$104,">"&$L21,$G$5:$G$104,"<>Canceled")>1,"Conflict","Clear"))))),"Check inputs") | T21: =IFERROR(IF($A21="","",IF($G21="Canceled","Not active",IF(OR($B21="",$N21="",$O21="",$P21=""),"Incomplete",IF(OR($O21<Assumptions!$B$5,$P21>Assumptions!$B$6,$P21<=$O21),"Check times",IF(COUNTIFS($B$5:$B$104,$B21,$N$5:$N$104,$N21,$O$5:$O$104,"<"&$P21,$P$5:$P$104,">"&$O21,$G$5:$G$104,"<>Canceled")>1,"Conflict","Clear"))))),"Check inputs") | U21: =IFERROR(IF($A21="","",IF($G21="Canceled","Not active",IF(OR($B21="",$E21="",$F21="",$G21="",$H21="",$I21="",$J21="",$K21="",$L21="",$M21="",$N21="",$O21="",$P21=""),"Incomplete",IF(OR(COUNTIF($A$5:$A$104,$A21)>1,$B21<Assumptions!$B$7,$B21>Assumptions!$B$8,$R21<>"Clear",$S21<>"Clear",$T21<>"Clear",$L21<$J21,$O21<$M21),"Review","Clear")))),"Review")
Q22: =IFERROR(IF(OR($A22="",$G22="Canceled",$I22="",$J22="",$L22="",$M22="",$O22="",$P22=""),"",IF(OR($J22<=$I22,$M22<=$L22,$P22<=$O22,$L22<$J22,$O22<$M22,$I22<Assumptions!$B$5,$J22>Assumptions!$B$6,$L22<Assumptions!$B$5,$M22>Assumptions!$B$6,$O22<Assumptions!$B$5,$P22>Assumptions!$B$6),"",(MAX($J22,$M22,$P22)-MIN($I22,$L22,$O22))*24)),"") | R22: =IFERROR(IF($A22="","",IF($G22="Canceled","Not active",IF(OR($B22="",$H22="",$I22="",$J22=""),"Incomplete",IF(OR($I22<Assumptions!$B$5,$J22>Assumptions!$B$6,$J22<=$I22),"Check times",IF(COUNTIFS($B$5:$B$104,$B22,$H$5:$H$104,$H22,$I$5:$I$104,"<"&$J22,$J$5:$J$104,">"&$I22,$G$5:$G$104,"<>Canceled")>1,"Conflict","Clear"))))),"Check inputs") | S22: =IFERROR(IF($A22="","",IF($G22="Canceled","Not active",IF(OR($B22="",$K22="",$L22="",$M22=""),"Incomplete",IF(OR($L22<Assumptions!$B$5,$M22>Assumptions!$B$6,$M22<=$L22),"Check times",IF(COUNTIFS($B$5:$B$104,$B22,$K$5:$K$104,$K22,$L$5:$L$104,"<"&$M22,$M$5:$M$104,">"&$L22,$G$5:$G$104,"<>Canceled")>1,"Conflict","Clear"))))),"Check inputs") | T22: =IFERROR(IF($A22="","",IF($G22="Canceled","Not active",IF(OR($B22="",$N22="",$O22="",$P22=""),"Incomplete",IF(OR($O22<Assumptions!$B$5,$P22>Assumptions!$B$6,$P22<=$O22),"Check times",IF(COUNTIFS($B$5:$B$104,$B22,$N$5:$N$104,$N22,$O$5:$O$104,"<"&$P22,$P$5:$P$104,">"&$O22,$G$5:$G$104,"<>Canceled")>1,"Conflict","Clear"))))),"Check inputs") | U22: =IFERROR(IF($A22="","",IF($G22="Canceled","Not active",IF(OR($B22="",$E22="",$F22="",$G22="",$H22="",$I22="",$J22="",$K22="",$L22="",$M22="",$N22="",$O22="",$P22=""),"Incomplete",IF(OR(COUNTIF($A$5:$A$104,$A22)>1,$B22<Assumptions!$B$7,$B22>Assumptions!$B$8,$R22<>"Clear",$S22<>"Clear",$T22<>"Clear",$L22<$J22,$O22<$M22),"Review","Clear")))),"Review")
Q23: =IFERROR(IF(OR($A23="",$G23="Canceled",$I23="",$J23="",$L23="",$M23="",$O23="",$P23=""),"",IF(OR($J23<=$I23,$M23<=$L23,$P23<=$O23,$L23<$J23,$O23<$M23,$I23<Assumptions!$B$5,$J23>Assumptions!$B$6,$L23<Assumptions!$B$5,$M23>Assumptions!$B$6,$O23<Assumptions!$B$5,$P23>Assumptions!$B$6),"",(MAX($J23,$M23,$P23)-MIN($I23,$L23,$O23))*24)),"") | R23: =IFERROR(IF($A23="","",IF($G23="Canceled","Not active",IF(OR($B23="",$H23="",$I23="",$J23=""),"Incomplete",IF(OR($I23<Assumptions!$B$5,$J23>Assumptions!$B$6,$J23<=$I23),"Check times",IF(COUNTIFS($B$5:$B$104,$B23,$H$5:$H$104,$H23,$I$5:$I$104,"<"&$J23,$J$5:$J$104,">"&$I23,$G$5:$G$104,"<>Canceled")>1,"Conflict","Clear"))))),"Check inputs") | S23: =IFERROR(IF($A23="","",IF($G23="Canceled","Not active",IF(OR($B23="",$K23="",$L23="",$M23=""),"Incomplete",IF(OR($L23<Assumptions!$B$5,$M23>Assumptions!$B$6,$M23<=$L23),"Check times",IF(COUNTIFS($B$5:$B$104,$B23,$K$5:$K$104,$K23,$L$5:$L$104,"<"&$M23,$M$5:$M$104,">"&$L23,$G$5:$G$104,"<>Canceled")>1,"Conflict","Clear"))))),"Check inputs") | T23: =IFERROR(IF($A23="","",IF($G23="Canceled","Not active",IF(OR($B23="",$N23="",$O23="",$P23=""),"Incomplete",IF(OR($O23<Assumptions!$B$5,$P23>Assumptions!$B$6,$P23<=$O23),"Check times",IF(COUNTIFS($B$5:$B$104,$B23,$N$5:$N$104,$N23,$O$5:$O$104,"<"&$P23,$P$5:$P$104,">"&$O23,$G$5:$G$104,"<>Canceled")>1,"Conflict","Clear"))))),"Check inputs") | U23: =IFERROR(IF($A23="","",IF($G23="Canceled","Not active",IF(OR($B23="",$E23="",$F23="",$G23="",$H23="",$I23="",$J23="",$K23="",$L23="",$M23="",$N23="",$O23="",$P23=""),"Incomplete",IF(OR(COUNTIF($A$5:$A$104,$A23)>1,$B23<Assumptions!$B$7,$B23>Assumptions!$B$8,$R23<>"Clear",$S23<>"Clear",$T23<>"Clear",$L23<$J23,$O23<$M23),"Review","Clear")))),"Review")
Q24: =IFERROR(IF(OR($A24="",$G24="Canceled",$I24="",$J24="",$L24="",$M24="",$O24="",$P24=""),"",IF(OR($J24<=$I24,$M24<=$L24,$P24<=$O24,$L24<$J24,$O24<$M24,$I24<Assumptions!$B$5,$J24>Assumptions!$B$6,$L24<Assumptions!$B$5,$M24>Assumptions!$B$6,$O24<Assumptions!$B$5,$P24>Assumptions!$B$6),"",(MAX($J24,$M24,$P24)-MIN($I24,$L24,$O24))*24)),"") | R24: =IFERROR(IF($A24="","",IF($G24="Canceled","Not active",IF(OR($B24="",$H24="",$I24="",$J24=""),"Incomplete",IF(OR($I24<Assumptions!$B$5,$J24>Assumptions!$B$6,$J24<=$I24),"Check times",IF(COUNTIFS($B$5:$B$104,$B24,$H$5:$H$104,$H24,$I$5:$I$104,"<"&$J24,$J$5:$J$104,">"&$I24,$G$5:$G$104,"<>Canceled")>1,"Conflict","Clear"))))),"Check inputs") | S24: =IFERROR(IF($A24="","",IF($G24="Canceled","Not active",IF(OR($B24="",$K24="",$L24="",$M24=""),"Incomplete",IF(OR($L24<Assumptions!$B$5,$M24>Assumptions!$B$6,$M24<=$L24),"Check times",IF(COUNTIFS($B$5:$B$104,$B24,$K$5:$K$104,$K24,$L$5:$L$104,"<"&$M24,$M$5:$M$104,">"&$L24,$G$5:$G$104,"<>Canceled")>1,"Conflict","Clear"))))),"Check inputs") | T24: =IFERROR(IF($A24="","",IF($G24="Canceled","Not active",IF(OR($B24="",$N24="",$O24="",$P24=""),"Incomplete",IF(OR($O24<Assumptions!$B$5,$P24>Assumptions!$B$6,$P24<=$O24),"Check times",IF(COUNTIFS($B$5:$B$104,$B24,$N$5:$N$104,$N24,$O$5:$O$104,"<"&$P24,$P$5:$P$104,">"&$O24,$G$5:$G$104,"<>Canceled")>1,"Conflict","Clear"))))),"Check inputs") | U24: =IFERROR(IF($A24="","",IF($G24="Canceled","Not active",IF(OR($B24="",$E24="",$F24="",$G24="",$H24="",$I24="",$J24="",$K24="",$L24="",$M24="",$N24="",$O24="",$P24=""),"Incomplete",IF(OR(COUNTIF($A$5:$A$104,$A24)>1,$B24<Assumptions!$B$7,$B24>Assumptions!$B$8,$R24<>"Clear",$S24<>"Clear",$T24<>"Clear",$L24<$J24,$O24<$M24),"Review","Clear")))),"Review")
Q25: =IFERROR(IF(OR($A25="",$G25="Canceled",$I25="",$J25="",$L25="",$M25="",$O25="",$P25=""),"",IF(OR($J25<=$I25,$M25<=$L25,$P25<=$O25,$L25<$J25,$O25<$M25,$I25<Assumptions!$B$5,$J25>Assumptions!$B$6,$L25<Assumptions!$B$5,$M25>Assumptions!$B$6,$O25<Assumptions!$B$5,$P25>Assumptions!$B$6),"",(MAX($J25,$M25,$P25)-MIN($I25,$L25,$O25))*24)),"") | R25: =IFERROR(IF($A25="","",IF($G25="Canceled","Not active",IF(OR($B25="",$H25="",$I25="",$J25=""),"Incomplete",IF(OR($I25<Assumptions!$B$5,$J25>Assumptions!$B$6,$J25<=$I25),"Check times",IF(COUNTIFS($B$5:$B$104,$B25,$H$5:$H$104,$H25,$I$5:$I$104,"<"&$J25,$J$5:$J$104,">"&$I25,$G$5:$G$104,"<>Canceled")>1,"Conflict","Clear"))))),"Check inputs") | S25: =IFERROR(IF($A25="","",IF($G25="Canceled","Not active",IF(OR($B25="",$K25="",$L25="",$M25=""),"Incomplete",IF(OR($L25<Assumptions!$B$5,$M25>Assumptions!$B$6,$M25<=$L25),"Check times",IF(COUNTIFS($B$5:$B$104,$B25,$K$5:$K$104,$K25,$L$5:$L$104,"<"&$M25,$M$5:$M$104,">"&$L25,$G$5:$G$104,"<>Canceled")>1,"Conflict","Clear"))))),"Check inputs") | T25: =IFERROR(IF($A25="","",IF($G25="Canceled","Not active",IF(OR($B25="",$N25="",$O25="",$P25=""),"Incomplete",IF(OR($O25<Assumptions!$B$5,$P25>Assumptions!$B$6,$P25<=$O25),"Check times",IF(COUNTIFS($B$5:$B$104,$B25,$N$5:$N$104,$N25,$O$5:$O$104,"<"&$P25,$P$5:$P$104,">"&$O25,$G$5:$G$104,"<>Canceled")>1,"Conflict","Clear"))))),"Check inputs") | U25: =IFERROR(IF($A25="","",IF($G25="Canceled","Not active",IF(OR($B25="",$E25="",$F25="",$G25="",$H25="",$I25="",$J25="",$K25="",$L25="",$M25="",$N25="",$O25="",$P25=""),"Incomplete",IF(OR(COUNTIF($A$5:$A$104,$A25)>1,$B25<Assumptions!$B$7,$B25>Assumptions!$B$8,$R25<>"Clear",$S25<>"Clear",$T25<>"Clear",$L25<$J25,$O25<$M25),"Review","Clear")))),"Review")
Q26: =IFERROR(IF(OR($A26="",$G26="Canceled",$I26="",$J26="",$L26="",$M26="",$O26="",$P26=""),"",IF(OR($J26<=$I26,$M26<=$L26,$P26<=$O26,$L26<$J26,$O26<$M26,$I26<Assumptions!$B$5,$J26>Assumptions!$B$6,$L26<Assumptions!$B$5,$M26>Assumptions!$B$6,$O26<Assumptions!$B$5,$P26>Assumptions!$B$6),"",(MAX($J26,$M26,$P26)-MIN($I26,$L26,$O26))*24)),"") | R26: =IFERROR(IF($A26="","",IF($G26="Canceled","Not active",IF(OR($B26="",$H26="",$I26="",$J26=""),"Incomplete",IF(OR($I26<Assumptions!$B$5,$J26>Assumptions!$B$6,$J26<=$I26),"Check times",IF(COUNTIFS($B$5:$B$104,$B26,$H$5:$H$104,$H26,$I$5:$I$104,"<"&$J26,$J$5:$J$104,">"&$I26,$G$5:$G$104,"<>Canceled")>1,"Conflict","Clear"))))),"Check inputs") | S26: =IFERROR(IF($A26="","",IF($G26="Canceled","Not active",IF(OR($B26="",$K26="",$L26="",$M26=""),"Incomplete",IF(OR($L26<Assumptions!$B$5,$M26>Assumptions!$B$6,$M26<=$L26),"Check times",IF(COUNTIFS($B$5:$B$104,$B26,$K$5:$K$104,$K26,$L$5:$L$104,"<"&$M26,$M$5:$M$104,">"&$L26,$G$5:$G$104,"<>Canceled")>1,"Conflict","Clear"))))),"Check inputs") | T26: =IFERROR(IF($A26="","",IF($G26="Canceled","Not active",IF(OR($B26="",$N26="",$O26="",$P26=""),"Incomplete",IF(OR($O26<Assumptions!$B$5,$P26>Assumptions!$B$6,$P26<=$O26),"Check times",IF(COUNTIFS($B$5:$B$104,$B26,$N$5:$N$104,$N26,$O$5:$O$104,"<"&$P26,$P$5:$P$104,">"&$O26,$G$5:$G$104,"<>Canceled")>1,"Conflict","Clear"))))),"Check inputs") | U26: =IFERROR(IF($A26="","",IF($G26="Canceled","Not active",IF(OR($B26="",$E26="",$F26="",$G26="",$H26="",$I26="",$J26="",$K26="",$L26="",$M26="",$N26="",$O26="",$P26=""),"Incomplete",IF(OR(COUNTIF($A$5:$A$104,$A26)>1,$B26<Assumptions!$B$7,$B26>Assumptions!$B$8,$R26<>"Clear",$S26<>"Clear",$T26<>"Clear",$L26<$J26,$O26<$M26),"Review","Clear")))),"Review")
... Q104: =IFERROR(IF(OR($A104="",$G104="Canceled",$I104="",$J104="",$L104="",$M104="",$O104="",$P104=""),"",IF(OR($J104<=$I104,$M104<=$L104,$P104<=$O104,$L104<$J104,$O104<$M104,$I104<Assumptions!$B$5,$J104>Assumptions!$B$6,$L104<Assumptions!$B$5,$M104>Assumptions!$B$6,$O104<Assumptions!$B$5,$P104>Assumptions!$B$6),"",(MAX($J104,$M104,$P104)-MIN($I104,$L104,$O104))*24)),"") | R104: =IFERROR(IF($A104="","",IF($G104="Canceled","Not active",IF(OR($B104="",$H104="",$I104="",$J104=""),"Incomplete",IF(OR($I104<Assumptions!$B$5,$J104>Assumptions!$B$6,$J104<=$I104),"Check times",IF(COUNTIFS($B$5:$B$104,$B104,$H$5:$H$104,$H104,$I$5:$I$104,"<"&$J104,$J$5:$J$104,">"&$I104,$G$5:$G$104,"<>Canceled")>1,"Conflict","Clear"))))),"Check inputs") | S104: =IFERROR(IF($A104="","",IF($G104="Canceled","Not active",IF(OR($B104="",$K104="",$L104="",$M104=""),"Incomplete",IF(OR($L104<Assumptions!$B$5,$M104>Assumptions!$B$6,$M104<=$L104),"Check times",IF(COUNTIFS($B$5:$B$104,$B104,$K$5:$K$104,$K104,$L$5:$L$104,"<"&$M104,$M$5:$M$104,">"&$L104,$G$5:$G$104,"<>Canceled")>1,"Conflict","Clear"))))),"Check inputs") | T104: =IFERROR(IF($A104="","",IF($G104="Canceled","Not active",IF(OR($B104="",$N104="",$O104="",$P104=""),"Incomplete",IF(OR($O104<Assumptions!$B$5,$P104>Assumptions!$B$6,$P104<=$O104),"Check times",IF(COUNTIFS($B$5:$B$104,$B104,$N$5:$N$104,$N104,$O$5:$O$104,"<"&$P104,$P$5:$P$104,">"&$O104,$G$5:$G$104,"<>Canceled")>1,"Conflict","Clear"))))),"Check inputs") | U104: =IFERROR(IF($A104="","",IF($G104="Canceled","Not active",IF(OR($B104="",$E104="",$F104="",$G104="",$H104="",$I104="",$J104="",$K104="",$L104="",$M104="",$N104="",$O104="",$P104=""),"Incomplete",IF(OR(COUNTIF($A$5:$A$104,$A104)>1,$B104<Assumptions!$B$7,$B104>Assumptions!$B$8,$R104<>"Clear",$S104<>"Clear",$T104<>"Clear",$L104<$J104,$O104<$M104),"Review","Clear")))),"Review")

Sheet Assumptions
A1: Grooming Station Schedule — Assumptions
A2: Edit yellow cells to match local operating hours, planning dates, staff labels, services, and station labels. All sample names are fictional.
A4: Operating limit | B4: Editable value | C4: How it is used | D4: Status choices | F4: Groomer choices | H4: Service choices | J4: Table choices | L4: Tub choices | N4: Dryer choices
A5: Earliest station start | B5: 0.29166667 | C5: Flags a station window that starts earlier. | D5: Scheduled | F5: Demo Groomer A | H5: Full Groom | J5: Table 1 | L5: Tub 1 | N5: Dryer 1
A6: Latest station finish | B6: 0.79166667 | C6: Flags a station window that finishes later. | D6: Confirmed | F6: Demo Groomer B | H6: Bath & Brush | J6: Table 2 | L6: Tub 2 | N6: Dryer 2
A7: Schedule start date | B7: 46023 | C7: Sets the earliest accepted appointment date. | D7: In Progress | F7: Demo Groomer C | H7: Deshedding | J7: Table 3 | L7: Tub 3 | N7: Dryer 3
A8: Schedule end date | B8: 46752 | C8: Sets the latest accepted appointment date. | D8: Completed | F8: Demo Groomer D | H8: Puppy Groom | J8: Table 4 | N8: Dryer 4
D9: Canceled | H9: Coat Trim
H10: Express Bath
