Workbook

Sheet Summary
A1: Kennel Allocation Planner — Fictional Sample Summary
A4: Planning date | B4: =Assumptions!$B$5 | D4: Confirmed stays active | E4: =COUNTIFS(Allocations!$H$5:$H$154,"Confirmed",Allocations!$C$5:$C$154,"<="&$B$4,Allocations!$D$5:$D$154,">"&$B$4) | G4: Confirmed dogs active | H4: =IFERROR(SUMIFS(Allocations!$E$5:$E$154,Allocations!$H$5:$H$154,"Confirmed",Allocations!$C$5:$C$154,"<="&$B$4,Allocations!$D$5:$D$154,">"&$B$4),0)
A7: Available kennels | B7: =COUNTIF(Kennels!$E$5:$E$104,"Available") | D7: Confirmed bookings | E7: =COUNTIF(Allocations!$H$5:$H$154,"Confirmed") | G7: Assigned confirmed | H7: =COUNTIFS(Allocations!$H$5:$H$154,"Confirmed",Allocations!$I$5:$I$154,"<>")
A10: Ready assignments | B10: =COUNTIF(Allocations!$N$5:$N$154,"Ready") | D10: Overlap conflicts | E10: =COUNTIF(Allocations!$N$5:$N$154,"Conflict:*") | G10: Confirmed needing kennel | H10: =COUNTIF(Allocations!$N$5:$N$154,"Needs kennel")
A13: Other human checks | B13: =COUNTIF(Allocations!$N$5:$N$154,"Check*") | D13: Unconfirmed entries | E13: =COUNTIFS(Allocations!$A$5:$A$154,"<>",Allocations!$H$5:$H$154,"<>Confirmed") | G13: Active assigned stays | H13: =COUNTIFS(Allocations!$H$5:$H$154,"Confirmed",Allocations!$I$5:$I$154,"<>",Allocations!$C$5:$C$154,"<="&$B$4,Allocations!$D$5:$D$154,">"&$B$4)

Sheet Allocations
A1: Kennel Allocation Planner — Fictional Sample Bookings
A4: Booking ID | B4: Pet or Party | C4: Arrival | D4: Departure | E4: Dogs | F4: Largest Dog (lb) | G4: Required Zone | H4: Booking Status | I4: Kennel ID | J4: Nights | K4: Kennel Zone | L4: Capacity Result | M4: Overlap Count | N4: Allocation Check
A5: BKG-1001 | B5: Biscuit Lane | C5: 46275 | D5: 46278 | E5: 1 | F5: 42 | G5: Standard | H5: Confirmed | I5: K-101 | J5: =IF(OR($C5="",$D5="",$D5<=$C5),"",$D5-$C5) | K5: =IF($I5="","",IFERROR(VLOOKUP($I5,Kennels!$A$5:$E$104,2,FALSE),"Not found")) | L5: =IF(OR($H5<>"Confirmed",$I5="",$E5="",$F5="",$G5=""),"",IFERROR(IF(AND($E5<=VLOOKUP($I5,Kennels!$A$5:$E$104,4,FALSE),$F5<=VLOOKUP($I5,Kennels!$A$5:$E$104,3,FALSE),$G5=VLOOKUP($I5,Kennels!$A$5:$E$104,2,FALSE)),"Fits","Check fit"),"Check kennel ID")) | M5: =IF(OR($H5<>"Confirmed",$I5="",$C5="",$D5="",$D5<=$C5),"",COUNTIFS($I$5:$I$154,$I5,$H$5:$H$154,"Confirmed",$C$5:$C$154,"<"&$D5,$D$5:$D$154,">"&$C5)-1) | N5: =IF($A5="","",IF(COUNTIF($A$5:$A$154,$A5)>1,"Check booking ID",IF($H5<>"Confirmed","No confirmed assignment",IF(OR($C5="",$D5=""),"Check dates",IF($D5<=$C5,"Check dates",IF($I5="","Needs kennel",IFERROR(IF(VLOOKUP($I5,Kennels!$A$5:$E$104,5,FALSE)<>"Available","Check kennel status",IF($L5<>"Fits","Check compatibility",IF($M5>0,"Conflict: overlap","Ready"))),"Check kennel ID"))))))) | P5: =Assumptions!$E$5 | Q5: =Assumptions!$G$5 | R5: =Kennels!$A$5 | S5: =Assumptions!$B$6
A6: BKG-1002 | B6: Clover Pair | C6: 46275 | D6: 46277 | E6: 2 | F6: 55 | G6: Standard | H6: Confirmed | I6: K-102 | J6: =IF(OR($C6="",$D6="",$D6<=$C6),"",$D6-$C6) | K6: =IF($I6="","",IFERROR(VLOOKUP($I6,Kennels!$A$5:$E$104,2,FALSE),"Not found")) | L6: =IF(OR($H6<>"Confirmed",$I6="",$E6="",$F6="",$G6=""),"",IFERROR(IF(AND($E6<=VLOOKUP($I6,Kennels!$A$5:$E$104,4,FALSE),$F6<=VLOOKUP($I6,Kennels!$A$5:$E$104,3,FALSE),$G6=VLOOKUP($I6,Kennels!$A$5:$E$104,2,FALSE)),"Fits","Check fit"),"Check kennel ID")) | M6: =IF(OR($H6<>"Confirmed",$I6="",$C6="",$D6="",$D6<=$C6),"",COUNTIFS($I$5:$I$154,$I6,$H$5:$H$154,"Confirmed",$C$5:$C$154,"<"&$D6,$D$5:$D$154,">"&$C6)-1) | N6: =IF($A6="","",IF(COUNTIF($A$5:$A$154,$A6)>1,"Check booking ID",IF($H6<>"Confirmed","No confirmed assignment",IF(OR($C6="",$D6=""),"Check dates",IF($D6<=$C6,"Check dates",IF($I6="","Needs kennel",IFERROR(IF(VLOOKUP($I6,Kennels!$A$5:$E$104,5,FALSE)<>"Available","Check kennel status",IF($L6<>"Fits","Check compatibility",IF($M6>0,"Conflict: overlap","Ready"))),"Check kennel ID"))))))) | P6: =Assumptions!$E$6 | Q6: =Assumptions!$G$6 | R6: =Kennels!$A$6 | S6: =Assumptions!$B$7
A7: BKG-1003 | B7: Nimbus | C7: 46276 | D7: 46279 | E7: 1 | F7: 38 | G7: Quiet | H7: Confirmed | I7: K-103 | J7: =IF(OR($C7="",$D7="",$D7<=$C7),"",$D7-$C7) | K7: =IF($I7="","",IFERROR(VLOOKUP($I7,Kennels!$A$5:$E$104,2,FALSE),"Not found")) | L7: =IF(OR($H7<>"Confirmed",$I7="",$E7="",$F7="",$G7=""),"",IFERROR(IF(AND($E7<=VLOOKUP($I7,Kennels!$A$5:$E$104,4,FALSE),$F7<=VLOOKUP($I7,Kennels!$A$5:$E$104,3,FALSE),$G7=VLOOKUP($I7,Kennels!$A$5:$E$104,2,FALSE)),"Fits","Check fit"),"Check kennel ID")) | M7: =IF(OR($H7<>"Confirmed",$I7="",$C7="",$D7="",$D7<=$C7),"",COUNTIFS($I$5:$I$154,$I7,$H$5:$H$154,"Confirmed",$C$5:$C$154,"<"&$D7,$D$5:$D$154,">"&$C7)-1) | N7: =IF($A7="","",IF(COUNTIF($A$5:$A$154,$A7)>1,"Check booking ID",IF($H7<>"Confirmed","No confirmed assignment",IF(OR($C7="",$D7=""),"Check dates",IF($D7<=$C7,"Check dates",IF($I7="","Needs kennel",IFERROR(IF(VLOOKUP($I7,Kennels!$A$5:$E$104,5,FALSE)<>"Available","Check kennel status",IF($L7<>"Fits","Check compatibility",IF($M7>0,"Conflict: overlap","Ready"))),"Check kennel ID"))))))) | P7: =Assumptions!$E$7 | Q7: =Assumptions!$G$7 | R7: =Kennels!$A$7 | S7: =Assumptions!$B$8
A8: BKG-1004 | B8: Poppy Pack | C8: 46277 | D8: 46280 | E8: 3 | F8: 70 | G8: Family | H8: Confirmed | I8: K-105 | J8: =IF(OR($C8="",$D8="",$D8<=$C8),"",$D8-$C8) | K8: =IF($I8="","",IFERROR(VLOOKUP($I8,Kennels!$A$5:$E$104,2,FALSE),"Not found")) | L8: =IF(OR($H8<>"Confirmed",$I8="",$E8="",$F8="",$G8=""),"",IFERROR(IF(AND($E8<=VLOOKUP($I8,Kennels!$A$5:$E$104,4,FALSE),$F8<=VLOOKUP($I8,Kennels!$A$5:$E$104,3,FALSE),$G8=VLOOKUP($I8,Kennels!$A$5:$E$104,2,FALSE)),"Fits","Check fit"),"Check kennel ID")) | M8: =IF(OR($H8<>"Confirmed",$I8="",$C8="",$D8="",$D8<=$C8),"",COUNTIFS($I$5:$I$154,$I8,$H$5:$H$154,"Confirmed",$C$5:$C$154,"<"&$D8,$D$5:$D$154,">"&$C8)-1) | N8: =IF($A8="","",IF(COUNTIF($A$5:$A$154,$A8)>1,"Check booking ID",IF($H8<>"Confirmed","No confirmed assignment",IF(OR($C8="",$D8=""),"Check dates",IF($D8<=$C8,"Check dates",IF($I8="","Needs kennel",IFERROR(IF(VLOOKUP($I8,Kennels!$A$5:$E$104,5,FALSE)<>"Available","Check kennel status",IF($L8<>"Fits","Check compatibility",IF($M8>0,"Conflict: overlap","Ready"))),"Check kennel ID"))))))) | R8: =Kennels!$A$8 | S8: =Assumptions!$B$9
A9: BKG-1005 | B9: Tinsel | C9: 46278 | D9: 46281 | E9: 1 | F9: 28 | G9: Standard | H9: Confirmed | I9: K-106 | J9: =IF(OR($C9="",$D9="",$D9<=$C9),"",$D9-$C9) | K9: =IF($I9="","",IFERROR(VLOOKUP($I9,Kennels!$A$5:$E$104,2,FALSE),"Not found")) | L9: =IF(OR($H9<>"Confirmed",$I9="",$E9="",$F9="",$G9=""),"",IFERROR(IF(AND($E9<=VLOOKUP($I9,Kennels!$A$5:$E$104,4,FALSE),$F9<=VLOOKUP($I9,Kennels!$A$5:$E$104,3,FALSE),$G9=VLOOKUP($I9,Kennels!$A$5:$E$104,2,FALSE)),"Fits","Check fit"),"Check kennel ID")) | M9: =IF(OR($H9<>"Confirmed",$I9="",$C9="",$D9="",$D9<=$C9),"",COUNTIFS($I$5:$I$154,$I9,$H$5:$H$154,"Confirmed",$C$5:$C$154,"<"&$D9,$D$5:$D$154,">"&$C9)-1) | N9: =IF($A9="","",IF(COUNTIF($A$5:$A$154,$A9)>1,"Check booking ID",IF($H9<>"Confirmed","No confirmed assignment",IF(OR($C9="",$D9=""),"Check dates",IF($D9<=$C9,"Check dates",IF($I9="","Needs kennel",IFERROR(IF(VLOOKUP($I9,Kennels!$A$5:$E$104,5,FALSE)<>"Available","Check kennel status",IF($L9<>"Fits","Check compatibility",IF($M9>0,"Conflict: overlap","Ready"))),"Check kennel ID"))))))) | R9: =Kennels!$A$9
A10: BKG-1006 | B10: Marzipan | C10: 46276 | D10: 46278 | E10: 1 | F10: 75 | G10: Standard | H10: Confirmed | I10: K-108 | J10: =IF(OR($C10="",$D10="",$D10<=$C10),"",$D10-$C10) | K10: =IF($I10="","",IFERROR(VLOOKUP($I10,Kennels!$A$5:$E$104,2,FALSE),"Not found")) | L10: =IF(OR($H10<>"Confirmed",$I10="",$E10="",$F10="",$G10=""),"",IFERROR(IF(AND($E10<=VLOOKUP($I10,Kennels!$A$5:$E$104,4,FALSE),$F10<=VLOOKUP($I10,Kennels!$A$5:$E$104,3,FALSE),$G10=VLOOKUP($I10,Kennels!$A$5:$E$104,2,FALSE)),"Fits","Check fit"),"Check kennel ID")) | M10: =IF(OR($H10<>"Confirmed",$I10="",$C10="",$D10="",$D10<=$C10),"",COUNTIFS($I$5:$I$154,$I10,$H$5:$H$154,"Confirmed",$C$5:$C$154,"<"&$D10,$D$5:$D$154,">"&$C10)-1) | N10: =IF($A10="","",IF(COUNTIF($A$5:$A$154,$A10)>1,"Check booking ID",IF($H10<>"Confirmed","No confirmed assignment",IF(OR($C10="",$D10=""),"Check dates",IF($D10<=$C10,"Check dates",IF($I10="","Needs kennel",IFERROR(IF(VLOOKUP($I10,Kennels!$A$5:$E$104,5,FALSE)<>"Available","Check kennel status",IF($L10<>"Fits","Check compatibility",IF($M10>0,"Conflict: overlap","Ready"))),"Check kennel ID"))))))) | R10: =Kennels!$A$10
A11: BKG-1007 | B11: Juniper | C11: 46277 | D11: 46279 | E11: 1 | F11: 50 | G11: Standard | H11: Confirmed | I11: K-101 | J11: =IF(OR($C11="",$D11="",$D11<=$C11),"",$D11-$C11) | K11: =IF($I11="","",IFERROR(VLOOKUP($I11,Kennels!$A$5:$E$104,2,FALSE),"Not found")) | L11: =IF(OR($H11<>"Confirmed",$I11="",$E11="",$F11="",$G11=""),"",IFERROR(IF(AND($E11<=VLOOKUP($I11,Kennels!$A$5:$E$104,4,FALSE),$F11<=VLOOKUP($I11,Kennels!$A$5:$E$104,3,FALSE),$G11=VLOOKUP($I11,Kennels!$A$5:$E$104,2,FALSE)),"Fits","Check fit"),"Check kennel ID")) | M11: =IF(OR($H11<>"Confirmed",$I11="",$C11="",$D11="",$D11<=$C11),"",COUNTIFS($I$5:$I$154,$I11,$H$5:$H$154,"Confirmed",$C$5:$C$154,"<"&$D11,$D$5:$D$154,">"&$C11)-1) | N11: =IF($A11="","",IF(COUNTIF($A$5:$A$154,$A11)>1,"Check booking ID",IF($H11<>"Confirmed","No confirmed assignment",IF(OR($C11="",$D11=""),"Check dates",IF($D11<=$C11,"Check dates",IF($I11="","Needs kennel",IFERROR(IF(VLOOKUP($I11,Kennels!$A$5:$E$104,5,FALSE)<>"Available","Check kennel status",IF($L11<>"Fits","Check compatibility",IF($M11>0,"Conflict: overlap","Ready"))),"Check kennel ID"))))))) | R11: =Kennels!$A$11
A12: BKG-1008 | B12: Waffle Pair | C12: 46280 | D12: 46282 | E12: 2 | F12: 80 | G12: Family | H12: Confirmed | I12: K-107 | J12: =IF(OR($C12="",$D12="",$D12<=$C12),"",$D12-$C12) | K12: =IF($I12="","",IFERROR(VLOOKUP($I12,Kennels!$A$5:$E$104,2,FALSE),"Not found")) | L12: =IF(OR($H12<>"Confirmed",$I12="",$E12="",$F12="",$G12=""),"",IFERROR(IF(AND($E12<=VLOOKUP($I12,Kennels!$A$5:$E$104,4,FALSE),$F12<=VLOOKUP($I12,Kennels!$A$5:$E$104,3,FALSE),$G12=VLOOKUP($I12,Kennels!$A$5:$E$104,2,FALSE)),"Fits","Check fit"),"Check kennel ID")) | M12: =IF(OR($H12<>"Confirmed",$I12="",$C12="",$D12="",$D12<=$C12),"",COUNTIFS($I$5:$I$154,$I12,$H$5:$H$154,"Confirmed",$C$5:$C$154,"<"&$D12,$D$5:$D$154,">"&$C12)-1) | N12: =IF($A12="","",IF(COUNTIF($A$5:$A$154,$A12)>1,"Check booking ID",IF($H12<>"Confirmed","No confirmed assignment",IF(OR($C12="",$D12=""),"Check dates",IF($D12<=$C12,"Check dates",IF($I12="","Needs kennel",IFERROR(IF(VLOOKUP($I12,Kennels!$A$5:$E$104,5,FALSE)<>"Available","Check kennel status",IF($L12<>"Fits","Check compatibility",IF($M12>0,"Conflict: overlap","Ready"))),"Check kennel ID"))))))) | R12: =Kennels!$A$12
A13: BKG-1009 | B13: Comet | C13: 46279 | D13: 46283 | E13: 1 | F13: 22 | G13: Quiet | H13: Tentative | J13: =IF(OR($C13="",$D13="",$D13<=$C13),"",$D13-$C13) | K13: =IF($I13="","",IFERROR(VLOOKUP($I13,Kennels!$A$5:$E$104,2,FALSE),"Not found")) | L13: =IF(OR($H13<>"Confirmed",$I13="",$E13="",$F13="",$G13=""),"",IFERROR(IF(AND($E13<=VLOOKUP($I13,Kennels!$A$5:$E$104,4,FALSE),$F13<=VLOOKUP($I13,Kennels!$A$5:$E$104,3,FALSE),$G13=VLOOKUP($I13,Kennels!$A$5:$E$104,2,FALSE)),"Fits","Check fit"),"Check kennel ID")) | M13: =IF(OR($H13<>"Confirmed",$I13="",$C13="",$D13="",$D13<=$C13),"",COUNTIFS($I$5:$I$154,$I13,$H$5:$H$154,"Confirmed",$C$5:$C$154,"<"&$D13,$D$5:$D$154,">"&$C13)-1) | N13: =IF($A13="","",IF(COUNTIF($A$5:$A$154,$A13)>1,"Check booking ID",IF($H13<>"Confirmed","No confirmed assignment",IF(OR($C13="",$D13=""),"Check dates",IF($D13<=$C13,"Check dates",IF($I13="","Needs kennel",IFERROR(IF(VLOOKUP($I13,Kennels!$A$5:$E$104,5,FALSE)<>"Available","Check kennel status",IF($L13<>"Fits","Check compatibility",IF($M13>0,"Conflict: overlap","Ready"))),"Check kennel ID"))))))) | R13: =Kennels!$A$13
A14: BKG-1010 | B14: Saffron | C14: 46278 | D14: 46280 | E14: 1 | F14: 110 | G14: Standard | H14: Confirmed | I14: K-108 | J14: =IF(OR($C14="",$D14="",$D14<=$C14),"",$D14-$C14) | K14: =IF($I14="","",IFERROR(VLOOKUP($I14,Kennels!$A$5:$E$104,2,FALSE),"Not found")) | L14: =IF(OR($H14<>"Confirmed",$I14="",$E14="",$F14="",$G14=""),"",IFERROR(IF(AND($E14<=VLOOKUP($I14,Kennels!$A$5:$E$104,4,FALSE),$F14<=VLOOKUP($I14,Kennels!$A$5:$E$104,3,FALSE),$G14=VLOOKUP($I14,Kennels!$A$5:$E$104,2,FALSE)),"Fits","Check fit"),"Check kennel ID")) | M14: =IF(OR($H14<>"Confirmed",$I14="",$C14="",$D14="",$D14<=$C14),"",COUNTIFS($I$5:$I$154,$I14,$H$5:$H$154,"Confirmed",$C$5:$C$154,"<"&$D14,$D$5:$D$154,">"&$C14)-1) | N14: =IF($A14="","",IF(COUNTIF($A$5:$A$154,$A14)>1,"Check booking ID",IF($H14<>"Confirmed","No confirmed assignment",IF(OR($C14="",$D14=""),"Check dates",IF($D14<=$C14,"Check dates",IF($I14="","Needs kennel",IFERROR(IF(VLOOKUP($I14,Kennels!$A$5:$E$104,5,FALSE)<>"Available","Check kennel status",IF($L14<>"Fits","Check compatibility",IF($M14>0,"Conflict: overlap","Ready"))),"Check kennel ID"))))))) | R14: =Kennels!$A$14
A15: BKG-1011 | B15: Acorn | C15: 46282 | D15: 46284 | E15: 1 | F15: 30 | G15: Quiet | H15: Confirmed | J15: =IF(OR($C15="",$D15="",$D15<=$C15),"",$D15-$C15) | K15: =IF($I15="","",IFERROR(VLOOKUP($I15,Kennels!$A$5:$E$104,2,FALSE),"Not found")) | L15: =IF(OR($H15<>"Confirmed",$I15="",$E15="",$F15="",$G15=""),"",IFERROR(IF(AND($E15<=VLOOKUP($I15,Kennels!$A$5:$E$104,4,FALSE),$F15<=VLOOKUP($I15,Kennels!$A$5:$E$104,3,FALSE),$G15=VLOOKUP($I15,Kennels!$A$5:$E$104,2,FALSE)),"Fits","Check fit"),"Check kennel ID")) | M15: =IF(OR($H15<>"Confirmed",$I15="",$C15="",$D15="",$D15<=$C15),"",COUNTIFS($I$5:$I$154,$I15,$H$5:$H$154,"Confirmed",$C$5:$C$154,"<"&$D15,$D$5:$D$154,">"&$C15)-1) | N15: =IF($A15="","",IF(COUNTIF($A$5:$A$154,$A15)>1,"Check booking ID",IF($H15<>"Confirmed","No confirmed assignment",IF(OR($C15="",$D15=""),"Check dates",IF($D15<=$C15,"Check dates",IF($I15="","Needs kennel",IFERROR(IF(VLOOKUP($I15,Kennels!$A$5:$E$104,5,FALSE)<>"Available","Check kennel status",IF($L15<>"Fits","Check compatibility",IF($M15>0,"Conflict: overlap","Ready"))),"Check kennel ID"))))))) | R15: =Kennels!$A$15
J16: =IF(OR($C16="",$D16="",$D16<=$C16),"",$D16-$C16) | K16: =IF($I16="","",IFERROR(VLOOKUP($I16,Kennels!$A$5:$E$104,2,FALSE),"Not found")) | L16: =IF(OR($H16<>"Confirmed",$I16="",$E16="",$F16="",$G16=""),"",IFERROR(IF(AND($E16<=VLOOKUP($I16,Kennels!$A$5:$E$104,4,FALSE),$F16<=VLOOKUP($I16,Kennels!$A$5:$E$104,3,FALSE),$G16=VLOOKUP($I16,Kennels!$A$5:$E$104,2,FALSE)),"Fits","Check fit"),"Check kennel ID")) | M16: =IF(OR($H16<>"Confirmed",$I16="",$C16="",$D16="",$D16<=$C16),"",COUNTIFS($I$5:$I$154,$I16,$H$5:$H$154,"Confirmed",$C$5:$C$154,"<"&$D16,$D$5:$D$154,">"&$C16)-1) | N16: =IF($A16="","",IF(COUNTIF($A$5:$A$154,$A16)>1,"Check booking ID",IF($H16<>"Confirmed","No confirmed assignment",IF(OR($C16="",$D16=""),"Check dates",IF($D16<=$C16,"Check dates",IF($I16="","Needs kennel",IFERROR(IF(VLOOKUP($I16,Kennels!$A$5:$E$104,5,FALSE)<>"Available","Check kennel status",IF($L16<>"Fits","Check compatibility",IF($M16>0,"Conflict: overlap","Ready"))),"Check kennel ID"))))))) | R16: =Kennels!$A$16
J17: =IF(OR($C17="",$D17="",$D17<=$C17),"",$D17-$C17) | K17: =IF($I17="","",IFERROR(VLOOKUP($I17,Kennels!$A$5:$E$104,2,FALSE),"Not found")) | L17: =IF(OR($H17<>"Confirmed",$I17="",$E17="",$F17="",$G17=""),"",IFERROR(IF(AND($E17<=VLOOKUP($I17,Kennels!$A$5:$E$104,4,FALSE),$F17<=VLOOKUP($I17,Kennels!$A$5:$E$104,3,FALSE),$G17=VLOOKUP($I17,Kennels!$A$5:$E$104,2,FALSE)),"Fits","Check fit"),"Check kennel ID")) | M17: =IF(OR($H17<>"Confirmed",$I17="",$C17="",$D17="",$D17<=$C17),"",COUNTIFS($I$5:$I$154,$I17,$H$5:$H$154,"Confirmed",$C$5:$C$154,"<"&$D17,$D$5:$D$154,">"&$C17)-1) | N17: =IF($A17="","",IF(COUNTIF($A$5:$A$154,$A17)>1,"Check booking ID",IF($H17<>"Confirmed","No confirmed assignment",IF(OR($C17="",$D17=""),"Check dates",IF($D17<=$C17,"Check dates",IF($I17="","Needs kennel",IFERROR(IF(VLOOKUP($I17,Kennels!$A$5:$E$104,5,FALSE)<>"Available","Check kennel status",IF($L17<>"Fits","Check compatibility",IF($M17>0,"Conflict: overlap","Ready"))),"Check kennel ID"))))))) | R17: =Kennels!$A$17
J18: =IF(OR($C18="",$D18="",$D18<=$C18),"",$D18-$C18) | K18: =IF($I18="","",IFERROR(VLOOKUP($I18,Kennels!$A$5:$E$104,2,FALSE),"Not found")) | L18: =IF(OR($H18<>"Confirmed",$I18="",$E18="",$F18="",$G18=""),"",IFERROR(IF(AND($E18<=VLOOKUP($I18,Kennels!$A$5:$E$104,4,FALSE),$F18<=VLOOKUP($I18,Kennels!$A$5:$E$104,3,FALSE),$G18=VLOOKUP($I18,Kennels!$A$5:$E$104,2,FALSE)),"Fits","Check fit"),"Check kennel ID")) | M18: =IF(OR($H18<>"Confirmed",$I18="",$C18="",$D18="",$D18<=$C18),"",COUNTIFS($I$5:$I$154,$I18,$H$5:$H$154,"Confirmed",$C$5:$C$154,"<"&$D18,$D$5:$D$154,">"&$C18)-1) | N18: =IF($A18="","",IF(COUNTIF($A$5:$A$154,$A18)>1,"Check booking ID",IF($H18<>"Confirmed","No confirmed assignment",IF(OR($C18="",$D18=""),"Check dates",IF($D18<=$C18,"Check dates",IF($I18="","Needs kennel",IFERROR(IF(VLOOKUP($I18,Kennels!$A$5:$E$104,5,FALSE)<>"Available","Check kennel status",IF($L18<>"Fits","Check compatibility",IF($M18>0,"Conflict: overlap","Ready"))),"Check kennel ID"))))))) | R18: =Kennels!$A$18
J19: =IF(OR($C19="",$D19="",$D19<=$C19),"",$D19-$C19) | K19: =IF($I19="","",IFERROR(VLOOKUP($I19,Kennels!$A$5:$E$104,2,FALSE),"Not found")) | L19: =IF(OR($H19<>"Confirmed",$I19="",$E19="",$F19="",$G19=""),"",IFERROR(IF(AND($E19<=VLOOKUP($I19,Kennels!$A$5:$E$104,4,FALSE),$F19<=VLOOKUP($I19,Kennels!$A$5:$E$104,3,FALSE),$G19=VLOOKUP($I19,Kennels!$A$5:$E$104,2,FALSE)),"Fits","Check fit"),"Check kennel ID")) | M19: =IF(OR($H19<>"Confirmed",$I19="",$C19="",$D19="",$D19<=$C19),"",COUNTIFS($I$5:$I$154,$I19,$H$5:$H$154,"Confirmed",$C$5:$C$154,"<"&$D19,$D$5:$D$154,">"&$C19)-1) | N19: =IF($A19="","",IF(COUNTIF($A$5:$A$154,$A19)>1,"Check booking ID",IF($H19<>"Confirmed","No confirmed assignment",IF(OR($C19="",$D19=""),"Check dates",IF($D19<=$C19,"Check dates",IF($I19="","Needs kennel",IFERROR(IF(VLOOKUP($I19,Kennels!$A$5:$E$104,5,FALSE)<>"Available","Check kennel status",IF($L19<>"Fits","Check compatibility",IF($M19>0,"Conflict: overlap","Ready"))),"Check kennel ID"))))))) | R19: =Kennels!$A$19
J20: =IF(OR($C20="",$D20="",$D20<=$C20),"",$D20-$C20) | K20: =IF($I20="","",IFERROR(VLOOKUP($I20,Kennels!$A$5:$E$104,2,FALSE),"Not found")) | L20: =IF(OR($H20<>"Confirmed",$I20="",$E20="",$F20="",$G20=""),"",IFERROR(IF(AND($E20<=VLOOKUP($I20,Kennels!$A$5:$E$104,4,FALSE),$F20<=VLOOKUP($I20,Kennels!$A$5:$E$104,3,FALSE),$G20=VLOOKUP($I20,Kennels!$A$5:$E$104,2,FALSE)),"Fits","Check fit"),"Check kennel ID")) | M20: =IF(OR($H20<>"Confirmed",$I20="",$C20="",$D20="",$D20<=$C20),"",COUNTIFS($I$5:$I$154,$I20,$H$5:$H$154,"Confirmed",$C$5:$C$154,"<"&$D20,$D$5:$D$154,">"&$C20)-1) | N20: =IF($A20="","",IF(COUNTIF($A$5:$A$154,$A20)>1,"Check booking ID",IF($H20<>"Confirmed","No confirmed assignment",IF(OR($C20="",$D20=""),"Check dates",IF($D20<=$C20,"Check dates",IF($I20="","Needs kennel",IFERROR(IF(VLOOKUP($I20,Kennels!$A$5:$E$104,5,FALSE)<>"Available","Check kennel status",IF($L20<>"Fits","Check compatibility",IF($M20>0,"Conflict: overlap","Ready"))),"Check kennel ID"))))))) | R20: =Kennels!$A$20
J21: =IF(OR($C21="",$D21="",$D21<=$C21),"",$D21-$C21) | K21: =IF($I21="","",IFERROR(VLOOKUP($I21,Kennels!$A$5:$E$104,2,FALSE),"Not found")) | L21: =IF(OR($H21<>"Confirmed",$I21="",$E21="",$F21="",$G21=""),"",IFERROR(IF(AND($E21<=VLOOKUP($I21,Kennels!$A$5:$E$104,4,FALSE),$F21<=VLOOKUP($I21,Kennels!$A$5:$E$104,3,FALSE),$G21=VLOOKUP($I21,Kennels!$A$5:$E$104,2,FALSE)),"Fits","Check fit"),"Check kennel ID")) | M21: =IF(OR($H21<>"Confirmed",$I21="",$C21="",$D21="",$D21<=$C21),"",COUNTIFS($I$5:$I$154,$I21,$H$5:$H$154,"Confirmed",$C$5:$C$154,"<"&$D21,$D$5:$D$154,">"&$C21)-1) | N21: =IF($A21="","",IF(COUNTIF($A$5:$A$154,$A21)>1,"Check booking ID",IF($H21<>"Confirmed","No confirmed assignment",IF(OR($C21="",$D21=""),"Check dates",IF($D21<=$C21,"Check dates",IF($I21="","Needs kennel",IFERROR(IF(VLOOKUP($I21,Kennels!$A$5:$E$104,5,FALSE)<>"Available","Check kennel status",IF($L21<>"Fits","Check compatibility",IF($M21>0,"Conflict: overlap","Ready"))),"Check kennel ID"))))))) | R21: =Kennels!$A$21
J22: =IF(OR($C22="",$D22="",$D22<=$C22),"",$D22-$C22) | K22: =IF($I22="","",IFERROR(VLOOKUP($I22,Kennels!$A$5:$E$104,2,FALSE),"Not found")) | L22: =IF(OR($H22<>"Confirmed",$I22="",$E22="",$F22="",$G22=""),"",IFERROR(IF(AND($E22<=VLOOKUP($I22,Kennels!$A$5:$E$104,4,FALSE),$F22<=VLOOKUP($I22,Kennels!$A$5:$E$104,3,FALSE),$G22=VLOOKUP($I22,Kennels!$A$5:$E$104,2,FALSE)),"Fits","Check fit"),"Check kennel ID")) | M22: =IF(OR($H22<>"Confirmed",$I22="",$C22="",$D22="",$D22<=$C22),"",COUNTIFS($I$5:$I$154,$I22,$H$5:$H$154,"Confirmed",$C$5:$C$154,"<"&$D22,$D$5:$D$154,">"&$C22)-1) | N22: =IF($A22="","",IF(COUNTIF($A$5:$A$154,$A22)>1,"Check booking ID",IF($H22<>"Confirmed","No confirmed assignment",IF(OR($C22="",$D22=""),"Check dates",IF($D22<=$C22,"Check dates",IF($I22="","Needs kennel",IFERROR(IF(VLOOKUP($I22,Kennels!$A$5:$E$104,5,FALSE)<>"Available","Check kennel status",IF($L22<>"Fits","Check compatibility",IF($M22>0,"Conflict: overlap","Ready"))),"Check kennel ID"))))))) | R22: =Kennels!$A$22
J23: =IF(OR($C23="",$D23="",$D23<=$C23),"",$D23-$C23) | K23: =IF($I23="","",IFERROR(VLOOKUP($I23,Kennels!$A$5:$E$104,2,FALSE),"Not found")) | L23: =IF(OR($H23<>"Confirmed",$I23="",$E23="",$F23="",$G23=""),"",IFERROR(IF(AND($E23<=VLOOKUP($I23,Kennels!$A$5:$E$104,4,FALSE),$F23<=VLOOKUP($I23,Kennels!$A$5:$E$104,3,FALSE),$G23=VLOOKUP($I23,Kennels!$A$5:$E$104,2,FALSE)),"Fits","Check fit"),"Check kennel ID")) | M23: =IF(OR($H23<>"Confirmed",$I23="",$C23="",$D23="",$D23<=$C23),"",COUNTIFS($I$5:$I$154,$I23,$H$5:$H$154,"Confirmed",$C$5:$C$154,"<"&$D23,$D$5:$D$154,">"&$C23)-1) | N23: =IF($A23="","",IF(COUNTIF($A$5:$A$154,$A23)>1,"Check booking ID",IF($H23<>"Confirmed","No confirmed assignment",IF(OR($C23="",$D23=""),"Check dates",IF($D23<=$C23,"Check dates",IF($I23="","Needs kennel",IFERROR(IF(VLOOKUP($I23,Kennels!$A$5:$E$104,5,FALSE)<>"Available","Check kennel status",IF($L23<>"Fits","Check compatibility",IF($M23>0,"Conflict: overlap","Ready"))),"Check kennel ID"))))))) | R23: =Kennels!$A$23
J24: =IF(OR($C24="",$D24="",$D24<=$C24),"",$D24-$C24) | K24: =IF($I24="","",IFERROR(VLOOKUP($I24,Kennels!$A$5:$E$104,2,FALSE),"Not found")) | L24: =IF(OR($H24<>"Confirmed",$I24="",$E24="",$F24="",$G24=""),"",IFERROR(IF(AND($E24<=VLOOKUP($I24,Kennels!$A$5:$E$104,4,FALSE),$F24<=VLOOKUP($I24,Kennels!$A$5:$E$104,3,FALSE),$G24=VLOOKUP($I24,Kennels!$A$5:$E$104,2,FALSE)),"Fits","Check fit"),"Check kennel ID")) | M24: =IF(OR($H24<>"Confirmed",$I24="",$C24="",$D24="",$D24<=$C24),"",COUNTIFS($I$5:$I$154,$I24,$H$5:$H$154,"Confirmed",$C$5:$C$154,"<"&$D24,$D$5:$D$154,">"&$C24)-1) | N24: =IF($A24="","",IF(COUNTIF($A$5:$A$154,$A24)>1,"Check booking ID",IF($H24<>"Confirmed","No confirmed assignment",IF(OR($C24="",$D24=""),"Check dates",IF($D24<=$C24,"Check dates",IF($I24="","Needs kennel",IFERROR(IF(VLOOKUP($I24,Kennels!$A$5:$E$104,5,FALSE)<>"Available","Check kennel status",IF($L24<>"Fits","Check compatibility",IF($M24>0,"Conflict: overlap","Ready"))),"Check kennel ID"))))))) | R24: =Kennels!$A$24
J25: =IF(OR($C25="",$D25="",$D25<=$C25),"",$D25-$C25) | K25: =IF($I25="","",IFERROR(VLOOKUP($I25,Kennels!$A$5:$E$104,2,FALSE),"Not found")) | L25: =IF(OR($H25<>"Confirmed",$I25="",$E25="",$F25="",$G25=""),"",IFERROR(IF(AND($E25<=VLOOKUP($I25,Kennels!$A$5:$E$104,4,FALSE),$F25<=VLOOKUP($I25,Kennels!$A$5:$E$104,3,FALSE),$G25=VLOOKUP($I25,Kennels!$A$5:$E$104,2,FALSE)),"Fits","Check fit"),"Check kennel ID")) | M25: =IF(OR($H25<>"Confirmed",$I25="",$C25="",$D25="",$D25<=$C25),"",COUNTIFS($I$5:$I$154,$I25,$H$5:$H$154,"Confirmed",$C$5:$C$154,"<"&$D25,$D$5:$D$154,">"&$C25)-1) | N25: =IF($A25="","",IF(COUNTIF($A$5:$A$154,$A25)>1,"Check booking ID",IF($H25<>"Confirmed","No confirmed assignment",IF(OR($C25="",$D25=""),"Check dates",IF($D25<=$C25,"Check dates",IF($I25="","Needs kennel",IFERROR(IF(VLOOKUP($I25,Kennels!$A$5:$E$104,5,FALSE)<>"Available","Check kennel status",IF($L25<>"Fits","Check compatibility",IF($M25>0,"Conflict: overlap","Ready"))),"Check kennel ID"))))))) | R25: =Kennels!$A$25
J26: =IF(OR($C26="",$D26="",$D26<=$C26),"",$D26-$C26) | K26: =IF($I26="","",IFERROR(VLOOKUP($I26,Kennels!$A$5:$E$104,2,FALSE),"Not found")) | L26: =IF(OR($H26<>"Confirmed",$I26="",$E26="",$F26="",$G26=""),"",IFERROR(IF(AND($E26<=VLOOKUP($I26,Kennels!$A$5:$E$104,4,FALSE),$F26<=VLOOKUP($I26,Kennels!$A$5:$E$104,3,FALSE),$G26=VLOOKUP($I26,Kennels!$A$5:$E$104,2,FALSE)),"Fits","Check fit"),"Check kennel ID")) | M26: =IF(OR($H26<>"Confirmed",$I26="",$C26="",$D26="",$D26<=$C26),"",COUNTIFS($I$5:$I$154,$I26,$H$5:$H$154,"Confirmed",$C$5:$C$154,"<"&$D26,$D$5:$D$154,">"&$C26)-1) | N26: =IF($A26="","",IF(COUNTIF($A$5:$A$154,$A26)>1,"Check booking ID",IF($H26<>"Confirmed","No confirmed assignment",IF(OR($C26="",$D26=""),"Check dates",IF($D26<=$C26,"Check dates",IF($I26="","Needs kennel",IFERROR(IF(VLOOKUP($I26,Kennels!$A$5:$E$104,5,FALSE)<>"Available","Check kennel status",IF($L26<>"Fits","Check compatibility",IF($M26>0,"Conflict: overlap","Ready"))),"Check kennel ID"))))))) | R26: =Kennels!$A$26
J27: =IF(OR($C27="",$D27="",$D27<=$C27),"",$D27-$C27) | K27: =IF($I27="","",IFERROR(VLOOKUP($I27,Kennels!$A$5:$E$104,2,FALSE),"Not found")) | L27: =IF(OR($H27<>"Confirmed",$I27="",$E27="",$F27="",$G27=""),"",IFERROR(IF(AND($E27<=VLOOKUP($I27,Kennels!$A$5:$E$104,4,FALSE),$F27<=VLOOKUP($I27,Kennels!$A$5:$E$104,3,FALSE),$G27=VLOOKUP($I27,Kennels!$A$5:$E$104,2,FALSE)),"Fits","Check fit"),"Check kennel ID")) | M27: =IF(OR($H27<>"Confirmed",$I27="",$C27="",$D27="",$D27<=$C27),"",COUNTIFS($I$5:$I$154,$I27,$H$5:$H$154,"Confirmed",$C$5:$C$154,"<"&$D27,$D$5:$D$154,">"&$C27)-1) | N27: =IF($A27="","",IF(COUNTIF($A$5:$A$154,$A27)>1,"Check booking ID",IF($H27<>"Confirmed","No confirmed assignment",IF(OR($C27="",$D27=""),"Check dates",IF($D27<=$C27,"Check dates",IF($I27="","Needs kennel",IFERROR(IF(VLOOKUP($I27,Kennels!$A$5:$E$104,5,FALSE)<>"Available","Check kennel status",IF($L27<>"Fits","Check compatibility",IF($M27>0,"Conflict: overlap","Ready"))),"Check kennel ID"))))))) | R27: =Kennels!$A$27
J28: =IF(OR($C28="",$D28="",$D28<=$C28),"",$D28-$C28) | K28: =IF($I28="","",IFERROR(VLOOKUP($I28,Kennels!$A$5:$E$104,2,FALSE),"Not found")) | L28: =IF(OR($H28<>"Confirmed",$I28="",$E28="",$F28="",$G28=""),"",IFERROR(IF(AND($E28<=VLOOKUP($I28,Kennels!$A$5:$E$104,4,FALSE),$F28<=VLOOKUP($I28,Kennels!$A$5:$E$104,3,FALSE),$G28=VLOOKUP($I28,Kennels!$A$5:$E$104,2,FALSE)),"Fits","Check fit"),"Check kennel ID")) | M28: =IF(OR($H28<>"Confirmed",$I28="",$C28="",$D28="",$D28<=$C28),"",COUNTIFS($I$5:$I$154,$I28,$H$5:$H$154,"Confirmed",$C$5:$C$154,"<"&$D28,$D$5:$D$154,">"&$C28)-1) | N28: =IF($A28="","",IF(COUNTIF($A$5:$A$154,$A28)>1,"Check booking ID",IF($H28<>"Confirmed","No confirmed assignment",IF(OR($C28="",$D28=""),"Check dates",IF($D28<=$C28,"Check dates",IF($I28="","Needs kennel",IFERROR(IF(VLOOKUP($I28,Kennels!$A$5:$E$104,5,FALSE)<>"Available","Check kennel status",IF($L28<>"Fits","Check compatibility",IF($M28>0,"Conflict: overlap","Ready"))),"Check kennel ID"))))))) | R28: =Kennels!$A$28
J29: =IF(OR($C29="",$D29="",$D29<=$C29),"",$D29-$C29) | K29: =IF($I29="","",IFERROR(VLOOKUP($I29,Kennels!$A$5:$E$104,2,FALSE),"Not found")) | L29: =IF(OR($H29<>"Confirmed",$I29="",$E29="",$F29="",$G29=""),"",IFERROR(IF(AND($E29<=VLOOKUP($I29,Kennels!$A$5:$E$104,4,FALSE),$F29<=VLOOKUP($I29,Kennels!$A$5:$E$104,3,FALSE),$G29=VLOOKUP($I29,Kennels!$A$5:$E$104,2,FALSE)),"Fits","Check fit"),"Check kennel ID")) | M29: =IF(OR($H29<>"Confirmed",$I29="",$C29="",$D29="",$D29<=$C29),"",COUNTIFS($I$5:$I$154,$I29,$H$5:$H$154,"Confirmed",$C$5:$C$154,"<"&$D29,$D$5:$D$154,">"&$C29)-1) | N29: =IF($A29="","",IF(COUNTIF($A$5:$A$154,$A29)>1,"Check booking ID",IF($H29<>"Confirmed","No confirmed assignment",IF(OR($C29="",$D29=""),"Check dates",IF($D29<=$C29,"Check dates",IF($I29="","Needs kennel",IFERROR(IF(VLOOKUP($I29,Kennels!$A$5:$E$104,5,FALSE)<>"Available","Check kennel status",IF($L29<>"Fits","Check compatibility",IF($M29>0,"Conflict: overlap","Ready"))),"Check kennel ID"))))))) | R29: =Kennels!$A$29
J30: =IF(OR($C30="",$D30="",$D30<=$C30),"",$D30-$C30) | K30: =IF($I30="","",IFERROR(VLOOKUP($I30,Kennels!$A$5:$E$104,2,FALSE),"Not found")) | L30: =IF(OR($H30<>"Confirmed",$I30="",$E30="",$F30="",$G30=""),"",IFERROR(IF(AND($E30<=VLOOKUP($I30,Kennels!$A$5:$E$104,4,FALSE),$F30<=VLOOKUP($I30,Kennels!$A$5:$E$104,3,FALSE),$G30=VLOOKUP($I30,Kennels!$A$5:$E$104,2,FALSE)),"Fits","Check fit"),"Check kennel ID")) | M30: =IF(OR($H30<>"Confirmed",$I30="",$C30="",$D30="",$D30<=$C30),"",COUNTIFS($I$5:$I$154,$I30,$H$5:$H$154,"Confirmed",$C$5:$C$154,"<"&$D30,$D$5:$D$154,">"&$C30)-1) | N30: =IF($A30="","",IF(COUNTIF($A$5:$A$154,$A30)>1,"Check booking ID",IF($H30<>"Confirmed","No confirmed assignment",IF(OR($C30="",$D30=""),"Check dates",IF($D30<=$C30,"Check dates",IF($I30="","Needs kennel",IFERROR(IF(VLOOKUP($I30,Kennels!$A$5:$E$104,5,FALSE)<>"Available","Check kennel status",IF($L30<>"Fits","Check compatibility",IF($M30>0,"Conflict: overlap","Ready"))),"Check kennel ID"))))))) | R30: =Kennels!$A$30
J31: =IF(OR($C31="",$D31="",$D31<=$C31),"",$D31-$C31) | K31: =IF($I31="","",IFERROR(VLOOKUP($I31,Kennels!$A$5:$E$104,2,FALSE),"Not found")) | L31: =IF(OR($H31<>"Confirmed",$I31="",$E31="",$F31="",$G31=""),"",IFERROR(IF(AND($E31<=VLOOKUP($I31,Kennels!$A$5:$E$104,4,FALSE),$F31<=VLOOKUP($I31,Kennels!$A$5:$E$104,3,FALSE),$G31=VLOOKUP($I31,Kennels!$A$5:$E$104,2,FALSE)),"Fits","Check fit"),"Check kennel ID")) | M31: =IF(OR($H31<>"Confirmed",$I31="",$C31="",$D31="",$D31<=$C31),"",COUNTIFS($I$5:$I$154,$I31,$H$5:$H$154,"Confirmed",$C$5:$C$154,"<"&$D31,$D$5:$D$154,">"&$C31)-1) | N31: =IF($A31="","",IF(COUNTIF($A$5:$A$154,$A31)>1,"Check booking ID",IF($H31<>"Confirmed","No confirmed assignment",IF(OR($C31="",$D31=""),"Check dates",IF($D31<=$C31,"Check dates",IF($I31="","Needs kennel",IFERROR(IF(VLOOKUP($I31,Kennels!$A$5:$E$104,5,FALSE)<>"Available","Check kennel status",IF($L31<>"Fits","Check compatibility",IF($M31>0,"Conflict: overlap","Ready"))),"Check kennel ID"))))))) | R31: =Kennels!$A$31
J32: =IF(OR($C32="",$D32="",$D32<=$C32),"",$D32-$C32) | K32: =IF($I32="","",IFERROR(VLOOKUP($I32,Kennels!$A$5:$E$104,2,FALSE),"Not found")) | L32: =IF(OR($H32<>"Confirmed",$I32="",$E32="",$F32="",$G32=""),"",IFERROR(IF(AND($E32<=VLOOKUP($I32,Kennels!$A$5:$E$104,4,FALSE),$F32<=VLOOKUP($I32,Kennels!$A$5:$E$104,3,FALSE),$G32=VLOOKUP($I32,Kennels!$A$5:$E$104,2,FALSE)),"Fits","Check fit"),"Check kennel ID")) | M32: =IF(OR($H32<>"Confirmed",$I32="",$C32="",$D32="",$D32<=$C32),"",COUNTIFS($I$5:$I$154,$I32,$H$5:$H$154,"Confirmed",$C$5:$C$154,"<"&$D32,$D$5:$D$154,">"&$C32)-1) | N32: =IF($A32="","",IF(COUNTIF($A$5:$A$154,$A32)>1,"Check booking ID",IF($H32<>"Confirmed","No confirmed assignment",IF(OR($C32="",$D32=""),"Check dates",IF($D32<=$C32,"Check dates",IF($I32="","Needs kennel",IFERROR(IF(VLOOKUP($I32,Kennels!$A$5:$E$104,5,FALSE)<>"Available","Check kennel status",IF($L32<>"Fits","Check compatibility",IF($M32>0,"Conflict: overlap","Ready"))),"Check kennel ID"))))))) | R32: =Kennels!$A$32
J33: =IF(OR($C33="",$D33="",$D33<=$C33),"",$D33-$C33) | K33: =IF($I33="","",IFERROR(VLOOKUP($I33,Kennels!$A$5:$E$104,2,FALSE),"Not found")) | L33: =IF(OR($H33<>"Confirmed",$I33="",$E33="",$F33="",$G33=""),"",IFERROR(IF(AND($E33<=VLOOKUP($I33,Kennels!$A$5:$E$104,4,FALSE),$F33<=VLOOKUP($I33,Kennels!$A$5:$E$104,3,FALSE),$G33=VLOOKUP($I33,Kennels!$A$5:$E$104,2,FALSE)),"Fits","Check fit"),"Check kennel ID")) | M33: =IF(OR($H33<>"Confirmed",$I33="",$C33="",$D33="",$D33<=$C33),"",COUNTIFS($I$5:$I$154,$I33,$H$5:$H$154,"Confirmed",$C$5:$C$154,"<"&$D33,$D$5:$D$154,">"&$C33)-1) | N33: =IF($A33="","",IF(COUNTIF($A$5:$A$154,$A33)>1,"Check booking ID",IF($H33<>"Confirmed","No confirmed assignment",IF(OR($C33="",$D33=""),"Check dates",IF($D33<=$C33,"Check dates",IF($I33="","Needs kennel",IFERROR(IF(VLOOKUP($I33,Kennels!$A$5:$E$104,5,FALSE)<>"Available","Check kennel status",IF($L33<>"Fits","Check compatibility",IF($M33>0,"Conflict: overlap","Ready"))),"Check kennel ID"))))))) | R33: =Kennels!$A$33
J34: =IF(OR($C34="",$D34="",$D34<=$C34),"",$D34-$C34) | K34: =IF($I34="","",IFERROR(VLOOKUP($I34,Kennels!$A$5:$E$104,2,FALSE),"Not found")) | L34: =IF(OR($H34<>"Confirmed",$I34="",$E34="",$F34="",$G34=""),"",IFERROR(IF(AND($E34<=VLOOKUP($I34,Kennels!$A$5:$E$104,4,FALSE),$F34<=VLOOKUP($I34,Kennels!$A$5:$E$104,3,FALSE),$G34=VLOOKUP($I34,Kennels!$A$5:$E$104,2,FALSE)),"Fits","Check fit"),"Check kennel ID")) | M34: =IF(OR($H34<>"Confirmed",$I34="",$C34="",$D34="",$D34<=$C34),"",COUNTIFS($I$5:$I$154,$I34,$H$5:$H$154,"Confirmed",$C$5:$C$154,"<"&$D34,$D$5:$D$154,">"&$C34)-1) | N34: =IF($A34="","",IF(COUNTIF($A$5:$A$154,$A34)>1,"Check booking ID",IF($H34<>"Confirmed","No confirmed assignment",IF(OR($C34="",$D34=""),"Check dates",IF($D34<=$C34,"Check dates",IF($I34="","Needs kennel",IFERROR(IF(VLOOKUP($I34,Kennels!$A$5:$E$104,5,FALSE)<>"Available","Check kennel status",IF($L34<>"Fits","Check compatibility",IF($M34>0,"Conflict: overlap","Ready"))),"Check kennel ID"))))))) | R34: =Kennels!$A$34
J35: =IF(OR($C35="",$D35="",$D35<=$C35),"",$D35-$C35) | K35: =IF($I35="","",IFERROR(VLOOKUP($I35,Kennels!$A$5:$E$104,2,FALSE),"Not found")) | L35: =IF(OR($H35<>"Confirmed",$I35="",$E35="",$F35="",$G35=""),"",IFERROR(IF(AND($E35<=VLOOKUP($I35,Kennels!$A$5:$E$104,4,FALSE),$F35<=VLOOKUP($I35,Kennels!$A$5:$E$104,3,FALSE),$G35=VLOOKUP($I35,Kennels!$A$5:$E$104,2,FALSE)),"Fits","Check fit"),"Check kennel ID")) | M35: =IF(OR($H35<>"Confirmed",$I35="",$C35="",$D35="",$D35<=$C35),"",COUNTIFS($I$5:$I$154,$I35,$H$5:$H$154,"Confirmed",$C$5:$C$154,"<"&$D35,$D$5:$D$154,">"&$C35)-1) | N35: =IF($A35="","",IF(COUNTIF($A$5:$A$154,$A35)>1,"Check booking ID",IF($H35<>"Confirmed","No confirmed assignment",IF(OR($C35="",$D35=""),"Check dates",IF($D35<=$C35,"Check dates",IF($I35="","Needs kennel",IFERROR(IF(VLOOKUP($I35,Kennels!$A$5:$E$104,5,FALSE)<>"Available","Check kennel status",IF($L35<>"Fits","Check compatibility",IF($M35>0,"Conflict: overlap","Ready"))),"Check kennel ID"))))))) | R35: =Kennels!$A$35
J36: =IF(OR($C36="",$D36="",$D36<=$C36),"",$D36-$C36) | K36: =IF($I36="","",IFERROR(VLOOKUP($I36,Kennels!$A$5:$E$104,2,FALSE),"Not found")) | L36: =IF(OR($H36<>"Confirmed",$I36="",$E36="",$F36="",$G36=""),"",IFERROR(IF(AND($E36<=VLOOKUP($I36,Kennels!$A$5:$E$104,4,FALSE),$F36<=VLOOKUP($I36,Kennels!$A$5:$E$104,3,FALSE),$G36=VLOOKUP($I36,Kennels!$A$5:$E$104,2,FALSE)),"Fits","Check fit"),"Check kennel ID")) | M36: =IF(OR($H36<>"Confirmed",$I36="",$C36="",$D36="",$D36<=$C36),"",COUNTIFS($I$5:$I$154,$I36,$H$5:$H$154,"Confirmed",$C$5:$C$154,"<"&$D36,$D$5:$D$154,">"&$C36)-1) | N36: =IF($A36="","",IF(COUNTIF($A$5:$A$154,$A36)>1,"Check booking ID",IF($H36<>"Confirmed","No confirmed assignment",IF(OR($C36="",$D36=""),"Check dates",IF($D36<=$C36,"Check dates",IF($I36="","Needs kennel",IFERROR(IF(VLOOKUP($I36,Kennels!$A$5:$E$104,5,FALSE)<>"Available","Check kennel status",IF($L36<>"Fits","Check compatibility",IF($M36>0,"Conflict: overlap","Ready"))),"Check kennel ID"))))))) | R36: =Kennels!$A$36
J37: =IF(OR($C37="",$D37="",$D37<=$C37),"",$D37-$C37) | K37: =IF($I37="","",IFERROR(VLOOKUP($I37,Kennels!$A$5:$E$104,2,FALSE),"Not found")) | L37: =IF(OR($H37<>"Confirmed",$I37="",$E37="",$F37="",$G37=""),"",IFERROR(IF(AND($E37<=VLOOKUP($I37,Kennels!$A$5:$E$104,4,FALSE),$F37<=VLOOKUP($I37,Kennels!$A$5:$E$104,3,FALSE),$G37=VLOOKUP($I37,Kennels!$A$5:$E$104,2,FALSE)),"Fits","Check fit"),"Check kennel ID")) | M37: =IF(OR($H37<>"Confirmed",$I37="",$C37="",$D37="",$D37<=$C37),"",COUNTIFS($I$5:$I$154,$I37,$H$5:$H$154,"Confirmed",$C$5:$C$154,"<"&$D37,$D$5:$D$154,">"&$C37)-1) | N37: =IF($A37="","",IF(COUNTIF($A$5:$A$154,$A37)>1,"Check booking ID",IF($H37<>"Confirmed","No confirmed assignment",IF(OR($C37="",$D37=""),"Check dates",IF($D37<=$C37,"Check dates",IF($I37="","Needs kennel",IFERROR(IF(VLOOKUP($I37,Kennels!$A$5:$E$104,5,FALSE)<>"Available","Check kennel status",IF($L37<>"Fits","Check compatibility",IF($M37>0,"Conflict: overlap","Ready"))),"Check kennel ID"))))))) | R37: =Kennels!$A$37
J38: =IF(OR($C38="",$D38="",$D38<=$C38),"",$D38-$C38) | K38: =IF($I38="","",IFERROR(VLOOKUP($I38,Kennels!$A$5:$E$104,2,FALSE),"Not found")) | L38: =IF(OR($H38<>"Confirmed",$I38="",$E38="",$F38="",$G38=""),"",IFERROR(IF(AND($E38<=VLOOKUP($I38,Kennels!$A$5:$E$104,4,FALSE),$F38<=VLOOKUP($I38,Kennels!$A$5:$E$104,3,FALSE),$G38=VLOOKUP($I38,Kennels!$A$5:$E$104,2,FALSE)),"Fits","Check fit"),"Check kennel ID")) | M38: =IF(OR($H38<>"Confirmed",$I38="",$C38="",$D38="",$D38<=$C38),"",COUNTIFS($I$5:$I$154,$I38,$H$5:$H$154,"Confirmed",$C$5:$C$154,"<"&$D38,$D$5:$D$154,">"&$C38)-1) | N38: =IF($A38="","",IF(COUNTIF($A$5:$A$154,$A38)>1,"Check booking ID",IF($H38<>"Confirmed","No confirmed assignment",IF(OR($C38="",$D38=""),"Check dates",IF($D38<=$C38,"Check dates",IF($I38="","Needs kennel",IFERROR(IF(VLOOKUP($I38,Kennels!$A$5:$E$104,5,FALSE)<>"Available","Check kennel status",IF($L38<>"Fits","Check compatibility",IF($M38>0,"Conflict: overlap","Ready"))),"Check kennel ID"))))))) | R38: =Kennels!$A$38
J39: =IF(OR($C39="",$D39="",$D39<=$C39),"",$D39-$C39) | K39: =IF($I39="","",IFERROR(VLOOKUP($I39,Kennels!$A$5:$E$104,2,FALSE),"Not found")) | L39: =IF(OR($H39<>"Confirmed",$I39="",$E39="",$F39="",$G39=""),"",IFERROR(IF(AND($E39<=VLOOKUP($I39,Kennels!$A$5:$E$104,4,FALSE),$F39<=VLOOKUP($I39,Kennels!$A$5:$E$104,3,FALSE),$G39=VLOOKUP($I39,Kennels!$A$5:$E$104,2,FALSE)),"Fits","Check fit"),"Check kennel ID")) | M39: =IF(OR($H39<>"Confirmed",$I39="",$C39="",$D39="",$D39<=$C39),"",COUNTIFS($I$5:$I$154,$I39,$H$5:$H$154,"Confirmed",$C$5:$C$154,"<"&$D39,$D$5:$D$154,">"&$C39)-1) | N39: =IF($A39="","",IF(COUNTIF($A$5:$A$154,$A39)>1,"Check booking ID",IF($H39<>"Confirmed","No confirmed assignment",IF(OR($C39="",$D39=""),"Check dates",IF($D39<=$C39,"Check dates",IF($I39="","Needs kennel",IFERROR(IF(VLOOKUP($I39,Kennels!$A$5:$E$104,5,FALSE)<>"Available","Check kennel status",IF($L39<>"Fits","Check compatibility",IF($M39>0,"Conflict: overlap","Ready"))),"Check kennel ID"))))))) | R39: =Kennels!$A$39
J40: =IF(OR($C40="",$D40="",$D40<=$C40),"",$D40-$C40) | K40: =IF($I40="","",IFERROR(VLOOKUP($I40,Kennels!$A$5:$E$104,2,FALSE),"Not found")) | L40: =IF(OR($H40<>"Confirmed",$I40="",$E40="",$F40="",$G40=""),"",IFERROR(IF(AND($E40<=VLOOKUP($I40,Kennels!$A$5:$E$104,4,FALSE),$F40<=VLOOKUP($I40,Kennels!$A$5:$E$104,3,FALSE),$G40=VLOOKUP($I40,Kennels!$A$5:$E$104,2,FALSE)),"Fits","Check fit"),"Check kennel ID")) | M40: =IF(OR($H40<>"Confirmed",$I40="",$C40="",$D40="",$D40<=$C40),"",COUNTIFS($I$5:$I$154,$I40,$H$5:$H$154,"Confirmed",$C$5:$C$154,"<"&$D40,$D$5:$D$154,">"&$C40)-1) | N40: =IF($A40="","",IF(COUNTIF($A$5:$A$154,$A40)>1,"Check booking ID",IF($H40<>"Confirmed","No confirmed assignment",IF(OR($C40="",$D40=""),"Check dates",IF($D40<=$C40,"Check dates",IF($I40="","Needs kennel",IFERROR(IF(VLOOKUP($I40,Kennels!$A$5:$E$104,5,FALSE)<>"Available","Check kennel status",IF($L40<>"Fits","Check compatibility",IF($M40>0,"Conflict: overlap","Ready"))),"Check kennel ID"))))))) | R40: =Kennels!$A$40
J41: =IF(OR($C41="",$D41="",$D41<=$C41),"",$D41-$C41) | K41: =IF($I41="","",IFERROR(VLOOKUP($I41,Kennels!$A$5:$E$104,2,FALSE),"Not found")) | L41: =IF(OR($H41<>"Confirmed",$I41="",$E41="",$F41="",$G41=""),"",IFERROR(IF(AND($E41<=VLOOKUP($I41,Kennels!$A$5:$E$104,4,FALSE),$F41<=VLOOKUP($I41,Kennels!$A$5:$E$104,3,FALSE),$G41=VLOOKUP($I41,Kennels!$A$5:$E$104,2,FALSE)),"Fits","Check fit"),"Check kennel ID")) | M41: =IF(OR($H41<>"Confirmed",$I41="",$C41="",$D41="",$D41<=$C41),"",COUNTIFS($I$5:$I$154,$I41,$H$5:$H$154,"Confirmed",$C$5:$C$154,"<"&$D41,$D$5:$D$154,">"&$C41)-1) | N41: =IF($A41="","",IF(COUNTIF($A$5:$A$154,$A41)>1,"Check booking ID",IF($H41<>"Confirmed","No confirmed assignment",IF(OR($C41="",$D41=""),"Check dates",IF($D41<=$C41,"Check dates",IF($I41="","Needs kennel",IFERROR(IF(VLOOKUP($I41,Kennels!$A$5:$E$104,5,FALSE)<>"Available","Check kennel status",IF($L41<>"Fits","Check compatibility",IF($M41>0,"Conflict: overlap","Ready"))),"Check kennel ID"))))))) | R41: =Kennels!$A$41
J42: =IF(OR($C42="",$D42="",$D42<=$C42),"",$D42-$C42) | K42: =IF($I42="","",IFERROR(VLOOKUP($I42,Kennels!$A$5:$E$104,2,FALSE),"Not found")) | L42: =IF(OR($H42<>"Confirmed",$I42="",$E42="",$F42="",$G42=""),"",IFERROR(IF(AND($E42<=VLOOKUP($I42,Kennels!$A$5:$E$104,4,FALSE),$F42<=VLOOKUP($I42,Kennels!$A$5:$E$104,3,FALSE),$G42=VLOOKUP($I42,Kennels!$A$5:$E$104,2,FALSE)),"Fits","Check fit"),"Check kennel ID")) | M42: =IF(OR($H42<>"Confirmed",$I42="",$C42="",$D42="",$D42<=$C42),"",COUNTIFS($I$5:$I$154,$I42,$H$5:$H$154,"Confirmed",$C$5:$C$154,"<"&$D42,$D$5:$D$154,">"&$C42)-1) | N42: =IF($A42="","",IF(COUNTIF($A$5:$A$154,$A42)>1,"Check booking ID",IF($H42<>"Confirmed","No confirmed assignment",IF(OR($C42="",$D42=""),"Check dates",IF($D42<=$C42,"Check dates",IF($I42="","Needs kennel",IFERROR(IF(VLOOKUP($I42,Kennels!$A$5:$E$104,5,FALSE)<>"Available","Check kennel status",IF($L42<>"Fits","Check compatibility",IF($M42>0,"Conflict: overlap","Ready"))),"Check kennel ID"))))))) | R42: =Kennels!$A$42
...

Sheet Kennels
A1: Kennel Allocation Planner — Fictional Sample Kennels
A4: Kennel ID | B4: Zone | C4: Max Weight (lb) | D4: Max Dogs | E4: Status | F4: Description
A5: K-101 | B5: Standard | C5: 60 | D5: 1 | E5: Available | F5: Front standard run | H5: =Assumptions!$E$5 | I5: =Assumptions!$F$5 | J5: =Assumptions!$B$9
A6: K-102 | B6: Standard | C6: 90 | D6: 2 | E6: Available | F6: Wide standard run | H6: =Assumptions!$E$6 | I6: =Assumptions!$F$6 | J6: =Assumptions!$B$8
A7: K-103 | B7: Quiet | C7: 45 | D7: 1 | E7: Available | F7: Quiet wing near office | H7: =Assumptions!$E$7 | I7: =Assumptions!$F$7
A8: K-104 | B8: Quiet | C8: 80 | D8: 2 | E8: Available | F8: Wide quiet-wing run
A9: K-105 | B9: Family | C9: 120 | D9: 3 | E9: Available | F9: Large family enclosure
A10: K-106 | B10: Standard | C10: 35 | D10: 1 | E10: Hold | F10: Human review before use
A11: K-107 | B11: Family | C11: 80 | D11: 2 | E11: Available | F11: Small family enclosure
A12: K-108 | B12: Standard | C12: 110 | D12: 2 | E12: Available | F12: Extra-wide standard run
A13: K-109 | B13: Quiet | C13: 25 | D13: 1 | E13: Out of Service | F13: Not currently assignable
A14: K-110 | B14: Standard | C14: 55 | D14: 1 | E14: Available | F14: Rear standard run

Sheet Assumptions
A1: Kennel Allocation Planner — Fictional Sample Assumptions
A4: Setting | B4: Value | C4: Purpose | E4: Zone Choices | F4: Kennel Status Choices | G4: Booking Status Choices
A5: Planning date | B5: 46277 | C5: Drives the active-stay indicators on Summary. | E5: Standard | F5: Available | G5: Confirmed
A6: Earliest booking date | B6: 45909 | C6: Lower date limit for allocation entries. | E6: Quiet | F6: Hold | G6: Tentative
A7: Latest booking date | B7: 47004 | C7: Upper date limit for allocation entries. | E7: Family | F7: Out of Service | G7: Canceled
A8: Maximum dogs in one booking | B8: 4 | C8: Upper entry limit for a boarding party.
A9: Maximum entered dog weight (lb) | B9: 250 | C9: Upper entry limit for the largest dog.
