Workbook

Sheet Summary
A1: Kennel Allocation Planner — Fictional Sample Summary
A4: Planning date | B4: =Assumptions!$B$5 | D4: Confirmed stays active | E4: =COUNTIFS(Allocations!$H$5:$H$154,"Confirmed",Allocations!$C$5:$C$154,"<="&$B$4,Allocations!$D$5:$D$154,">"&$B$4) | G4: Confirmed dogs active | H4: =IFERROR(SUMIFS(Allocations!$E$5:$E$154,Allocations!$H$5:$H$154,"Confirmed",Allocations!$C$5:$C$154,"<="&$B$4,Allocations!$D$5:$D$154,">"&$B$4),0)
A7: Available kennels | B7: =COUNTIF(Kennels!$E$5:$E$104,"Available") | D7: Confirmed bookings | E7: =COUNTIF(Allocations!$H$5:$H$154,"Confirmed") | G7: Assigned confirmed | H7: =COUNTIFS(Allocations!$H$5:$H$154,"Confirmed",Allocations!$I$5:$I$154,"<>")
A10: Ready assignments | B10: =COUNTIF(Allocations!$N$5:$N$154,"Ready") | D10: Overlap conflicts | E10: =COUNTIF(Allocations!$N$5:$N$154,"Conflict:*") | G10: Confirmed needing kennel | H10: =COUNTIF(Allocations!$N$5:$N$154,"Needs kennel")
A13: Other human checks | B13: =COUNTIF(Allocations!$N$5:$N$154,"Check*") | D13: Unconfirmed entries | E13: =COUNTIFS(Allocations!$A$5:$A$154,"<>",Allocations!$H$5:$H$154,"<>Confirmed") | G13: Active assigned stays | H13: =COUNTIFS(Allocations!$H$5:$H$154,"Confirmed",Allocations!$I$5:$I$154,"<>",Allocations!$C$5:$C$154,"<="&$B$4,Allocations!$D$5:$D$154,">"&$B$4)

Sheet Allocations
A1: Kennel Allocation Planner — Fictional Sample Bookings
A4: Booking ID | B4: Pet or Party | C4: Arrival | D4: Departure | E4: Dogs | F4: Largest Dog (lb) | G4: Required Zone | H4: Booking Status | I4: Kennel ID | J4: Nights | K4: Kennel Zone | L4: Capacity Result | M4: Overlap Count | N4: Allocation Check
A5: BKG-1001 | B5: Biscuit Lane | C5: 46275 | D5: 46278 | E5: 1 | F5: 42 | G5: Standard | H5: Confirmed | I5: K-101 | J5: =IF(OR($C5="",$D5="",$D5<=$C5),"",$D5-$C5) | K5: =IF($I5="","",IFERROR(VLOOKUP($I5,Kennels!$A$5:$E$104,2,FALSE),"Not found")) | L5: =IF(OR($H5<>"Confirmed",$I5="",$E5="",$F5="",$G5=""),"",IFERROR(IF(AND($E5<=VLOOKUP($I5,Kennels!$A$5:$E$104,4,FALSE),$F5<=VLOOKUP($I5,Kennels!$A$5:$E$104,3,FALSE),$G5=VLOOKUP($I5,Kennels!$A$5:$E$104,2,FALSE)),"Fits","Check fit"),"Check kennel ID")) | M5: =IF(OR($H5<>"Confirmed",$I5="",$C5="",$D5="",$D5<=$C5),"",COUNTIFS($I$5:$I$154,$I5,$H$5:$H$154,"Confirmed",$C$5:$C$154,"<"&$D5,$D$5:$D$154,">"&$C5)-1) | N5: =IF($A5="","",IF(COUNTIF($A$5:$A$154,$A5)>1,"Check booking ID",IF($H5<>"Confirmed","No confirmed assignment",IF(OR($C5="",$D5=""),"Check dates",IF($D5<=$C5,"Check dates",IF($I5="","Needs kennel",IFERROR(IF(VLOOKUP($I5,Kennels!$A$5:$E$104,5,FALSE)<>"Available","Check kennel status",IF($L5<>"Fits","Check compatibility",IF($M5>0,"Conflict: overlap","Ready"))),"Check kennel ID"))))))) | P5: =Assumptions!$E$5 | Q5: =Assumptions!$G$5 | R5: =Kennels!$A$5 | S5: =Assumptions!$B$6
A6: BKG-1002 | B6: Clover Pair | C6: 46275 | D6: 46277 | E6: 2 | F6: 55 | G6: Standard | H6: Confirmed | I6: K-102 | J6: =IF(OR($C6="",$D6="",$D6<=$C6),"",$D6-$C6) | K6: =IF($I6="","",IFERROR(VLOOKUP($I6,Kennels!$A$5:$E$104,2,FALSE),"Not found")) | L6: =IF(OR($H6<>"Confirmed",$I6="",$E6="",$F6="",$G6=""),"",IFERROR(IF(AND($E6<=VLOOKUP($I6,Kennels!$A$5:$E$104,4,FALSE),$F6<=VLOOKUP($I6,Kennels!$A$5:$E$104,3,FALSE),$G6=VLOOKUP($I6,Kennels!$A$5:$E$104,2,FALSE)),"Fits","Check fit"),"Check kennel ID")) | M6: =IF(OR($H6<>"Confirmed",$I6="",$C6="",$D6="",$D6<=$C6),"",COUNTIFS($I$5:$I$154,$I6,$H$5:$H$154,"Confirmed",$C$5:$C$154,"<"&$D6,$D$5:$D$154,">"&$C6)-1) | N6: =IF($A6="","",IF(COUNTIF($A$5:$A$154,$A6)>1,"Check booking ID",IF($H6<>"Confirmed","No confirmed assignment",IF(OR($C6="",$D6=""),"Check dates",IF($D6<=$C6,"Check dates",IF($I6="","Needs kennel",IFERROR(IF(VLOOKUP($I6,Kennels!$A$5:$E$104,5,FALSE)<>"Available","Check kennel status",IF($L6<>"Fits","Check compatibility",IF($M6>0,"Conflict: overlap","Ready"))),"Check kennel ID"))))))) | P6: =Assumptions!$E$6 | Q6: =Assumptions!$G$6 | R6: =Kennels!$A$6 | S6: =Assumptions!$B$7
A7: BKG-1003 | B7: Nimbus | C7: 46276 | D7: 46279 | E7: 1 | F7: 38 | G7: Quiet | H7: Confirmed | I7: K-103 | J7: =IF(OR($C7="",$D7="",$D7<=$C7),"",$D7-$C7) | K7: =IF($I7="","",IFERROR(VLOOKUP($I7,Kennels!$A$5:$E$104,2,FALSE),"Not found")) | L7: =IF(OR($H7<>"Confirmed",$I7="",$E7="",$F7="",$G7=""),"",IFERROR(IF(AND($E7<=VLOOKUP($I7,Kennels!$A$5:$E$104,4,FALSE),$F7<=VLOOKUP($I7,Kennels!$A$5:$E$104,3,FALSE),$G7=VLOOKUP($I7,Kennels!$A$5:$E$104,2,FALSE)),"Fits","Check fit"),"Check kennel ID")) | M7: =IF(OR($H7<>"Confirmed",$I7="",$C7="",$D7="",$D7<=$C7),"",COUNTIFS($I$5:$I$154,$I7,$H$5:$H$154,"Confirmed",$C$5:$C$154,"<"&$D7,$D$5:$D$154,">"&$C7)-1) | N7: =IF($A7="","",IF(COUNTIF($A$5:$A$154,$A7)>1,"Check booking ID",IF($H7<>"Confirmed","No confirmed assignment",IF(OR($C7="",$D7=""),"Check dates",IF($D7<=$C7,"Check dates",IF($I7="","Needs kennel",IFERROR(IF(VLOOKUP($I7,Kennels!$A$5:$E$104,5,FALSE)<>"Available","Check kennel status",IF($L7<>"Fits","Check compatibility",IF($M7>0,"Conflict: overlap","Ready"))),"Check kennel ID"))))))) | P7: =Assumptions!$E$7 | Q7: =Assumptions!$G$7 | R7: =Kennels!$A$7 | S7: =Assumptions!$B$8
A8: BKG-1004 | B8: Poppy Pack | C8: 46277 | D8: 46280 | E8: 3 | F8: 70 | G8: Family | H8: Confirmed | I8: K-105 | J8: =IF(OR($C8="",$D8="",$D8<=$C8),"",$D8-$C8) | K8: =IF($I8="","",IFERROR(VLOOKUP($I8,Kennels!$A$5:$E$104,2,FALSE),"Not found")) | L8: =IF(OR($H8<>"Confirmed",$I8="",$E8="",$F8="",$G8=""),"",IFERROR(IF(AND($E8<=VLOOKUP($I8,Kennels!$A$5:$E$104,4,FALSE),$F8<=VLOOKUP($I8,Kennels!$A$5:$E$104,3,FALSE),$G8=VLOOKUP($I8,Kennels!$A$5:$E$104,2,FALSE)),"Fits","Check fit"),"Check kennel ID")) | M8: =IF(OR($H8<>"Confirmed",$I8="",$C8="",$D8="",$D8<=$C8),"",COUNTIFS($I$5:$I$154,$I8,$H$5:$H$154,"Confirmed",$C$5:$C$154,"<"&$D8,$D$5:$D$154,">"&$C8)-1) | N8: =IF($A8="","",IF(COUNTIF($A$5:$A$154,$A8)>1,"Check booking ID",IF($H8<>"Confirmed","No confirmed assignment",IF(OR($C8="",$D8=""),"Check dates",IF($D8<=$C8,"Check dates",IF($I8="","Needs kennel",IFERROR(IF(VLOOKUP($I8,Kennels!$A$5:$E$104,5,FALSE)<>"Available","Check kennel status",IF($L8<>"Fits","Check compatibility",IF($M8>0,"Conflict: overlap","Ready"))),"Check kennel ID"))))))) | R8: =Kennels!$A$8 | S8: =Assumptions!$B$9
A9: BKG-1005 | B9: Tinsel | C9: 46278 | D9: 46281 | E9: 1 | F9: 28 | G9: Standard | H9: Confirmed | I9: K-106 | J9: =IF(OR($C9="",$D9="",$D9<=$C9),"",$D9-$C9) | K9: =IF($I9="","",IFERROR(VLOOKUP($I9,Kennels!$A$5:$E$104,2,FALSE),"Not found")) | L9: =IF(OR($H9<>"Confirmed",$I9="",$E9="",$F9="",$G9=""),"",IFERROR(IF(AND($E9<=VLOOKUP($I9,Kennels!$A$5:$E$104,4,FALSE),$F9<=VLOOKUP($I9,Kennels!$A$5:$E$104,3,FALSE),$G9=VLOOKUP($I9,Kennels!$A$5:$E$104,2,FALSE)),"Fits","Check fit"),"Check kennel ID")) | M9: =IF(OR($H9<>"Confirmed",$I9="",$C9="",$D9="",$D9<=$C9),"",COUNTIFS($I$5:$I$154,$I9,$H$5:$H$154,"Confirmed",$C$5:$C$154,"<"&$D9,$D$5:$D$154,">"&$C9)-1) | N9: =IF($A9="","",IF(COUNTIF($A$5:$A$154,$A9)>1,"Check booking ID",IF($H9<>"Confirmed","No confirmed assignment",IF(OR($C9="",$D9=""),"Check dates",IF($D9<=$C9,"Check dates",IF($I9="","Needs kennel",IFERROR(IF(VLOOKUP($I9,Kennels!$A$5:$E$104,5,FALSE)<>"Available","Check kennel status",IF($L9<>"Fits","Check compatibility",IF($M9>0,"Conflict: overlap","Ready"))),"Check kennel ID"))))))) | R9: =Kennels!$A$9
A10: BKG-1006 | B10: Marzipan | C10: 46276 | D10: 46278 | E10: 1 | F10: 75 | G10: Standard | H10: Confirmed | I10: K-108 | J10: =IF(OR($C10="",$D10="",$D10<=$C10),"",$D10-$C10) | K10: =IF($I10="","",IFERROR(VLOOKUP($I10,Kennels!$A$5:$E$104,2,FALSE),"Not found")) | L10: =IF(OR($H10<>"Confirmed",$I10="",$E10="",$F10="",$G10=""),"",IFERROR(IF(AND($E10<=VLOOKUP($I10,Kennels!$A$5:$E$104,4,FALSE),$F10<=VLOOKUP($I10,Kennels!$A$5:$E$104,3,FALSE),$G10=VLOOKUP($I10,Kennels!$A$5:$E$104,2,FALSE)),"Fits","Check fit"),"Check kennel ID")) | M10: =IF(OR($H10<>"Confirmed",$I10="",$C10="",$D10="",$D10<=$C10),"",COUNTIFS($I$5:$I$154,$I10,$H$5:$H$154,"Confirmed",$C$5:$C$154,"<"&$D10,$D$5:$D$154,">"&$C10)-1) | N10: =IF($A10="","",IF(COUNTIF($A$5:$A$154,$A10)>1,"Check booking ID",IF($H10<>"Confirmed","No confirmed assignment",IF(OR($C10="",$D10=""),"Check dates",IF($D10<=$C10,"Check dates",IF($I10="","Needs kennel",IFERROR(IF(VLOOKUP($I10,Kennels!$A$5:$E$104,5,FALSE)<>"Available","Check kennel status",IF($L10<>"Fits","Check compatibility",IF($M10>0,"Conflict: overlap","Ready"))),"Check kennel ID"))))))) | R10: =Kennels!$A$10
A11: BKG-1007 | B11: Juniper | C11: 46277 | D11: 46279 | E11: 1 | F11: 50 | G11: Standard | H11: Confirmed | I11: K-101 | J11: =IF(OR($C11="",$D11="",$D11<=$C11),"",$D11-$C11) | K11: =IF($I11="","",IFERROR(VLOOKUP($I11,Kennels!$A$5:$E$104,2,FALSE),"Not found")) | L11: =IF(OR($H11<>"Confirmed",$I11="",$E11="",$F11="",$G11=""),"",IFERROR(IF(AND($E11<=VLOOKUP($I11,Kennels!$A$5:$E$104,4,FALSE),$F11<=VLOOKUP($I11,Kennels!$A$5:$E$104,3,FALSE),$G11=VLOOKUP($I11,Kennels!$A$5:$E$104,2,FALSE)),"Fits","Check fit"),"Check kennel ID")) | M11: =IF(OR($H11<>"Confirmed",$I11="",$C11="",$D11="",$D11<=$C11),"",COUNTIFS($I$5:$I$154,$I11,$H$5:$H$154,"Confirmed",$C$5:$C$154,"<"&$D11,$D$5:$D$154,">"&$C11)-1) | N11: =IF($A11="","",IF(COUNTIF($A$5:$A$154,$A11)>1,"Check booking ID",IF($H11<>"Confirmed","No confirmed assignment",IF(OR($C11="",$D11=""),"Check dates",IF($D11<=$C11,"Check dates",IF($I11="","Needs kennel",IFERROR(IF(VLOOKUP($I11,Kennels!$A$5:$E$104,5,FALSE)<>"Available","Check kennel status",IF($L11<>"Fits","Check compatibility",IF($M11>0,"Conflict: overlap","Ready"))),"Check kennel ID"))))))) | R11: =Kennels!$A$11
A12: BKG-1008 | B12: Waffle Pair | C12: 46280 | D12: 46282 | E12: 2 | F12: 80 | G12: Family | H12: Confirmed | I12: K-107 | J12: =IF(OR($C12="",$D12="",$D12<=$C12),"",$D12-$C12) | K12: =IF($I12="","",IFERROR(VLOOKUP($I12,Kennels!$A$5:$E$104,2,FALSE),"Not found")) | L12: =IF(OR($H12<>"Confirmed",$I12="",$E12="",$F12="",$G12=""),"",IFERROR(IF(AND($E12<=VLOOKUP($I12,Kennels!$A$5:$E$104,4,FALSE),$F12<=VLOOKUP($I12,Kennels!$A$5:$E$104,3,FALSE),$G12=VLOOKUP($I12,Kennels!$A$5:$E$104,2,FALSE)),"Fits","Check fit"),"Check kennel ID")) | M12: =IF(OR($H12<>"Confirmed",$I12="",$C12="",$D12="",$D12<=$C12),"",COUNTIFS($I$5:$I$154,$I12,$H$5:$H$154,"Confirmed",$C$5:$C$154,"<"&$D12,$D$5:$D$154,">"&$C12)-1) | N12: =IF($A12="","",IF(COUNTIF($A$5:$A$154,$A12)>1,"Check booking ID",IF($H12<>"Confirmed","No confirmed assignment",IF(OR($C12="",$D12=""),"Check dates",IF($D12<=$C12,"Check dates",IF($I12="","Needs kennel",IFERROR(IF(VLOOKUP($I12,Kennels!$A$5:$E$104,5,FALSE)<>"Available","Check kennel status",IF($L12<>"Fits","Check compatibility",IF($M12>0,"Conflict: overlap","Ready"))),"Check kennel ID"))))))) | R12: =Kennels!$A$12
A13: BKG-1009 | B13: Comet | C13: 46279 | D13: 46283 | E13: 1 | F13: 22 | G13: Quiet | H13: Tentative | J13: =IF(OR($C13="",$D13="",$D13<=$C13),"",$D13-$C13) | K13: =IF($I13="","",IFERROR(VLOOKUP($I13,Kennels!$A$5:$E$104,2,FALSE),"Not found")) | L13: =IF(OR($H13<>"Confirmed",$I13="",$E13="",$F13="",$G13=""),"",IFERROR(IF(AND($E13<=VLOOKUP($I13,Kennels!$A$5:$E$104,4,FALSE),$F13<=VLOOKUP($I13,Kennels!$A$5:$E$104,3,FALSE),$G13=VLOOKUP($I13,Kennels!$A$5:$E$104,2,FALSE)),"Fits","Check fit"),"Check kennel ID")) | M13: =IF(OR($H13<>"Confirmed",$I13="",$C13="",$D13="",$D13<=$C13),"",COUNTIFS($I$5:$I$154,$I13,$H$5:$H$154,"Confirmed",$C$5:$C$154,"<"&$D13,$D$5:$D$154,">"&$C13)-1) | N13: =IF($A13="","",IF(COUNTIF($A$5:$A$154,$A13)>1,"Check booking ID",IF($H13<>"Confirmed","No confirmed assignment",IF(OR($C13="",$D13=""),"Check dates",IF($D13<=$C13,"Check dates",IF($I13="","Needs kennel",IFERROR(IF(VLOOKUP($I13,Kennels!$A$5:$E$104,5,FALSE)<>"Available","Check kennel status",IF($L13<>"Fits","Check compatibility",IF($M13>0,"Conflict: overlap","Ready"))),"Check kennel ID"))))))) | R13: =Kennels!$A$13
A14: BKG-1010 | B14: Saffron | C14: 46278 | D14: 46280 | E14: 1 | F14: 110 | G14: Standard | H14: Confirmed | I14: K-108 | J14: =IF(OR($C14="",$D14="",$D14<=$C14),"",$D14-$C14) | K14: =IF($I14="","",IFERROR(VLOOKUP($I14,Kennels!$A$5:$E$104,2,FALSE),"Not found")) | L14: =IF(OR($H14<>"Confirmed",$I14="",$E14="",$F14="",$G14=""),"",IFERROR(IF(AND($E14<=VLOOKUP($I14,Kennels!$A$5:$E$104,4,FALSE),$F14<=VLOOKUP($I14,Kennels!$A$5:$E$104,3,FALSE),$G14=VLOOKUP($I14,Kennels!$A$5:$E$104,2,FALSE)),"Fits","Check fit"),"Check kennel ID")) | M14: =IF(OR($H14<>"Confirmed",$I14="",$C14="",$D14="",$D14<=$C14),"",COUNTIFS($I$5:$I$154,$I14,$H$5:$H$154,"Confirmed",$C$5:$C$154,"<"&$D14,$D$5:$D$154,">"&$C14)-1) | N14: =IF($A14="","",IF(COUNTIF($A$5:$A$154,$A14)>1,"Check booking ID",IF($H14<>"Confirmed","No confirmed assignment",IF(OR($C14="",$D14=""),"Check dates",IF($D14<=$C14,"Check dates",IF($I14="","Needs kennel",IFERROR(IF(VLOOKUP($I14,Kennels!$A$5:$E$104,5,FALSE)<>"Available","Check kennel status",IF($L14<>"Fits","Check compatibility",IF($M14>0,"Conflict: overlap","Ready"))),"Check kennel ID"))))))) | R14: =Kennels!$A$14
A15: BKG-1011 | B15: Acorn | C15: 46282 | D15: 46284 | E15: 1 | F15: 30 | G15: Quiet | H15: Confirmed | J15: =IF(OR($C15="",$D15="",$D15<=$C15),"",$D15-$C15) | K15: =IF($I15="","",IFERROR(VLOOKUP($I15,Kennels!$A$5:$E$104,2,FALSE),"Not found")) | L15: =IF(OR($H15<>"Confirmed",$I15="",$E15="",$F15="",$G15=""),"",IFERROR(IF(AND($E15<=VLOOKUP($I15,Kennels!$A$5:$E$104,4,FALSE),$F15<=VLOOKUP($I15,Kennels!$A$5:$E$104,3,FALSE),$G15=VLOOKUP($I15,Kennels!$A$5:$E$104,2,FALSE)),"Fits","Check fit"),"Check kennel ID")) | M15: =IF(OR($H15<>"Confirmed",$I15="",$C15="",$D15="",$D15<=$C15),"",COUNTIFS($I$5:$I$154,$I15,$H$5:$H$154,"Confirmed",$C$5:$C$154,"<"&$D15,$D$5:$D$154,">"&$C15)-1) | N15: =IF($A15="","",IF(COUNTIF($A$5:$A$154,$A15)>1,"Check booking ID",IF($H15<>"Confirmed","No confirmed assignment",IF(OR($C15="",$D15=""),"Check dates",IF($D15<=$C15,"Check dates",IF($I15="","Needs kennel",IFERROR(IF(VLOOKUP($I15,Kennels!$A$5:$E$104,5,FALSE)<>"Available","Check kennel status",IF($L15<>"Fits","Check compatibility",IF($M15>0,"Conflict: overlap","Ready"))),"Check kennel ID"))))))) | R15: =Kennels!$A$15
J16: =IF(OR($C16="",$D16="",$D16<=$C16),"",$D16-$C16) | K16: =IF($I16="","",IFERROR(VLOOKUP($I16,Kennels!$A$5:$E$104,2,FALSE),"Not found")) | L16: =IF(OR($H16<>"Confirmed",$I16="",$E16="",$F16="",$G16=""),"",IFERROR(IF(AND($E16<=VLOOKUP($I16,Kennels!$A$5:$E$104,4,FALSE),$F16<=VLOOKUP($I16,Kennels!$A$5:$E$104,3,FALSE),$G16=VLOOKUP($I16,Kennels!$A$5:$E$104,2,FALSE)),"Fits","Check fit"),"Check kennel ID")) | M16: =IF(OR($H16<>"Confirmed",$I16="",$C16="",$D16="",$D16<=$C16),"",COUNTIFS($I$5:$I$154,$I16,$H$5:$H$154,"Confirmed",$C$5:$C$154,"<"&$D16,$D$5:$D$154,">"&$C16)-1) | N16: =IF($A16="","",IF(COUNTIF($A$5:$A$154,$A16)>1,"Check booking ID",IF($H16<>"Confirmed","No confirmed assignment",IF(OR($C16="",$D16=""),"Check dates",IF($D16<=$C16,"Check dates",IF($I16="","Needs kennel",IFERROR(IF(VLOOKUP($I16,Kennels!$A$5:$E$104,5,FALSE)<>"Available","Check kennel status",IF($L16<>"Fits","Check compatibility",IF($M16>0,"Conflict: overlap","Ready"))),"Check kennel ID"))))))) | R16: =Kennels!$A$16
J17: =IF(OR($C17="",$D17="",$D17<=$C17),"",$D17-$C17) | K17: =IF($I17="","",IFERROR(VLOOKUP($I17,Kennels!$A$5:$E$104,2,FALSE),"Not found")) | L17: =IF(OR($H17<>"Confirmed",$I17="",$E17="",$F17="",$G17=""),"",IFERROR(IF(AND($E17<=VLOOKUP($I17,Kennels!$A$5:$E$104,4,FALSE),$F17<=VLOOKUP($I17,Kennels!$A$5:$E$104,3,FALSE),$G17=VLOOKUP($I17,Kennels!$A$5:$E$104,2,FALSE)),"Fits","Check fit"),"Check kennel ID")) | M17: =IF(OR($H17<>"Confirmed",$I17="",$C17="",$D17="",$D17<=$C17),"",COUNTIFS($I$5:$I$154,$I17,$H$5:$H$154,"Confirmed",$C$5:$C$154,"<"&$D17,$D$5:$D$154,">"&$C17)-1) | N17: =IF($A17="","",IF(COUNTIF($A$5:$A$154,$A17)>1,"Check booking ID",IF($H17<>"Confirmed","No confirmed assignment",IF(OR($C17="",$D17=""),"Check dates",IF($D17<=$C17,"Check dates",IF($I17="","Needs kennel",IFERROR(IF(VLOOKUP($I17,Kennels!$A$5:$E$104,5,FALSE)<>"Available","Check kennel status",IF($L17<>"Fits","Check compatibility",IF($M17>0,"Conflict: overlap","Ready"))),"Check kennel ID"))))))) | R17: =Kennels!$A$17
J18: =IF(OR($C18="",$D18="",$D18<=$C18),"",$D18-$C18) | K18: =IF($I18="","",IFERROR(VLOOKUP($I18,Kennels!$A$5:$E$104,2,FALSE),"Not found")) | L18: =IF(OR($H18<>"Confirmed",$I18="",$E18="",$F18="",$G18=""),"",IFERROR(IF(AND($E18<=VLOOKUP($I18,Kennels!$A$5:$E$104,4,FALSE),$F18<=VLOOKUP($I18,Kennels!$A$5:$E$104,3,FALSE),$G18=VLOOKUP($I18,Kennels!$A$5:$E$104,2,FALSE)),"Fits","Check fit"),"Check kennel ID")) | M18: =IF(OR($H18<>"Confirmed",$I18="",$C18="",$D18="",$D18<=$C18),"",COUNTIFS($I$5:$I$154,$I18,$H$5:$H$154,"Confirmed",$C$5:$C$154,"<"&$D18,$D$5:$D$154,">"&$C18)-1) | N18: =IF($A18="","",IF(COUNTIF($A$5:$A$154,$A18)>1,"Check booking ID",IF($H18<>"Confirmed","No confirmed assignment",IF(OR($C18="",$D18=""),"Check dates",IF($D18<=$C18,"Check dates",IF($I18="","Needs kennel",IFERROR(IF(VLOOKUP($I18,Kennels!$A$5:$E$104,5,FALSE)<>"Available","Check kennel status",IF($L18<>"Fits","Check compatibility",IF($M18>0,"Conflict: overlap","Ready"))),"Check kennel ID"))))))) | R18: =Kennels!$A$18
J19: =IF(OR($C19="",$D19="",$D19<=$C19),"",$D19-$C19) | K19: =IF($I19="","",IFERROR(VLOOKUP($I19,Kennels!$A$5:$E$104,2,FALSE),"Not found")) | L19: =IF(OR($H19<>"Confirmed",$I19="",$E19="",$F19="",$G19=""),"",IFERROR(IF(AND($E19<=VLOOKUP($I19,Kennels!$A$5:$E$104,4,FALSE),$F19<=VLOOKUP($I19,Kennels!$A$5:$E$104,3,FALSE),$G19=VLOOKUP($I19,Kennels!$A$5:$E$104,2,FALSE)),"Fits","Check fit"),"Check kennel ID")) | M19: =IF(OR($H19<>"Confirmed",$I19="",$C19="",$D19="",$D19<=$C19),"",COUNTIFS($I$5:$I$154,$I19,$H$5:$H$154,"Confirmed",$C$5:$C$154,"<"&$D19,$D$5:$D$154,">"&$C19)-1) | N19: =IF($A19="","",IF(COUNTIF($A$5:$A$154,$A19)>1,"Check booking ID",IF($H19<>"Confirmed","No confirmed assignment",IF(OR($C19="",$D19=""),"Check dates",IF($D19<=$C19,"Check dates",IF($I19="","Needs kennel",IFERROR(IF(VLOOKUP($I19,Kennels!$A$5:$E$104,5,FALSE)<>"Available","Check kennel status",IF($L19<>"Fits","Check compatibility",IF($M19>0,"Conflict: overlap","Ready"))),"Check kennel ID"))))))) | R19: =Kennels!$A$19
J20: =IF(OR($C20="",$D20="",$D20<=$C20),"",$D20-$C20) | K20: =IF($I20="","",IFERROR(VLOOKUP($I20,Kennels!$A$5:$E$104,2,FALSE),"Not found")) | L20: =IF(OR($H20<>"Confirmed",$I20="",$E20="",$F20="",$G20=""),"",IFERROR(IF(AND($E20<=VLOOKUP($I20,Kennels!$A$5:$E$104,4,FALSE),$F20<=VLOOKUP($I20,Kennels!$A$5:$E$104,3,FALSE),$G20=VLOOKUP($I20,Kennels!$A$5:$E$104,2,FALSE)),"Fits","Check fit"),"Check kennel ID")) | M20: =IF(OR($H20<>"Confirmed",$I20="",$C20="",$D20="",$D20<=$C20),"",COUNTIFS($I$5:$I$154,$I20,$H$5:$H$154,"Confirmed",$C$5:$C$154,"<"&$D20,$D$5:$D$154,">"&$C20)-1) | N20: =IF($A20="","",IF(COUNTIF($A$5:$A$154,$A20)>1,"Check booking ID",IF($H20<>"Confirmed","No confirmed assignment",IF(OR($C20="",$D20=""),"Check dates",IF($D20<=$C20,"Check dates",IF($I20="","Needs kennel",IFERROR(IF(VLOOKUP($I20,Kennels!$A$5:$E$104,5,FALSE)<>"Available","Check kennel status",IF($L20<>"Fits","Check compatibility",IF($M20>0,"Conflict: overlap","Ready"))),"Check kennel ID"))))))) | R20: =Kennels!$A$20
J21: =IF(OR($C21="",$D21="",$D21<=$C21),"",$D21-$C21) | K21: =IF($I21="","",IFERROR(VLOOKUP($I21,Kennels!$A$5:$E$104,2,FALSE),"Not found")) | L21: =IF(OR($H21<>"Confirmed",$I21="",$E21="",$F21="",$G21=""),"",IFERROR(IF(AND($E21<=VLOOKUP($I21,Kennels!$A$5:$E$104,4,FALSE),$F21<=VLOOKUP($I21,Kennels!$A$5:$E$104,3,FALSE),$G21=VLOOKUP($I21,Kennels!$A$5:$E$104,2,FALSE)),"Fits","Check fit"),"Check kennel ID")) | M21: =IF(OR($H21<>"Confirmed",$I21="",$C21="",$D21="",$D21<=$C21),"",COUNTIFS($I$5:$I$154,$I21,$H$5:$H$154,"Confirmed",$C$5:$C$154,"<"&$D21,$D$5:$D$154,">"&$C21)-1) | N21: =IF($A21="","",IF(COUNTIF($A$5:$A$154,$A21)>1,"Check booking ID",IF($H21<>"Confirmed","No confirmed assignment",IF(OR($C21="",$D21=""),"Check dates",IF($D21<=$C21,"Check dates",IF($I21="","Needs kennel",IFERROR(IF(VLOOKUP($I21,Kennels!$A$5:$E$104,5,FALSE)<>"Available","Check kennel status",IF($L21<>"Fits","Check compatibility",IF($M21>0,"Conflict: overlap","Ready"))),"Check kennel ID"))))))) | R21: =Kennels!$A$21
J22: =IF(OR($C22="",$D22="",$D22<=$C22),"",$D22-$C22) | K22: =IF($I22="","",IFERROR(VLOOKUP($I22,Kennels!$A$5:$E$104,2,FALSE),"Not found")) | L22: =IF(OR($H22<>"Confirmed",$I22="",$E22="",$F22="",$G22=""),"",IFERROR(IF(AND($E22<=VLOOKUP($I22,Kennels!$A$5:$E$104,4,FALSE),$F22<=VLOOKUP($I22,Kennels!$A$5:$E$104,3,FALSE),$G22=VLOOKUP($I22,Kennels!$A$5:$E$104,2,FALSE)),"Fits","Check fit"),"Check kennel ID")) | M22: =IF(OR($H22<>"Confirmed",$I22="",$C22="",$D22="",$D22<=$C22),"",COUNTIFS($I$5:$I$154,$I22,$H$5:$H$154,"Confirmed",$C$5:$C$154,"<"&$D22,$D$5:$D$154,">"&$C22)-1) | N22: =IF($A22="","",IF(COUNTIF($A$5:$A$154,$A22)>1,"Check booking ID",IF($H22<>"Confirmed","No confirmed assignment",IF(OR($C22="",$D22=""),"Check dates",IF($D22<=$C22,"Check dates",IF($I22="","Needs kennel",IFERROR(IF(VLOOKUP($I22,Kennels!$A$5:$E$104,5,FALSE)<>"Available","Check kennel status",IF($L22<>"Fits","Check compatibility",IF($M22>0,"Conflict: overlap","Ready"))),"Check kennel ID"))))))) | R22: =Kennels!$A$22
J23: =IF(OR($C23="",$D23="",$D23<=$C23),"",$D23-$C23) | K23: =IF($I23="","",IFERROR(VLOOKUP($I23,Kennels!$A$5:$E$104,2,FALSE),"Not found")) | L23: =IF(OR($H23<>"Confirmed",$I23="",$E23="",$F23="",$G23=""),"",IFERROR(IF(AND($E23<=VLOOKUP($I23,Kennels!$A$5:$E$104,4,FALSE),$F23<=VLOOKUP($I23,Kennels!$A$5:$E$104,3,FALSE),$G23=VLOOKUP($I23,Kennels!$A$5:$E$104,2,FALSE)),"Fits","Check fit"),"Check kennel ID")) | M23: =IF(OR($H23<>"Confirmed",$I23="",$C23="",$D23="",$D23<=$C23),"",COUNTIFS($I$5:$I$154,$I23,$H$5:$H$154,"Confirmed",$C$5:$C$154,"<"&$D23,$D$5:$D$154,">"&$C23)-1) | N23: =IF($A23="","",IF(COUNTIF($A$5:$A$154,$A23)>1,"Check booking ID",IF($H23<>"Confirmed","No confirmed assignment",IF(OR($C23="",$D23=""),"Check dates",IF($D23<=$C23,"Check dates",IF($I23="","Needs kennel",IFERROR(IF(VLOOKUP($I23,Kennels!$A$5:$E$104,5,FALSE)<>"Available","Check kennel status",IF($L23<>"Fits","Check compatibility",IF($M23>0,"Conflict: overlap","Ready"))),"Check kennel ID"))))))) | R23: =Kennels!$A$23
J24: =IF(OR($C24="",$D24="",$D24<=$C24),"",$D24-$C24) | K24: =IF($I24="","",IFERROR(VLOOKUP($I24,Kennels!$A$5:$E$104,2,FALSE),"Not found")) | L24: =IF(OR($H24<>"Confirmed",$I24="",$E24="",$F24="",$G24=""),"",IFERROR(IF(AND($E24<=VLOOKUP($I24,Kennels!$A$5:$E$104,4,FALSE),$F24<=VLOOKUP($I24,Kennels!$A$5:$E$104,3,FALSE),$G24=VLOOKUP($I24,Kennels!$A$5:$E$104,2,FALSE)),"Fits","Check fit"),"Check kennel ID")) | M24: =IF(OR($H24<>"Confirmed",$I24="",$C24="",$D24="",$D24<=$C24),"",COUNTIFS($I$5:$I$154,$I24,$H$5:$H$154,"Confirmed",$C$5:$C$154,"<"&$D24,$D$5:$D$154,">"&$C24)-1) | N24: =IF($A24="","",IF(COUNTIF($A$5:$A$154,$A24)>1,"Check booking ID",IF($H24<>"Confirmed","No confirmed assignment",IF(OR($C24="",$D24=""),"Check dates",IF($D24<=$C24,"Check dates",IF($I24="","Needs kennel",IFERROR(IF(VLOOKUP($I24,Kennels!$A$5:$E$104,5,FALSE)<>"Available","Check kennel status",IF($L24<>"Fits","Check compatibility",IF($M24>0,"Conflict: overlap","Ready"))),"Check kennel ID"))))))) | R24: =Kennels!$A$24
J25: =IF(OR($C25="",$D25="",$D25<=$C25),"",$D25-$C25) | K25: =IF($I25="","",IFERROR(VLOOKUP($I25,Kennels!$A$5:$E$104,2,FALSE),"Not found")) | L25: =IF(OR($H25<>"Confirmed",$I25="",$E25="",$F25="",$G25=""),"",IFERROR(IF(AND($E25<=VLOOKUP($I25,Kennels!$A$5:$E$104,4,FALSE),$F25<=VLOOKUP($I25,Kennels!$A$5:$E$104,3,FALSE),$G25=VLOOKUP($I25,Kennels!$A$5:$E$104,2,FALSE)),"Fits","Check fit"),"Check kennel ID")) | M25: =IF(OR($H25<>"Confirmed",$I25="",$C25="",$D25="",$D25<=$C25),"",COUNTIFS($I$5:$I$154,$I25,$H$5:$H$154,"Confirmed",$C$5:$C$154,"<"&$D25,$D$5:$D$154,">"&$C25)-1) | N25: =IF($A25="","",IF(COUNTIF($A$5:$A$154,$A25)>1,"Check booking ID",IF($H25<>"Confirmed","No confirmed assignment",IF(OR($C25="",$D25=""),"Check dates",IF($D25<=$C25,"Check dates",IF($I25="","Needs kennel",IFERROR(IF(VLOOKUP($I25,Kennels!$A$5:$E$104,5,FALSE)<>"Available","Check kennel status",IF($L25<>"Fits","Check compatibility",IF($M25>0,"Conflict: overlap","Ready"))),"Check kennel ID"))))))) | R25: =Kennels!$A$25
J26: =IF(OR($C26="",$D26="",$D26<=$C26),"",$D26-$C26) | K26: =IF($I26="","",IFERROR(VLOOKUP($I26,Kennels!$A$5:$E$104,2,FALSE),"Not found")) | L26: =IF(OR($H26<>"Confirmed",$I26="",$E26="",$F26="",$G26=""),"",IFERROR(IF(AND($E26<=VLOOKUP($I26,Kennels!$A$5:$E$104,4,FALSE),$F26<=VLOOKUP($I26,Kennels!$A$5:$E$104,3,FALSE),$G26=VLOOKUP($I26,Kennels!$A$5:$E$104,2,FALSE)),"Fits","Check fit"),"Check kennel ID")) | M26: =IF(OR($H26<>"Confirmed",$I26="",$C26="",$D26="",$D26<=$C26),"",COUNTIFS($I$5:$I$154,$I26,$H$5:$H$154,"Confirmed",$C$5:$C$154,"<"&$D26,$D$5:$D$154,">"&$C26)-1) | N26: =IF($A26="","",IF(COUNTIF($A$5:$A$154,$A26)>1,"Check booking ID",IF($H26<>"Confirmed","No confirmed assignment",IF(OR($C26="",$D26=""),"Check dates",IF($D26<=$C26,"Check dates",IF($I26="","Needs kennel",IFERROR(IF(VLOOKUP($I26,Kennels!$A$5:$E$104,5,FALSE)<>"Available","Check kennel status",IF($L26<>"Fits","Check compatibility",IF($M26>0,"Conflict: overlap","Ready"))),"Check kennel ID"))))))) | R26: =Kennels!$A$26
J27: =IF(OR($C27="",$D27="",$D27<=$C27),"",$D27-$C27) | K27: =IF($I27="","",IFERROR(VLOOKUP($I27,Kennels!$A$5:$E$104,2,FALSE),"Not found")) | L27: =IF(OR($H27<>"Confirmed",$I27="",$E27="",$F27="",$G27=""),"",IFERROR(IF(AND($E27<=VLOOKUP($I27,Kennels!$A$5:$E$104,4,FALSE),$F27<=VLOOKUP($I27,Kennels!$A$5:$E$104,3,FALSE),$G27=VLOOKUP($I27,Kennels!$A$5:$E$104,2,FALSE)),"Fits","Check fit"),"Check kennel ID")) | M27: =IF(OR($H27<>"Confirmed",$I27="",$C27="",$D27="",$D27<=$C27),"",COUNTIFS($I$5:$I$154,$I27,$H$5:$H$154,"Confirmed",$C$5:$C$154,"<"&$D27,$D$5:$D$154,">"&$C27)-1) | N27: =IF($A27="","",IF(COUNTIF($A$5:$A$154,$A27)>1,"Check booking ID",IF($H27<>"Confirmed","No confirmed assignment",IF(OR($C27="",$D27=""),"Check dates",IF($D27<=$C27,"Check dates",IF($I27="","Needs kennel",IFERROR(IF(VLOOKUP($I27,Kennels!$A$5:$E$104,5,FALSE)<>"Available","Check kennel status",IF($L27<>"Fits","Check compatibility",IF($M27>0,"Conflict: overlap","Ready"))),"Check kennel ID"))))))) | R27: =Kennels!$A$27
J28: =IF(OR($C28="",$D28="",$D28<=$C28),"",$D28-$C28) | K28: =IF($I28="","",IFERROR(VLOOKUP($I28,Kennels!$A$5:$E$104,2,FALSE),"Not found")) | L28: =IF(OR($H28<>"Confirmed",$I28="",$E28="",$F28="",$G28=""),"",IFERROR(IF(AND($E28<=VLOOKUP($I28,Kennels!$A$5:$E$104,4,FALSE),$F28<=VLOOKUP($I28,Kennels!$A$5:$E$104,3,FALSE),$G28=VLOOKUP($I28,Kennels!$A$5:$E$104,2,FALSE)),"Fits","Check fit"),"Check kennel ID")) | M28: =IF(OR($H28<>"Confirmed",$I28="",$C28="",$D28="",$D28<=$C28),"",COUNTIFS($I$5:$I$154,$I28,$H$5:$H$154,"Confirmed",$C$5:$C$154,"<"&$D28,$D$5:$D$154,">"&$C28)-1) | N28: =IF($A28="","",IF(COUNTIF($A$5:$A$154,$A28)>1,"Check booking ID",IF($H28<>"Confirmed","No confirmed assignment",IF(OR($C28="",$D28=""),"Check dates",IF($D28<=$C28,"Check dates",IF($I28="","Needs kennel",IFERROR(IF(VLOOKUP($I28,Kennels!$A$5:$E$104,5,FALSE)<>"Available","Check kennel status",IF($L28<>"Fits","Check compatibility",IF($M28>0,"Conflict: overlap","Ready"))),"Check kennel ID"))))))) | R28: =Kennels!$A$28
J29: =IF(OR($C29="",$D29="",$D29<=$C29),"",$D29-$C29) | K29: =IF($I29="","",IFERROR(VLOOKUP($I29,Kennels!$A$5:$E$104,2,FALSE),"Not found")) | L29: =IF(OR($H29<>"Confirmed",$I29="",$E29="",$F29="",$G29=""),"",IFERROR(IF(AND($E29<=VLOOKUP($I29,Kennels!$A$5:$E$104,4,FALSE),$F29<=VLOOKUP($I29,Kennels!$A$5:$E$104,3,FALSE),$G29=VLOOKUP($I29,Kennels!$A$5:$E$104,2,FALSE)),"Fits","Check fit"),"Check kennel ID")) | M29: =IF(OR($H29<>"Confirmed",$I29="",$C29="",$D29="",$D29<=$C29),"",COUNTIFS($I$5:$I$154,$I29,$H$5:$H$154,"Confirmed",$C$5:$C$154,"<"&$D29,$D$5:$D$154,">"&$C29)-1) | N29: =IF($A29="","",IF(COUNTIF($A$5:$A$154,$A29)>1,"Check booking ID",IF($H29<>"Confirmed","No confirmed assignment",IF(OR($C29="",$D29=""),"Check dates",IF($D29<=$C29,"Check dates",IF($I29="","Needs kennel",IFERROR(IF(VLOOKUP($I29,Kennels!$A$5:$E$104,5,FALSE)<>"Available","Check kennel status",IF($L29<>"Fits","Check compatibility",IF($M29>0,"Conflict: overlap","Ready"))),"Check kennel ID"))))))) | R29: =Kennels!$A$29
J30: =IF(OR($C30="",$D30="",$D30<=$C30),"",$D30-$C30) | K30: =IF($I30="","",IFERROR(VLOOKUP($I30,Kennels!$A$5:$E$104,2,FALSE),"Not found")) | L30: =IF(OR($H30<>"Confirmed",$I30="",$E30="",$F30="",$G30=""),"",IFERROR(IF(AND($E30<=VLOOKUP($I30,Kennels!$A$5:$E$104,4,FALSE),$F30<=VLOOKUP($I30,Kennels!$A$5:$E$104,3,FALSE),$G30=VLOOKUP($I30,Kennels!$A$5:$E$104,2,FALSE)),"Fits","Check fit"),"Check kennel ID")) | M30: =IF(OR($H30<>"Confirmed",$I30="",$C30="",$D30="",$D30<=$C30),"",COUNTIFS($I$5:$I$154,$I30,$H$5:$H$154,"Confirmed",$C$5:$C$154,"<"&$D30,$D$5:$D$154,">"&$C30)-1) | N30: =IF($A30="","",IF(COUNTIF($A$5:$A$154,$A30)>1,"Check booking ID",IF($H30<>"Confirmed","No confirmed assignment",IF(OR($C30="",$D30=""),"Check dates",IF($D30<=$C30,"Check dates",IF($I30="","Needs kennel",IFERROR(IF(VLOOKUP($I30,Kennels!$A$5:$E$104,5,FALSE)<>"Available","Check kennel status",IF($L30<>"Fits","Check compatibility",IF($M30>0,"Conflict: overlap","Ready"))),"Check kennel ID"))))))) | R30: =Kennels!$A$30
J31: =IF(OR($C31="",$D31="",$D31<=$C31),"",$D31-$C31) | K31: =IF($I31="","",IFERROR(VLOOKUP($I31,Kennels!$A$5:$E$104,2,FALSE),"Not found")) | L31: =IF(OR($H31<>"Confirmed",$I31="",$E31="",$F31="",$G31=""),"",IFERROR(IF(AND($E31<=VLOOKUP($I31,Kennels!$A$5:$E$104,4,FALSE),$F31<=VLOOKUP($I31,Kennels!$A$5:$E$104,3,FALSE),$G31=VLOOKUP($I31,Kennels!$A$5:$E$104,2,FALSE)),"Fits","Check fit"),"Check kennel ID")) | M31: =IF(OR($H31<>"Confirmed",$I31="",$C31="",$D31="",$D31<=$C31),"",COUNTIFS($I$5:$I$154,$I31,$H$5:$H$154,"Confirmed",$C$5:$C$154,"<"&$D31,$D$5:$D$154,">"&$C31)-1) | N31: =IF($A31="","",IF(COUNTIF($A$5:$A$154,$A31)>1,"Check booking ID",IF($H31<>"Confirmed","No confirmed assignment",IF(OR($C31="",$D31=""),"Check dates",IF($D31<=$C31,"Check dates",IF($I31="","Needs kennel",IFERROR(IF(VLOOKUP($I31,Kennels!$A$5:$E$104,5,FALSE)<>"Available","Check kennel status",IF($L31<>"Fits","Check compatibility",IF($M31>0,"Conflict: overlap","Ready"))),"Check kennel ID"))))))) | R31: =Kennels!$A$31
J32: =IF(OR($C32="",$D32="",$D32<=$C32),"",$D32-$C32) | K32: =IF($I32="","",IFERROR(VLOOKUP($I32,Kennels!$A$5:$E$104,2,FALSE),"Not found")) | L32: =IF(OR($H32<>"Confirmed",$I32="",$E32="",$F32="",$G32=""),"",IFERROR(IF(AND($E32<=VLOOKUP($I32,Kennels!$A$5:$E$104,4,FALSE),$F32<=VLOOKUP($I32,Kennels!$A$5:$E$104,3,FALSE),$G32=VLOOKUP($I32,Kennels!$A$5:$E$104,2,FALSE)),"Fits","Check fit"),"Check kennel ID")) | M32: =IF(OR($H32<>"Confirmed",$I32="",$C32="",$D32="",$D32<=$C32),"",COUNTIFS($I$5:$I$154,$I32,$H$5:$H$154,"Confirmed",$C$5:$C$154,"<"&$D32,$D$5:$D$154,">"&$C32)-1) | N32: =IF($A32="","",IF(COUNTIF($A$5:$A$154,$A32)>1,"Check booking ID",IF($H32<>"Confirmed","No confirmed assignment",IF(OR($C32="",$D32=""),"Check dates",IF($D32<=$C32,"Check dates",IF($I32="","Needs kennel",IFERROR(IF(VLOOKUP($I32,Kennels!$A$5:$E$104,5,FALSE)<>"Available","Check kennel status",IF($L32<>"Fits","Check compatibility",IF($M32>0,"Conflict: overlap","Ready"))),"Check kennel ID"))))))) | R32: =Kennels!$A$32
J33: =IF(OR($C33="",$D33="",$D33<=$C33),"",$D33-$C33) | K33: =IF($I33="","",IFERROR(VLOOKUP($I33,Kennels!$A$5:$E$104,2,FALSE),"Not found")) | L33: =IF(OR($H33<>"Confirmed",$I33="",$E33="",$F33="",$G33=""),"",IFERROR(IF(AND($E33<=VLOOKUP($I33,Kennels!$A$5:$E$104,4,FALSE),$F33<=VLOOKUP($I33,Kennels!$A$5:$E$104,3,FALSE),$G33=VLOOKUP($I33,Kennels!$A$5:$E$104,2,FALSE)),"Fits","Check fit"),"Check kennel ID")) | M33: =IF(OR($H33<>"Confirmed",$I33="",$C33="",$D33="",$D33<=$C33),"",COUNTIFS($I$5:$I$154,$I33,$H$5:$H$154,"Confirmed",$C$5:$C$154,"<"&$D33,$D$5:$D$154,">"&$C33)-1) | N33: =IF($A33="","",IF(COUNTIF($A$5:$A$154,$A33)>1,"Check booking ID",IF($H33<>"Confirmed","No confirmed assignment",IF(OR($C33="",$D33=""),"Check dates",IF($D33<=$C33,"Check dates",IF($I33="","Needs kennel",IFERROR(IF(VLOOKUP($I33,Kennels!$A$5:$E$104,5,FALSE)<>"Available","Check kennel status",IF($L33<>"Fits","Check compatibility",IF($M33>0,"Conflict: overlap","Ready"))),"Check kennel ID"))))))) | R33: =Kennels!$A$33
J34: =IF(OR($C34="",$D34="",$D34<=$C34),"",$D34-$C34) | K34: =IF($I34="","",IFERROR(VLOOKUP($I34,Kennels!$A$5:$E$104,2,FALSE),"Not found")) | L34: =IF(OR($H34<>"Confirmed",$I34="",$E34="",$F34="",$G34=""),"",IFERROR(IF(AND($E34<=VLOOKUP($I34,Kennels!$A$5:$E$104,4,FALSE),$F34<=VLOOKUP($I34,Kennels!$A$5:$E$104,3,FALSE),$G34=VLOOKUP($I34,Kennels!$A$5:$E$104,2,FALSE)),"Fits","Check fit"),"Check kennel ID")) | M34: =IF(OR($H34<>"Confirmed",$I34="",$C34="",$D34="",$D34<=$C34),"",COUNTIFS($I$5:$I$154,$I34,$H$5:$H$154,"Confirmed",$C$5:$C$154,"<"&$D34,$D$5:$D$154,">"&$C34)-1) | N34: =IF($A34="","",IF(COUNTIF($A$5:$A$154,$A34)>1,"Check booking ID",IF($H34<>"Confirmed","No confirmed assignment",IF(OR($C34="",$D34=""),"Check dates",IF($D34<=$C34,"Check dates",IF($I34="","Needs kennel",IFERROR(IF(VLOOKUP($I34,Kennels!$A$5:$E$104,5,FALSE)<>"Available","Check kennel status",IF($L34<>"Fits","Check compatibility",IF($M34>0,"Conflict: overlap","Ready"))),"Check kennel ID"))))))) | R34: =Kennels!$A$34
J35: =IF(OR($C35="",$D35="",$D35<=$C35),"",$D35-$C35) | K35: =IF($I35="","",IFERROR(VLOOKUP($I35,Kennels!$A$5:$E$104,2,FALSE),"Not found")) | L35: =IF(OR($H35<>"Confirmed",$I35="",$E35="",$F35="",$G35=""),"",IFERROR(IF(AND($E35<=VLOOKUP($I35,Kennels!$A$5:$E$104,4,FALSE),$F35<=VLOOKUP($I35,Kennels!$A$5:$E$104,3,FALSE),$G35=VLOOKUP($I35,Kennels!$A$5:$E$104,2,FALSE)),"Fits","Check fit"),"Check kennel ID")) | M35: =IF(OR($H35<>"Confirmed",$I35="",$C35="",$D35="",$D35<=$C35),"",COUNTIFS($I$5:$I$154,$I35,$H$5:$H$154,"Confirmed",$C$5:$C$154,"<"&$D35,$D$5:$D$154,">"&$C35)-1) | N35: =IF($A35="","",IF(COUNTIF($A$5:$A$154,$A35)>1,"Check booking ID",IF($H35<>"Confirmed","No confirmed assignment",IF(OR($C35="",$D35=""),"Check dates",IF($D35<=$C35,"Check dates",IF($I35="","Needs kennel",IFERROR(IF(VLOOKUP($I35,Kennels!$A$5:$E$104,5,FALSE)<>"Available","Check kennel status",IF($L35<>"Fits","Check compatibility",IF($M35>0,"Conflict: overlap","Ready"))),"Check kennel ID"))))))) | R35: =Kennels!$A$35
J36: =IF(OR($C36="",$D36="",$D36<=$C36),"",$D36-$C36) | K36: =IF($I36="","",IFERROR(VLOOKUP($I36,Kennels!$A$5:$E$104,2,FALSE),"Not found")) | L36: =IF(OR($H36<>"Confirmed",$I36="",$E36="",$F36="",$G36=""),"",IFERROR(IF(AND($E36<=VLOOKUP($I36,Kennels!$A$5:$E$104,4,FALSE),$F36<=VLOOKUP($I36,Kennels!$A$5:$E$104,3,FALSE),$G36=VLOOKUP($I36,Kennels!$A$5:$E$104,2,FALSE)),"Fits","Check fit"),"Check kennel ID")) | M36: =IF(OR($H36<>"Confirmed",$I36="",$C36="",$D36="",$D36<=$C36),"",COUNTIFS($I$5:$I$154,$I36,$H$5:$H$154,"Confirmed",$C$5:$C$154,"<"&$D36,$D$5:$D$154,">"&$C36)-1) | N36: =IF($A36="","",IF(COUNTIF($A$5:$A$154,$A36)>1,"Check booking ID",IF($H36<>"Confirmed","No confirmed assignment",IF(OR($C36="",$D36=""),"Check dates",IF($D36<=$C36,"Check dates",IF($I36="","Needs kennel",IFERROR(IF(VLOOKUP($I36,Kennels!$A$5:$E$104,5,FALSE)<>"Available","Check kennel status",IF($L36<>"Fits","Check compatibility",IF($M36>0,"Conflict: overlap","Ready"))),"Check kennel ID"))))))) | R36: =Kennels!$A$36
J37: =IF(OR($C37="",$D37="",$D37<=$C37),"",$D37-$C37) | K37: =IF($I37="","",IFERROR(VLOOKUP($I37,Kennels!$A$5:$E$104,2,FALSE),"Not found")) | L37: =IF(OR($H37<>"Confirmed",$I37="",$E37="",$F37="",$G37=""),"",IFERROR(IF(AND($E37<=VLOOKUP($I37,Kennels!$A$5:$E$104,4,FALSE),$F37<=VLOOKUP($I37,Kennels!$A$5:$E$104,3,FALSE),$G37=VLOOKUP($I37,Kennels!$A$5:$E$104,2,FALSE)),"Fits","Check fit"),"Check kennel ID")) | M37: =IF(OR($H37<>"Confirmed",$I37="",$C37="",$D37="",$D37<=$C37),"",COUNTIFS($I$5:$I$154,$I37,$H$5:$H$154,"Confirmed",$C$5:$C$154,"<"&$D37,$D$5:$D$154,">"&$C37)-1) | N37: =IF($A37="","",IF(COUNTIF($A$5:$A$154,$A37)>1,"Check booking ID",IF($H37<>"Confirmed","No confirmed assignment",IF(OR($C37="",$D37=""),"Check dates",IF($D37<=$C37,"Check dates",IF($I37="","Needs kennel",IFERROR(IF(VLOOKUP($I37,Kennels!$A$5:$E$104,5,FALSE)<>"Available","Check kennel status",IF($L37<>"Fits","Check compatibility",IF($M37>0,"Conflict: overlap","Ready"))),"Check kennel ID"))))))) | R37: =Kennels!$A$37
J38: =IF(OR($C38="",$D38="",$D38<=$C38),"",$D38-$C38) | K38: =IF($I38="","",IFERROR(VLOOKUP($I38,Kennels!$A$5:$E$104,2,FALSE),"Not found")) | L38: =IF(OR($H38<>"Confirmed",$I38="",$E38="",$F38="",$G38=""),"",IFERROR(IF(AND($E38<=VLOOKUP($I38,Kennels!$A$5:$E$104,4,FALSE),$F38<=VLOOKUP($I38,Kennels!$A$5:$E$104,3,FALSE),$G38=VLOOKUP($I38,Kennels!$A$5:$E$104,2,FALSE)),"Fits","Check fit"),"Check kennel ID")) | M38: =IF(OR($H38<>"Confirmed",$I38="",$C38="",$D38="",$D38<=$C38),"",COUNTIFS($I$5:$I$154,$I38,$H$5:$H$154,"Confirmed",$C$5:$C$154,"<"&$D38,$D$5:$D$154,">"&$C38)-1) | N38: =IF($A38="","",IF(COUNTIF($A$5:$A$154,$A38)>1,"Check booking ID",IF($H38<>"Confirmed","No confirmed assignment",IF(OR($C38="",$D38=""),"Check dates",IF($D38<=$C38,"Check dates",IF($I38="","Needs kennel",IFERROR(IF(VLOOKUP($I38,Kennels!$A$5:$E$104,5,FALSE)<>"Available","Check kennel status",IF($L38<>"Fits","Check compatibility",IF($M38>0,"Conflict: overlap","Ready"))),"Check kennel ID"))))))) | R38: =Kennels!$A$38
J39: =IF(OR($C39="",$D39="",$D39<=$C39),"",$D39-$C39) | K39: =IF($I39="","",IFERROR(VLOOKUP($I39,Kennels!$A$5:$E$104,2,FALSE),"Not found")) | L39: =IF(OR($H39<>"Confirmed",$I39="",$E39="",$F39="",$G39=""),"",IFERROR(IF(AND($E39<=VLOOKUP($I39,Kennels!$A$5:$E$104,4,FALSE),$F39<=VLOOKUP($I39,Kennels!$A$5:$E$104,3,FALSE),$G39=VLOOKUP($I39,Kennels!$A$5:$E$104,2,FALSE)),"Fits","Check fit"),"Check kennel ID")) | M39: =IF(OR($H39<>"Confirmed",$I39="",$C39="",$D39="",$D39<=$C39),"",COUNTIFS($I$5:$I$154,$I39,$H$5:$H$154,"Confirmed",$C$5:$C$154,"<"&$D39,$D$5:$D$154,">"&$C39)-1) | N39: =IF($A39="","",IF(COUNTIF($A$5:$A$154,$A39)>1,"Check booking ID",IF($H39<>"Confirmed","No confirmed assignment",IF(OR($C39="",$D39=""),"Check dates",IF($D39<=$C39,"Check dates",IF($I39="","Needs kennel",IFERROR(IF(VLOOKUP($I39,Kennels!$A$5:$E$104,5,FALSE)<>"Available","Check kennel status",IF($L39<>"Fits","Check compatibility",IF($M39>0,"Conflict: overlap","Ready"))),"Check kennel ID"))))))) | R39: =Kennels!$A$39
J40: =IF(OR($C40="",$D40="",$D40<=$C40),"",$D40-$C40) | K40: =IF($I40="","",IFERROR(VLOOKUP($I40,Kennels!$A$5:$E$104,2,FALSE),"Not found")) | L40: =IF(OR($H40<>"Confirmed",$I40="",$E40="",$F40="",$G40=""),"",IFERROR(IF(AND($E40<=VLOOKUP($I40,Kennels!$A$5:$E$104,4,FALSE),$F40<=VLOOKUP($I40,Kennels!$A$5:$E$104,3,FALSE),$G40=VLOOKUP($I40,Kennels!$A$5:$E$104,2,FALSE)),"Fits","Check fit"),"Check kennel ID")) | M40: =IF(OR($H40<>"Confirmed",$I40="",$C40="",$D40="",$D40<=$C40),"",COUNTIFS($I$5:$I$154,$I40,$H$5:$H$154,"Confirmed",$C$5:$C$154,"<"&$D40,$D$5:$D$154,">"&$C40)-1) | N40: =IF($A40="","",IF(COUNTIF($A$5:$A$154,$A40)>1,"Check booking ID",IF($H40<>"Confirmed","No confirmed assignment",IF(OR($C40="",$D40=""),"Check dates",IF($D40<=$C40,"Check dates",IF($I40="","Needs kennel",IFERROR(IF(VLOOKUP($I40,Kennels!$A$5:$E$104,5,FALSE)<>"Available","Check kennel status",IF($L40<>"Fits","Check compatibility",IF($M40>0,"Conflict: overlap","Ready"))),"Check kennel ID"))))))) | R40: =Kennels!$A$40
J41: =IF(OR($C41="",$D41="",$D41<=$C41),"",$D41-$C41) | K41: =IF($I41="","",IFERROR(VLOOKUP($I41,Kennels!$A$5:$E$104,2,FALSE),"Not found")) | L41: =IF(OR($H41<>"Confirmed",$I41="",$E41="",$F41="",$G41=""),"",IFERROR(IF(AND($E41<=VLOOKUP($I41,Kennels!$A$5:$E$104,4,FALSE),$F41<=VLOOKUP($I41,Kennels!$A$5:$E$104,3,FALSE),$G41=VLOOKUP($I41,Kennels!$A$5:$E$104,2,FALSE)),"Fits","Check fit"),"Check kennel ID")) | M41: =IF(OR($H41<>"Confirmed",$I41="",$C41="",$D41="",$D41<=$C41),"",COUNTIFS($I$5:$I$154,$I41,$H$5:$H$154,"Confirmed",$C$5:$C$154,"<"&$D41,$D$5:$D$154,">"&$C41)-1) | N41: =IF($A41="","",IF(COUNTIF($A$5:$A$154,$A41)>1,"Check booking ID",IF($H41<>"Confirmed","No confirmed assignment",IF(OR($C41="",$D41=""),"Check dates",IF($D41<=$C41,"Check dates",IF($I41="","Needs kennel",IFERROR(IF(VLOOKUP($I41,Kennels!$A$5:$E$104,5,FALSE)<>"Available","Check kennel status",IF($L41<>"Fits","Check compatibility",IF($M41>0,"Conflict: overlap","Ready"))),"Check kennel ID"))))))) | R41: =Kennels!$A$41
J42: =IF(OR($C42="",$D42="",$D42<=$C42),"",$D42-$C42) | K42: =IF($I42="","",IFERROR(VLOOKUP($I42,Kennels!$A$5:$E$104,2,FALSE),"Not found")) | L42: =IF(OR($H42<>"Confirmed",$I42="",$E42="",$F42="",$G42=""),"",IFERROR(IF(AND($E42<=VLOOKUP($I42,Kennels!$A$5:$E$104,4,FALSE),$F42<=VLOOKUP($I42,Kennels!$A$5:$E$104,3,FALSE),$G42=VLOOKUP($I42,Kennels!$A$5:$E$104,2,FALSE)),"Fits","Check fit"),"Check kennel ID")) | M42: =IF(OR($H42<>"Confirmed",$I42="",$C42="",$D42="",$D42<=$C42),"",COUNTIFS($I$5:$I$154,$I42,$H$5:$H$154,"Confirmed",$C$5:$C$154,"<"&$D42,$D$5:$D$154,">"&$C42)-1) | N42: =IF($A42="","",IF(COUNTIF($A$5:$A$154,$A42)>1,"Check booking ID",IF($H42<>"Confirmed","No confirmed assignment",IF(OR($C42="",$D42=""),"Check dates",IF($D42<=$C42,"Check dates",IF($I42="","Needs kennel",IFERROR(IF(VLOOKUP($I42,Kennels!$A$5:$E$104,5,FALSE)<>"Available","Check kennel status",IF($L42<>"Fits","Check compatibility",IF($M42>0,"Conflict: overlap","Ready"))),"Check kennel ID"))))))) | R42: =Kennels!$A$42
J43: =IF(OR($C43="",$D43="",$D43<=$C43),"",$D43-$C43) | K43: =IF($I43="","",IFERROR(VLOOKUP($I43,Kennels!$A$5:$E$104,2,FALSE),"Not found")) | L43: =IF(OR($H43<>"Confirmed",$I43="",$E43="",$F43="",$G43=""),"",IFERROR(IF(AND($E43<=VLOOKUP($I43,Kennels!$A$5:$E$104,4,FALSE),$F43<=VLOOKUP($I43,Kennels!$A$5:$E$104,3,FALSE),$G43=VLOOKUP($I43,Kennels!$A$5:$E$104,2,FALSE)),"Fits","Check fit"),"Check kennel ID")) | M43: =IF(OR($H43<>"Confirmed",$I43="",$C43="",$D43="",$D43<=$C43),"",COUNTIFS($I$5:$I$154,$I43,$H$5:$H$154,"Confirmed",$C$5:$C$154,"<"&$D43,$D$5:$D$154,">"&$C43)-1) | N43: =IF($A43="","",IF(COUNTIF($A$5:$A$154,$A43)>1,"Check booking ID",IF($H43<>"Confirmed","No confirmed assignment",IF(OR($C43="",$D43=""),"Check dates",IF($D43<=$C43,"Check dates",IF($I43="","Needs kennel",IFERROR(IF(VLOOKUP($I43,Kennels!$A$5:$E$104,5,FALSE)<>"Available","Check kennel status",IF($L43<>"Fits","Check compatibility",IF($M43>0,"Conflict: overlap","Ready"))),"Check kennel ID"))))))) | R43: =Kennels!$A$43
J44: =IF(OR($C44="",$D44="",$D44<=$C44),"",$D44-$C44) | K44: =IF($I44="","",IFERROR(VLOOKUP($I44,Kennels!$A$5:$E$104,2,FALSE),"Not found")) | L44: =IF(OR($H44<>"Confirmed",$I44="",$E44="",$F44="",$G44=""),"",IFERROR(IF(AND($E44<=VLOOKUP($I44,Kennels!$A$5:$E$104,4,FALSE),$F44<=VLOOKUP($I44,Kennels!$A$5:$E$104,3,FALSE),$G44=VLOOKUP($I44,Kennels!$A$5:$E$104,2,FALSE)),"Fits","Check fit"),"Check kennel ID")) | M44: =IF(OR($H44<>"Confirmed",$I44="",$C44="",$D44="",$D44<=$C44),"",COUNTIFS($I$5:$I$154,$I44,$H$5:$H$154,"Confirmed",$C$5:$C$154,"<"&$D44,$D$5:$D$154,">"&$C44)-1) | N44: =IF($A44="","",IF(COUNTIF($A$5:$A$154,$A44)>1,"Check booking ID",IF($H44<>"Confirmed","No confirmed assignment",IF(OR($C44="",$D44=""),"Check dates",IF($D44<=$C44,"Check dates",IF($I44="","Needs kennel",IFERROR(IF(VLOOKUP($I44,Kennels!$A$5:$E$104,5,FALSE)<>"Available","Check kennel status",IF($L44<>"Fits","Check compatibility",IF($M44>0,"Conflict: overlap","Ready"))),"Check kennel ID"))))))) | R44: =Kennels!$A$44
J45: =IF(OR($C45="",$D45="",$D45<=$C45),"",$D45-$C45) | K45: =IF($I45="","",IFERROR(VLOOKUP($I45,Kennels!$A$5:$E$104,2,FALSE),"Not found")) | L45: =IF(OR($H45<>"Confirmed",$I45="",$E45="",$F45="",$G45=""),"",IFERROR(IF(AND($E45<=VLOOKUP($I45,Kennels!$A$5:$E$104,4,FALSE),$F45<=VLOOKUP($I45,Kennels!$A$5:$E$104,3,FALSE),$G45=VLOOKUP($I45,Kennels!$A$5:$E$104,2,FALSE)),"Fits","Check fit"),"Check kennel ID")) | M45: =IF(OR($H45<>"Confirmed",$I45="",$C45="",$D45="",$D45<=$C45),"",COUNTIFS($I$5:$I$154,$I45,$H$5:$H$154,"Confirmed",$C$5:$C$154,"<"&$D45,$D$5:$D$154,">"&$C45)-1) | N45: =IF($A45="","",IF(COUNTIF($A$5:$A$154,$A45)>1,"Check booking ID",IF($H45<>"Confirmed","No confirmed assignment",IF(OR($C45="",$D45=""),"Check dates",IF($D45<=$C45,"Check dates",IF($I45="","Needs kennel",IFERROR(IF(VLOOKUP($I45,Kennels!$A$5:$E$104,5,FALSE)<>"Available","Check kennel status",IF($L45<>"Fits","Check compatibility",IF($M45>0,"Conflict: overlap","Ready"))),"Check kennel ID"))))))) | R45: =Kennels!$A$45
J46: =IF(OR($C46="",$D46="",$D46<=$C46),"",$D46-$C46) | K46: =IF($I46="","",IFERROR(VLOOKUP($I46,Kennels!$A$5:$E$104,2,FALSE),"Not found")) | L46: =IF(OR($H46<>"Confirmed",$I46="",$E46="",$F46="",$G46=""),"",IFERROR(IF(AND($E46<=VLOOKUP($I46,Kennels!$A$5:$E$104,4,FALSE),$F46<=VLOOKUP($I46,Kennels!$A$5:$E$104,3,FALSE),$G46=VLOOKUP($I46,Kennels!$A$5:$E$104,2,FALSE)),"Fits","Check fit"),"Check kennel ID")) | M46: =IF(OR($H46<>"Confirmed",$I46="",$C46="",$D46="",$D46<=$C46),"",COUNTIFS($I$5:$I$154,$I46,$H$5:$H$154,"Confirmed",$C$5:$C$154,"<"&$D46,$D$5:$D$154,">"&$C46)-1) | N46: =IF($A46="","",IF(COUNTIF($A$5:$A$154,$A46)>1,"Check booking ID",IF($H46<>"Confirmed","No confirmed assignment",IF(OR($C46="",$D46=""),"Check dates",IF($D46<=$C46,"Check dates",IF($I46="","Needs kennel",IFERROR(IF(VLOOKUP($I46,Kennels!$A$5:$E$104,5,FALSE)<>"Available","Check kennel status",IF($L46<>"Fits","Check compatibility",IF($M46>0,"Conflict: overlap","Ready"))),"Check kennel ID"))))))) | R46: =Kennels!$A$46
J47: =IF(OR($C47="",$D47="",$D47<=$C47),"",$D47-$C47) | K47: =IF($I47="","",IFERROR(VLOOKUP($I47,Kennels!$A$5:$E$104,2,FALSE),"Not found")) | L47: =IF(OR($H47<>"Confirmed",$I47="",$E47="",$F47="",$G47=""),"",IFERROR(IF(AND($E47<=VLOOKUP($I47,Kennels!$A$5:$E$104,4,FALSE),$F47<=VLOOKUP($I47,Kennels!$A$5:$E$104,3,FALSE),$G47=VLOOKUP($I47,Kennels!$A$5:$E$104,2,FALSE)),"Fits","Check fit"),"Check kennel ID")) | M47: =IF(OR($H47<>"Confirmed",$I47="",$C47="",$D47="",$D47<=$C47),"",COUNTIFS($I$5:$I$154,$I47,$H$5:$H$154,"Confirmed",$C$5:$C$154,"<"&$D47,$D$5:$D$154,">"&$C47)-1) | N47: =IF($A47="","",IF(COUNTIF($A$5:$A$154,$A47)>1,"Check booking ID",IF($H47<>"Confirmed","No confirmed assignment",IF(OR($C47="",$D47=""),"Check dates",IF($D47<=$C47,"Check dates",IF($I47="","Needs kennel",IFERROR(IF(VLOOKUP($I47,Kennels!$A$5:$E$104,5,FALSE)<>"Available","Check kennel status",IF($L47<>"Fits","Check compatibility",IF($M47>0,"Conflict: overlap","Ready"))),"Check kennel ID"))))))) | R47: =Kennels!$A$47
J48: =IF(OR($C48="",$D48="",$D48<=$C48),"",$D48-$C48) | K48: =IF($I48="","",IFERROR(VLOOKUP($I48,Kennels!$A$5:$E$104,2,FALSE),"Not found")) | L48: =IF(OR($H48<>"Confirmed",$I48="",$E48="",$F48="",$G48=""),"",IFERROR(IF(AND($E48<=VLOOKUP($I48,Kennels!$A$5:$E$104,4,FALSE),$F48<=VLOOKUP($I48,Kennels!$A$5:$E$104,3,FALSE),$G48=VLOOKUP($I48,Kennels!$A$5:$E$104,2,FALSE)),"Fits","Check fit"),"Check kennel ID")) | M48: =IF(OR($H48<>"Confirmed",$I48="",$C48="",$D48="",$D48<=$C48),"",COUNTIFS($I$5:$I$154,$I48,$H$5:$H$154,"Confirmed",$C$5:$C$154,"<"&$D48,$D$5:$D$154,">"&$C48)-1) | N48: =IF($A48="","",IF(COUNTIF($A$5:$A$154,$A48)>1,"Check booking ID",IF($H48<>"Confirmed","No confirmed assignment",IF(OR($C48="",$D48=""),"Check dates",IF($D48<=$C48,"Check dates",IF($I48="","Needs kennel",IFERROR(IF(VLOOKUP($I48,Kennels!$A$5:$E$104,5,FALSE)<>"Available","Check kennel status",IF($L48<>"Fits","Check compatibility",IF($M48>0,"Conflict: overlap","Ready"))),"Check kennel ID"))))))) | R48: =Kennels!$A$48
J49: =IF(OR($C49="",$D49="",$D49<=$C49),"",$D49-$C49) | K49: =IF($I49="","",IFERROR(VLOOKUP($I49,Kennels!$A$5:$E$104,2,FALSE),"Not found")) | L49: =IF(OR($H49<>"Confirmed",$I49="",$E49="",$F49="",$G49=""),"",IFERROR(IF(AND($E49<=VLOOKUP($I49,Kennels!$A$5:$E$104,4,FALSE),$F49<=VLOOKUP($I49,Kennels!$A$5:$E$104,3,FALSE),$G49=VLOOKUP($I49,Kennels!$A$5:$E$104,2,FALSE)),"Fits","Check fit"),"Check kennel ID")) | M49: =IF(OR($H49<>"Confirmed",$I49="",$C49="",$D49="",$D49<=$C49),"",COUNTIFS($I$5:$I$154,$I49,$H$5:$H$154,"Confirmed",$C$5:$C$154,"<"&$D49,$D$5:$D$154,">"&$C49)-1) | N49: =IF($A49="","",IF(COUNTIF($A$5:$A$154,$A49)>1,"Check booking ID",IF($H49<>"Confirmed","No confirmed assignment",IF(OR($C49="",$D49=""),"Check dates",IF($D49<=$C49,"Check dates",IF($I49="","Needs kennel",IFERROR(IF(VLOOKUP($I49,Kennels!$A$5:$E$104,5,FALSE)<>"Available","Check kennel status",IF($L49<>"Fits","Check compatibility",IF($M49>0,"Conflict: overlap","Ready"))),"Check kennel ID"))))))) | R49: =Kennels!$A$49
J50: =IF(OR($C50="",$D50="",$D50<=$C50),"",$D50-$C50) | K50: =IF($I50="","",IFERROR(VLOOKUP($I50,Kennels!$A$5:$E$104,2,FALSE),"Not found")) | L50: =IF(OR($H50<>"Confirmed",$I50="",$E50="",$F50="",$G50=""),"",IFERROR(IF(AND($E50<=VLOOKUP($I50,Kennels!$A$5:$E$104,4,FALSE),$F50<=VLOOKUP($I50,Kennels!$A$5:$E$104,3,FALSE),$G50=VLOOKUP($I50,Kennels!$A$5:$E$104,2,FALSE)),"Fits","Check fit"),"Check kennel ID")) | M50: =IF(OR($H50<>"Confirmed",$I50="",$C50="",$D50="",$D50<=$C50),"",COUNTIFS($I$5:$I$154,$I50,$H$5:$H$154,"Confirmed",$C$5:$C$154,"<"&$D50,$D$5:$D$154,">"&$C50)-1) | N50: =IF($A50="","",IF(COUNTIF($A$5:$A$154,$A50)>1,"Check booking ID",IF($H50<>"Confirmed","No confirmed assignment",IF(OR($C50="",$D50=""),"Check dates",IF($D50<=$C50,"Check dates",IF($I50="","Needs kennel",IFERROR(IF(VLOOKUP($I50,Kennels!$A$5:$E$104,5,FALSE)<>"Available","Check kennel status",IF($L50<>"Fits","Check compatibility",IF($M50>0,"Conflict: overlap","Ready"))),"Check kennel ID"))))))) | R50: =Kennels!$A$50
J51: =IF(OR($C51="",$D51="",$D51<=$C51),"",$D51-$C51) | K51: =IF($I51="","",IFERROR(VLOOKUP($I51,Kennels!$A$5:$E$104,2,FALSE),"Not found")) | L51: =IF(OR($H51<>"Confirmed",$I51="",$E51="",$F51="",$G51=""),"",IFERROR(IF(AND($E51<=VLOOKUP($I51,Kennels!$A$5:$E$104,4,FALSE),$F51<=VLOOKUP($I51,Kennels!$A$5:$E$104,3,FALSE),$G51=VLOOKUP($I51,Kennels!$A$5:$E$104,2,FALSE)),"Fits","Check fit"),"Check kennel ID")) | M51: =IF(OR($H51<>"Confirmed",$I51="",$C51="",$D51="",$D51<=$C51),"",COUNTIFS($I$5:$I$154,$I51,$H$5:$H$154,"Confirmed",$C$5:$C$154,"<"&$D51,$D$5:$D$154,">"&$C51)-1) | N51: =IF($A51="","",IF(COUNTIF($A$5:$A$154,$A51)>1,"Check booking ID",IF($H51<>"Confirmed","No confirmed assignment",IF(OR($C51="",$D51=""),"Check dates",IF($D51<=$C51,"Check dates",IF($I51="","Needs kennel",IFERROR(IF(VLOOKUP($I51,Kennels!$A$5:$E$104,5,FALSE)<>"Available","Check kennel status",IF($L51<>"Fits","Check compatibility",IF($M51>0,"Conflict: overlap","Ready"))),"Check kennel ID"))))))) | R51: =Kennels!$A$51
J52: =IF(OR($C52="",$D52="",$D52<=$C52),"",$D52-$C52) | K52: =IF($I52="","",IFERROR(VLOOKUP($I52,Kennels!$A$5:$E$104,2,FALSE),"Not found")) | L52: =IF(OR($H52<>"Confirmed",$I52="",$E52="",$F52="",$G52=""),"",IFERROR(IF(AND($E52<=VLOOKUP($I52,Kennels!$A$5:$E$104,4,FALSE),$F52<=VLOOKUP($I52,Kennels!$A$5:$E$104,3,FALSE),$G52=VLOOKUP($I52,Kennels!$A$5:$E$104,2,FALSE)),"Fits","Check fit"),"Check kennel ID")) | M52: =IF(OR($H52<>"Confirmed",$I52="",$C52="",$D52="",$D52<=$C52),"",COUNTIFS($I$5:$I$154,$I52,$H$5:$H$154,"Confirmed",$C$5:$C$154,"<"&$D52,$D$5:$D$154,">"&$C52)-1) | N52: =IF($A52="","",IF(COUNTIF($A$5:$A$154,$A52)>1,"Check booking ID",IF($H52<>"Confirmed","No confirmed assignment",IF(OR($C52="",$D52=""),"Check dates",IF($D52<=$C52,"Check dates",IF($I52="","Needs kennel",IFERROR(IF(VLOOKUP($I52,Kennels!$A$5:$E$104,5,FALSE)<>"Available","Check kennel status",IF($L52<>"Fits","Check compatibility",IF($M52>0,"Conflict: overlap","Ready"))),"Check kennel ID"))))))) | R52: =Kennels!$A$52
J53: =IF(OR($C53="",$D53="",$D53<=$C53),"",$D53-$C53) | K53: =IF($I53="","",IFERROR(VLOOKUP($I53,Kennels!$A$5:$E$104,2,FALSE),"Not found")) | L53: =IF(OR($H53<>"Confirmed",$I53="",$E53="",$F53="",$G53=""),"",IFERROR(IF(AND($E53<=VLOOKUP($I53,Kennels!$A$5:$E$104,4,FALSE),$F53<=VLOOKUP($I53,Kennels!$A$5:$E$104,3,FALSE),$G53=VLOOKUP($I53,Kennels!$A$5:$E$104,2,FALSE)),"Fits","Check fit"),"Check kennel ID")) | M53: =IF(OR($H53<>"Confirmed",$I53="",$C53="",$D53="",$D53<=$C53),"",COUNTIFS($I$5:$I$154,$I53,$H$5:$H$154,"Confirmed",$C$5:$C$154,"<"&$D53,$D$5:$D$154,">"&$C53)-1) | N53: =IF($A53="","",IF(COUNTIF($A$5:$A$154,$A53)>1,"Check booking ID",IF($H53<>"Confirmed","No confirmed assignment",IF(OR($C53="",$D53=""),"Check dates",IF($D53<=$C53,"Check dates",IF($I53="","Needs kennel",IFERROR(IF(VLOOKUP($I53,Kennels!$A$5:$E$104,5,FALSE)<>"Available","Check kennel status",IF($L53<>"Fits","Check compatibility",IF($M53>0,"Conflict: overlap","Ready"))),"Check kennel ID"))))))) | R53: =Kennels!$A$53
J54: =IF(OR($C54="",$D54="",$D54<=$C54),"",$D54-$C54) | K54: =IF($I54="","",IFERROR(VLOOKUP($I54,Kennels!$A$5:$E$104,2,FALSE),"Not found")) | L54: =IF(OR($H54<>"Confirmed",$I54="",$E54="",$F54="",$G54=""),"",IFERROR(IF(AND($E54<=VLOOKUP($I54,Kennels!$A$5:$E$104,4,FALSE),$F54<=VLOOKUP($I54,Kennels!$A$5:$E$104,3,FALSE),$G54=VLOOKUP($I54,Kennels!$A$5:$E$104,2,FALSE)),"Fits","Check fit"),"Check kennel ID")) | M54: =IF(OR($H54<>"Confirmed",$I54="",$C54="",$D54="",$D54<=$C54),"",COUNTIFS($I$5:$I$154,$I54,$H$5:$H$154,"Confirmed",$C$5:$C$154,"<"&$D54,$D$5:$D$154,">"&$C54)-1) | N54: =IF($A54="","",IF(COUNTIF($A$5:$A$154,$A54)>1,"Check booking ID",IF($H54<>"Confirmed","No confirmed assignment",IF(OR($C54="",$D54=""),"Check dates",IF($D54<=$C54,"Check dates",IF($I54="","Needs kennel",IFERROR(IF(VLOOKUP($I54,Kennels!$A$5:$E$104,5,FALSE)<>"Available","Check kennel status",IF($L54<>"Fits","Check compatibility",IF($M54>0,"Conflict: overlap","Ready"))),"Check kennel ID"))))))) | R54: =Kennels!$A$54
J55: =IF(OR($C55="",$D55="",$D55<=$C55),"",$D55-$C55) | K55: =IF($I55="","",IFERROR(VLOOKUP($I55,Kennels!$A$5:$E$104,2,FALSE),"Not found")) | L55: =IF(OR($H55<>"Confirmed",$I55="",$E55="",$F55="",$G55=""),"",IFERROR(IF(AND($E55<=VLOOKUP($I55,Kennels!$A$5:$E$104,4,FALSE),$F55<=VLOOKUP($I55,Kennels!$A$5:$E$104,3,FALSE),$G55=VLOOKUP($I55,Kennels!$A$5:$E$104,2,FALSE)),"Fits","Check fit"),"Check kennel ID")) | M55: =IF(OR($H55<>"Confirmed",$I55="",$C55="",$D55="",$D55<=$C55),"",COUNTIFS($I$5:$I$154,$I55,$H$5:$H$154,"Confirmed",$C$5:$C$154,"<"&$D55,$D$5:$D$154,">"&$C55)-1) | N55: =IF($A55="","",IF(COUNTIF($A$5:$A$154,$A55)>1,"Check booking ID",IF($H55<>"Confirmed","No confirmed assignment",IF(OR($C55="",$D55=""),"Check dates",IF($D55<=$C55,"Check dates",IF($I55="","Needs kennel",IFERROR(IF(VLOOKUP($I55,Kennels!$A$5:$E$104,5,FALSE)<>"Available","Check kennel status",IF($L55<>"Fits","Check compatibility",IF($M55>0,"Conflict: overlap","Ready"))),"Check kennel ID"))))))) | R55: =Kennels!$A$55
J56: =IF(OR($C56="",$D56="",$D56<=$C56),"",$D56-$C56) | K56: =IF($I56="","",IFERROR(VLOOKUP($I56,Kennels!$A$5:$E$104,2,FALSE),"Not found")) | L56: =IF(OR($H56<>"Confirmed",$I56="",$E56="",$F56="",$G56=""),"",IFERROR(IF(AND($E56<=VLOOKUP($I56,Kennels!$A$5:$E$104,4,FALSE),$F56<=VLOOKUP($I56,Kennels!$A$5:$E$104,3,FALSE),$G56=VLOOKUP($I56,Kennels!$A$5:$E$104,2,FALSE)),"Fits","Check fit"),"Check kennel ID")) | M56: =IF(OR($H56<>"Confirmed",$I56="",$C56="",$D56="",$D56<=$C56),"",COUNTIFS($I$5:$I$154,$I56,$H$5:$H$154,"Confirmed",$C$5:$C$154,"<"&$D56,$D$5:$D$154,">"&$C56)-1) | N56: =IF($A56="","",IF(COUNTIF($A$5:$A$154,$A56)>1,"Check booking ID",IF($H56<>"Confirmed","No confirmed assignment",IF(OR($C56="",$D56=""),"Check dates",IF($D56<=$C56,"Check dates",IF($I56="","Needs kennel",IFERROR(IF(VLOOKUP($I56,Kennels!$A$5:$E$104,5,FALSE)<>"Available","Check kennel status",IF($L56<>"Fits","Check compatibility",IF($M56>0,"Conflict: overlap","Ready"))),"Check kennel ID"))))))) | R56: =Kennels!$A$56
J57: =IF(OR($C57="",$D57="",$D57<=$C57),"",$D57-$C57) | K57: =IF($I57="","",IFERROR(VLOOKUP($I57,Kennels!$A$5:$E$104,2,FALSE),"Not found")) | L57: =IF(OR($H57<>"Confirmed",$I57="",$E57="",$F57="",$G57=""),"",IFERROR(IF(AND($E57<=VLOOKUP($I57,Kennels!$A$5:$E$104,4,FALSE),$F57<=VLOOKUP($I57,Kennels!$A$5:$E$104,3,FALSE),$G57=VLOOKUP($I57,Kennels!$A$5:$E$104,2,FALSE)),"Fits","Check fit"),"Check kennel ID")) | M57: =IF(OR($H57<>"Confirmed",$I57="",$C57="",$D57="",$D57<=$C57),"",COUNTIFS($I$5:$I$154,$I57,$H$5:$H$154,"Confirmed",$C$5:$C$154,"<"&$D57,$D$5:$D$154,">"&$C57)-1) | N57: =IF($A57="","",IF(COUNTIF($A$5:$A$154,$A57)>1,"Check booking ID",IF($H57<>"Confirmed","No confirmed assignment",IF(OR($C57="",$D57=""),"Check dates",IF($D57<=$C57,"Check dates",IF($I57="","Needs kennel",IFERROR(IF(VLOOKUP($I57,Kennels!$A$5:$E$104,5,FALSE)<>"Available","Check kennel status",IF($L57<>"Fits","Check compatibility",IF($M57>0,"Conflict: overlap","Ready"))),"Check kennel ID"))))))) | R57: =Kennels!$A$57
J58: =IF(OR($C58="",$D58="",$D58<=$C58),"",$D58-$C58) | K58: =IF($I58="","",IFERROR(VLOOKUP($I58,Kennels!$A$5:$E$104,2,FALSE),"Not found")) | L58: =IF(OR($H58<>"Confirmed",$I58="",$E58="",$F58="",$G58=""),"",IFERROR(IF(AND($E58<=VLOOKUP($I58,Kennels!$A$5:$E$104,4,FALSE),$F58<=VLOOKUP($I58,Kennels!$A$5:$E$104,3,FALSE),$G58=VLOOKUP($I58,Kennels!$A$5:$E$104,2,FALSE)),"Fits","Check fit"),"Check kennel ID")) | M58: =IF(OR($H58<>"Confirmed",$I58="",$C58="",$D58="",$D58<=$C58),"",COUNTIFS($I$5:$I$154,$I58,$H$5:$H$154,"Confirmed",$C$5:$C$154,"<"&$D58,$D$5:$D$154,">"&$C58)-1) | N58: =IF($A58="","",IF(COUNTIF($A$5:$A$154,$A58)>1,"Check booking ID",IF($H58<>"Confirmed","No confirmed assignment",IF(OR($C58="",$D58=""),"Check dates",IF($D58<=$C58,"Check dates",IF($I58="","Needs kennel",IFERROR(IF(VLOOKUP($I58,Kennels!$A$5:$E$104,5,FALSE)<>"Available","Check kennel status",IF($L58<>"Fits","Check compatibility",IF($M58>0,"Conflict: overlap","Ready"))),"Check kennel ID"))))))) | R58: =Kennels!$A$58
J59: =IF(OR($C59="",$D59="",$D59<=$C59),"",$D59-$C59) | K59: =IF($I59="","",IFERROR(VLOOKUP($I59,Kennels!$A$5:$E$104,2,FALSE),"Not found")) | L59: =IF(OR($H59<>"Confirmed",$I59="",$E59="",$F59="",$G59=""),"",IFERROR(IF(AND($E59<=VLOOKUP($I59,Kennels!$A$5:$E$104,4,FALSE),$F59<=VLOOKUP($I59,Kennels!$A$5:$E$104,3,FALSE),$G59=VLOOKUP($I59,Kennels!$A$5:$E$104,2,FALSE)),"Fits","Check fit"),"Check kennel ID")) | M59: =IF(OR($H59<>"Confirmed",$I59="",$C59="",$D59="",$D59<=$C59),"",COUNTIFS($I$5:$I$154,$I59,$H$5:$H$154,"Confirmed",$C$5:$C$154,"<"&$D59,$D$5:$D$154,">"&$C59)-1) | N59: =IF($A59="","",IF(COUNTIF($A$5:$A$154,$A59)>1,"Check booking ID",IF($H59<>"Confirmed","No confirmed assignment",IF(OR($C59="",$D59=""),"Check dates",IF($D59<=$C59,"Check dates",IF($I59="","Needs kennel",IFERROR(IF(VLOOKUP($I59,Kennels!$A$5:$E$104,5,FALSE)<>"Available","Check kennel status",IF($L59<>"Fits","Check compatibility",IF($M59>0,"Conflict: overlap","Ready"))),"Check kennel ID"))))))) | R59: =Kennels!$A$59
J60: =IF(OR($C60="",$D60="",$D60<=$C60),"",$D60-$C60) | K60: =IF($I60="","",IFERROR(VLOOKUP($I60,Kennels!$A$5:$E$104,2,FALSE),"Not found")) | L60: =IF(OR($H60<>"Confirmed",$I60="",$E60="",$F60="",$G60=""),"",IFERROR(IF(AND($E60<=VLOOKUP($I60,Kennels!$A$5:$E$104,4,FALSE),$F60<=VLOOKUP($I60,Kennels!$A$5:$E$104,3,FALSE),$G60=VLOOKUP($I60,Kennels!$A$5:$E$104,2,FALSE)),"Fits","Check fit"),"Check kennel ID")) | M60: =IF(OR($H60<>"Confirmed",$I60="",$C60="",$D60="",$D60<=$C60),"",COUNTIFS($I$5:$I$154,$I60,$H$5:$H$154,"Confirmed",$C$5:$C$154,"<"&$D60,$D$5:$D$154,">"&$C60)-1) | N60: =IF($A60="","",IF(COUNTIF($A$5:$A$154,$A60)>1,"Check booking ID",IF($H60<>"Confirmed","No confirmed assignment",IF(OR($C60="",$D60=""),"Check dates",IF($D60<=$C60,"Check dates",IF($I60="","Needs kennel",IFERROR(IF(VLOOKUP($I60,Kennels!$A$5:$E$104,5,FALSE)<>"Available","Check kennel status",IF($L60<>"Fits","Check compatibility",IF($M60>0,"Conflict: overlap","Ready"))),"Check kennel ID"))))))) | R60: =Kennels!$A$60
J61: =IF(OR($C61="",$D61="",$D61<=$C61),"",$D61-$C61) | K61: =IF($I61="","",IFERROR(VLOOKUP($I61,Kennels!$A$5:$E$104,2,FALSE),"Not found")) | L61: =IF(OR($H61<>"Confirmed",$I61="",$E61="",$F61="",$G61=""),"",IFERROR(IF(AND($E61<=VLOOKUP($I61,Kennels!$A$5:$E$104,4,FALSE),$F61<=VLOOKUP($I61,Kennels!$A$5:$E$104,3,FALSE),$G61=VLOOKUP($I61,Kennels!$A$5:$E$104,2,FALSE)),"Fits","Check fit"),"Check kennel ID")) | M61: =IF(OR($H61<>"Confirmed",$I61="",$C61="",$D61="",$D61<=$C61),"",COUNTIFS($I$5:$I$154,$I61,$H$5:$H$154,"Confirmed",$C$5:$C$154,"<"&$D61,$D$5:$D$154,">"&$C61)-1) | N61: =IF($A61="","",IF(COUNTIF($A$5:$A$154,$A61)>1,"Check booking ID",IF($H61<>"Confirmed","No confirmed assignment",IF(OR($C61="",$D61=""),"Check dates",IF($D61<=$C61,"Check dates",IF($I61="","Needs kennel",IFERROR(IF(VLOOKUP($I61,Kennels!$A$5:$E$104,5,FALSE)<>"Available","Check kennel status",IF($L61<>"Fits","Check compatibility",IF($M61>0,"Conflict: overlap","Ready"))),"Check kennel ID"))))))) | R61: =Kennels!$A$61
J62: =IF(OR($C62="",$D62="",$D62<=$C62),"",$D62-$C62) | K62: =IF($I62="","",IFERROR(VLOOKUP($I62,Kennels!$A$5:$E$104,2,FALSE),"Not found")) | L62: =IF(OR($H62<>"Confirmed",$I62="",$E62="",$F62="",$G62=""),"",IFERROR(IF(AND($E62<=VLOOKUP($I62,Kennels!$A$5:$E$104,4,FALSE),$F62<=VLOOKUP($I62,Kennels!$A$5:$E$104,3,FALSE),$G62=VLOOKUP($I62,Kennels!$A$5:$E$104,2,FALSE)),"Fits","Check fit"),"Check kennel ID")) | M62: =IF(OR($H62<>"Confirmed",$I62="",$C62="",$D62="",$D62<=$C62),"",COUNTIFS($I$5:$I$154,$I62,$H$5:$H$154,"Confirmed",$C$5:$C$154,"<"&$D62,$D$5:$D$154,">"&$C62)-1) | N62: =IF($A62="","",IF(COUNTIF($A$5:$A$154,$A62)>1,"Check booking ID",IF($H62<>"Confirmed","No confirmed assignment",IF(OR($C62="",$D62=""),"Check dates",IF($D62<=$C62,"Check dates",IF($I62="","Needs kennel",IFERROR(IF(VLOOKUP($I62,Kennels!$A$5:$E$104,5,FALSE)<>"Available","Check kennel status",IF($L62<>"Fits","Check compatibility",IF($M62>0,"Conflict: overlap","Ready"))),"Check kennel ID"))))))) | R62: =Kennels!$A$62
J63: =IF(OR($C63="",$D63="",$D63<=$C63),"",$D63-$C63) | K63: =IF($I63="","",IFERROR(VLOOKUP($I63,Kennels!$A$5:$E$104,2,FALSE),"Not found")) | L63: =IF(OR($H63<>"Confirmed",$I63="",$E63="",$F63="",$G63=""),"",IFERROR(IF(AND($E63<=VLOOKUP($I63,Kennels!$A$5:$E$104,4,FALSE),$F63<=VLOOKUP($I63,Kennels!$A$5:$E$104,3,FALSE),$G63=VLOOKUP($I63,Kennels!$A$5:$E$104,2,FALSE)),"Fits","Check fit"),"Check kennel ID")) | M63: =IF(OR($H63<>"Confirmed",$I63="",$C63="",$D63="",$D63<=$C63),"",COUNTIFS($I$5:$I$154,$I63,$H$5:$H$154,"Confirmed",$C$5:$C$154,"<"&$D63,$D$5:$D$154,">"&$C63)-1) | N63: =IF($A63="","",IF(COUNTIF($A$5:$A$154,$A63)>1,"Check booking ID",IF($H63<>"Confirmed","No confirmed assignment",IF(OR($C63="",$D63=""),"Check dates",IF($D63<=$C63,"Check dates",IF($I63="","Needs kennel",IFERROR(IF(VLOOKUP($I63,Kennels!$A$5:$E$104,5,FALSE)<>"Available","Check kennel status",IF($L63<>"Fits","Check compatibility",IF($M63>0,"Conflict: overlap","Ready"))),"Check kennel ID"))))))) | R63: =Kennels!$A$63
J64: =IF(OR($C64="",$D64="",$D64<=$C64),"",$D64-$C64) | K64: =IF($I64="","",IFERROR(VLOOKUP($I64,Kennels!$A$5:$E$104,2,FALSE),"Not found")) | L64: =IF(OR($H64<>"Confirmed",$I64="",$E64="",$F64="",$G64=""),"",IFERROR(IF(AND($E64<=VLOOKUP($I64,Kennels!$A$5:$E$104,4,FALSE),$F64<=VLOOKUP($I64,Kennels!$A$5:$E$104,3,FALSE),$G64=VLOOKUP($I64,Kennels!$A$5:$E$104,2,FALSE)),"Fits","Check fit"),"Check kennel ID")) | M64: =IF(OR($H64<>"Confirmed",$I64="",$C64="",$D64="",$D64<=$C64),"",COUNTIFS($I$5:$I$154,$I64,$H$5:$H$154,"Confirmed",$C$5:$C$154,"<"&$D64,$D$5:$D$154,">"&$C64)-1) | N64: =IF($A64="","",IF(COUNTIF($A$5:$A$154,$A64)>1,"Check booking ID",IF($H64<>"Confirmed","No confirmed assignment",IF(OR($C64="",$D64=""),"Check dates",IF($D64<=$C64,"Check dates",IF($I64="","Needs kennel",IFERROR(IF(VLOOKUP($I64,Kennels!$A$5:$E$104,5,FALSE)<>"Available","Check kennel status",IF($L64<>"Fits","Check compatibility",IF($M64>0,"Conflict: overlap","Ready"))),"Check kennel ID"))))))) | R64: =Kennels!$A$64
J65: =IF(OR($C65="",$D65="",$D65<=$C65),"",$D65-$C65) | K65: =IF($I65="","",IFERROR(VLOOKUP($I65,Kennels!$A$5:$E$104,2,FALSE),"Not found")) | L65: =IF(OR($H65<>"Confirmed",$I65="",$E65="",$F65="",$G65=""),"",IFERROR(IF(AND($E65<=VLOOKUP($I65,Kennels!$A$5:$E$104,4,FALSE),$F65<=VLOOKUP($I65,Kennels!$A$5:$E$104,3,FALSE),$G65=VLOOKUP($I65,Kennels!$A$5:$E$104,2,FALSE)),"Fits","Check fit"),"Check kennel ID")) | M65: =IF(OR($H65<>"Confirmed",$I65="",$C65="",$D65="",$D65<=$C65),"",COUNTIFS($I$5:$I$154,$I65,$H$5:$H$154,"Confirmed",$C$5:$C$154,"<"&$D65,$D$5:$D$154,">"&$C65)-1) | N65: =IF($A65="","",IF(COUNTIF($A$5:$A$154,$A65)>1,"Check booking ID",IF($H65<>"Confirmed","No confirmed assignment",IF(OR($C65="",$D65=""),"Check dates",IF($D65<=$C65,"Check dates",IF($I65="","Needs kennel",IFERROR(IF(VLOOKUP($I65,Kennels!$A$5:$E$104,5,FALSE)<>"Available","Check kennel status",IF($L65<>"Fits","Check compatibility",IF($M65>0,"Conflict: overlap","Ready"))),"Check kennel ID"))))))) | R65: =Kennels!$A$65
J66: =IF(OR($C66="",$D66="",$D66<=$C66),"",$D66-$C66) | K66: =IF($I66="","",IFERROR(VLOOKUP($I66,Kennels!$A$5:$E$104,2,FALSE),"Not found")) | L66: =IF(OR($H66<>"Confirmed",$I66="",$E66="",$F66="",$G66=""),"",IFERROR(IF(AND($E66<=VLOOKUP($I66,Kennels!$A$5:$E$104,4,FALSE),$F66<=VLOOKUP($I66,Kennels!$A$5:$E$104,3,FALSE),$G66=VLOOKUP($I66,Kennels!$A$5:$E$104,2,FALSE)),"Fits","Check fit"),"Check kennel ID")) | M66: =IF(OR($H66<>"Confirmed",$I66="",$C66="",$D66="",$D66<=$C66),"",COUNTIFS($I$5:$I$154,$I66,$H$5:$H$154,"Confirmed",$C$5:$C$154,"<"&$D66,$D$5:$D$154,">"&$C66)-1) | N66: =IF($A66="","",IF(COUNTIF($A$5:$A$154,$A66)>1,"Check booking ID",IF($H66<>"Confirmed","No confirmed assignment",IF(OR($C66="",$D66=""),"Check dates",IF($D66<=$C66,"Check dates",IF($I66="","Needs kennel",IFERROR(IF(VLOOKUP($I66,Kennels!$A$5:$E$104,5,FALSE)<>"Available","Check kennel status",IF($L66<>"Fits","Check compatibility",IF($M66>0,"Conflict: overlap","Ready"))),"Check kennel ID"))))))) | R66: =Kennels!$A$66
J67: =IF(OR($C67="",$D67="",$D67<=$C67),"",$D67-$C67) | K67: =IF($I67="","",IFERROR(VLOOKUP($I67,Kennels!$A$5:$E$104,2,FALSE),"Not found")) | L67: =IF(OR($H67<>"Confirmed",$I67="",$E67="",$F67="",$G67=""),"",IFERROR(IF(AND($E67<=VLOOKUP($I67,Kennels!$A$5:$E$104,4,FALSE),$F67<=VLOOKUP($I67,Kennels!$A$5:$E$104,3,FALSE),$G67=VLOOKUP($I67,Kennels!$A$5:$E$104,2,FALSE)),"Fits","Check fit"),"Check kennel ID")) | M67: =IF(OR($H67<>"Confirmed",$I67="",$C67="",$D67="",$D67<=$C67),"",COUNTIFS($I$5:$I$154,$I67,$H$5:$H$154,"Confirmed",$C$5:$C$154,"<"&$D67,$D$5:$D$154,">"&$C67)-1) | N67: =IF($A67="","",IF(COUNTIF($A$5:$A$154,$A67)>1,"Check booking ID",IF($H67<>"Confirmed","No confirmed assignment",IF(OR($C67="",$D67=""),"Check dates",IF($D67<=$C67,"Check dates",IF($I67="","Needs kennel",IFERROR(IF(VLOOKUP($I67,Kennels!$A$5:$E$104,5,FALSE)<>"Available","Check kennel status",IF($L67<>"Fits","Check compatibility",IF($M67>0,"Conflict: overlap","Ready"))),"Check kennel ID"))))))) | R67: =Kennels!$A$67
J68: =IF(OR($C68="",$D68="",$D68<=$C68),"",$D68-$C68) | K68: =IF($I68="","",IFERROR(VLOOKUP($I68,Kennels!$A$5:$E$104,2,FALSE),"Not found")) | L68: =IF(OR($H68<>"Confirmed",$I68="",$E68="",$F68="",$G68=""),"",IFERROR(IF(AND($E68<=VLOOKUP($I68,Kennels!$A$5:$E$104,4,FALSE),$F68<=VLOOKUP($I68,Kennels!$A$5:$E$104,3,FALSE),$G68=VLOOKUP($I68,Kennels!$A$5:$E$104,2,FALSE)),"Fits","Check fit"),"Check kennel ID")) | M68: =IF(OR($H68<>"Confirmed",$I68="",$C68="",$D68="",$D68<=$C68),"",COUNTIFS($I$5:$I$154,$I68,$H$5:$H$154,"Confirmed",$C$5:$C$154,"<"&$D68,$D$5:$D$154,">"&$C68)-1) | N68: =IF($A68="","",IF(COUNTIF($A$5:$A$154,$A68)>1,"Check booking ID",IF($H68<>"Confirmed","No confirmed assignment",IF(OR($C68="",$D68=""),"Check dates",IF($D68<=$C68,"Check dates",IF($I68="","Needs kennel",IFERROR(IF(VLOOKUP($I68,Kennels!$A$5:$E$104,5,FALSE)<>"Available","Check kennel status",IF($L68<>"Fits","Check compatibility",IF($M68>0,"Conflict: overlap","Ready"))),"Check kennel ID"))))))) | R68: =Kennels!$A$68
J69: =IF(OR($C69="",$D69="",$D69<=$C69),"",$D69-$C69) | K69: =IF($I69="","",IFERROR(VLOOKUP($I69,Kennels!$A$5:$E$104,2,FALSE),"Not found")) | L69: =IF(OR($H69<>"Confirmed",$I69="",$E69="",$F69="",$G69=""),"",IFERROR(IF(AND($E69<=VLOOKUP($I69,Kennels!$A$5:$E$104,4,FALSE),$F69<=VLOOKUP($I69,Kennels!$A$5:$E$104,3,FALSE),$G69=VLOOKUP($I69,Kennels!$A$5:$E$104,2,FALSE)),"Fits","Check fit"),"Check kennel ID")) | M69: =IF(OR($H69<>"Confirmed",$I69="",$C69="",$D69="",$D69<=$C69),"",COUNTIFS($I$5:$I$154,$I69,$H$5:$H$154,"Confirmed",$C$5:$C$154,"<"&$D69,$D$5:$D$154,">"&$C69)-1) | N69: =IF($A69="","",IF(COUNTIF($A$5:$A$154,$A69)>1,"Check booking ID",IF($H69<>"Confirmed","No confirmed assignment",IF(OR($C69="",$D69=""),"Check dates",IF($D69<=$C69,"Check dates",IF($I69="","Needs kennel",IFERROR(IF(VLOOKUP($I69,Kennels!$A$5:$E$104,5,FALSE)<>"Available","Check kennel status",IF($L69<>"Fits","Check compatibility",IF($M69>0,"Conflict: overlap","Ready"))),"Check kennel ID"))))))) | R69: =Kennels!$A$69
J70: =IF(OR($C70="",$D70="",$D70<=$C70),"",$D70-$C70) | K70: =IF($I70="","",IFERROR(VLOOKUP($I70,Kennels!$A$5:$E$104,2,FALSE),"Not found")) | L70: =IF(OR($H70<>"Confirmed",$I70="",$E70="",$F70="",$G70=""),"",IFERROR(IF(AND($E70<=VLOOKUP($I70,Kennels!$A$5:$E$104,4,FALSE),$F70<=VLOOKUP($I70,Kennels!$A$5:$E$104,3,FALSE),$G70=VLOOKUP($I70,Kennels!$A$5:$E$104,2,FALSE)),"Fits","Check fit"),"Check kennel ID")) | M70: =IF(OR($H70<>"Confirmed",$I70="",$C70="",$D70="",$D70<=$C70),"",COUNTIFS($I$5:$I$154,$I70,$H$5:$H$154,"Confirmed",$C$5:$C$154,"<"&$D70,$D$5:$D$154,">"&$C70)-1) | N70: =IF($A70="","",IF(COUNTIF($A$5:$A$154,$A70)>1,"Check booking ID",IF($H70<>"Confirmed","No confirmed assignment",IF(OR($C70="",$D70=""),"Check dates",IF($D70<=$C70,"Check dates",IF($I70="","Needs kennel",IFERROR(IF(VLOOKUP($I70,Kennels!$A$5:$E$104,5,FALSE)<>"Available","Check kennel status",IF($L70<>"Fits","Check compatibility",IF($M70>0,"Conflict: overlap","Ready"))),"Check kennel ID"))))))) | R70: =Kennels!$A$70
J71: =IF(OR($C71="",$D71="",$D71<=$C71),"",$D71-$C71) | K71: =IF($I71="","",IFERROR(VLOOKUP($I71,Kennels!$A$5:$E$104,2,FALSE),"Not found")) | L71: =IF(OR($H71<>"Confirmed",$I71="",$E71="",$F71="",$G71=""),"",IFERROR(IF(AND($E71<=VLOOKUP($I71,Kennels!$A$5:$E$104,4,FALSE),$F71<=VLOOKUP($I71,Kennels!$A$5:$E$104,3,FALSE),$G71=VLOOKUP($I71,Kennels!$A$5:$E$104,2,FALSE)),"Fits","Check fit"),"Check kennel ID")) | M71: =IF(OR($H71<>"Confirmed",$I71="",$C71="",$D71="",$D71<=$C71),"",COUNTIFS($I$5:$I$154,$I71,$H$5:$H$154,"Confirmed",$C$5:$C$154,"<"&$D71,$D$5:$D$154,">"&$C71)-1) | N71: =IF($A71="","",IF(COUNTIF($A$5:$A$154,$A71)>1,"Check booking ID",IF($H71<>"Confirmed","No confirmed assignment",IF(OR($C71="",$D71=""),"Check dates",IF($D71<=$C71,"Check dates",IF($I71="","Needs kennel",IFERROR(IF(VLOOKUP($I71,Kennels!$A$5:$E$104,5,FALSE)<>"Available","Check kennel status",IF($L71<>"Fits","Check compatibility",IF($M71>0,"Conflict: overlap","Ready"))),"Check kennel ID"))))))) | R71: =Kennels!$A$71
J72: =IF(OR($C72="",$D72="",$D72<=$C72),"",$D72-$C72) | K72: =IF($I72="","",IFERROR(VLOOKUP($I72,Kennels!$A$5:$E$104,2,FALSE),"Not found")) | L72: =IF(OR($H72<>"Confirmed",$I72="",$E72="",$F72="",$G72=""),"",IFERROR(IF(AND($E72<=VLOOKUP($I72,Kennels!$A$5:$E$104,4,FALSE),$F72<=VLOOKUP($I72,Kennels!$A$5:$E$104,3,FALSE),$G72=VLOOKUP($I72,Kennels!$A$5:$E$104,2,FALSE)),"Fits","Check fit"),"Check kennel ID")) | M72: =IF(OR($H72<>"Confirmed",$I72="",$C72="",$D72="",$D72<=$C72),"",COUNTIFS($I$5:$I$154,$I72,$H$5:$H$154,"Confirmed",$C$5:$C$154,"<"&$D72,$D$5:$D$154,">"&$C72)-1) | N72: =IF($A72="","",IF(COUNTIF($A$5:$A$154,$A72)>1,"Check booking ID",IF($H72<>"Confirmed","No confirmed assignment",IF(OR($C72="",$D72=""),"Check dates",IF($D72<=$C72,"Check dates",IF($I72="","Needs kennel",IFERROR(IF(VLOOKUP($I72,Kennels!$A$5:$E$104,5,FALSE)<>"Available","Check kennel status",IF($L72<>"Fits","Check compatibility",IF($M72>0,"Conflict: overlap","Ready"))),"Check kennel ID"))))))) | R72: =Kennels!$A$72
J73: =IF(OR($C73="",$D73="",$D73<=$C73),"",$D73-$C73) | K73: =IF($I73="","",IFERROR(VLOOKUP($I73,Kennels!$A$5:$E$104,2,FALSE),"Not found")) | L73: =IF(OR($H73<>"Confirmed",$I73="",$E73="",$F73="",$G73=""),"",IFERROR(IF(AND($E73<=VLOOKUP($I73,Kennels!$A$5:$E$104,4,FALSE),$F73<=VLOOKUP($I73,Kennels!$A$5:$E$104,3,FALSE),$G73=VLOOKUP($I73,Kennels!$A$5:$E$104,2,FALSE)),"Fits","Check fit"),"Check kennel ID")) | M73: =IF(OR($H73<>"Confirmed",$I73="",$C73="",$D73="",$D73<=$C73),"",COUNTIFS($I$5:$I$154,$I73,$H$5:$H$154,"Confirmed",$C$5:$C$154,"<"&$D73,$D$5:$D$154,">"&$C73)-1) | N73: =IF($A73="","",IF(COUNTIF($A$5:$A$154,$A73)>1,"Check booking ID",IF($H73<>"Confirmed","No confirmed assignment",IF(OR($C73="",$D73=""),"Check dates",IF($D73<=$C73,"Check dates",IF($I73="","Needs kennel",IFERROR(IF(VLOOKUP($I73,Kennels!$A$5:$E$104,5,FALSE)<>"Available","Check kennel status",IF($L73<>"Fits","Check compatibility",IF($M73>0,"Conflict: overlap","Ready"))),"Check kennel ID"))))))) | R73: =Kennels!$A$73
J74: =IF(OR($C74="",$D74="",$D74<=$C74),"",$D74-$C74) | K74: =IF($I74="","",IFERROR(VLOOKUP($I74,Kennels!$A$5:$E$104,2,FALSE),"Not found")) | L74: =IF(OR($H74<>"Confirmed",$I74="",$E74="",$F74="",$G74=""),"",IFERROR(IF(AND($E74<=VLOOKUP($I74,Kennels!$A$5:$E$104,4,FALSE),$F74<=VLOOKUP($I74,Kennels!$A$5:$E$104,3,FALSE),$G74=VLOOKUP($I74,Kennels!$A$5:$E$104,2,FALSE)),"Fits","Check fit"),"Check kennel ID")) | M74: =IF(OR($H74<>"Confirmed",$I74="",$C74="",$D74="",$D74<=$C74),"",COUNTIFS($I$5:$I$154,$I74,$H$5:$H$154,"Confirmed",$C$5:$C$154,"<"&$D74,$D$5:$D$154,">"&$C74)-1) | N74: =IF($A74="","",IF(COUNTIF($A$5:$A$154,$A74)>1,"Check booking ID",IF($H74<>"Confirmed","No confirmed assignment",IF(OR($C74="",$D74=""),"Check dates",IF($D74<=$C74,"Check dates",IF($I74="","Needs kennel",IFERROR(IF(VLOOKUP($I74,Kennels!$A$5:$E$104,5,FALSE)<>"Available","Check kennel status",IF($L74<>"Fits","Check compatibility",IF($M74>0,"Conflict: overlap","Ready"))),"Check kennel ID"))))))) | R74: =Kennels!$A$74
J75: =IF(OR($C75="",$D75="",$D75<=$C75),"",$D75-$C75) | K75: =IF($I75="","",IFERROR(VLOOKUP($I75,Kennels!$A$5:$E$104,2,FALSE),"Not found")) | L75: =IF(OR($H75<>"Confirmed",$I75="",$E75="",$F75="",$G75=""),"",IFERROR(IF(AND($E75<=VLOOKUP($I75,Kennels!$A$5:$E$104,4,FALSE),$F75<=VLOOKUP($I75,Kennels!$A$5:$E$104,3,FALSE),$G75=VLOOKUP($I75,Kennels!$A$5:$E$104,2,FALSE)),"Fits","Check fit"),"Check kennel ID")) | M75: =IF(OR($H75<>"Confirmed",$I75="",$C75="",$D75="",$D75<=$C75),"",COUNTIFS($I$5:$I$154,$I75,$H$5:$H$154,"Confirmed",$C$5:$C$154,"<"&$D75,$D$5:$D$154,">"&$C75)-1) | N75: =IF($A75="","",IF(COUNTIF($A$5:$A$154,$A75)>1,"Check booking ID",IF($H75<>"Confirmed","No confirmed assignment",IF(OR($C75="",$D75=""),"Check dates",IF($D75<=$C75,"Check dates",IF($I75="","Needs kennel",IFERROR(IF(VLOOKUP($I75,Kennels!$A$5:$E$104,5,FALSE)<>"Available","Check kennel status",IF($L75<>"Fits","Check compatibility",IF($M75>0,"Conflict: overlap","Ready"))),"Check kennel ID"))))))) | R75: =Kennels!$A$75
J76: =IF(OR($C76="",$D76="",$D76<=$C76),"",$D76-$C76) | K76: =IF($I76="","",IFERROR(VLOOKUP($I76,Kennels!$A$5:$E$104,2,FALSE),"Not found")) | L76: =IF(OR($H76<>"Confirmed",$I76="",$E76="",$F76="",$G76=""),"",IFERROR(IF(AND($E76<=VLOOKUP($I76,Kennels!$A$5:$E$104,4,FALSE),$F76<=VLOOKUP($I76,Kennels!$A$5:$E$104,3,FALSE),$G76=VLOOKUP($I76,Kennels!$A$5:$E$104,2,FALSE)),"Fits","Check fit"),"Check kennel ID")) | M76: =IF(OR($H76<>"Confirmed",$I76="",$C76="",$D76="",$D76<=$C76),"",COUNTIFS($I$5:$I$154,$I76,$H$5:$H$154,"Confirmed",$C$5:$C$154,"<"&$D76,$D$5:$D$154,">"&$C76)-1) | N76: =IF($A76="","",IF(COUNTIF($A$5:$A$154,$A76)>1,"Check booking ID",IF($H76<>"Confirmed","No confirmed assignment",IF(OR($C76="",$D76=""),"Check dates",IF($D76<=$C76,"Check dates",IF($I76="","Needs kennel",IFERROR(IF(VLOOKUP($I76,Kennels!$A$5:$E$104,5,FALSE)<>"Available","Check kennel status",IF($L76<>"Fits","Check compatibility",IF($M76>0,"Conflict: overlap","Ready"))),"Check kennel ID"))))))) | R76: =Kennels!$A$76
J77: =IF(OR($C77="",$D77="",$D77<=$C77),"",$D77-$C77) | K77: =IF($I77="","",IFERROR(VLOOKUP($I77,Kennels!$A$5:$E$104,2,FALSE),"Not found")) | L77: =IF(OR($H77<>"Confirmed",$I77="",$E77="",$F77="",$G77=""),"",IFERROR(IF(AND($E77<=VLOOKUP($I77,Kennels!$A$5:$E$104,4,FALSE),$F77<=VLOOKUP($I77,Kennels!$A$5:$E$104,3,FALSE),$G77=VLOOKUP($I77,Kennels!$A$5:$E$104,2,FALSE)),"Fits","Check fit"),"Check kennel ID")) | M77: =IF(OR($H77<>"Confirmed",$I77="",$C77="",$D77="",$D77<=$C77),"",COUNTIFS($I$5:$I$154,$I77,$H$5:$H$154,"Confirmed",$C$5:$C$154,"<"&$D77,$D$5:$D$154,">"&$C77)-1) | N77: =IF($A77="","",IF(COUNTIF($A$5:$A$154,$A77)>1,"Check booking ID",IF($H77<>"Confirmed","No confirmed assignment",IF(OR($C77="",$D77=""),"Check dates",IF($D77<=$C77,"Check dates",IF($I77="","Needs kennel",IFERROR(IF(VLOOKUP($I77,Kennels!$A$5:$E$104,5,FALSE)<>"Available","Check kennel status",IF($L77<>"Fits","Check compatibility",IF($M77>0,"Conflict: overlap","Ready"))),"Check kennel ID"))))))) | R77: =Kennels!$A$77
J78: =IF(OR($C78="",$D78="",$D78<=$C78),"",$D78-$C78) | K78: =IF($I78="","",IFERROR(VLOOKUP($I78,Kennels!$A$5:$E$104,2,FALSE),"Not found")) | L78: =IF(OR($H78<>"Confirmed",$I78="",$E78="",$F78="",$G78=""),"",IFERROR(IF(AND($E78<=VLOOKUP($I78,Kennels!$A$5:$E$104,4,FALSE),$F78<=VLOOKUP($I78,Kennels!$A$5:$E$104,3,FALSE),$G78=VLOOKUP($I78,Kennels!$A$5:$E$104,2,FALSE)),"Fits","Check fit"),"Check kennel ID")) | M78: =IF(OR($H78<>"Confirmed",$I78="",$C78="",$D78="",$D78<=$C78),"",COUNTIFS($I$5:$I$154,$I78,$H$5:$H$154,"Confirmed",$C$5:$C$154,"<"&$D78,$D$5:$D$154,">"&$C78)-1) | N78: =IF($A78="","",IF(COUNTIF($A$5:$A$154,$A78)>1,"Check booking ID",IF($H78<>"Confirmed","No confirmed assignment",IF(OR($C78="",$D78=""),"Check dates",IF($D78<=$C78,"Check dates",IF($I78="","Needs kennel",IFERROR(IF(VLOOKUP($I78,Kennels!$A$5:$E$104,5,FALSE)<>"Available","Check kennel status",IF($L78<>"Fits","Check compatibility",IF($M78>0,"Conflict: overlap","Ready"))),"Check kennel ID"))))))) | R78: =Kennels!$A$78
J79: =IF(OR($C79="",$D79="",$D79<=$C79),"",$D79-$C79) | K79: =IF($I79="","",IFERROR(VLOOKUP($I79,Kennels!$A$5:$E$104,2,FALSE),"Not found")) | L79: =IF(OR($H79<>"Confirmed",$I79="",$E79="",$F79="",$G79=""),"",IFERROR(IF(AND($E79<=VLOOKUP($I79,Kennels!$A$5:$E$104,4,FALSE),$F79<=VLOOKUP($I79,Kennels!$A$5:$E$104,3,FALSE),$G79=VLOOKUP($I79,Kennels!$A$5:$E$104,2,FALSE)),"Fits","Check fit"),"Check kennel ID")) | M79: =IF(OR($H79<>"Confirmed",$I79="",$C79="",$D79="",$D79<=$C79),"",COUNTIFS($I$5:$I$154,$I79,$H$5:$H$154,"Confirmed",$C$5:$C$154,"<"&$D79,$D$5:$D$154,">"&$C79)-1) | N79: =IF($A79="","",IF(COUNTIF($A$5:$A$154,$A79)>1,"Check booking ID",IF($H79<>"Confirmed","No confirmed assignment",IF(OR($C79="",$D79=""),"Check dates",IF($D79<=$C79,"Check dates",IF($I79="","Needs kennel",IFERROR(IF(VLOOKUP($I79,Kennels!$A$5:$E$104,5,FALSE)<>"Available","Check kennel status",IF($L79<>"Fits","Check compatibility",IF($M79>0,"Conflict: overlap","Ready"))),"Check kennel ID"))))))) | R79: =Kennels!$A$79
J80: =IF(OR($C80="",$D80="",$D80<=$C80),"",$D80-$C80) | K80: =IF($I80="","",IFERROR(VLOOKUP($I80,Kennels!$A$5:$E$104,2,FALSE),"Not found")) | L80: =IF(OR($H80<>"Confirmed",$I80="",$E80="",$F80="",$G80=""),"",IFERROR(IF(AND($E80<=VLOOKUP($I80,Kennels!$A$5:$E$104,4,FALSE),$F80<=VLOOKUP($I80,Kennels!$A$5:$E$104,3,FALSE),$G80=VLOOKUP($I80,Kennels!$A$5:$E$104,2,FALSE)),"Fits","Check fit"),"Check kennel ID")) | M80: =IF(OR($H80<>"Confirmed",$I80="",$C80="",$D80="",$D80<=$C80),"",COUNTIFS($I$5:$I$154,$I80,$H$5:$H$154,"Confirmed",$C$5:$C$154,"<"&$D80,$D$5:$D$154,">"&$C80)-1) | N80: =IF($A80="","",IF(COUNTIF($A$5:$A$154,$A80)>1,"Check booking ID",IF($H80<>"Confirmed","No confirmed assignment",IF(OR($C80="",$D80=""),"Check dates",IF($D80<=$C80,"Check dates",IF($I80="","Needs kennel",IFERROR(IF(VLOOKUP($I80,Kennels!$A$5:$E$104,5,FALSE)<>"Available","Check kennel status",IF($L80<>"Fits","Check compatibility",IF($M80>0,"Conflict: overlap","Ready"))),"Check kennel ID"))))))) | R80: =Kennels!$A$80
J81: =IF(OR($C81="",$D81="",$D81<=$C81),"",$D81-$C81) | K81: =IF($I81="","",IFERROR(VLOOKUP($I81,Kennels!$A$5:$E$104,2,FALSE),"Not found")) | L81: =IF(OR($H81<>"Confirmed",$I81="",$E81="",$F81="",$G81=""),"",IFERROR(IF(AND($E81<=VLOOKUP($I81,Kennels!$A$5:$E$104,4,FALSE),$F81<=VLOOKUP($I81,Kennels!$A$5:$E$104,3,FALSE),$G81=VLOOKUP($I81,Kennels!$A$5:$E$104,2,FALSE)),"Fits","Check fit"),"Check kennel ID")) | M81: =IF(OR($H81<>"Confirmed",$I81="",$C81="",$D81="",$D81<=$C81),"",COUNTIFS($I$5:$I$154,$I81,$H$5:$H$154,"Confirmed",$C$5:$C$154,"<"&$D81,$D$5:$D$154,">"&$C81)-1) | N81: =IF($A81="","",IF(COUNTIF($A$5:$A$154,$A81)>1,"Check booking ID",IF($H81<>"Confirmed","No confirmed assignment",IF(OR($C81="",$D81=""),"Check dates",IF($D81<=$C81,"Check dates",IF($I81="","Needs kennel",IFERROR(IF(VLOOKUP($I81,Kennels!$A$5:$E$104,5,FALSE)<>"Available","Check kennel status",IF($L81<>"Fits","Check compatibility",IF($M81>0,"Conflict: overlap","Ready"))),"Check kennel ID"))))))) | R81: =Kennels!$A$81
J82: =IF(OR($C82="",$D82="",$D82<=$C82),"",$D82-$C82) | K82: =IF($I82="","",IFERROR(VLOOKUP($I82,Kennels!$A$5:$E$104,2,FALSE),"Not found")) | L82: =IF(OR($H82<>"Confirmed",$I82="",$E82="",$F82="",$G82=""),"",IFERROR(IF(AND($E82<=VLOOKUP($I82,Kennels!$A$5:$E$104,4,FALSE),$F82<=VLOOKUP($I82,Kennels!$A$5:$E$104,3,FALSE),$G82=VLOOKUP($I82,Kennels!$A$5:$E$104,2,FALSE)),"Fits","Check fit"),"Check kennel ID")) | M82: =IF(OR($H82<>"Confirmed",$I82="",$C82="",$D82="",$D82<=$C82),"",COUNTIFS($I$5:$I$154,$I82,$H$5:$H$154,"Confirmed",$C$5:$C$154,"<"&$D82,$D$5:$D$154,">"&$C82)-1) | N82: =IF($A82="","",IF(COUNTIF($A$5:$A$154,$A82)>1,"Check booking ID",IF($H82<>"Confirmed","No confirmed assignment",IF(OR($C82="",$D82=""),"Check dates",IF($D82<=$C82,"Check dates",IF($I82="","Needs kennel",IFERROR(IF(VLOOKUP($I82,Kennels!$A$5:$E$104,5,FALSE)<>"Available","Check kennel status",IF($L82<>"Fits","Check compatibility",IF($M82>0,"Conflict: overlap","Ready"))),"Check kennel ID"))))))) | R82: =Kennels!$A$82
J83: =IF(OR($C83="",$D83="",$D83<=$C83),"",$D83-$C83) | K83: =IF($I83="","",IFERROR(VLOOKUP($I83,Kennels!$A$5:$E$104,2,FALSE),"Not found")) | L83: =IF(OR($H83<>"Confirmed",$I83="",$E83="",$F83="",$G83=""),"",IFERROR(IF(AND($E83<=VLOOKUP($I83,Kennels!$A$5:$E$104,4,FALSE),$F83<=VLOOKUP($I83,Kennels!$A$5:$E$104,3,FALSE),$G83=VLOOKUP($I83,Kennels!$A$5:$E$104,2,FALSE)),"Fits","Check fit"),"Check kennel ID")) | M83: =IF(OR($H83<>"Confirmed",$I83="",$C83="",$D83="",$D83<=$C83),"",COUNTIFS($I$5:$I$154,$I83,$H$5:$H$154,"Confirmed",$C$5:$C$154,"<"&$D83,$D$5:$D$154,">"&$C83)-1) | N83: =IF($A83="","",IF(COUNTIF($A$5:$A$154,$A83)>1,"Check booking ID",IF($H83<>"Confirmed","No confirmed assignment",IF(OR($C83="",$D83=""),"Check dates",IF($D83<=$C83,"Check dates",IF($I83="","Needs kennel",IFERROR(IF(VLOOKUP($I83,Kennels!$A$5:$E$104,5,FALSE)<>"Available","Check kennel status",IF($L83<>"Fits","Check compatibility",IF($M83>0,"Conflict: overlap","Ready"))),"Check kennel ID"))))))) | R83: =Kennels!$A$83
J84: =IF(OR($C84="",$D84="",$D84<=$C84),"",$D84-$C84) | K84: =IF($I84="","",IFERROR(VLOOKUP($I84,Kennels!$A$5:$E$104,2,FALSE),"Not found")) | L84: =IF(OR($H84<>"Confirmed",$I84="",$E84="",$F84="",$G84=""),"",IFERROR(IF(AND($E84<=VLOOKUP($I84,Kennels!$A$5:$E$104,4,FALSE),$F84<=VLOOKUP($I84,Kennels!$A$5:$E$104,3,FALSE),$G84=VLOOKUP($I84,Kennels!$A$5:$E$104,2,FALSE)),"Fits","Check fit"),"Check kennel ID")) | M84: =IF(OR($H84<>"Confirmed",$I84="",$C84="",$D84="",$D84<=$C84),"",COUNTIFS($I$5:$I$154,$I84,$H$5:$H$154,"Confirmed",$C$5:$C$154,"<"&$D84,$D$5:$D$154,">"&$C84)-1) | N84: =IF($A84="","",IF(COUNTIF($A$5:$A$154,$A84)>1,"Check booking ID",IF($H84<>"Confirmed","No confirmed assignment",IF(OR($C84="",$D84=""),"Check dates",IF($D84<=$C84,"Check dates",IF($I84="","Needs kennel",IFERROR(IF(VLOOKUP($I84,Kennels!$A$5:$E$104,5,FALSE)<>"Available","Check kennel status",IF($L84<>"Fits","Check compatibility",IF($M84>0,"Conflict: overlap","Ready"))),"Check kennel ID"))))))) | R84: =Kennels!$A$84
J85: =IF(OR($C85="",$D85="",$D85<=$C85),"",$D85-$C85) | K85: =IF($I85="","",IFERROR(VLOOKUP($I85,Kennels!$A$5:$E$104,2,FALSE),"Not found")) | L85: =IF(OR($H85<>"Confirmed",$I85="",$E85="",$F85="",$G85=""),"",IFERROR(IF(AND($E85<=VLOOKUP($I85,Kennels!$A$5:$E$104,4,FALSE),$F85<=VLOOKUP($I85,Kennels!$A$5:$E$104,3,FALSE),$G85=VLOOKUP($I85,Kennels!$A$5:$E$104,2,FALSE)),"Fits","Check fit"),"Check kennel ID")) | M85: =IF(OR($H85<>"Confirmed",$I85="",$C85="",$D85="",$D85<=$C85),"",COUNTIFS($I$5:$I$154,$I85,$H$5:$H$154,"Confirmed",$C$5:$C$154,"<"&$D85,$D$5:$D$154,">"&$C85)-1) | N85: =IF($A85="","",IF(COUNTIF($A$5:$A$154,$A85)>1,"Check booking ID",IF($H85<>"Confirmed","No confirmed assignment",IF(OR($C85="",$D85=""),"Check dates",IF($D85<=$C85,"Check dates",IF($I85="","Needs kennel",IFERROR(IF(VLOOKUP($I85,Kennels!$A$5:$E$104,5,FALSE)<>"Available","Check kennel status",IF($L85<>"Fits","Check compatibility",IF($M85>0,"Conflict: overlap","Ready"))),"Check kennel ID"))))))) | R85: =Kennels!$A$85
J86: =IF(OR($C86="",$D86="",$D86<=$C86),"",$D86-$C86) | K86: =IF($I86="","",IFERROR(VLOOKUP($I86,Kennels!$A$5:$E$104,2,FALSE),"Not found")) | L86: =IF(OR($H86<>"Confirmed",$I86="",$E86="",$F86="",$G86=""),"",IFERROR(IF(AND($E86<=VLOOKUP($I86,Kennels!$A$5:$E$104,4,FALSE),$F86<=VLOOKUP($I86,Kennels!$A$5:$E$104,3,FALSE),$G86=VLOOKUP($I86,Kennels!$A$5:$E$104,2,FALSE)),"Fits","Check fit"),"Check kennel ID")) | M86: =IF(OR($H86<>"Confirmed",$I86="",$C86="",$D86="",$D86<=$C86),"",COUNTIFS($I$5:$I$154,$I86,$H$5:$H$154,"Confirmed",$C$5:$C$154,"<"&$D86,$D$5:$D$154,">"&$C86)-1) | N86: =IF($A86="","",IF(COUNTIF($A$5:$A$154,$A86)>1,"Check booking ID",IF($H86<>"Confirmed","No confirmed assignment",IF(OR($C86="",$D86=""),"Check dates",IF($D86<=$C86,"Check dates",IF($I86="","Needs kennel",IFERROR(IF(VLOOKUP($I86,Kennels!$A$5:$E$104,5,FALSE)<>"Available","Check kennel status",IF($L86<>"Fits","Check compatibility",IF($M86>0,"Conflict: overlap","Ready"))),"Check kennel ID"))))))) | R86: =Kennels!$A$86
J87: =IF(OR($C87="",$D87="",$D87<=$C87),"",$D87-$C87) | K87: =IF($I87="","",IFERROR(VLOOKUP($I87,Kennels!$A$5:$E$104,2,FALSE),"Not found")) | L87: =IF(OR($H87<>"Confirmed",$I87="",$E87="",$F87="",$G87=""),"",IFERROR(IF(AND($E87<=VLOOKUP($I87,Kennels!$A$5:$E$104,4,FALSE),$F87<=VLOOKUP($I87,Kennels!$A$5:$E$104,3,FALSE),$G87=VLOOKUP($I87,Kennels!$A$5:$E$104,2,FALSE)),"Fits","Check fit"),"Check kennel ID")) | M87: =IF(OR($H87<>"Confirmed",$I87="",$C87="",$D87="",$D87<=$C87),"",COUNTIFS($I$5:$I$154,$I87,$H$5:$H$154,"Confirmed",$C$5:$C$154,"<"&$D87,$D$5:$D$154,">"&$C87)-1) | N87: =IF($A87="","",IF(COUNTIF($A$5:$A$154,$A87)>1,"Check booking ID",IF($H87<>"Confirmed","No confirmed assignment",IF(OR($C87="",$D87=""),"Check dates",IF($D87<=$C87,"Check dates",IF($I87="","Needs kennel",IFERROR(IF(VLOOKUP($I87,Kennels!$A$5:$E$104,5,FALSE)<>"Available","Check kennel status",IF($L87<>"Fits","Check compatibility",IF($M87>0,"Conflict: overlap","Ready"))),"Check kennel ID"))))))) | R87: =Kennels!$A$87
J88: =IF(OR($C88="",$D88="",$D88<=$C88),"",$D88-$C88) | K88: =IF($I88="","",IFERROR(VLOOKUP($I88,Kennels!$A$5:$E$104,2,FALSE),"Not found")) | L88: =IF(OR($H88<>"Confirmed",$I88="",$E88="",$F88="",$G88=""),"",IFERROR(IF(AND($E88<=VLOOKUP($I88,Kennels!$A$5:$E$104,4,FALSE),$F88<=VLOOKUP($I88,Kennels!$A$5:$E$104,3,FALSE),$G88=VLOOKUP($I88,Kennels!$A$5:$E$104,2,FALSE)),"Fits","Check fit"),"Check kennel ID")) | M88: =IF(OR($H88<>"Confirmed",$I88="",$C88="",$D88="",$D88<=$C88),"",COUNTIFS($I$5:$I$154,$I88,$H$5:$H$154,"Confirmed",$C$5:$C$154,"<"&$D88,$D$5:$D$154,">"&$C88)-1) | N88: =IF($A88="","",IF(COUNTIF($A$5:$A$154,$A88)>1,"Check booking ID",IF($H88<>"Confirmed","No confirmed assignment",IF(OR($C88="",$D88=""),"Check dates",IF($D88<=$C88,"Check dates",IF($I88="","Needs kennel",IFERROR(IF(VLOOKUP($I88,Kennels!$A$5:$E$104,5,FALSE)<>"Available","Check kennel status",IF($L88<>"Fits","Check compatibility",IF($M88>0,"Conflict: overlap","Ready"))),"Check kennel ID"))))))) | R88: =Kennels!$A$88
J89: =IF(OR($C89="",$D89="",$D89<=$C89),"",$D89-$C89) | K89: =IF($I89="","",IFERROR(VLOOKUP($I89,Kennels!$A$5:$E$104,2,FALSE),"Not found")) | L89: =IF(OR($H89<>"Confirmed",$I89="",$E89="",$F89="",$G89=""),"",IFERROR(IF(AND($E89<=VLOOKUP($I89,Kennels!$A$5:$E$104,4,FALSE),$F89<=VLOOKUP($I89,Kennels!$A$5:$E$104,3,FALSE),$G89=VLOOKUP($I89,Kennels!$A$5:$E$104,2,FALSE)),"Fits","Check fit"),"Check kennel ID")) | M89: =IF(OR($H89<>"Confirmed",$I89="",$C89="",$D89="",$D89<=$C89),"",COUNTIFS($I$5:$I$154,$I89,$H$5:$H$154,"Confirmed",$C$5:$C$154,"<"&$D89,$D$5:$D$154,">"&$C89)-1) | N89: =IF($A89="","",IF(COUNTIF($A$5:$A$154,$A89)>1,"Check booking ID",IF($H89<>"Confirmed","No confirmed assignment",IF(OR($C89="",$D89=""),"Check dates",IF($D89<=$C89,"Check dates",IF($I89="","Needs kennel",IFERROR(IF(VLOOKUP($I89,Kennels!$A$5:$E$104,5,FALSE)<>"Available","Check kennel status",IF($L89<>"Fits","Check compatibility",IF($M89>0,"Conflict: overlap","Ready"))),"Check kennel ID"))))))) | R89: =Kennels!$A$89
J90: =IF(OR($C90="",$D90="",$D90<=$C90),"",$D90-$C90) | K90: =IF($I90="","",IFERROR(VLOOKUP($I90,Kennels!$A$5:$E$104,2,FALSE),"Not found")) | L90: =IF(OR($H90<>"Confirmed",$I90="",$E90="",$F90="",$G90=""),"",IFERROR(IF(AND($E90<=VLOOKUP($I90,Kennels!$A$5:$E$104,4,FALSE),$F90<=VLOOKUP($I90,Kennels!$A$5:$E$104,3,FALSE),$G90=VLOOKUP($I90,Kennels!$A$5:$E$104,2,FALSE)),"Fits","Check fit"),"Check kennel ID")) | M90: =IF(OR($H90<>"Confirmed",$I90="",$C90="",$D90="",$D90<=$C90),"",COUNTIFS($I$5:$I$154,$I90,$H$5:$H$154,"Confirmed",$C$5:$C$154,"<"&$D90,$D$5:$D$154,">"&$C90)-1) | N90: =IF($A90="","",IF(COUNTIF($A$5:$A$154,$A90)>1,"Check booking ID",IF($H90<>"Confirmed","No confirmed assignment",IF(OR($C90="",$D90=""),"Check dates",IF($D90<=$C90,"Check dates",IF($I90="","Needs kennel",IFERROR(IF(VLOOKUP($I90,Kennels!$A$5:$E$104,5,FALSE)<>"Available","Check kennel status",IF($L90<>"Fits","Check compatibility",IF($M90>0,"Conflict: overlap","Ready"))),"Check kennel ID"))))))) | R90: =Kennels!$A$90
J91: =IF(OR($C91="",$D91="",$D91<=$C91),"",$D91-$C91) | K91: =IF($I91="","",IFERROR(VLOOKUP($I91,Kennels!$A$5:$E$104,2,FALSE),"Not found")) | L91: =IF(OR($H91<>"Confirmed",$I91="",$E91="",$F91="",$G91=""),"",IFERROR(IF(AND($E91<=VLOOKUP($I91,Kennels!$A$5:$E$104,4,FALSE),$F91<=VLOOKUP($I91,Kennels!$A$5:$E$104,3,FALSE),$G91=VLOOKUP($I91,Kennels!$A$5:$E$104,2,FALSE)),"Fits","Check fit"),"Check kennel ID")) | M91: =IF(OR($H91<>"Confirmed",$I91="",$C91="",$D91="",$D91<=$C91),"",COUNTIFS($I$5:$I$154,$I91,$H$5:$H$154,"Confirmed",$C$5:$C$154,"<"&$D91,$D$5:$D$154,">"&$C91)-1) | N91: =IF($A91="","",IF(COUNTIF($A$5:$A$154,$A91)>1,"Check booking ID",IF($H91<>"Confirmed","No confirmed assignment",IF(OR($C91="",$D91=""),"Check dates",IF($D91<=$C91,"Check dates",IF($I91="","Needs kennel",IFERROR(IF(VLOOKUP($I91,Kennels!$A$5:$E$104,5,FALSE)<>"Available","Check kennel status",IF($L91<>"Fits","Check compatibility",IF($M91>0,"Conflict: overlap","Ready"))),"Check kennel ID"))))))) | R91: =Kennels!$A$91
J92: =IF(OR($C92="",$D92="",$D92<=$C92),"",$D92-$C92) | K92: =IF($I92="","",IFERROR(VLOOKUP($I92,Kennels!$A$5:$E$104,2,FALSE),"Not found")) | L92: =IF(OR($H92<>"Confirmed",$I92="",$E92="",$F92="",$G92=""),"",IFERROR(IF(AND($E92<=VLOOKUP($I92,Kennels!$A$5:$E$104,4,FALSE),$F92<=VLOOKUP($I92,Kennels!$A$5:$E$104,3,FALSE),$G92=VLOOKUP($I92,Kennels!$A$5:$E$104,2,FALSE)),"Fits","Check fit"),"Check kennel ID")) | M92: =IF(OR($H92<>"Confirmed",$I92="",$C92="",$D92="",$D92<=$C92),"",COUNTIFS($I$5:$I$154,$I92,$H$5:$H$154,"Confirmed",$C$5:$C$154,"<"&$D92,$D$5:$D$154,">"&$C92)-1) | N92: =IF($A92="","",IF(COUNTIF($A$5:$A$154,$A92)>1,"Check booking ID",IF($H92<>"Confirmed","No confirmed assignment",IF(OR($C92="",$D92=""),"Check dates",IF($D92<=$C92,"Check dates",IF($I92="","Needs kennel",IFERROR(IF(VLOOKUP($I92,Kennels!$A$5:$E$104,5,FALSE)<>"Available","Check kennel status",IF($L92<>"Fits","Check compatibility",IF($M92>0,"Conflict: overlap","Ready"))),"Check kennel ID"))))))) | R92: =Kennels!$A$92
J93: =IF(OR($C93="",$D93="",$D93<=$C93),"",$D93-$C93) | K93: =IF($I93="","",IFERROR(VLOOKUP($I93,Kennels!$A$5:$E$104,2,FALSE),"Not found")) | L93: =IF(OR($H93<>"Confirmed",$I93="",$E93="",$F93="",$G93=""),"",IFERROR(IF(AND($E93<=VLOOKUP($I93,Kennels!$A$5:$E$104,4,FALSE),$F93<=VLOOKUP($I93,Kennels!$A$5:$E$104,3,FALSE),$G93=VLOOKUP($I93,Kennels!$A$5:$E$104,2,FALSE)),"Fits","Check fit"),"Check kennel ID")) | M93: =IF(OR($H93<>"Confirmed",$I93="",$C93="",$D93="",$D93<=$C93),"",COUNTIFS($I$5:$I$154,$I93,$H$5:$H$154,"Confirmed",$C$5:$C$154,"<"&$D93,$D$5:$D$154,">"&$C93)-1) | N93: =IF($A93="","",IF(COUNTIF($A$5:$A$154,$A93)>1,"Check booking ID",IF($H93<>"Confirmed","No confirmed assignment",IF(OR($C93="",$D93=""),"Check dates",IF($D93<=$C93,"Check dates",IF($I93="","Needs kennel",IFERROR(IF(VLOOKUP($I93,Kennels!$A$5:$E$104,5,FALSE)<>"Available","Check kennel status",IF($L93<>"Fits","Check compatibility",IF($M93>0,"Conflict: overlap","Ready"))),"Check kennel ID"))))))) | R93: =Kennels!$A$93
J94: =IF(OR($C94="",$D94="",$D94<=$C94),"",$D94-$C94) | K94: =IF($I94="","",IFERROR(VLOOKUP($I94,Kennels!$A$5:$E$104,2,FALSE),"Not found")) | L94: =IF(OR($H94<>"Confirmed",$I94="",$E94="",$F94="",$G94=""),"",IFERROR(IF(AND($E94<=VLOOKUP($I94,Kennels!$A$5:$E$104,4,FALSE),$F94<=VLOOKUP($I94,Kennels!$A$5:$E$104,3,FALSE),$G94=VLOOKUP($I94,Kennels!$A$5:$E$104,2,FALSE)),"Fits","Check fit"),"Check kennel ID")) | M94: =IF(OR($H94<>"Confirmed",$I94="",$C94="",$D94="",$D94<=$C94),"",COUNTIFS($I$5:$I$154,$I94,$H$5:$H$154,"Confirmed",$C$5:$C$154,"<"&$D94,$D$5:$D$154,">"&$C94)-1) | N94: =IF($A94="","",IF(COUNTIF($A$5:$A$154,$A94)>1,"Check booking ID",IF($H94<>"Confirmed","No confirmed assignment",IF(OR($C94="",$D94=""),"Check dates",IF($D94<=$C94,"Check dates",IF($I94="","Needs kennel",IFERROR(IF(VLOOKUP($I94,Kennels!$A$5:$E$104,5,FALSE)<>"Available","Check kennel status",IF($L94<>"Fits","Check compatibility",IF($M94>0,"Conflict: overlap","Ready"))),"Check kennel ID"))))))) | R94: =Kennels!$A$94
J95: =IF(OR($C95="",$D95="",$D95<=$C95),"",$D95-$C95) | K95: =IF($I95="","",IFERROR(VLOOKUP($I95,Kennels!$A$5:$E$104,2,FALSE),"Not found")) | L95: =IF(OR($H95<>"Confirmed",$I95="",$E95="",$F95="",$G95=""),"",IFERROR(IF(AND($E95<=VLOOKUP($I95,Kennels!$A$5:$E$104,4,FALSE),$F95<=VLOOKUP($I95,Kennels!$A$5:$E$104,3,FALSE),$G95=VLOOKUP($I95,Kennels!$A$5:$E$104,2,FALSE)),"Fits","Check fit"),"Check kennel ID")) | M95: =IF(OR($H95<>"Confirmed",$I95="",$C95="",$D95="",$D95<=$C95),"",COUNTIFS($I$5:$I$154,$I95,$H$5:$H$154,"Confirmed",$C$5:$C$154,"<"&$D95,$D$5:$D$154,">"&$C95)-1) | N95: =IF($A95="","",IF(COUNTIF($A$5:$A$154,$A95)>1,"Check booking ID",IF($H95<>"Confirmed","No confirmed assignment",IF(OR($C95="",$D95=""),"Check dates",IF($D95<=$C95,"Check dates",IF($I95="","Needs kennel",IFERROR(IF(VLOOKUP($I95,Kennels!$A$5:$E$104,5,FALSE)<>"Available","Check kennel status",IF($L95<>"Fits","Check compatibility",IF($M95>0,"Conflict: overlap","Ready"))),"Check kennel ID"))))))) | R95: =Kennels!$A$95
J96: =IF(OR($C96="",$D96="",$D96<=$C96),"",$D96-$C96) | K96: =IF($I96="","",IFERROR(VLOOKUP($I96,Kennels!$A$5:$E$104,2,FALSE),"Not found")) | L96: =IF(OR($H96<>"Confirmed",$I96="",$E96="",$F96="",$G96=""),"",IFERROR(IF(AND($E96<=VLOOKUP($I96,Kennels!$A$5:$E$104,4,FALSE),$F96<=VLOOKUP($I96,Kennels!$A$5:$E$104,3,FALSE),$G96=VLOOKUP($I96,Kennels!$A$5:$E$104,2,FALSE)),"Fits","Check fit"),"Check kennel ID")) | M96: =IF(OR($H96<>"Confirmed",$I96="",$C96="",$D96="",$D96<=$C96),"",COUNTIFS($I$5:$I$154,$I96,$H$5:$H$154,"Confirmed",$C$5:$C$154,"<"&$D96,$D$5:$D$154,">"&$C96)-1) | N96: =IF($A96="","",IF(COUNTIF($A$5:$A$154,$A96)>1,"Check booking ID",IF($H96<>"Confirmed","No confirmed assignment",IF(OR($C96="",$D96=""),"Check dates",IF($D96<=$C96,"Check dates",IF($I96="","Needs kennel",IFERROR(IF(VLOOKUP($I96,Kennels!$A$5:$E$104,5,FALSE)<>"Available","Check kennel status",IF($L96<>"Fits","Check compatibility",IF($M96>0,"Conflict: overlap","Ready"))),"Check kennel ID"))))))) | R96: =Kennels!$A$96
J97: =IF(OR($C97="",$D97="",$D97<=$C97),"",$D97-$C97) | K97: =IF($I97="","",IFERROR(VLOOKUP($I97,Kennels!$A$5:$E$104,2,FALSE),"Not found")) | L97: =IF(OR($H97<>"Confirmed",$I97="",$E97="",$F97="",$G97=""),"",IFERROR(IF(AND($E97<=VLOOKUP($I97,Kennels!$A$5:$E$104,4,FALSE),$F97<=VLOOKUP($I97,Kennels!$A$5:$E$104,3,FALSE),$G97=VLOOKUP($I97,Kennels!$A$5:$E$104,2,FALSE)),"Fits","Check fit"),"Check kennel ID")) | M97: =IF(OR($H97<>"Confirmed",$I97="",$C97="",$D97="",$D97<=$C97),"",COUNTIFS($I$5:$I$154,$I97,$H$5:$H$154,"Confirmed",$C$5:$C$154,"<"&$D97,$D$5:$D$154,">"&$C97)-1) | N97: =IF($A97="","",IF(COUNTIF($A$5:$A$154,$A97)>1,"Check booking ID",IF($H97<>"Confirmed","No confirmed assignment",IF(OR($C97="",$D97=""),"Check dates",IF($D97<=$C97,"Check dates",IF($I97="","Needs kennel",IFERROR(IF(VLOOKUP($I97,Kennels!$A$5:$E$104,5,FALSE)<>"Available","Check kennel status",IF($L97<>"Fits","Check compatibility",IF($M97>0,"Conflict: overlap","Ready"))),"Check kennel ID"))))))) | R97: =Kennels!$A$97
J98: =IF(OR($C98="",$D98="",$D98<=$C98),"",$D98-$C98) | K98: =IF($I98="","",IFERROR(VLOOKUP($I98,Kennels!$A$5:$E$104,2,FALSE),"Not found")) | L98: =IF(OR($H98<>"Confirmed",$I98="",$E98="",$F98="",$G98=""),"",IFERROR(IF(AND($E98<=VLOOKUP($I98,Kennels!$A$5:$E$104,4,FALSE),$F98<=VLOOKUP($I98,Kennels!$A$5:$E$104,3,FALSE),$G98=VLOOKUP($I98,Kennels!$A$5:$E$104,2,FALSE)),"Fits","Check fit"),"Check kennel ID")) | M98: =IF(OR($H98<>"Confirmed",$I98="",$C98="",$D98="",$D98<=$C98),"",COUNTIFS($I$5:$I$154,$I98,$H$5:$H$154,"Confirmed",$C$5:$C$154,"<"&$D98,$D$5:$D$154,">"&$C98)-1) | N98: =IF($A98="","",IF(COUNTIF($A$5:$A$154,$A98)>1,"Check booking ID",IF($H98<>"Confirmed","No confirmed assignment",IF(OR($C98="",$D98=""),"Check dates",IF($D98<=$C98,"Check dates",IF($I98="","Needs kennel",IFERROR(IF(VLOOKUP($I98,Kennels!$A$5:$E$104,5,FALSE)<>"Available","Check kennel status",IF($L98<>"Fits","Check compatibility",IF($M98>0,"Conflict: overlap","Ready"))),"Check kennel ID"))))))) | R98: =Kennels!$A$98
J99: =IF(OR($C99="",$D99="",$D99<=$C99),"",$D99-$C99) | K99: =IF($I99="","",IFERROR(VLOOKUP($I99,Kennels!$A$5:$E$104,2,FALSE),"Not found")) | L99: =IF(OR($H99<>"Confirmed",$I99="",$E99="",$F99="",$G99=""),"",IFERROR(IF(AND($E99<=VLOOKUP($I99,Kennels!$A$5:$E$104,4,FALSE),$F99<=VLOOKUP($I99,Kennels!$A$5:$E$104,3,FALSE),$G99=VLOOKUP($I99,Kennels!$A$5:$E$104,2,FALSE)),"Fits","Check fit"),"Check kennel ID")) | M99: =IF(OR($H99<>"Confirmed",$I99="",$C99="",$D99="",$D99<=$C99),"",COUNTIFS($I$5:$I$154,$I99,$H$5:$H$154,"Confirmed",$C$5:$C$154,"<"&$D99,$D$5:$D$154,">"&$C99)-1) | N99: =IF($A99="","",IF(COUNTIF($A$5:$A$154,$A99)>1,"Check booking ID",IF($H99<>"Confirmed","No confirmed assignment",IF(OR($C99="",$D99=""),"Check dates",IF($D99<=$C99,"Check dates",IF($I99="","Needs kennel",IFERROR(IF(VLOOKUP($I99,Kennels!$A$5:$E$104,5,FALSE)<>"Available","Check kennel status",IF($L99<>"Fits","Check compatibility",IF($M99>0,"Conflict: overlap","Ready"))),"Check kennel ID"))))))) | R99: =Kennels!$A$99
J100: =IF(OR($C100="",$D100="",$D100<=$C100),"",$D100-$C100) | K100: =IF($I100="","",IFERROR(VLOOKUP($I100,Kennels!$A$5:$E$104,2,FALSE),"Not found")) | L100: =IF(OR($H100<>"Confirmed",$I100="",$E100="",$F100="",$G100=""),"",IFERROR(IF(AND($E100<=VLOOKUP($I100,Kennels!$A$5:$E$104,4,FALSE),$F100<=VLOOKUP($I100,Kennels!$A$5:$E$104,3,FALSE),$G100=VLOOKUP($I100,Kennels!$A$5:$E$104,2,FALSE)),"Fits","Check fit"),"Check kennel ID")) | M100: =IF(OR($H100<>"Confirmed",$I100="",$C100="",$D100="",$D100<=$C100),"",COUNTIFS($I$5:$I$154,$I100,$H$5:$H$154,"Confirmed",$C$5:$C$154,"<"&$D100,$D$5:$D$154,">"&$C100)-1) | N100: =IF($A100="","",IF(COUNTIF($A$5:$A$154,$A100)>1,"Check booking ID",IF($H100<>"Confirmed","No confirmed assignment",IF(OR($C100="",$D100=""),"Check dates",IF($D100<=$C100,"Check dates",IF($I100="","Needs kennel",IFERROR(IF(VLOOKUP($I100,Kennels!$A$5:$E$104,5,FALSE)<>"Available","Check kennel status",IF($L100<>"Fits","Check compatibility",IF($M100>0,"Conflict: overlap","Ready"))),"Check kennel ID"))))))) | R100: =Kennels!$A$100
J101: =IF(OR($C101="",$D101="",$D101<=$C101),"",$D101-$C101) | K101: =IF($I101="","",IFERROR(VLOOKUP($I101,Kennels!$A$5:$E$104,2,FALSE),"Not found")) | L101: =IF(OR($H101<>"Confirmed",$I101="",$E101="",$F101="",$G101=""),"",IFERROR(IF(AND($E101<=VLOOKUP($I101,Kennels!$A$5:$E$104,4,FALSE),$F101<=VLOOKUP($I101,Kennels!$A$5:$E$104,3,FALSE),$G101=VLOOKUP($I101,Kennels!$A$5:$E$104,2,FALSE)),"Fits","Check fit"),"Check kennel ID")) | M101: =IF(OR($H101<>"Confirmed",$I101="",$C101="",$D101="",$D101<=$C101),"",COUNTIFS($I$5:$I$154,$I101,$H$5:$H$154,"Confirmed",$C$5:$C$154,"<"&$D101,$D$5:$D$154,">"&$C101)-1) | N101: =IF($A101="","",IF(COUNTIF($A$5:$A$154,$A101)>1,"Check booking ID",IF($H101<>"Confirmed","No confirmed assignment",IF(OR($C101="",$D101=""),"Check dates",IF($D101<=$C101,"Check dates",IF($I101="","Needs kennel",IFERROR(IF(VLOOKUP($I101,Kennels!$A$5:$E$104,5,FALSE)<>"Available","Check kennel status",IF($L101<>"Fits","Check compatibility",IF($M101>0,"Conflict: overlap","Ready"))),"Check kennel ID"))))))) | R101: =Kennels!$A$101
J102: =IF(OR($C102="",$D102="",$D102<=$C102),"",$D102-$C102) | K102: =IF($I102="","",IFERROR(VLOOKUP($I102,Kennels!$A$5:$E$104,2,FALSE),"Not found")) | L102: =IF(OR($H102<>"Confirmed",$I102="",$E102="",$F102="",$G102=""),"",IFERROR(IF(AND($E102<=VLOOKUP($I102,Kennels!$A$5:$E$104,4,FALSE),$F102<=VLOOKUP($I102,Kennels!$A$5:$E$104,3,FALSE),$G102=VLOOKUP($I102,Kennels!$A$5:$E$104,2,FALSE)),"Fits","Check fit"),"Check kennel ID")) | M102: =IF(OR($H102<>"Confirmed",$I102="",$C102="",$D102="",$D102<=$C102),"",COUNTIFS($I$5:$I$154,$I102,$H$5:$H$154,"Confirmed",$C$5:$C$154,"<"&$D102,$D$5:$D$154,">"&$C102)-1) | N102: =IF($A102="","",IF(COUNTIF($A$5:$A$154,$A102)>1,"Check booking ID",IF($H102<>"Confirmed","No confirmed assignment",IF(OR($C102="",$D102=""),"Check dates",IF($D102<=$C102,"Check dates",IF($I102="","Needs kennel",IFERROR(IF(VLOOKUP($I102,Kennels!$A$5:$E$104,5,FALSE)<>"Available","Check kennel status",IF($L102<>"Fits","Check compatibility",IF($M102>0,"Conflict: overlap","Ready"))),"Check kennel ID"))))))) | R102: =Kennels!$A$102
...

Sheet Kennels
A1: Kennel Allocation Planner — Fictional Sample Kennels
A4: Kennel ID | B4: Zone | C4: Max Weight (lb) | D4: Max Dogs | E4: Status | F4: Description
A5: K-101 | B5: Standard | C5: 60 | D5: 1 | E5: Available | F5: Front standard run | H5: =Assumptions!$E$5 | I5: =Assumptions!$F$5 | J5: =Assumptions!$B$9
A6: K-102 | B6: Standard | C6: 90 | D6: 2 | E6: Available | F6: Wide standard run | H6: =Assumptions!$E$6 | I6: =Assumptions!$F$6 | J6: =Assumptions!$B$8
A7: K-103 | B7: Quiet | C7: 45 | D7: 1 | E7: Available | F7: Quiet wing near office | H7: =Assumptions!$E$7 | I7: =Assumptions!$F$7
A8: K-104 | B8: Quiet | C8: 80 | D8: 2 | E8: Available | F8: Wide quiet-wing run
A9: K-105 | B9: Family | C9: 120 | D9: 3 | E9: Available | F9: Large family enclosure
A10: K-106 | B10: Standard | C10: 35 | D10: 1 | E10: Hold | F10: Human review before use
A11: K-107 | B11: Family | C11: 80 | D11: 2 | E11: Available | F11: Small family enclosure
A12: K-108 | B12: Standard | C12: 110 | D12: 2 | E12: Available | F12: Extra-wide standard run
A13: K-109 | B13: Quiet | C13: 25 | D13: 1 | E13: Out of Service | F13: Not currently assignable
A14: K-110 | B14: Standard | C14: 55 | D14: 1 | E14: Available | F14: Rear standard run

Sheet Assumptions
A1: Kennel Allocation Planner — Fictional Sample Assumptions
A4: Setting | B4: Value | C4: Purpose | E4: Zone Choices | F4: Kennel Status Choices | G4: Booking Status Choices
A5: Planning date | B5: 46277 | C5: Drives the active-stay indicators on Summary. | E5: Standard | F5: Available | G5: Confirmed
A6: Earliest booking date | B6: 45909 | C6: Lower date limit for allocation entries. | E6: Quiet | F6: Hold | G6: Tentative
A7: Latest booking date | B7: 47004 | C7: Upper date limit for allocation entries. | E7: Family | F7: Out of Service | G7: Canceled
A8: Maximum dogs in one booking | B8: 4 | C8: Upper entry limit for a boarding party.
A9: Maximum entered dog weight (lb) | B9: 250 | C9: Upper entry limit for the largest dog.
