Workbook

Sheet Summary
A1: Multi-Pet Household Roster Summary
A2: Indicators are calculated from the Household and Pet rosters. All displayed sample data is fictional.
A4: Roster Indicator | B4: Value | D4: Human Check Indicator | E4: Count
A5: Households listed | B5: =COUNTIF(Households!$A$5:$A$104,"<>") | D5: Household record checks | E5: =COUNTIFS(Households!$A$5:$A$104,"<>",Households!$M$5:$M$104,"<>Ready")
A6: Active households | B6: =COUNTIF(Households!$H$5:$H$104,"Active") | D6: Active pets needing assignment | E6: =COUNTIFS(Pets!$A$5:$A$154,"<>",Pets!$K$5:$K$154,"Active",Pets!$J$5:$J$154,"")+COUNTIFS(Pets!$A$5:$A$154,"<>",Pets!$K$5:$K$154,"Active",Pets!$J$5:$J$154,"Unassigned")
A7: Pets listed | B7: =COUNTIF(Pets!$A$5:$A$154,"<>") | D7: Active pets missing feeding details | E7: =COUNTIFS(Pets!$A$5:$A$154,"<>",Pets!$K$5:$K$154,"Active",Pets!$G$5:$G$154,"")
A8: Active pets | B8: =COUNTIF(Pets!$K$5:$K$154,"Active") | D8: Active pets missing pickup details | E8: =COUNTIFS(Pets!$A$5:$A$154,"<>",Pets!$K$5:$K$154,"Active",Pets!$H$5:$H$154,"")+COUNTIFS(Pets!$A$5:$A$154,"<>",Pets!$K$5:$K$154,"Active",Pets!$H$5:$H$154,"<>",Pets!$I$5:$I$154,"")
A9: Active pets per active household | B9: =IFERROR(B8/B6,"") | D9: Pet roster checks | E9: =COUNTIFS(Pets!$A$5:$A$154,"<>",Pets!$P$5:$P$154,"<>Ready")
D10: Profile review alerts | E10: =COUNTIFS(Households!$A$5:$A$104,"<>",Households!$L$5:$L$104,"<>Current",Households!$L$5:$L$104,"<>Not scheduled")+COUNTIFS(Pets!$A$5:$A$154,"<>",Pets!$O$5:$O$154,"<>Current",Pets!$O$5:$O$154,"<>Not scheduled")
A14: Default Service | B14: Active Pets
A15: =Assumptions!G10 | B15: =IF(A15="","",COUNTIFS(Pets!$F$5:$F$154,A15,Pets!$K$5:$K$154,"Active"))
A16: =Assumptions!G11 | B16: =IF(A16="","",COUNTIFS(Pets!$F$5:$F$154,A16,Pets!$K$5:$K$154,"Active"))
A17: =Assumptions!G12 | B17: =IF(A17="","",COUNTIFS(Pets!$F$5:$F$154,A17,Pets!$K$5:$K$154,"Active"))
A18: =Assumptions!G13 | B18: =IF(A18="","",COUNTIFS(Pets!$F$5:$F$154,A18,Pets!$K$5:$K$154,"Active"))
A19: =Assumptions!G14 | B19: =IF(A19="","",COUNTIFS(Pets!$F$5:$F$154,A19,Pets!$K$5:$K$154,"Active"))
A20: =Assumptions!G15 | B20: =IF(A20="","",COUNTIFS(Pets!$F$5:$F$154,A20,Pets!$K$5:$K$154,"Active"))

Sheet Households
A1: Household Roster
A2: Yellow cells are editable. All sample households, contacts, addresses, and contact details are fictional.
A4: Household ID | B4: Household Name | C4: Primary Contact | D4: Phone | E4: Email | F4: Default Pickup Type | G4: Pickup Address or Instructions | H4: Account Status | I4: Profile Reviewed Date | J4: Active Pet Count | K4: Listed Pet Count | L4: Review Alert | M4: Record Check
A5: H-001 | B5: Northstar Sample Household | C5: Avery Sample | D5: 202-555-0101 | E5: avery.sample@example.com | F5: Household pickup | G5: Fictional: 101 Example Lane; front desk handoff. | H5: Active | I5: 46254 | J5: =IF(A5="","",COUNTIFS(Pets!$B$5:$B$154,A5,Pets!$K$5:$K$154,"Active")) | K5: =IF(A5="","",COUNTIF(Pets!$B$5:$B$154,A5)) | L5: =IF(A5="","",IF(H5="Archived","Not scheduled",IF(OR(Assumptions!$B$5="",NOT(ISNUMBER(Assumptions!$B$5))),"Check review setting",IF(I5="","Check review date",IF(I5>TODAY(),"Check future date",IF(TODAY()-I5>Assumptions!$B$5,"Review profile","Current")))))) | M5: =IF(A5="","",IF(COUNTIF($A$5:$A$104,A5)>1,"Check duplicate Household ID",IF(OR(B5="",C5="",F5="",H5=""),"Check required fields","Ready")))
A6: H-002 | B6: Bluebird Sample Household | C6: Morgan Sample | D6: 202-555-0102 | E6: morgan.sample@example.com | F6: Business transport | G6: Fictional: 202 Sample Street; confirm transport window. | H6: Active | I6: 46094 | J6: =IF(A6="","",COUNTIFS(Pets!$B$5:$B$154,A6,Pets!$K$5:$K$154,"Active")) | K6: =IF(A6="","",COUNTIF(Pets!$B$5:$B$154,A6)) | L6: =IF(A6="","",IF(H6="Archived","Not scheduled",IF(OR(Assumptions!$B$5="",NOT(ISNUMBER(Assumptions!$B$5))),"Check review setting",IF(I6="","Check review date",IF(I6>TODAY(),"Check future date",IF(TODAY()-I6>Assumptions!$B$5,"Review profile","Current")))))) | M6: =IF(A6="","",IF(COUNTIF($A$5:$A$104,A6)>1,"Check duplicate Household ID",IF(OR(B6="",C6="",F6="",H6=""),"Check required fields","Ready")))
A7: H-003 | B7: Cedar Kite Sample Household | C7: Casey Sample | D7: 202-555-0103 | E7: casey.sample@example.com | F7: Confirm each visit | G7: Fictional: 303 Placeholder Avenue; use listed contact. | H7: Active | I7: 46093 | J7: =IF(A7="","",COUNTIFS(Pets!$B$5:$B$154,A7,Pets!$K$5:$K$154,"Active")) | K7: =IF(A7="","",COUNTIF(Pets!$B$5:$B$154,A7)) | L7: =IF(A7="","",IF(H7="Archived","Not scheduled",IF(OR(Assumptions!$B$5="",NOT(ISNUMBER(Assumptions!$B$5))),"Check review setting",IF(I7="","Check review date",IF(I7>TODAY(),"Check future date",IF(TODAY()-I7>Assumptions!$B$5,"Review profile","Current")))))) | M7: =IF(A7="","",IF(COUNTIF($A$5:$A$104,A7)>1,"Check duplicate Household ID",IF(OR(B7="",C7="",F7="",H7=""),"Check required fields","Ready")))
A8: H-004 | B8: Lantern Sample Household | C8: Riley Sample | D8: 202-555-0104 | E8: riley.sample@example.com | F8: No transport | G8: Fictional: 404 Demo Drive; household service only. | H8: Paused | I8: 46184 | J8: =IF(A8="","",COUNTIFS(Pets!$B$5:$B$154,A8,Pets!$K$5:$K$154,"Active")) | K8: =IF(A8="","",COUNTIF(Pets!$B$5:$B$154,A8)) | L8: =IF(A8="","",IF(H8="Archived","Not scheduled",IF(OR(Assumptions!$B$5="",NOT(ISNUMBER(Assumptions!$B$5))),"Check review setting",IF(I8="","Check review date",IF(I8>TODAY(),"Check future date",IF(TODAY()-I8>Assumptions!$B$5,"Review profile","Current")))))) | M8: =IF(A8="","",IF(COUNTIF($A$5:$A$104,A8)>1,"Check duplicate Household ID",IF(OR(B8="",C8="",F8="",H8=""),"Check required fields","Ready")))
A9: H-005 | B9: Paper Moon Sample Household | C9: Jamie Sample | D9: 202-555-0105 | E9: jamie.sample@example.com | F9: Household pickup | G9: Fictional: 505 Example Court; call at arrival. | H9: Active | I9: 46259 | J9: =IF(A9="","",COUNTIFS(Pets!$B$5:$B$154,A9,Pets!$K$5:$K$154,"Active")) | K9: =IF(A9="","",COUNTIF(Pets!$B$5:$B$154,A9)) | L9: =IF(A9="","",IF(H9="Archived","Not scheduled",IF(OR(Assumptions!$B$5="",NOT(ISNUMBER(Assumptions!$B$5))),"Check review setting",IF(I9="","Check review date",IF(I9>TODAY(),"Check future date",IF(TODAY()-I9>Assumptions!$B$5,"Review profile","Current")))))) | M9: =IF(A9="","",IF(COUNTIF($A$5:$A$104,A9)>1,"Check duplicate Household ID",IF(OR(B9="",C9="",F9="",H9=""),"Check required fields","Ready")))
A10: H-006 | B10: Copper Cloud Sample Household | C10: Skyler Sample | D10: 202-555-0106 | E10: skyler.sample@example.com | F10: Business transport | G10: Fictional: 606 Sample Road; side entrance. | H10: Active | I10: 46229 | J10: =IF(A10="","",COUNTIFS(Pets!$B$5:$B$154,A10,Pets!$K$5:$K$154,"Active")) | K10: =IF(A10="","",COUNTIF(Pets!$B$5:$B$154,A10)) | L10: =IF(A10="","",IF(H10="Archived","Not scheduled",IF(OR(Assumptions!$B$5="",NOT(ISNUMBER(Assumptions!$B$5))),"Check review setting",IF(I10="","Check review date",IF(I10>TODAY(),"Check future date",IF(TODAY()-I10>Assumptions!$B$5,"Review profile","Current")))))) | M10: =IF(A10="","",IF(COUNTIF($A$5:$A$104,A10)>1,"Check duplicate Household ID",IF(OR(B10="",C10="",F10="",H10=""),"Check required fields","Ready")))
A11: H-007 | B11: Juniper Trail Sample Household | C11: Dakota Sample | D11: 202-555-0107 | E11: dakota.sample@example.com | F11: Confirm each visit | G11: Fictional: 707 Placeholder Place; confirm handoff. | H11: Active | I11: 46274 | J11: =IF(A11="","",COUNTIFS(Pets!$B$5:$B$154,A11,Pets!$K$5:$K$154,"Active")) | K11: =IF(A11="","",COUNTIF(Pets!$B$5:$B$154,A11)) | L11: =IF(A11="","",IF(H11="Archived","Not scheduled",IF(OR(Assumptions!$B$5="",NOT(ISNUMBER(Assumptions!$B$5))),"Check review setting",IF(I11="","Check review date",IF(I11>TODAY(),"Check future date",IF(TODAY()-I11>Assumptions!$B$5,"Review profile","Current")))))) | M11: =IF(A11="","",IF(COUNTIF($A$5:$A$104,A11)>1,"Check duplicate Household ID",IF(OR(B11="",C11="",F11="",H11=""),"Check required fields","Ready")))
A12: H-008 | B12: Silver Acorn Sample Household | C12: Parker Sample | D12: 202-555-0108 | E12: parker.sample@example.com | F12: No transport | G12: Fictional: 808 Demo Way; no pickup requested. | H12: Archived | I12: 46034 | J12: =IF(A12="","",COUNTIFS(Pets!$B$5:$B$154,A12,Pets!$K$5:$K$154,"Active")) | K12: =IF(A12="","",COUNTIF(Pets!$B$5:$B$154,A12)) | L12: =IF(A12="","",IF(H12="Archived","Not scheduled",IF(OR(Assumptions!$B$5="",NOT(ISNUMBER(Assumptions!$B$5))),"Check review setting",IF(I12="","Check review date",IF(I12>TODAY(),"Check future date",IF(TODAY()-I12>Assumptions!$B$5,"Review profile","Current")))))) | M12: =IF(A12="","",IF(COUNTIF($A$5:$A$104,A12)>1,"Check duplicate Household ID",IF(OR(B12="",C12="",F12="",H12=""),"Check required fields","Ready")))
A13: H-009 | B13: Harbor Star Sample Household | C13: Cameron Sample | D13: 202-555-0109 | E13: cameron.sample@example.com | F13: Household pickup | G13: Fictional: 909 Example Boulevard; lobby handoff. | H13: Active | J13: =IF(A13="","",COUNTIFS(Pets!$B$5:$B$154,A13,Pets!$K$5:$K$154,"Active")) | K13: =IF(A13="","",COUNTIF(Pets!$B$5:$B$154,A13)) | L13: =IF(A13="","",IF(H13="Archived","Not scheduled",IF(OR(Assumptions!$B$5="",NOT(ISNUMBER(Assumptions!$B$5))),"Check review setting",IF(I13="","Check review date",IF(I13>TODAY(),"Check future date",IF(TODAY()-I13>Assumptions!$B$5,"Review profile","Current")))))) | M13: =IF(A13="","",IF(COUNTIF($A$5:$A$104,A13)>1,"Check duplicate Household ID",IF(OR(B13="",C13="",F13="",H13=""),"Check required fields","Ready")))
A14: H-010 | B14: Meadow Rocket Sample Household | C14: Reese Sample | D14: 202-555-0110 | E14: reese.sample@example.com | F14: Business transport | G14: Fictional: 110 Sample Circle; confirm return window. | H14: Active | I14: 46154 | J14: =IF(A14="","",COUNTIFS(Pets!$B$5:$B$154,A14,Pets!$K$5:$K$154,"Active")) | K14: =IF(A14="","",COUNTIF(Pets!$B$5:$B$154,A14)) | L14: =IF(A14="","",IF(H14="Archived","Not scheduled",IF(OR(Assumptions!$B$5="",NOT(ISNUMBER(Assumptions!$B$5))),"Check review setting",IF(I14="","Check review date",IF(I14>TODAY(),"Check future date",IF(TODAY()-I14>Assumptions!$B$5,"Review profile","Current")))))) | M14: =IF(A14="","",IF(COUNTIF($A$5:$A$104,A14)>1,"Check duplicate Household ID",IF(OR(B14="",C14="",F14="",H14=""),"Check required fields","Ready")))
J15: =IF(A15="","",COUNTIFS(Pets!$B$5:$B$154,A15,Pets!$K$5:$K$154,"Active")) | K15: =IF(A15="","",COUNTIF(Pets!$B$5:$B$154,A15)) | L15: =IF(A15="","",IF(H15="Archived","Not scheduled",IF(OR(Assumptions!$B$5="",NOT(ISNUMBER(Assumptions!$B$5))),"Check review setting",IF(I15="","Check review date",IF(I15>TODAY(),"Check future date",IF(TODAY()-I15>Assumptions!$B$5,"Review profile","Current")))))) | M15: =IF(A15="","",IF(COUNTIF($A$5:$A$104,A15)>1,"Check duplicate Household ID",IF(OR(B15="",C15="",F15="",H15=""),"Check required fields","Ready")))
J16: =IF(A16="","",COUNTIFS(Pets!$B$5:$B$154,A16,Pets!$K$5:$K$154,"Active")) | K16: =IF(A16="","",COUNTIF(Pets!$B$5:$B$154,A16)) | L16: =IF(A16="","",IF(H16="Archived","Not scheduled",IF(OR(Assumptions!$B$5="",NOT(ISNUMBER(Assumptions!$B$5))),"Check review setting",IF(I16="","Check review date",IF(I16>TODAY(),"Check future date",IF(TODAY()-I16>Assumptions!$B$5,"Review profile","Current")))))) | M16: =IF(A16="","",IF(COUNTIF($A$5:$A$104,A16)>1,"Check duplicate Household ID",IF(OR(B16="",C16="",F16="",H16=""),"Check required fields","Ready")))
J17: =IF(A17="","",COUNTIFS(Pets!$B$5:$B$154,A17,Pets!$K$5:$K$154,"Active")) | K17: =IF(A17="","",COUNTIF(Pets!$B$5:$B$154,A17)) | L17: =IF(A17="","",IF(H17="Archived","Not scheduled",IF(OR(Assumptions!$B$5="",NOT(ISNUMBER(Assumptions!$B$5))),"Check review setting",IF(I17="","Check review date",IF(I17>TODAY(),"Check future date",IF(TODAY()-I17>Assumptions!$B$5,"Review profile","Current")))))) | M17: =IF(A17="","",IF(COUNTIF($A$5:$A$104,A17)>1,"Check duplicate Household ID",IF(OR(B17="",C17="",F17="",H17=""),"Check required fields","Ready")))
J18: =IF(A18="","",COUNTIFS(Pets!$B$5:$B$154,A18,Pets!$K$5:$K$154,"Active")) | K18: =IF(A18="","",COUNTIF(Pets!$B$5:$B$154,A18)) | L18: =IF(A18="","",IF(H18="Archived","Not scheduled",IF(OR(Assumptions!$B$5="",NOT(ISNUMBER(Assumptions!$B$5))),"Check review setting",IF(I18="","Check review date",IF(I18>TODAY(),"Check future date",IF(TODAY()-I18>Assumptions!$B$5,"Review profile","Current")))))) | M18: =IF(A18="","",IF(COUNTIF($A$5:$A$104,A18)>1,"Check duplicate Household ID",IF(OR(B18="",C18="",F18="",H18=""),"Check required fields","Ready")))
J19: =IF(A19="","",COUNTIFS(Pets!$B$5:$B$154,A19,Pets!$K$5:$K$154,"Active")) | K19: =IF(A19="","",COUNTIF(Pets!$B$5:$B$154,A19)) | L19: =IF(A19="","",IF(H19="Archived","Not scheduled",IF(OR(Assumptions!$B$5="",NOT(ISNUMBER(Assumptions!$B$5))),"Check review setting",IF(I19="","Check review date",IF(I19>TODAY(),"Check future date",IF(TODAY()-I19>Assumptions!$B$5,"Review profile","Current")))))) | M19: =IF(A19="","",IF(COUNTIF($A$5:$A$104,A19)>1,"Check duplicate Household ID",IF(OR(B19="",C19="",F19="",H19=""),"Check required fields","Ready")))
J20: =IF(A20="","",COUNTIFS(Pets!$B$5:$B$154,A20,Pets!$K$5:$K$154,"Active")) | K20: =IF(A20="","",COUNTIF(Pets!$B$5:$B$154,A20)) | L20: =IF(A20="","",IF(H20="Archived","Not scheduled",IF(OR(Assumptions!$B$5="",NOT(ISNUMBER(Assumptions!$B$5))),"Check review setting",IF(I20="","Check review date",IF(I20>TODAY(),"Check future date",IF(TODAY()-I20>Assumptions!$B$5,"Review profile","Current")))))) | M20: =IF(A20="","",IF(COUNTIF($A$5:$A$104,A20)>1,"Check duplicate Household ID",IF(OR(B20="",C20="",F20="",H20=""),"Check required fields","Ready")))
J21: =IF(A21="","",COUNTIFS(Pets!$B$5:$B$154,A21,Pets!$K$5:$K$154,"Active")) | K21: =IF(A21="","",COUNTIF(Pets!$B$5:$B$154,A21)) | L21: =IF(A21="","",IF(H21="Archived","Not scheduled",IF(OR(Assumptions!$B$5="",NOT(ISNUMBER(Assumptions!$B$5))),"Check review setting",IF(I21="","Check review date",IF(I21>TODAY(),"Check future date",IF(TODAY()-I21>Assumptions!$B$5,"Review profile","Current")))))) | M21: =IF(A21="","",IF(COUNTIF($A$5:$A$104,A21)>1,"Check duplicate Household ID",IF(OR(B21="",C21="",F21="",H21=""),"Check required fields","Ready")))
J22: =IF(A22="","",COUNTIFS(Pets!$B$5:$B$154,A22,Pets!$K$5:$K$154,"Active")) | K22: =IF(A22="","",COUNTIF(Pets!$B$5:$B$154,A22)) | L22: =IF(A22="","",IF(H22="Archived","Not scheduled",IF(OR(Assumptions!$B$5="",NOT(ISNUMBER(Assumptions!$B$5))),"Check review setting",IF(I22="","Check review date",IF(I22>TODAY(),"Check future date",IF(TODAY()-I22>Assumptions!$B$5,"Review profile","Current")))))) | M22: =IF(A22="","",IF(COUNTIF($A$5:$A$104,A22)>1,"Check duplicate Household ID",IF(OR(B22="",C22="",F22="",H22=""),"Check required fields","Ready")))
J23: =IF(A23="","",COUNTIFS(Pets!$B$5:$B$154,A23,Pets!$K$5:$K$154,"Active")) | K23: =IF(A23="","",COUNTIF(Pets!$B$5:$B$154,A23)) | L23: =IF(A23="","",IF(H23="Archived","Not scheduled",IF(OR(Assumptions!$B$5="",NOT(ISNUMBER(Assumptions!$B$5))),"Check review setting",IF(I23="","Check review date",IF(I23>TODAY(),"Check future date",IF(TODAY()-I23>Assumptions!$B$5,"Review profile","Current")))))) | M23: =IF(A23="","",IF(COUNTIF($A$5:$A$104,A23)>1,"Check duplicate Household ID",IF(OR(B23="",C23="",F23="",H23=""),"Check required fields","Ready")))
J24: =IF(A24="","",COUNTIFS(Pets!$B$5:$B$154,A24,Pets!$K$5:$K$154,"Active")) | K24: =IF(A24="","",COUNTIF(Pets!$B$5:$B$154,A24)) | L24: =IF(A24="","",IF(H24="Archived","Not scheduled",IF(OR(Assumptions!$B$5="",NOT(ISNUMBER(Assumptions!$B$5))),"Check review setting",IF(I24="","Check review date",IF(I24>TODAY(),"Check future date",IF(TODAY()-I24>Assumptions!$B$5,"Review profile","Current")))))) | M24: =IF(A24="","",IF(COUNTIF($A$5:$A$104,A24)>1,"Check duplicate Household ID",IF(OR(B24="",C24="",F24="",H24=""),"Check required fields","Ready")))
J25: =IF(A25="","",COUNTIFS(Pets!$B$5:$B$154,A25,Pets!$K$5:$K$154,"Active")) | K25: =IF(A25="","",COUNTIF(Pets!$B$5:$B$154,A25)) | L25: =IF(A25="","",IF(H25="Archived","Not scheduled",IF(OR(Assumptions!$B$5="",NOT(ISNUMBER(Assumptions!$B$5))),"Check review setting",IF(I25="","Check review date",IF(I25>TODAY(),"Check future date",IF(TODAY()-I25>Assumptions!$B$5,"Review profile","Current")))))) | M25: =IF(A25="","",IF(COUNTIF($A$5:$A$104,A25)>1,"Check duplicate Household ID",IF(OR(B25="",C25="",F25="",H25=""),"Check required fields","Ready")))
J26: =IF(A26="","",COUNTIFS(Pets!$B$5:$B$154,A26,Pets!$K$5:$K$154,"Active")) | K26: =IF(A26="","",COUNTIF(Pets!$B$5:$B$154,A26)) | L26: =IF(A26="","",IF(H26="Archived","Not scheduled",IF(OR(Assumptions!$B$5="",NOT(ISNUMBER(Assumptions!$B$5))),"Check review setting",IF(I26="","Check review date",IF(I26>TODAY(),"Check future date",IF(TODAY()-I26>Assumptions!$B$5,"Review profile","Current")))))) | M26: =IF(A26="","",IF(COUNTIF($A$5:$A$104,A26)>1,"Check duplicate Household ID",IF(OR(B26="",C26="",F26="",H26=""),"Check required fields","Ready")))
... J104: =IF(A104="","",COUNTIFS(Pets!$B$5:$B$154,A104,Pets!$K$5:$K$154,"Active")) | K104: =IF(A104="","",COUNTIF(Pets!$B$5:$B$154,A104)) | L104: =IF(A104="","",IF(H104="Archived","Not scheduled",IF(OR(Assumptions!$B$5="",NOT(ISNUMBER(Assumptions!$B$5))),"Check review setting",IF(I104="","Check review date",IF(I104>TODAY(),"Check future date",IF(TODAY()-I104>Assumptions!$B$5,"Review profile","Current")))))) | M104: =IF(A104="","",IF(COUNTIF($A$5:$A$104,A104)>1,"Check duplicate Household ID",IF(OR(B104="",C104="",F104="",H104=""),"Check required fields","Ready")))

Sheet Pets
A1: Pet Roster
A2: Each pet keeps a separate service, feeding, pickup, assignment, and review record. All examples are fictional.
A4: Pet ID | B4: Household ID | C4: Pet Name | D4: Species | E4: Weight (lb) | F4: Default Service | G4: Feeding Requirement | H4: Pickup Type | I4: Pickup Requirement | J4: Assigned Staff | K4: Roster Status | L4: Profile Reviewed Date | M4: Household Name | N4: Primary Contact | O4: Review Alert | P4: Readiness Check
A5: P-001 | B5: H-001 | C5: Pixel Sample | D5: Dog | E5: 42 | F5: Bath & brush | G5: No feeding during service. | H5: Household pickup | I5: Use the household's front desk handoff. | J5: Alex Sample | K5: Active | L5: 46254 | M5: =IF(A5="","",IF(B5="","",IFERROR(VLOOKUP(B5,Households!$A$5:$C$104,2,FALSE),"Household not found"))) | N5: =IF(A5="","",IF(B5="","",IFERROR(VLOOKUP(B5,Households!$A$5:$C$104,3,FALSE),"Contact not found"))) | O5: =IF(A5="","",IF(K5="Archived","Not scheduled",IF(OR(Assumptions!$B$5="",NOT(ISNUMBER(Assumptions!$B$5))),"Check review setting",IF(L5="","Check review date",IF(L5>TODAY(),"Check future date",IF(TODAY()-L5>Assumptions!$B$5,"Review profile","Current")))))) | P5: =IF(A5="","",IF(COUNTIF($A$5:$A$154,A5)>1,"Check duplicate Pet ID",IF(OR(B5="",C5="",D5="",F5="",H5="",K5=""),"Check required fields",IF(COUNTIF(Households!$A$5:$A$104,B5)<>1,"Check Household ID",IF(AND(K5="Active",G5=""),"Check feeding details",IF(AND(K5="Active",I5=""),"Check pickup details",IF(AND(K5="Active",OR(J5="",J5="Unassigned")),"Assign staff","Ready")))))))
A6: P-002 | B6: H-001 | C6: Comet Sample | D6: Cat | E6: 11.5 | F6: Drop-in visit | G6: Owner-provided food; use one labeled portion. | H6: No transport | I6: Service takes place at the fictional household. | J6: Devon Sample | K6: Active | L6: 46254 | M6: =IF(A6="","",IF(B6="","",IFERROR(VLOOKUP(B6,Households!$A$5:$C$104,2,FALSE),"Household not found"))) | N6: =IF(A6="","",IF(B6="","",IFERROR(VLOOKUP(B6,Households!$A$5:$C$104,3,FALSE),"Contact not found"))) | O6: =IF(A6="","",IF(K6="Archived","Not scheduled",IF(OR(Assumptions!$B$5="",NOT(ISNUMBER(Assumptions!$B$5))),"Check review setting",IF(L6="","Check review date",IF(L6>TODAY(),"Check future date",IF(TODAY()-L6>Assumptions!$B$5,"Review profile","Current")))))) | P6: =IF(A6="","",IF(COUNTIF($A$5:$A$154,A6)>1,"Check duplicate Pet ID",IF(OR(B6="",C6="",D6="",F6="",H6="",K6=""),"Check required fields",IF(COUNTIF(Households!$A$5:$A$104,B6)<>1,"Check Household ID",IF(AND(K6="Active",G6=""),"Check feeding details",IF(AND(K6="Active",I6=""),"Check pickup details",IF(AND(K6="Active",OR(J6="",J6="Unassigned")),"Assign staff","Ready")))))))
A7: P-003 | B7: H-002 | C7: Orbit Sample | D7: Dog | E7: 68 | F7: Boarding | G7: Owner-provided food; two labeled portions daily. | H7: Business transport | I7: Confirm the transport window with the listed contact. | J7: Quinn Sample | K7: Active | L7: 46094 | M7: =IF(A7="","",IF(B7="","",IFERROR(VLOOKUP(B7,Households!$A$5:$C$104,2,FALSE),"Household not found"))) | N7: =IF(A7="","",IF(B7="","",IFERROR(VLOOKUP(B7,Households!$A$5:$C$104,3,FALSE),"Contact not found"))) | O7: =IF(A7="","",IF(K7="Archived","Not scheduled",IF(OR(Assumptions!$B$5="",NOT(ISNUMBER(Assumptions!$B$5))),"Check review setting",IF(L7="","Check review date",IF(L7>TODAY(),"Check future date",IF(TODAY()-L7>Assumptions!$B$5,"Review profile","Current")))))) | P7: =IF(A7="","",IF(COUNTIF($A$5:$A$154,A7)>1,"Check duplicate Pet ID",IF(OR(B7="",C7="",D7="",F7="",H7="",K7=""),"Check required fields",IF(COUNTIF(Households!$A$5:$A$104,B7)<>1,"Check Household ID",IF(AND(K7="Active",G7=""),"Check feeding details",IF(AND(K7="Active",I7=""),"Check pickup details",IF(AND(K7="Active",OR(J7="",J7="Unassigned")),"Assign staff","Ready")))))))
A8: P-004 | B8: H-003 | C8: Poppy Sample | D8: Rabbit | E8: 6.2 | F8: Drop-in visit | G8: Owner-provided food; follow the labeled container. | H8: Confirm each visit | I8: Confirm arrival and departure with the listed contact. | J8: Taylor Sample | K8: Active | L8: 46093 | M8: =IF(A8="","",IF(B8="","",IFERROR(VLOOKUP(B8,Households!$A$5:$C$104,2,FALSE),"Household not found"))) | N8: =IF(A8="","",IF(B8="","",IFERROR(VLOOKUP(B8,Households!$A$5:$C$104,3,FALSE),"Contact not found"))) | O8: =IF(A8="","",IF(K8="Archived","Not scheduled",IF(OR(Assumptions!$B$5="",NOT(ISNUMBER(Assumptions!$B$5))),"Check review setting",IF(L8="","Check review date",IF(L8>TODAY(),"Check future date",IF(TODAY()-L8>Assumptions!$B$5,"Review profile","Current")))))) | P8: =IF(A8="","",IF(COUNTIF($A$5:$A$154,A8)>1,"Check duplicate Pet ID",IF(OR(B8="",C8="",D8="",F8="",H8="",K8=""),"Check required fields",IF(COUNTIF(Households!$A$5:$A$104,B8)<>1,"Check Household ID",IF(AND(K8="Active",G8=""),"Check feeding details",IF(AND(K8="Active",I8=""),"Check pickup details",IF(AND(K8="Active",OR(J8="",J8="Unassigned")),"Assign staff","Ready")))))))
A9: P-005 | B9: H-004 | C9: Nimbus Sample | D9: Dog | E9: 54 | F9: Dog walk | G9: No feeding during service. | H9: No transport | I9: Walk begins and ends at the fictional household. | J9: Alex Sample | K9: Paused | L9: 46184 | M9: =IF(A9="","",IF(B9="","",IFERROR(VLOOKUP(B9,Households!$A$5:$C$104,2,FALSE),"Household not found"))) | N9: =IF(A9="","",IF(B9="","",IFERROR(VLOOKUP(B9,Households!$A$5:$C$104,3,FALSE),"Contact not found"))) | O9: =IF(A9="","",IF(K9="Archived","Not scheduled",IF(OR(Assumptions!$B$5="",NOT(ISNUMBER(Assumptions!$B$5))),"Check review setting",IF(L9="","Check review date",IF(L9>TODAY(),"Check future date",IF(TODAY()-L9>Assumptions!$B$5,"Review profile","Current")))))) | P9: =IF(A9="","",IF(COUNTIF($A$5:$A$154,A9)>1,"Check duplicate Pet ID",IF(OR(B9="",C9="",D9="",F9="",H9="",K9=""),"Check required fields",IF(COUNTIF(Households!$A$5:$A$104,B9)<>1,"Check Household ID",IF(AND(K9="Active",G9=""),"Check feeding details",IF(AND(K9="Active",I9=""),"Check pickup details",IF(AND(K9="Active",OR(J9="",J9="Unassigned")),"Assign staff","Ready")))))))
A10: P-006 | B10: H-005 | C10: Marble Sample | D10: Cat | E10: 9.8 | F10: Boarding | G10: Owner-provided food; use each labeled portion. | H10: Household pickup | I10: Call the listed contact at arrival. | J10: Devon Sample | K10: Active | L10: 46259 | M10: =IF(A10="","",IF(B10="","",IFERROR(VLOOKUP(B10,Households!$A$5:$C$104,2,FALSE),"Household not found"))) | N10: =IF(A10="","",IF(B10="","",IFERROR(VLOOKUP(B10,Households!$A$5:$C$104,3,FALSE),"Contact not found"))) | O10: =IF(A10="","",IF(K10="Archived","Not scheduled",IF(OR(Assumptions!$B$5="",NOT(ISNUMBER(Assumptions!$B$5))),"Check review setting",IF(L10="","Check review date",IF(L10>TODAY(),"Check future date",IF(TODAY()-L10>Assumptions!$B$5,"Review profile","Current")))))) | P10: =IF(A10="","",IF(COUNTIF($A$5:$A$154,A10)>1,"Check duplicate Pet ID",IF(OR(B10="",C10="",D10="",F10="",H10="",K10=""),"Check required fields",IF(COUNTIF(Households!$A$5:$A$104,B10)<>1,"Check Household ID",IF(AND(K10="Active",G10=""),"Check feeding details",IF(AND(K10="Active",I10=""),"Check pickup details",IF(AND(K10="Active",OR(J10="",J10="Unassigned")),"Assign staff","Ready")))))))
A11: P-007 | B11: H-006 | C11: Rocket Sample | D11: Dog | E11: 75.5 | F11: Daycare | G11: Owner-provided midday labeled portion. | H11: Business transport | I11: Use the household's confirmed transport window. | J11: Unassigned | K11: Active | L11: 46229 | M11: =IF(A11="","",IF(B11="","",IFERROR(VLOOKUP(B11,Households!$A$5:$C$104,2,FALSE),"Household not found"))) | N11: =IF(A11="","",IF(B11="","",IFERROR(VLOOKUP(B11,Households!$A$5:$C$104,3,FALSE),"Contact not found"))) | O11: =IF(A11="","",IF(K11="Archived","Not scheduled",IF(OR(Assumptions!$B$5="",NOT(ISNUMBER(Assumptions!$B$5))),"Check review setting",IF(L11="","Check review date",IF(L11>TODAY(),"Check future date",IF(TODAY()-L11>Assumptions!$B$5,"Review profile","Current")))))) | P11: =IF(A11="","",IF(COUNTIF($A$5:$A$154,A11)>1,"Check duplicate Pet ID",IF(OR(B11="",C11="",D11="",F11="",H11="",K11=""),"Check required fields",IF(COUNTIF(Households!$A$5:$A$104,B11)<>1,"Check Household ID",IF(AND(K11="Active",G11=""),"Check feeding details",IF(AND(K11="Active",I11=""),"Check pickup details",IF(AND(K11="Active",OR(J11="",J11="Unassigned")),"Assign staff","Ready")))))))
A12: P-008 | B12: H-006 | C12: Quill Sample | D12: Bird | E12: 0.5 | F12: Drop-in visit | H12: No transport | I12: Service takes place at the fictional household. | J12: Quinn Sample | K12: Active | L12: 46229 | M12: =IF(A12="","",IF(B12="","",IFERROR(VLOOKUP(B12,Households!$A$5:$C$104,2,FALSE),"Household not found"))) | N12: =IF(A12="","",IF(B12="","",IFERROR(VLOOKUP(B12,Households!$A$5:$C$104,3,FALSE),"Contact not found"))) | O12: =IF(A12="","",IF(K12="Archived","Not scheduled",IF(OR(Assumptions!$B$5="",NOT(ISNUMBER(Assumptions!$B$5))),"Check review setting",IF(L12="","Check review date",IF(L12>TODAY(),"Check future date",IF(TODAY()-L12>Assumptions!$B$5,"Review profile","Current")))))) | P12: =IF(A12="","",IF(COUNTIF($A$5:$A$154,A12)>1,"Check duplicate Pet ID",IF(OR(B12="",C12="",D12="",F12="",H12="",K12=""),"Check required fields",IF(COUNTIF(Households!$A$5:$A$104,B12)<>1,"Check Household ID",IF(AND(K12="Active",G12=""),"Check feeding details",IF(AND(K12="Active",I12=""),"Check pickup details",IF(AND(K12="Active",OR(J12="",J12="Unassigned")),"Assign staff","Ready")))))))
A13: P-009 | B13: H-007 | C13: Tango Sample | D13: Dog | E13: 33 | F13: Full groom | G13: No feeding during service. | H13: Confirm each visit | J13: Taylor Sample | K13: Active | L13: 46274 | M13: =IF(A13="","",IF(B13="","",IFERROR(VLOOKUP(B13,Households!$A$5:$C$104,2,FALSE),"Household not found"))) | N13: =IF(A13="","",IF(B13="","",IFERROR(VLOOKUP(B13,Households!$A$5:$C$104,3,FALSE),"Contact not found"))) | O13: =IF(A13="","",IF(K13="Archived","Not scheduled",IF(OR(Assumptions!$B$5="",NOT(ISNUMBER(Assumptions!$B$5))),"Check review setting",IF(L13="","Check review date",IF(L13>TODAY(),"Check future date",IF(TODAY()-L13>Assumptions!$B$5,"Review profile","Current")))))) | P13: =IF(A13="","",IF(COUNTIF($A$5:$A$154,A13)>1,"Check duplicate Pet ID",IF(OR(B13="",C13="",D13="",F13="",H13="",K13=""),"Check required fields",IF(COUNTIF(Households!$A$5:$A$104,B13)<>1,"Check Household ID",IF(AND(K13="Active",G13=""),"Check feeding details",IF(AND(K13="Active",I13=""),"Check pickup details",IF(AND(K13="Active",OR(J13="",J13="Unassigned")),"Assign staff","Ready")))))))
A14: P-010 | B14: H-008 | C14: Fern Sample | D14: Cat | E14: 12 | F14: Drop-in visit | G14: Owner-provided food; use one labeled portion. | H14: No transport | I14: No pickup requested. | J14: Alex Sample | K14: Archived | L14: 46034 | M14: =IF(A14="","",IF(B14="","",IFERROR(VLOOKUP(B14,Households!$A$5:$C$104,2,FALSE),"Household not found"))) | N14: =IF(A14="","",IF(B14="","",IFERROR(VLOOKUP(B14,Households!$A$5:$C$104,3,FALSE),"Contact not found"))) | O14: =IF(A14="","",IF(K14="Archived","Not scheduled",IF(OR(Assumptions!$B$5="",NOT(ISNUMBER(Assumptions!$B$5))),"Check review setting",IF(L14="","Check review date",IF(L14>TODAY(),"Check future date",IF(TODAY()-L14>Assumptions!$B$5,"Review profile","Current")))))) | P14: =IF(A14="","",IF(COUNTIF($A$5:$A$154,A14)>1,"Check duplicate Pet ID",IF(OR(B14="",C14="",D14="",F14="",H14="",K14=""),"Check required fields",IF(COUNTIF(Households!$A$5:$A$104,B14)<>1,"Check Household ID",IF(AND(K14="Active",G14=""),"Check feeding details",IF(AND(K14="Active",I14=""),"Check pickup details",IF(AND(K14="Active",OR(J14="",J14="Unassigned")),"Assign staff","Ready")))))))
A15: P-011 | B15: H-009 | C15: Waffle Sample | D15: Dog | E15: 26.4 | F15: Dog walk | G15: No feeding during service. | H15: Household pickup | I15: Use the fictional lobby handoff. | J15: Devon Sample | K15: Active | M15: =IF(A15="","",IF(B15="","",IFERROR(VLOOKUP(B15,Households!$A$5:$C$104,2,FALSE),"Household not found"))) | N15: =IF(A15="","",IF(B15="","",IFERROR(VLOOKUP(B15,Households!$A$5:$C$104,3,FALSE),"Contact not found"))) | O15: =IF(A15="","",IF(K15="Archived","Not scheduled",IF(OR(Assumptions!$B$5="",NOT(ISNUMBER(Assumptions!$B$5))),"Check review setting",IF(L15="","Check review date",IF(L15>TODAY(),"Check future date",IF(TODAY()-L15>Assumptions!$B$5,"Review profile","Current")))))) | P15: =IF(A15="","",IF(COUNTIF($A$5:$A$154,A15)>1,"Check duplicate Pet ID",IF(OR(B15="",C15="",D15="",F15="",H15="",K15=""),"Check required fields",IF(COUNTIF(Households!$A$5:$A$104,B15)<>1,"Check Household ID",IF(AND(K15="Active",G15=""),"Check feeding details",IF(AND(K15="Active",I15=""),"Check pickup details",IF(AND(K15="Active",OR(J15="",J15="Unassigned")),"Assign staff","Ready")))))))
A16: P-012 | B16: H-010 | C16: Atlas Sample | D16: Dog | E16: 250 | F16: Boarding | G16: Owner-provided food; follow labeled portions. | H16: Business transport | I16: Confirm pickup and return windows with the contact. | J16: Quinn Sample | K16: Active | L16: 46154 | M16: =IF(A16="","",IF(B16="","",IFERROR(VLOOKUP(B16,Households!$A$5:$C$104,2,FALSE),"Household not found"))) | N16: =IF(A16="","",IF(B16="","",IFERROR(VLOOKUP(B16,Households!$A$5:$C$104,3,FALSE),"Contact not found"))) | O16: =IF(A16="","",IF(K16="Archived","Not scheduled",IF(OR(Assumptions!$B$5="",NOT(ISNUMBER(Assumptions!$B$5))),"Check review setting",IF(L16="","Check review date",IF(L16>TODAY(),"Check future date",IF(TODAY()-L16>Assumptions!$B$5,"Review profile","Current")))))) | P16: =IF(A16="","",IF(COUNTIF($A$5:$A$154,A16)>1,"Check duplicate Pet ID",IF(OR(B16="",C16="",D16="",F16="",H16="",K16=""),"Check required fields",IF(COUNTIF(Households!$A$5:$A$104,B16)<>1,"Check Household ID",IF(AND(K16="Active",G16=""),"Check feeding details",IF(AND(K16="Active",I16=""),"Check pickup details",IF(AND(K16="Active",OR(J16="",J16="Unassigned")),"Assign staff","Ready")))))))
M17: =IF(A17="","",IF(B17="","",IFERROR(VLOOKUP(B17,Households!$A$5:$C$104,2,FALSE),"Household not found"))) | N17: =IF(A17="","",IF(B17="","",IFERROR(VLOOKUP(B17,Households!$A$5:$C$104,3,FALSE),"Contact not found"))) | O17: =IF(A17="","",IF(K17="Archived","Not scheduled",IF(OR(Assumptions!$B$5="",NOT(ISNUMBER(Assumptions!$B$5))),"Check review setting",IF(L17="","Check review date",IF(L17>TODAY(),"Check future date",IF(TODAY()-L17>Assumptions!$B$5,"Review profile","Current")))))) | P17: =IF(A17="","",IF(COUNTIF($A$5:$A$154,A17)>1,"Check duplicate Pet ID",IF(OR(B17="",C17="",D17="",F17="",H17="",K17=""),"Check required fields",IF(COUNTIF(Households!$A$5:$A$104,B17)<>1,"Check Household ID",IF(AND(K17="Active",G17=""),"Check feeding details",IF(AND(K17="Active",I17=""),"Check pickup details",IF(AND(K17="Active",OR(J17="",J17="Unassigned")),"Assign staff","Ready")))))))
M18: =IF(A18="","",IF(B18="","",IFERROR(VLOOKUP(B18,Households!$A$5:$C$104,2,FALSE),"Household not found"))) | N18: =IF(A18="","",IF(B18="","",IFERROR(VLOOKUP(B18,Households!$A$5:$C$104,3,FALSE),"Contact not found"))) | O18: =IF(A18="","",IF(K18="Archived","Not scheduled",IF(OR(Assumptions!$B$5="",NOT(ISNUMBER(Assumptions!$B$5))),"Check review setting",IF(L18="","Check review date",IF(L18>TODAY(),"Check future date",IF(TODAY()-L18>Assumptions!$B$5,"Review profile","Current")))))) | P18: =IF(A18="","",IF(COUNTIF($A$5:$A$154,A18)>1,"Check duplicate Pet ID",IF(OR(B18="",C18="",D18="",F18="",H18="",K18=""),"Check required fields",IF(COUNTIF(Households!$A$5:$A$104,B18)<>1,"Check Household ID",IF(AND(K18="Active",G18=""),"Check feeding details",IF(AND(K18="Active",I18=""),"Check pickup details",IF(AND(K18="Active",OR(J18="",J18="Unassigned")),"Assign staff","Ready")))))))
M19: =IF(A19="","",IF(B19="","",IFERROR(VLOOKUP(B19,Households!$A$5:$C$104,2,FALSE),"Household not found"))) | N19: =IF(A19="","",IF(B19="","",IFERROR(VLOOKUP(B19,Households!$A$5:$C$104,3,FALSE),"Contact not found"))) | O19: =IF(A19="","",IF(K19="Archived","Not scheduled",IF(OR(Assumptions!$B$5="",NOT(ISNUMBER(Assumptions!$B$5))),"Check review setting",IF(L19="","Check review date",IF(L19>TODAY(),"Check future date",IF(TODAY()-L19>Assumptions!$B$5,"Review profile","Current")))))) | P19: =IF(A19="","",IF(COUNTIF($A$5:$A$154,A19)>1,"Check duplicate Pet ID",IF(OR(B19="",C19="",D19="",F19="",H19="",K19=""),"Check required fields",IF(COUNTIF(Households!$A$5:$A$104,B19)<>1,"Check Household ID",IF(AND(K19="Active",G19=""),"Check feeding details",IF(AND(K19="Active",I19=""),"Check pickup details",IF(AND(K19="Active",OR(J19="",J19="Unassigned")),"Assign staff","Ready")))))))
M20: =IF(A20="","",IF(B20="","",IFERROR(VLOOKUP(B20,Households!$A$5:$C$104,2,FALSE),"Household not found"))) | N20: =IF(A20="","",IF(B20="","",IFERROR(VLOOKUP(B20,Households!$A$5:$C$104,3,FALSE),"Contact not found"))) | O20: =IF(A20="","",IF(K20="Archived","Not scheduled",IF(OR(Assumptions!$B$5="",NOT(ISNUMBER(Assumptions!$B$5))),"Check review setting",IF(L20="","Check review date",IF(L20>TODAY(),"Check future date",IF(TODAY()-L20>Assumptions!$B$5,"Review profile","Current")))))) | P20: =IF(A20="","",IF(COUNTIF($A$5:$A$154,A20)>1,"Check duplicate Pet ID",IF(OR(B20="",C20="",D20="",F20="",H20="",K20=""),"Check required fields",IF(COUNTIF(Households!$A$5:$A$104,B20)<>1,"Check Household ID",IF(AND(K20="Active",G20=""),"Check feeding details",IF(AND(K20="Active",I20=""),"Check pickup details",IF(AND(K20="Active",OR(J20="",J20="Unassigned")),"Assign staff","Ready")))))))
M21: =IF(A21="","",IF(B21="","",IFERROR(VLOOKUP(B21,Households!$A$5:$C$104,2,FALSE),"Household not found"))) | N21: =IF(A21="","",IF(B21="","",IFERROR(VLOOKUP(B21,Households!$A$5:$C$104,3,FALSE),"Contact not found"))) | O21: =IF(A21="","",IF(K21="Archived","Not scheduled",IF(OR(Assumptions!$B$5="",NOT(ISNUMBER(Assumptions!$B$5))),"Check review setting",IF(L21="","Check review date",IF(L21>TODAY(),"Check future date",IF(TODAY()-L21>Assumptions!$B$5,"Review profile","Current")))))) | P21: =IF(A21="","",IF(COUNTIF($A$5:$A$154,A21)>1,"Check duplicate Pet ID",IF(OR(B21="",C21="",D21="",F21="",H21="",K21=""),"Check required fields",IF(COUNTIF(Households!$A$5:$A$104,B21)<>1,"Check Household ID",IF(AND(K21="Active",G21=""),"Check feeding details",IF(AND(K21="Active",I21=""),"Check pickup details",IF(AND(K21="Active",OR(J21="",J21="Unassigned")),"Assign staff","Ready")))))))
M22: =IF(A22="","",IF(B22="","",IFERROR(VLOOKUP(B22,Households!$A$5:$C$104,2,FALSE),"Household not found"))) | N22: =IF(A22="","",IF(B22="","",IFERROR(VLOOKUP(B22,Households!$A$5:$C$104,3,FALSE),"Contact not found"))) | O22: =IF(A22="","",IF(K22="Archived","Not scheduled",IF(OR(Assumptions!$B$5="",NOT(ISNUMBER(Assumptions!$B$5))),"Check review setting",IF(L22="","Check review date",IF(L22>TODAY(),"Check future date",IF(TODAY()-L22>Assumptions!$B$5,"Review profile","Current")))))) | P22: =IF(A22="","",IF(COUNTIF($A$5:$A$154,A22)>1,"Check duplicate Pet ID",IF(OR(B22="",C22="",D22="",F22="",H22="",K22=""),"Check required fields",IF(COUNTIF(Households!$A$5:$A$104,B22)<>1,"Check Household ID",IF(AND(K22="Active",G22=""),"Check feeding details",IF(AND(K22="Active",I22=""),"Check pickup details",IF(AND(K22="Active",OR(J22="",J22="Unassigned")),"Assign staff","Ready")))))))
M23: =IF(A23="","",IF(B23="","",IFERROR(VLOOKUP(B23,Households!$A$5:$C$104,2,FALSE),"Household not found"))) | N23: =IF(A23="","",IF(B23="","",IFERROR(VLOOKUP(B23,Households!$A$5:$C$104,3,FALSE),"Contact not found"))) | O23: =IF(A23="","",IF(K23="Archived","Not scheduled",IF(OR(Assumptions!$B$5="",NOT(ISNUMBER(Assumptions!$B$5))),"Check review setting",IF(L23="","Check review date",IF(L23>TODAY(),"Check future date",IF(TODAY()-L23>Assumptions!$B$5,"Review profile","Current")))))) | P23: =IF(A23="","",IF(COUNTIF($A$5:$A$154,A23)>1,"Check duplicate Pet ID",IF(OR(B23="",C23="",D23="",F23="",H23="",K23=""),"Check required fields",IF(COUNTIF(Households!$A$5:$A$104,B23)<>1,"Check Household ID",IF(AND(K23="Active",G23=""),"Check feeding details",IF(AND(K23="Active",I23=""),"Check pickup details",IF(AND(K23="Active",OR(J23="",J23="Unassigned")),"Assign staff","Ready")))))))
M24: =IF(A24="","",IF(B24="","",IFERROR(VLOOKUP(B24,Households!$A$5:$C$104,2,FALSE),"Household not found"))) | N24: =IF(A24="","",IF(B24="","",IFERROR(VLOOKUP(B24,Households!$A$5:$C$104,3,FALSE),"Contact not found"))) | O24: =IF(A24="","",IF(K24="Archived","Not scheduled",IF(OR(Assumptions!$B$5="",NOT(ISNUMBER(Assumptions!$B$5))),"Check review setting",IF(L24="","Check review date",IF(L24>TODAY(),"Check future date",IF(TODAY()-L24>Assumptions!$B$5,"Review profile","Current")))))) | P24: =IF(A24="","",IF(COUNTIF($A$5:$A$154,A24)>1,"Check duplicate Pet ID",IF(OR(B24="",C24="",D24="",F24="",H24="",K24=""),"Check required fields",IF(COUNTIF(Households!$A$5:$A$104,B24)<>1,"Check Household ID",IF(AND(K24="Active",G24=""),"Check feeding details",IF(AND(K24="Active",I24=""),"Check pickup details",IF(AND(K24="Active",OR(J24="",J24="Unassigned")),"Assign staff","Ready")))))))
M25: =IF(A25="","",IF(B25="","",IFERROR(VLOOKUP(B25,Households!$A$5:$C$104,2,FALSE),"Household not found"))) | N25: =IF(A25="","",IF(B25="","",IFERROR(VLOOKUP(B25,Households!$A$5:$C$104,3,FALSE),"Contact not found"))) | O25: =IF(A25="","",IF(K25="Archived","Not scheduled",IF(OR(Assumptions!$B$5="",NOT(ISNUMBER(Assumptions!$B$5))),"Check review setting",IF(L25="","Check review date",IF(L25>TODAY(),"Check future date",IF(TODAY()-L25>Assumptions!$B$5,"Review profile","Current")))))) | P25: =IF(A25="","",IF(COUNTIF($A$5:$A$154,A25)>1,"Check duplicate Pet ID",IF(OR(B25="",C25="",D25="",F25="",H25="",K25=""),"Check required fields",IF(COUNTIF(Households!$A$5:$A$104,B25)<>1,"Check Household ID",IF(AND(K25="Active",G25=""),"Check feeding details",IF(AND(K25="Active",I25=""),"Check pickup details",IF(AND(K25="Active",OR(J25="",J25="Unassigned")),"Assign staff","Ready")))))))
M26: =IF(A26="","",IF(B26="","",IFERROR(VLOOKUP(B26,Households!$A$5:$C$104,2,FALSE),"Household not found"))) | N26: =IF(A26="","",IF(B26="","",IFERROR(VLOOKUP(B26,Households!$A$5:$C$104,3,FALSE),"Contact not found"))) | O26: =IF(A26="","",IF(K26="Archived","Not scheduled",IF(OR(Assumptions!$B$5="",NOT(ISNUMBER(Assumptions!$B$5))),"Check review setting",IF(L26="","Check review date",IF(L26>TODAY(),"Check future date",IF(TODAY()-L26>Assumptions!$B$5,"Review profile","Current")))))) | P26: =IF(A26="","",IF(COUNTIF($A$5:$A$154,A26)>1,"Check duplicate Pet ID",IF(OR(B26="",C26="",D26="",F26="",H26="",K26=""),"Check required fields",IF(COUNTIF(Households!$A$5:$A$104,B26)<>1,"Check Household ID",IF(AND(K26="Active",G26=""),"Check feeding details",IF(AND(K26="Active",I26=""),"Check pickup details",IF(AND(K26="Active",OR(J26="",J26="Unassigned")),"Assign staff","Ready")))))))
M27: =IF(A27="","",IF(B27="","",IFERROR(VLOOKUP(B27,Households!$A$5:$C$104,2,FALSE),"Household not found"))) | N27: =IF(A27="","",IF(B27="","",IFERROR(VLOOKUP(B27,Households!$A$5:$C$104,3,FALSE),"Contact not found"))) | O27: =IF(A27="","",IF(K27="Archived","Not scheduled",IF(OR(Assumptions!$B$5="",NOT(ISNUMBER(Assumptions!$B$5))),"Check review setting",IF(L27="","Check review date",IF(L27>TODAY(),"Check future date",IF(TODAY()-L27>Assumptions!$B$5,"Review profile","Current")))))) | P27: =IF(A27="","",IF(COUNTIF($A$5:$A$154,A27)>1,"Check duplicate Pet ID",IF(OR(B27="",C27="",D27="",F27="",H27="",K27=""),"Check required fields",IF(COUNTIF(Households!$A$5:$A$104,B27)<>1,"Check Household ID",IF(AND(K27="Active",G27=""),"Check feeding details",IF(AND(K27="Active",I27=""),"Check pickup details",IF(AND(K27="Active",OR(J27="",J27="Unassigned")),"Assign staff","Ready")))))))
M28: =IF(A28="","",IF(B28="","",IFERROR(VLOOKUP(B28,Households!$A$5:$C$104,2,FALSE),"Household not found"))) | N28: =IF(A28="","",IF(B28="","",IFERROR(VLOOKUP(B28,Households!$A$5:$C$104,3,FALSE),"Contact not found"))) | O28: =IF(A28="","",IF(K28="Archived","Not scheduled",IF(OR(Assumptions!$B$5="",NOT(ISNUMBER(Assumptions!$B$5))),"Check review setting",IF(L28="","Check review date",IF(L28>TODAY(),"Check future date",IF(TODAY()-L28>Assumptions!$B$5,"Review profile","Current")))))) | P28: =IF(A28="","",IF(COUNTIF($A$5:$A$154,A28)>1,"Check duplicate Pet ID",IF(OR(B28="",C28="",D28="",F28="",H28="",K28=""),"Check required fields",IF(COUNTIF(Households!$A$5:$A$104,B28)<>1,"Check Household ID",IF(AND(K28="Active",G28=""),"Check feeding details",IF(AND(K28="Active",I28=""),"Check pickup details",IF(AND(K28="Active",OR(J28="",J28="Unassigned")),"Assign staff","Ready")))))))
... M154: =IF(A154="","",IF(B154="","",IFERROR(VLOOKUP(B154,Households!$A$5:$C$104,2,FALSE),"Household not found"))) | N154: =IF(A154="","",IF(B154="","",IFERROR(VLOOKUP(B154,Households!$A$5:$C$104,3,FALSE),"Contact not found"))) | O154: =IF(A154="","",IF(K154="Archived","Not scheduled",IF(OR(Assumptions!$B$5="",NOT(ISNUMBER(Assumptions!$B$5))),"Check review setting",IF(L154="","Check review date",IF(L154>TODAY(),"Check future date",IF(TODAY()-L154>Assumptions!$B$5,"Review profile","Current")))))) | P154: =IF(A154="","",IF(COUNTIF($A$5:$A$154,A154)>1,"Check duplicate Pet ID",IF(OR(B154="",C154="",D154="",F154="",H154="",K154=""),"Check required fields",IF(COUNTIF(Households!$A$5:$A$104,B154)<>1,"Check Household ID",IF(AND(K154="Active",G154=""),"Check feeding details",IF(AND(K154="Active",I154=""),"Check pickup details",IF(AND(K154="Active",OR(J154="",J154="Unassigned")),"Assign staff","Ready")))))))

Sheet Assumptions
A1: Multi-Pet Household Roster Assumptions
A2: Yellow cells are editable. All sample staff names and all workbook examples are fictional.
A4: Editable Setting | B4: Value
A5: Profile review interval (days) | B5: 180
A6: Maximum pet weight (lb) | B6: 250
A9: Roster Status | C9: Pickup Type | E9: Species | G9: Default Service | I9: Assigned Staff
A10: Active | C10: Household pickup | E10: Dog | G10: Bath & brush | I10: Unassigned
A11: Paused | C11: Business transport | E11: Cat | G11: Full groom | I11: Alex Sample
A12: Archived | C12: No transport | E12: Bird | G12: Boarding | I12: Devon Sample
C13: Confirm each visit | E13: Rabbit | G13: Daycare | I13: Quinn Sample
E14: Other | G14: Drop-in visit | I14: Taylor Sample
G15: Dog walk
