Workbook

Sheet Summary
A1: Pet Birthday Marketing Calendar | Pinecone Paws (Fictional)
A2: As-of date | B2: =IFERROR(Assumptions!$B$3,"") | C2: Campaign year | D2: =IFERROR(Assumptions!$B$4,"") | E2: Upcoming window | F2: =IFERROR(Assumptions!$B$5,"")
A4: Indicator | B4: Value | E4: Month | F4: Approved Birthdays
A5: Total birthday records | B5: =COUNTIF('Birthday Calendar'!$A$4:$A$103,"<>") | E5: =IF(Assumptions!$B$4="","",DATE(Assumptions!$B$4,1,1)) | F5: =IF($E5="","",COUNTIFS('Birthday Calendar'!$E$4:$E$103,Assumptions!$E$3,'Birthday Calendar'!$H$4:$H$103,">="&$E5,'Birthday Calendar'!$H$4:$H$103,"<="&DATE(Assumptions!$B$4,2,0)))
A6: Owner-approved pets | B6: =IF(Assumptions!$E$3="","",COUNTIF('Birthday Calendar'!$E$4:$E$103,Assumptions!$E$3)) | E6: =IF(Assumptions!$B$4="","",DATE(Assumptions!$B$4,2,1)) | F6: =IF($E6="","",COUNTIFS('Birthday Calendar'!$E$4:$E$103,Assumptions!$E$3,'Birthday Calendar'!$H$4:$H$103,">="&$E6,'Birthday Calendar'!$H$4:$H$103,"<="&DATE(Assumptions!$B$4,3,0)))
A7: Approval needs review | B7: =IF(Assumptions!$E$4="","",COUNTIF('Birthday Calendar'!$E$4:$E$103,Assumptions!$E$4)) | E7: =IF(Assumptions!$B$4="","",DATE(Assumptions!$B$4,3,1)) | F7: =IF($E7="","",COUNTIFS('Birthday Calendar'!$E$4:$E$103,Assumptions!$E$3,'Birthday Calendar'!$H$4:$H$103,">="&$E7,'Birthday Calendar'!$H$4:$H$103,"<="&DATE(Assumptions!$B$4,4,0)))
A8: Approved birthdays in upcoming window | B8: =IF(OR(Assumptions!$E$3="",Assumptions!$B$3="",Assumptions!$B$5=""),"",COUNTIFS('Birthday Calendar'!$E$4:$E$103,Assumptions!$E$3,'Birthday Calendar'!$H$4:$H$103,">="&Assumptions!$B$3,'Birthday Calendar'!$H$4:$H$103,"<="&Assumptions!$B$3+Assumptions!$B$5)) | E8: =IF(Assumptions!$B$4="","",DATE(Assumptions!$B$4,4,1)) | F8: =IF($E8="","",COUNTIFS('Birthday Calendar'!$E$4:$E$103,Assumptions!$E$3,'Birthday Calendar'!$H$4:$H$103,">="&$E8,'Birthday Calendar'!$H$4:$H$103,"<="&DATE(Assumptions!$B$4,5,0)))
A9: Outreach items to plan soon | B9: =IF(OR(Assumptions!$E$3="",Assumptions!$F$3="",Assumptions!$B$3="",Assumptions!$B$5=""),"",COUNTIFS('Birthday Calendar'!$E$4:$E$103,Assumptions!$E$3,'Birthday Calendar'!$M$4:$M$103,Assumptions!$F$3,'Birthday Calendar'!$I$4:$I$103,">="&Assumptions!$B$3,'Birthday Calendar'!$I$4:$I$103,"<="&Assumptions!$B$3+Assumptions!$B$5)) | E9: =IF(Assumptions!$B$4="","",DATE(Assumptions!$B$4,5,1)) | F9: =IF($E9="","",COUNTIFS('Birthday Calendar'!$E$4:$E$103,Assumptions!$E$3,'Birthday Calendar'!$H$4:$H$103,">="&$E9,'Birthday Calendar'!$H$4:$H$103,"<="&DATE(Assumptions!$B$4,6,0)))
A10: Past planned outreach dates | B10: =IF(OR(Assumptions!$E$3="",Assumptions!$F$4="",Assumptions!$B$3=""),"",COUNTIFS('Birthday Calendar'!$E$4:$E$103,Assumptions!$E$3,'Birthday Calendar'!$M$4:$M$103,Assumptions!$F$4,'Birthday Calendar'!$I$4:$I$103,">0",'Birthday Calendar'!$I$4:$I$103,"<"&Assumptions!$B$3)) | E10: =IF(Assumptions!$B$4="","",DATE(Assumptions!$B$4,6,1)) | F10: =IF($E10="","",COUNTIFS('Birthday Calendar'!$E$4:$E$103,Assumptions!$E$3,'Birthday Calendar'!$H$4:$H$103,">="&$E10,'Birthday Calendar'!$H$4:$H$103,"<="&DATE(Assumptions!$B$4,7,0)))
A11: Sent in campaign year | B11: =IF(OR(Assumptions!$F$5="",Assumptions!$B$4=""),"",COUNTIFS('Birthday Calendar'!$M$4:$M$103,Assumptions!$F$5,'Birthday Calendar'!$N$4:$N$103,">="&DATE(Assumptions!$B$4,1,1),'Birthday Calendar'!$N$4:$N$103,"<="&DATE(Assumptions!$B$4,12,31))) | E11: =IF(Assumptions!$B$4="","",DATE(Assumptions!$B$4,7,1)) | F11: =IF($E11="","",COUNTIFS('Birthday Calendar'!$E$4:$E$103,Assumptions!$E$3,'Birthday Calendar'!$H$4:$H$103,">="&$E11,'Birthday Calendar'!$H$4:$H$103,"<="&DATE(Assumptions!$B$4,8,0)))
A12: Declined outreach | B12: =IF(Assumptions!$E$5="","",COUNTIF('Birthday Calendar'!$E$4:$E$103,Assumptions!$E$5)) | E12: =IF(Assumptions!$B$4="","",DATE(Assumptions!$B$4,8,1)) | F12: =IF($E12="","",COUNTIFS('Birthday Calendar'!$E$4:$E$103,Assumptions!$E$3,'Birthday Calendar'!$H$4:$H$103,">="&$E12,'Birthday Calendar'!$H$4:$H$103,"<="&DATE(Assumptions!$B$4,9,0)))
A13: Approved planned cost | B13: =IF(OR(Assumptions!$E$3="",Assumptions!$F$4=""),"",IFERROR(SUMIFS('Birthday Calendar'!$L$4:$L$103,'Birthday Calendar'!$E$4:$E$103,Assumptions!$E$3,'Birthday Calendar'!$M$4:$M$103,Assumptions!$F$4),0)) | E13: =IF(Assumptions!$B$4="","",DATE(Assumptions!$B$4,9,1)) | F13: =IF($E13="","",COUNTIFS('Birthday Calendar'!$E$4:$E$103,Assumptions!$E$3,'Birthday Calendar'!$H$4:$H$103,">="&$E13,'Birthday Calendar'!$H$4:$H$103,"<="&DATE(Assumptions!$B$4,10,0)))
A14: Average approved planned cost | B14: =IF(OR(Assumptions!$E$3="",Assumptions!$F$4=""),"",IFERROR(AVERAGEIFS('Birthday Calendar'!$L$4:$L$103,'Birthday Calendar'!$E$4:$E$103,Assumptions!$E$3,'Birthday Calendar'!$M$4:$M$103,Assumptions!$F$4),"")) | E14: =IF(Assumptions!$B$4="","",DATE(Assumptions!$B$4,10,1)) | F14: =IF($E14="","",COUNTIFS('Birthday Calendar'!$E$4:$E$103,Assumptions!$E$3,'Birthday Calendar'!$H$4:$H$103,">="&$E14,'Birthday Calendar'!$H$4:$H$103,"<="&DATE(Assumptions!$B$4,11,0)))
A15: Year setting status | B15: =IF(OR(Assumptions!$B$3="",Assumptions!$B$4=""),"Check settings",IF(YEAR(Assumptions!$B$3)=Assumptions!$B$4,"Aligned","Check year")) | E15: =IF(Assumptions!$B$4="","",DATE(Assumptions!$B$4,11,1)) | F15: =IF($E15="","",COUNTIFS('Birthday Calendar'!$E$4:$E$103,Assumptions!$E$3,'Birthday Calendar'!$H$4:$H$103,">="&$E15,'Birthday Calendar'!$H$4:$H$103,"<="&DATE(Assumptions!$B$4,12,0)))
E16: =IF(Assumptions!$B$4="","",DATE(Assumptions!$B$4,12,1)) | F16: =IF($E16="","",COUNTIFS('Birthday Calendar'!$E$4:$E$103,Assumptions!$E$3,'Birthday Calendar'!$H$4:$H$103,">="&$E16,'Birthday Calendar'!$H$4:$H$103,"<="&DATE(Assumptions!$B$4,13,0)))

Sheet Birthday Calendar
A1: Birthday Calendar | Pinecone Paws (Fictional)
A2: Yellow cells | B2: Editable inputs | D2: Alerts | E2: Human review prompts | J2: Purpose | K2: Optional birthday outreach
A3: Record ID | B3: Owner Name | C3: Pet Name | D3: Birthday | E3: Owner Approval | F3: Preferred Channel | G3: Lead Days Override | H3: Birthday This Year | I3: Suggested Outreach | J3: Birthday Message or Offer | K3: Assigned To | L3: Planned Cost | M3: Status | N3: Sent Date | O3: Review Alert
A4: BD-001 | B4: Avery Example | C4: Comet | D4: 43726 | E4: Approved | F4: Email | H4: =IF(OR($D4="",Assumptions!$B$4=""),"",IFERROR(DATE(Assumptions!$B$4,MONTH($D4),MIN(DAY($D4),DAY(DATE(Assumptions!$B$4,MONTH($D4)+1,0)))),"")) | I4: =IF(OR($H4="",AND($G4="",Assumptions!$B$6="")),"",IFERROR($H4-IF($G4="",Assumptions!$B$6,$G4),"")) | J4: Birthday greeting with an optional photo keepsake | K4: Alex Example | L4: 8.5 | M4: Planned | O4: =IF($A4="","",IF(OR($B4="",$C4="",$D4=""),"Complete record",IF(OR($H4="",$I4=""),"Check settings",IF($E4=Assumptions!$E$5,"Do not contact",IF($E4<>Assumptions!$E$3,"Check approval",IF(OR($F4="",$F4=Assumptions!$G$6),"Choose channel",IF($M4="","Choose status",IF($M4=Assumptions!$F$5,IF($N4="","Add sent date","Complete"),IF($M4=Assumptions!$F$6,"Complete",IF(AND($M4=Assumptions!$F$4,$I4<>"",$I4<Assumptions!$B$3),"Past planned date",IF(AND($M4=Assumptions!$F$3,$I4>=Assumptions!$B$3,$I4<=Assumptions!$B$3+Assumptions!$B$5),"Plan soon",IF(AND($L4<>"",$L4>Assumptions!$B$7),"Check cost","Ready"))))))))))))
A5: BD-002 | B5: Jordan Sample | C5: Maple | D5: 44106 | E5: Approved | F5: Postcard | G5: 14 | H5: =IF(OR($D5="",Assumptions!$B$4=""),"",IFERROR(DATE(Assumptions!$B$4,MONTH($D5),MIN(DAY($D5),DAY(DATE(Assumptions!$B$4,MONTH($D5)+1,0)))),"")) | I5: =IF(OR($H5="",AND($G5="",Assumptions!$B$6="")),"",IFERROR($H5-IF($G5="",Assumptions!$B$6,$G5),"")) | J5: Friendly birthday postcard and thank-you | K5: Blair Sample | L5: 3 | M5: Not Planned | O5: =IF($A5="","",IF(OR($B5="",$C5="",$D5=""),"Complete record",IF(OR($H5="",$I5=""),"Check settings",IF($E5=Assumptions!$E$5,"Do not contact",IF($E5<>Assumptions!$E$3,"Check approval",IF(OR($F5="",$F5=Assumptions!$G$6),"Choose channel",IF($M5="","Choose status",IF($M5=Assumptions!$F$5,IF($N5="","Add sent date","Complete"),IF($M5=Assumptions!$F$6,"Complete",IF(AND($M5=Assumptions!$F$4,$I5<>"",$I5<Assumptions!$B$3),"Past planned date",IF(AND($M5=Assumptions!$F$3,$I5>=Assumptions!$B$3,$I5<=Assumptions!$B$3+Assumptions!$B$5),"Plan soon",IF(AND($L5<>"",$L5>Assumptions!$B$7),"Check cost","Ready"))))))))))))
A6: BD-003 | B6: Casey Example | C6: Orbit | D6: 43419 | E6: Needs Review | F6: Email | H6: =IF(OR($D6="",Assumptions!$B$4=""),"",IFERROR(DATE(Assumptions!$B$4,MONTH($D6),MIN(DAY($D6),DAY(DATE(Assumptions!$B$4,MONTH($D6)+1,0)))),"")) | I6: =IF(OR($H6="",AND($G6="",Assumptions!$B$6="")),"",IFERROR($H6-IF($G6="",Assumptions!$B$6,$G6),"")) | J6: Simple birthday greeting after approval review | K6: Drew Example | L6: 0 | M6: Not Planned | O6: =IF($A6="","",IF(OR($B6="",$C6="",$D6=""),"Complete record",IF(OR($H6="",$I6=""),"Check settings",IF($E6=Assumptions!$E$5,"Do not contact",IF($E6<>Assumptions!$E$3,"Check approval",IF(OR($F6="",$F6=Assumptions!$G$6),"Choose channel",IF($M6="","Choose status",IF($M6=Assumptions!$F$5,IF($N6="","Add sent date","Complete"),IF($M6=Assumptions!$F$6,"Complete",IF(AND($M6=Assumptions!$F$4,$I6<>"",$I6<Assumptions!$B$3),"Past planned date",IF(AND($M6=Assumptions!$F$3,$I6>=Assumptions!$B$3,$I6<=Assumptions!$B$3+Assumptions!$B$5),"Plan soon",IF(AND($L6<>"",$L6>Assumptions!$B$7),"Check cost","Ready"))))))))))))
A7: BD-004 | B7: Morgan Sample | C7: Pebble | D7: 44554 | E7: Declined | F7: None | H7: =IF(OR($D7="",Assumptions!$B$4=""),"",IFERROR(DATE(Assumptions!$B$4,MONTH($D7),MIN(DAY($D7),DAY(DATE(Assumptions!$B$4,MONTH($D7)+1,0)))),"")) | I7: =IF(OR($H7="",AND($G7="",Assumptions!$B$6="")),"",IFERROR($H7-IF($G7="",Assumptions!$B$6,$G7),"")) | J7: No outreach requested | K7: Unassigned | L7: 0 | M7: Skipped | O7: =IF($A7="","",IF(OR($B7="",$C7="",$D7=""),"Complete record",IF(OR($H7="",$I7=""),"Check settings",IF($E7=Assumptions!$E$5,"Do not contact",IF($E7<>Assumptions!$E$3,"Check approval",IF(OR($F7="",$F7=Assumptions!$G$6),"Choose channel",IF($M7="","Choose status",IF($M7=Assumptions!$F$5,IF($N7="","Add sent date","Complete"),IF($M7=Assumptions!$F$6,"Complete",IF(AND($M7=Assumptions!$F$4,$I7<>"",$I7<Assumptions!$B$3),"Past planned date",IF(AND($M7=Assumptions!$F$3,$I7>=Assumptions!$B$3,$I7<=Assumptions!$B$3+Assumptions!$B$5),"Plan soon",IF(AND($L7<>"",$L7>Assumptions!$B$7),"Check cost","Ready"))))))))))))
A8: BD-005 | B8: Riley Example | C8: Juniper | D8: 42747 | E8: Approved | F8: Phone | G8: 7 | H8: =IF(OR($D8="",Assumptions!$B$4=""),"",IFERROR(DATE(Assumptions!$B$4,MONTH($D8),MIN(DAY($D8),DAY(DATE(Assumptions!$B$4,MONTH($D8)+1,0)))),"")) | I8: =IF(OR($H8="",AND($G8="",Assumptions!$B$6="")),"",IFERROR($H8-IF($G8="",Assumptions!$B$6,$G8),"")) | J8: Short birthday phone greeting | K8: Alex Example | L8: 0 | M8: Sent | N8: 46027 | O8: =IF($A8="","",IF(OR($B8="",$C8="",$D8=""),"Complete record",IF(OR($H8="",$I8=""),"Check settings",IF($E8=Assumptions!$E$5,"Do not contact",IF($E8<>Assumptions!$E$3,"Check approval",IF(OR($F8="",$F8=Assumptions!$G$6),"Choose channel",IF($M8="","Choose status",IF($M8=Assumptions!$F$5,IF($N8="","Add sent date","Complete"),IF($M8=Assumptions!$F$6,"Complete",IF(AND($M8=Assumptions!$F$4,$I8<>"",$I8<Assumptions!$B$3),"Past planned date",IF(AND($M8=Assumptions!$F$3,$I8>=Assumptions!$B$3,$I8<=Assumptions!$B$3+Assumptions!$B$5),"Plan soon",IF(AND($L8<>"",$L8>Assumptions!$B$7),"Check cost","Ready"))))))))))))
A9: BD-006 | B9: Taylor Sample | C9: Biscuit | D9: 43890 | E9: Approved | F9: Email | H9: =IF(OR($D9="",Assumptions!$B$4=""),"",IFERROR(DATE(Assumptions!$B$4,MONTH($D9),MIN(DAY($D9),DAY(DATE(Assumptions!$B$4,MONTH($D9)+1,0)))),"")) | I9: =IF(OR($H9="",AND($G9="",Assumptions!$B$6="")),"",IFERROR($H9-IF($G9="",Assumptions!$B$6,$G9),"")) | J9: Leap-day birthday email greeting | K9: Blair Sample | L9: 4 | M9: Sent | N9: 46067 | O9: =IF($A9="","",IF(OR($B9="",$C9="",$D9=""),"Complete record",IF(OR($H9="",$I9=""),"Check settings",IF($E9=Assumptions!$E$5,"Do not contact",IF($E9<>Assumptions!$E$3,"Check approval",IF(OR($F9="",$F9=Assumptions!$G$6),"Choose channel",IF($M9="","Choose status",IF($M9=Assumptions!$F$5,IF($N9="","Add sent date","Complete"),IF($M9=Assumptions!$F$6,"Complete",IF(AND($M9=Assumptions!$F$4,$I9<>"",$I9<Assumptions!$B$3),"Past planned date",IF(AND($M9=Assumptions!$F$3,$I9>=Assumptions!$B$3,$I9<=Assumptions!$B$3+Assumptions!$B$5),"Plan soon",IF(AND($L9<>"",$L9>Assumptions!$B$7),"Check cost","Ready"))))))))))))
A10: BD-007 | B10: Cameron Example | C10: Clover | D10: 44834 | E10: Approved | F10: Email | G10: 7 | H10: =IF(OR($D10="",Assumptions!$B$4=""),"",IFERROR(DATE(Assumptions!$B$4,MONTH($D10),MIN(DAY($D10),DAY(DATE(Assumptions!$B$4,MONTH($D10)+1,0)))),"")) | I10: =IF(OR($H10="",AND($G10="",Assumptions!$B$6="")),"",IFERROR($H10-IF($G10="",Assumptions!$B$6,$G10),"")) | J10: Birthday email with an optional treat-bag offer | K10: Drew Example | L10: 6 | M10: Not Planned | O10: =IF($A10="","",IF(OR($B10="",$C10="",$D10=""),"Complete record",IF(OR($H10="",$I10=""),"Check settings",IF($E10=Assumptions!$E$5,"Do not contact",IF($E10<>Assumptions!$E$3,"Check approval",IF(OR($F10="",$F10=Assumptions!$G$6),"Choose channel",IF($M10="","Choose status",IF($M10=Assumptions!$F$5,IF($N10="","Add sent date","Complete"),IF($M10=Assumptions!$F$6,"Complete",IF(AND($M10=Assumptions!$F$4,$I10<>"",$I10<Assumptions!$B$3),"Past planned date",IF(AND($M10=Assumptions!$F$3,$I10>=Assumptions!$B$3,$I10<=Assumptions!$B$3+Assumptions!$B$5),"Plan soon",IF(AND($L10<>"",$L10>Assumptions!$B$7),"Check cost","Ready"))))))))))))
A11: BD-008 | B11: Quinn Sample | C11: Mochi | D11: 43697 | E11: Approved | F11: Postcard | G11: 21 | H11: =IF(OR($D11="",Assumptions!$B$4=""),"",IFERROR(DATE(Assumptions!$B$4,MONTH($D11),MIN(DAY($D11),DAY(DATE(Assumptions!$B$4,MONTH($D11)+1,0)))),"")) | I11: =IF(OR($H11="",AND($G11="",Assumptions!$B$6="")),"",IFERROR($H11-IF($G11="",Assumptions!$B$6,$G11),"")) | J11: Birthday postcard with an optional playtime offer | K11: Alex Example | L11: 30 | M11: Planned | O11: =IF($A11="","",IF(OR($B11="",$C11="",$D11=""),"Complete record",IF(OR($H11="",$I11=""),"Check settings",IF($E11=Assumptions!$E$5,"Do not contact",IF($E11<>Assumptions!$E$3,"Check approval",IF(OR($F11="",$F11=Assumptions!$G$6),"Choose channel",IF($M11="","Choose status",IF($M11=Assumptions!$F$5,IF($N11="","Add sent date","Complete"),IF($M11=Assumptions!$F$6,"Complete",IF(AND($M11=Assumptions!$F$4,$I11<>"",$I11<Assumptions!$B$3),"Past planned date",IF(AND($M11=Assumptions!$F$3,$I11>=Assumptions!$B$3,$I11<=Assumptions!$B$3+Assumptions!$B$5),"Plan soon",IF(AND($L11<>"",$L11>Assumptions!$B$7),"Check cost","Ready"))))))))))))
A12: BD-009 | B12: Skyler Example | C12: Pippin | D12: 42652 | E12: Approved | F12: Email | G12: 30 | H12: =IF(OR($D12="",Assumptions!$B$4=""),"",IFERROR(DATE(Assumptions!$B$4,MONTH($D12),MIN(DAY($D12),DAY(DATE(Assumptions!$B$4,MONTH($D12)+1,0)))),"")) | I12: =IF(OR($H12="",AND($G12="",Assumptions!$B$6="")),"",IFERROR($H12-IF($G12="",Assumptions!$B$6,$G12),"")) | J12: Birthday email and customer thank-you | K12: Blair Sample | L12: 12 | M12: Planned | O12: =IF($A12="","",IF(OR($B12="",$C12="",$D12=""),"Complete record",IF(OR($H12="",$I12=""),"Check settings",IF($E12=Assumptions!$E$5,"Do not contact",IF($E12<>Assumptions!$E$3,"Check approval",IF(OR($F12="",$F12=Assumptions!$G$6),"Choose channel",IF($M12="","Choose status",IF($M12=Assumptions!$F$5,IF($N12="","Add sent date","Complete"),IF($M12=Assumptions!$F$6,"Complete",IF(AND($M12=Assumptions!$F$4,$I12<>"",$I12<Assumptions!$B$3),"Past planned date",IF(AND($M12=Assumptions!$F$3,$I12>=Assumptions!$B$3,$I12<=Assumptions!$B$3+Assumptions!$B$5),"Plan soon",IF(AND($L12<>"",$L12>Assumptions!$B$7),"Check cost","Ready"))))))))))))
A13: BD-010 | B13: Rowan Sample | C13: Noodle | D13: 45111 | E13: Approved | F13: None | H13: =IF(OR($D13="",Assumptions!$B$4=""),"",IFERROR(DATE(Assumptions!$B$4,MONTH($D13),MIN(DAY($D13),DAY(DATE(Assumptions!$B$4,MONTH($D13)+1,0)))),"")) | I13: =IF(OR($H13="",AND($G13="",Assumptions!$B$6="")),"",IFERROR($H13-IF($G13="",Assumptions!$B$6,$G13),"")) | J13: Choose a channel before preparing a greeting | K13: Unassigned | L13: 0 | M13: Not Planned | O13: =IF($A13="","",IF(OR($B13="",$C13="",$D13=""),"Complete record",IF(OR($H13="",$I13=""),"Check settings",IF($E13=Assumptions!$E$5,"Do not contact",IF($E13<>Assumptions!$E$3,"Check approval",IF(OR($F13="",$F13=Assumptions!$G$6),"Choose channel",IF($M13="","Choose status",IF($M13=Assumptions!$F$5,IF($N13="","Add sent date","Complete"),IF($M13=Assumptions!$F$6,"Complete",IF(AND($M13=Assumptions!$F$4,$I13<>"",$I13<Assumptions!$B$3),"Past planned date",IF(AND($M13=Assumptions!$F$3,$I13>=Assumptions!$B$3,$I13<=Assumptions!$B$3+Assumptions!$B$5),"Plan soon",IF(AND($L13<>"",$L13>Assumptions!$B$7),"Check cost","Ready"))))))))))))
A14: BD-011 | B14: Devon Example | C14: Saffron | D14: 44136 | E14: Approved | F14: Postcard | G14: 14 | H14: =IF(OR($D14="",Assumptions!$B$4=""),"",IFERROR(DATE(Assumptions!$B$4,MONTH($D14),MIN(DAY($D14),DAY(DATE(Assumptions!$B$4,MONTH($D14)+1,0)))),"")) | I14: =IF(OR($H14="",AND($G14="",Assumptions!$B$6="")),"",IFERROR($H14-IF($G14="",Assumptions!$B$6,$G14),"")) | J14: Birthday postcard with an optional bow offer | K14: Drew Example | L14: 30 | M14: Planned | O14: =IF($A14="","",IF(OR($B14="",$C14="",$D14=""),"Complete record",IF(OR($H14="",$I14=""),"Check settings",IF($E14=Assumptions!$E$5,"Do not contact",IF($E14<>Assumptions!$E$3,"Check approval",IF(OR($F14="",$F14=Assumptions!$G$6),"Choose channel",IF($M14="","Choose status",IF($M14=Assumptions!$F$5,IF($N14="","Add sent date","Complete"),IF($M14=Assumptions!$F$6,"Complete",IF(AND($M14=Assumptions!$F$4,$I14<>"",$I14<Assumptions!$B$3),"Past planned date",IF(AND($M14=Assumptions!$F$3,$I14>=Assumptions!$B$3,$I14<=Assumptions!$B$3+Assumptions!$B$5),"Plan soon",IF(AND($L14<>"",$L14>Assumptions!$B$7),"Check cost","Ready"))))))))))))
H15: =IF(OR($D15="",Assumptions!$B$4=""),"",IFERROR(DATE(Assumptions!$B$4,MONTH($D15),MIN(DAY($D15),DAY(DATE(Assumptions!$B$4,MONTH($D15)+1,0)))),"")) | I15: =IF(OR($H15="",AND($G15="",Assumptions!$B$6="")),"",IFERROR($H15-IF($G15="",Assumptions!$B$6,$G15),"")) | O15: =IF($A15="","",IF(OR($B15="",$C15="",$D15=""),"Complete record",IF(OR($H15="",$I15=""),"Check settings",IF($E15=Assumptions!$E$5,"Do not contact",IF($E15<>Assumptions!$E$3,"Check approval",IF(OR($F15="",$F15=Assumptions!$G$6),"Choose channel",IF($M15="","Choose status",IF($M15=Assumptions!$F$5,IF($N15="","Add sent date","Complete"),IF($M15=Assumptions!$F$6,"Complete",IF(AND($M15=Assumptions!$F$4,$I15<>"",$I15<Assumptions!$B$3),"Past planned date",IF(AND($M15=Assumptions!$F$3,$I15>=Assumptions!$B$3,$I15<=Assumptions!$B$3+Assumptions!$B$5),"Plan soon",IF(AND($L15<>"",$L15>Assumptions!$B$7),"Check cost","Ready"))))))))))))
H16: =IF(OR($D16="",Assumptions!$B$4=""),"",IFERROR(DATE(Assumptions!$B$4,MONTH($D16),MIN(DAY($D16),DAY(DATE(Assumptions!$B$4,MONTH($D16)+1,0)))),"")) | I16: =IF(OR($H16="",AND($G16="",Assumptions!$B$6="")),"",IFERROR($H16-IF($G16="",Assumptions!$B$6,$G16),"")) | O16: =IF($A16="","",IF(OR($B16="",$C16="",$D16=""),"Complete record",IF(OR($H16="",$I16=""),"Check settings",IF($E16=Assumptions!$E$5,"Do not contact",IF($E16<>Assumptions!$E$3,"Check approval",IF(OR($F16="",$F16=Assumptions!$G$6),"Choose channel",IF($M16="","Choose status",IF($M16=Assumptions!$F$5,IF($N16="","Add sent date","Complete"),IF($M16=Assumptions!$F$6,"Complete",IF(AND($M16=Assumptions!$F$4,$I16<>"",$I16<Assumptions!$B$3),"Past planned date",IF(AND($M16=Assumptions!$F$3,$I16>=Assumptions!$B$3,$I16<=Assumptions!$B$3+Assumptions!$B$5),"Plan soon",IF(AND($L16<>"",$L16>Assumptions!$B$7),"Check cost","Ready"))))))))))))
H17: =IF(OR($D17="",Assumptions!$B$4=""),"",IFERROR(DATE(Assumptions!$B$4,MONTH($D17),MIN(DAY($D17),DAY(DATE(Assumptions!$B$4,MONTH($D17)+1,0)))),"")) | I17: =IF(OR($H17="",AND($G17="",Assumptions!$B$6="")),"",IFERROR($H17-IF($G17="",Assumptions!$B$6,$G17),"")) | O17: =IF($A17="","",IF(OR($B17="",$C17="",$D17=""),"Complete record",IF(OR($H17="",$I17=""),"Check settings",IF($E17=Assumptions!$E$5,"Do not contact",IF($E17<>Assumptions!$E$3,"Check approval",IF(OR($F17="",$F17=Assumptions!$G$6),"Choose channel",IF($M17="","Choose status",IF($M17=Assumptions!$F$5,IF($N17="","Add sent date","Complete"),IF($M17=Assumptions!$F$6,"Complete",IF(AND($M17=Assumptions!$F$4,$I17<>"",$I17<Assumptions!$B$3),"Past planned date",IF(AND($M17=Assumptions!$F$3,$I17>=Assumptions!$B$3,$I17<=Assumptions!$B$3+Assumptions!$B$5),"Plan soon",IF(AND($L17<>"",$L17>Assumptions!$B$7),"Check cost","Ready"))))))))))))
H18: =IF(OR($D18="",Assumptions!$B$4=""),"",IFERROR(DATE(Assumptions!$B$4,MONTH($D18),MIN(DAY($D18),DAY(DATE(Assumptions!$B$4,MONTH($D18)+1,0)))),"")) | I18: =IF(OR($H18="",AND($G18="",Assumptions!$B$6="")),"",IFERROR($H18-IF($G18="",Assumptions!$B$6,$G18),"")) | O18: =IF($A18="","",IF(OR($B18="",$C18="",$D18=""),"Complete record",IF(OR($H18="",$I18=""),"Check settings",IF($E18=Assumptions!$E$5,"Do not contact",IF($E18<>Assumptions!$E$3,"Check approval",IF(OR($F18="",$F18=Assumptions!$G$6),"Choose channel",IF($M18="","Choose status",IF($M18=Assumptions!$F$5,IF($N18="","Add sent date","Complete"),IF($M18=Assumptions!$F$6,"Complete",IF(AND($M18=Assumptions!$F$4,$I18<>"",$I18<Assumptions!$B$3),"Past planned date",IF(AND($M18=Assumptions!$F$3,$I18>=Assumptions!$B$3,$I18<=Assumptions!$B$3+Assumptions!$B$5),"Plan soon",IF(AND($L18<>"",$L18>Assumptions!$B$7),"Check cost","Ready"))))))))))))
H19: =IF(OR($D19="",Assumptions!$B$4=""),"",IFERROR(DATE(Assumptions!$B$4,MONTH($D19),MIN(DAY($D19),DAY(DATE(Assumptions!$B$4,MONTH($D19)+1,0)))),"")) | I19: =IF(OR($H19="",AND($G19="",Assumptions!$B$6="")),"",IFERROR($H19-IF($G19="",Assumptions!$B$6,$G19),"")) | O19: =IF($A19="","",IF(OR($B19="",$C19="",$D19=""),"Complete record",IF(OR($H19="",$I19=""),"Check settings",IF($E19=Assumptions!$E$5,"Do not contact",IF($E19<>Assumptions!$E$3,"Check approval",IF(OR($F19="",$F19=Assumptions!$G$6),"Choose channel",IF($M19="","Choose status",IF($M19=Assumptions!$F$5,IF($N19="","Add sent date","Complete"),IF($M19=Assumptions!$F$6,"Complete",IF(AND($M19=Assumptions!$F$4,$I19<>"",$I19<Assumptions!$B$3),"Past planned date",IF(AND($M19=Assumptions!$F$3,$I19>=Assumptions!$B$3,$I19<=Assumptions!$B$3+Assumptions!$B$5),"Plan soon",IF(AND($L19<>"",$L19>Assumptions!$B$7),"Check cost","Ready"))))))))))))
H20: =IF(OR($D20="",Assumptions!$B$4=""),"",IFERROR(DATE(Assumptions!$B$4,MONTH($D20),MIN(DAY($D20),DAY(DATE(Assumptions!$B$4,MONTH($D20)+1,0)))),"")) | I20: =IF(OR($H20="",AND($G20="",Assumptions!$B$6="")),"",IFERROR($H20-IF($G20="",Assumptions!$B$6,$G20),"")) | O20: =IF($A20="","",IF(OR($B20="",$C20="",$D20=""),"Complete record",IF(OR($H20="",$I20=""),"Check settings",IF($E20=Assumptions!$E$5,"Do not contact",IF($E20<>Assumptions!$E$3,"Check approval",IF(OR($F20="",$F20=Assumptions!$G$6),"Choose channel",IF($M20="","Choose status",IF($M20=Assumptions!$F$5,IF($N20="","Add sent date","Complete"),IF($M20=Assumptions!$F$6,"Complete",IF(AND($M20=Assumptions!$F$4,$I20<>"",$I20<Assumptions!$B$3),"Past planned date",IF(AND($M20=Assumptions!$F$3,$I20>=Assumptions!$B$3,$I20<=Assumptions!$B$3+Assumptions!$B$5),"Plan soon",IF(AND($L20<>"",$L20>Assumptions!$B$7),"Check cost","Ready"))))))))))))
H21: =IF(OR($D21="",Assumptions!$B$4=""),"",IFERROR(DATE(Assumptions!$B$4,MONTH($D21),MIN(DAY($D21),DAY(DATE(Assumptions!$B$4,MONTH($D21)+1,0)))),"")) | I21: =IF(OR($H21="",AND($G21="",Assumptions!$B$6="")),"",IFERROR($H21-IF($G21="",Assumptions!$B$6,$G21),"")) | O21: =IF($A21="","",IF(OR($B21="",$C21="",$D21=""),"Complete record",IF(OR($H21="",$I21=""),"Check settings",IF($E21=Assumptions!$E$5,"Do not contact",IF($E21<>Assumptions!$E$3,"Check approval",IF(OR($F21="",$F21=Assumptions!$G$6),"Choose channel",IF($M21="","Choose status",IF($M21=Assumptions!$F$5,IF($N21="","Add sent date","Complete"),IF($M21=Assumptions!$F$6,"Complete",IF(AND($M21=Assumptions!$F$4,$I21<>"",$I21<Assumptions!$B$3),"Past planned date",IF(AND($M21=Assumptions!$F$3,$I21>=Assumptions!$B$3,$I21<=Assumptions!$B$3+Assumptions!$B$5),"Plan soon",IF(AND($L21<>"",$L21>Assumptions!$B$7),"Check cost","Ready"))))))))))))
H22: =IF(OR($D22="",Assumptions!$B$4=""),"",IFERROR(DATE(Assumptions!$B$4,MONTH($D22),MIN(DAY($D22),DAY(DATE(Assumptions!$B$4,MONTH($D22)+1,0)))),"")) | I22: =IF(OR($H22="",AND($G22="",Assumptions!$B$6="")),"",IFERROR($H22-IF($G22="",Assumptions!$B$6,$G22),"")) | O22: =IF($A22="","",IF(OR($B22="",$C22="",$D22=""),"Complete record",IF(OR($H22="",$I22=""),"Check settings",IF($E22=Assumptions!$E$5,"Do not contact",IF($E22<>Assumptions!$E$3,"Check approval",IF(OR($F22="",$F22=Assumptions!$G$6),"Choose channel",IF($M22="","Choose status",IF($M22=Assumptions!$F$5,IF($N22="","Add sent date","Complete"),IF($M22=Assumptions!$F$6,"Complete",IF(AND($M22=Assumptions!$F$4,$I22<>"",$I22<Assumptions!$B$3),"Past planned date",IF(AND($M22=Assumptions!$F$3,$I22>=Assumptions!$B$3,$I22<=Assumptions!$B$3+Assumptions!$B$5),"Plan soon",IF(AND($L22<>"",$L22>Assumptions!$B$7),"Check cost","Ready"))))))))))))
H23: =IF(OR($D23="",Assumptions!$B$4=""),"",IFERROR(DATE(Assumptions!$B$4,MONTH($D23),MIN(DAY($D23),DAY(DATE(Assumptions!$B$4,MONTH($D23)+1,0)))),"")) | I23: =IF(OR($H23="",AND($G23="",Assumptions!$B$6="")),"",IFERROR($H23-IF($G23="",Assumptions!$B$6,$G23),"")) | O23: =IF($A23="","",IF(OR($B23="",$C23="",$D23=""),"Complete record",IF(OR($H23="",$I23=""),"Check settings",IF($E23=Assumptions!$E$5,"Do not contact",IF($E23<>Assumptions!$E$3,"Check approval",IF(OR($F23="",$F23=Assumptions!$G$6),"Choose channel",IF($M23="","Choose status",IF($M23=Assumptions!$F$5,IF($N23="","Add sent date","Complete"),IF($M23=Assumptions!$F$6,"Complete",IF(AND($M23=Assumptions!$F$4,$I23<>"",$I23<Assumptions!$B$3),"Past planned date",IF(AND($M23=Assumptions!$F$3,$I23>=Assumptions!$B$3,$I23<=Assumptions!$B$3+Assumptions!$B$5),"Plan soon",IF(AND($L23<>"",$L23>Assumptions!$B$7),"Check cost","Ready"))))))))))))
H24: =IF(OR($D24="",Assumptions!$B$4=""),"",IFERROR(DATE(Assumptions!$B$4,MONTH($D24),MIN(DAY($D24),DAY(DATE(Assumptions!$B$4,MONTH($D24)+1,0)))),"")) | I24: =IF(OR($H24="",AND($G24="",Assumptions!$B$6="")),"",IFERROR($H24-IF($G24="",Assumptions!$B$6,$G24),"")) | O24: =IF($A24="","",IF(OR($B24="",$C24="",$D24=""),"Complete record",IF(OR($H24="",$I24=""),"Check settings",IF($E24=Assumptions!$E$5,"Do not contact",IF($E24<>Assumptions!$E$3,"Check approval",IF(OR($F24="",$F24=Assumptions!$G$6),"Choose channel",IF($M24="","Choose status",IF($M24=Assumptions!$F$5,IF($N24="","Add sent date","Complete"),IF($M24=Assumptions!$F$6,"Complete",IF(AND($M24=Assumptions!$F$4,$I24<>"",$I24<Assumptions!$B$3),"Past planned date",IF(AND($M24=Assumptions!$F$3,$I24>=Assumptions!$B$3,$I24<=Assumptions!$B$3+Assumptions!$B$5),"Plan soon",IF(AND($L24<>"",$L24>Assumptions!$B$7),"Check cost","Ready"))))))))))))
H25: =IF(OR($D25="",Assumptions!$B$4=""),"",IFERROR(DATE(Assumptions!$B$4,MONTH($D25),MIN(DAY($D25),DAY(DATE(Assumptions!$B$4,MONTH($D25)+1,0)))),"")) | I25: =IF(OR($H25="",AND($G25="",Assumptions!$B$6="")),"",IFERROR($H25-IF($G25="",Assumptions!$B$6,$G25),"")) | O25: =IF($A25="","",IF(OR($B25="",$C25="",$D25=""),"Complete record",IF(OR($H25="",$I25=""),"Check settings",IF($E25=Assumptions!$E$5,"Do not contact",IF($E25<>Assumptions!$E$3,"Check approval",IF(OR($F25="",$F25=Assumptions!$G$6),"Choose channel",IF($M25="","Choose status",IF($M25=Assumptions!$F$5,IF($N25="","Add sent date","Complete"),IF($M25=Assumptions!$F$6,"Complete",IF(AND($M25=Assumptions!$F$4,$I25<>"",$I25<Assumptions!$B$3),"Past planned date",IF(AND($M25=Assumptions!$F$3,$I25>=Assumptions!$B$3,$I25<=Assumptions!$B$3+Assumptions!$B$5),"Plan soon",IF(AND($L25<>"",$L25>Assumptions!$B$7),"Check cost","Ready"))))))))))))
H26: =IF(OR($D26="",Assumptions!$B$4=""),"",IFERROR(DATE(Assumptions!$B$4,MONTH($D26),MIN(DAY($D26),DAY(DATE(Assumptions!$B$4,MONTH($D26)+1,0)))),"")) | I26: =IF(OR($H26="",AND($G26="",Assumptions!$B$6="")),"",IFERROR($H26-IF($G26="",Assumptions!$B$6,$G26),"")) | O26: =IF($A26="","",IF(OR($B26="",$C26="",$D26=""),"Complete record",IF(OR($H26="",$I26=""),"Check settings",IF($E26=Assumptions!$E$5,"Do not contact",IF($E26<>Assumptions!$E$3,"Check approval",IF(OR($F26="",$F26=Assumptions!$G$6),"Choose channel",IF($M26="","Choose status",IF($M26=Assumptions!$F$5,IF($N26="","Add sent date","Complete"),IF($M26=Assumptions!$F$6,"Complete",IF(AND($M26=Assumptions!$F$4,$I26<>"",$I26<Assumptions!$B$3),"Past planned date",IF(AND($M26=Assumptions!$F$3,$I26>=Assumptions!$B$3,$I26<=Assumptions!$B$3+Assumptions!$B$5),"Plan soon",IF(AND($L26<>"",$L26>Assumptions!$B$7),"Check cost","Ready"))))))))))))
... H103: =IF(OR($D103="",Assumptions!$B$4=""),"",IFERROR(DATE(Assumptions!$B$4,MONTH($D103),MIN(DAY($D103),DAY(DATE(Assumptions!$B$4,MONTH($D103)+1,0)))),"")) | I103: =IF(OR($H103="",AND($G103="",Assumptions!$B$6="")),"",IFERROR($H103-IF($G103="",Assumptions!$B$6,$G103),"")) | O103: =IF($A103="","",IF(OR($B103="",$C103="",$D103=""),"Complete record",IF(OR($H103="",$I103=""),"Check settings",IF($E103=Assumptions!$E$5,"Do not contact",IF($E103<>Assumptions!$E$3,"Check approval",IF(OR($F103="",$F103=Assumptions!$G$6),"Choose channel",IF($M103="","Choose status",IF($M103=Assumptions!$F$5,IF($N103="","Add sent date","Complete"),IF($M103=Assumptions!$F$6,"Complete",IF(AND($M103=Assumptions!$F$4,$I103<>"",$I103<Assumptions!$B$3),"Past planned date",IF(AND($M103=Assumptions!$F$3,$I103>=Assumptions!$B$3,$I103<=Assumptions!$B$3+Assumptions!$B$5),"Plan soon",IF(AND($L103<>"",$L103>Assumptions!$B$7),"Check cost","Ready"))))))))))))

Sheet Assumptions
A1: Assumptions and Lists | Pinecone Paws (Fictional)
A2: Setting | B2: Value | C2: Purpose | E2: Owner Approval | F2: Outreach Status | G2: Channel | H2: Assigned To
A3: As-of date | B3: 46274 | C3: Date used for review indicators | E3: Approved | F3: Not Planned | G3: Email | H3: Alex Example
A4: Campaign year | B4: 2026 | C4: Year used to calculate each birthday | E4: Needs Review | F4: Planned | G4: Postcard | H4: Blair Sample
A5: Upcoming window (days) | B5: 30 | C5: Forward-looking review window | E5: Declined | F5: Sent | G5: Phone | H5: Drew Example
A6: Default lead days | B6: 14 | C6: Used when an override is blank | F6: Skipped | G6: None | H6: Unassigned
A7: Cost review limit | B7: 25 | C7: Amount that prompts a human cost check
A8: Earliest allowed pet birthday | B8: 32874 | C8: Lower date boundary for entry checks
A9: Maximum lead days | B9: 90 | C9: Upper boundary for lead-day overrides
A10: Maximum planned cost | B10: 500 | C10: Upper boundary for planned cost entry
