Workbook

Sheet Summary
A1: Pet Boarding Reservation Summary
A2: Indicators are calculated from the fictional reservation entries and editable operating assumptions.
A3: Reservation Indicator | B3: Calculated Value | D3: Date | E3: Rooms Booked | F3: Capacity
A4: Planning start | B4: =IF(Assumptions!$B$4="","",Assumptions!$B$4) | D4: =IF(Availability!A5="","",Availability!A5) | E4: =IF(Availability!E5="","",Availability!E5) | F4: =IF(Availability!F5="","",Availability!F5)
A5: Planning horizon end | B5: =IF(OR(Assumptions!$B$4="",Assumptions!$B$5=""),"",Assumptions!$B$4+Assumptions!$B$5-1) | D5: =IF(Availability!A6="","",Availability!A6) | E5: =IF(Availability!E6="","",Availability!E6) | F5: =IF(Availability!F6="","",Availability!F6)
A6: Active reservations | B6: =SUM(COUNTIF(Reservations!$K$6:$K$155,"Confirmed"),COUNTIF(Reservations!$K$6:$K$155,"Hold"),COUNTIF(Reservations!$K$6:$K$155,"Checked In")) | D6: =IF(Availability!A7="","",Availability!A7) | E6: =IF(Availability!E7="","",Availability!E7) | F6: =IF(Availability!F7="","",Availability!F7)
A7: Arrivals in next 7 days | B7: =IF($B$4="","",SUM(COUNTIFS(Reservations!$E$6:$E$155,">="&$B$4,Reservations!$E$6:$E$155,"<"&$B$4+7,Reservations!$K$6:$K$155,"Confirmed"),COUNTIFS(Reservations!$E$6:$E$155,">="&$B$4,Reservations!$E$6:$E$155,"<"&$B$4+7,Reservations!$K$6:$K$155,"Hold"),COUNTIFS(Reservations!$E$6:$E$155,">="&$B$4,Reservations!$E$6:$E$155,"<"&$B$4+7,Reservations!$K$6:$K$155,"Checked In"))) | D7: =IF(Availability!A8="","",Availability!A8) | E7: =IF(Availability!E8="","",Availability!E8) | F7: =IF(Availability!F8="","",Availability!F8)
A8: Departures in next 7 days | B8: =IF($B$4="","",SUM(COUNTIFS(Reservations!$F$6:$F$155,">="&$B$4,Reservations!$F$6:$F$155,"<"&$B$4+7,Reservations!$K$6:$K$155,"Confirmed"),COUNTIFS(Reservations!$F$6:$F$155,">="&$B$4,Reservations!$F$6:$F$155,"<"&$B$4+7,Reservations!$K$6:$K$155,"Hold"),COUNTIFS(Reservations!$F$6:$F$155,">="&$B$4,Reservations!$F$6:$F$155,"<"&$B$4+7,Reservations!$K$6:$K$155,"Checked In"))) | D8: =IF(Availability!A9="","",Availability!A9) | E8: =IF(Availability!E9="","",Availability!E9) | F8: =IF(Availability!F9="","",Availability!F9)
A9: Rooms occupied today | B9: =IF($B$4="","",SUM(SUMIFS(Reservations!$G$6:$G$155,Reservations!$E$6:$E$155,"<="&$B$4,Reservations!$F$6:$F$155,">"&$B$4,Reservations!$K$6:$K$155,"Confirmed"),SUMIFS(Reservations!$G$6:$G$155,Reservations!$E$6:$E$155,"<="&$B$4,Reservations!$F$6:$F$155,">"&$B$4,Reservations!$K$6:$K$155,"Hold"),SUMIFS(Reservations!$G$6:$G$155,Reservations!$E$6:$E$155,"<="&$B$4,Reservations!$F$6:$F$155,">"&$B$4,Reservations!$K$6:$K$155,"Checked In"))) | D9: =IF(Availability!A10="","",Availability!A10) | E9: =IF(Availability!E10="","",Availability!E10) | F9: =IF(Availability!F10="","",Availability!F10)
A10: Open rooms today | B10: =IF($B$4="","",SUM(Assumptions!$E$4:$E$6)-$B$9) | D10: =IF(Availability!A11="","",Availability!A11) | E10: =IF(Availability!E11="","",Availability!E11) | F10: =IF(Availability!F11="","",Availability!F11)
A11: Active estimated value | B11: =SUM(SUMIFS(Reservations!$M$6:$M$155,Reservations!$K$6:$K$155,"Confirmed"),SUMIFS(Reservations!$M$6:$M$155,Reservations!$K$6:$K$155,"Hold"),SUMIFS(Reservations!$M$6:$M$155,Reservations!$K$6:$K$155,"Checked In")) | D11: =IF(Availability!A12="","",Availability!A12) | E11: =IF(Availability!E12="","",Availability!E12) | F11: =IF(Availability!F12="","",Availability!F12)
A12: Capacity alert days | B12: =COUNTIF(Availability!$H$5:$H$124,"CHECK CAPACITY") | D12: =IF(Availability!A13="","",Availability!A13) | E12: =IF(Availability!E13="","",Availability!E13) | F12: =IF(Availability!F13="","",Availability!F13)
A13: Reservation alert flags | B13: =COUNTIF(Reservations!$N$6:$N$155,"CHECK*")+COUNTIF(Reservations!$O$6:$O$155,"CHECK*") | D13: =IF(Availability!A14="","",Availability!A14) | E13: =IF(Availability!E14="","",Availability!E14) | F13: =IF(Availability!F14="","",Availability!F14)
D14: =IF(Availability!A15="","",Availability!A15) | E14: =IF(Availability!E15="","",Availability!E15) | F14: =IF(Availability!F15="","",Availability!F15)
D15: =IF(Availability!A16="","",Availability!A16) | E15: =IF(Availability!E16="","",Availability!E16) | F15: =IF(Availability!F16="","",Availability!F16)
D16: =IF(Availability!A17="","",Availability!A17) | E16: =IF(Availability!E17="","",Availability!E17) | F16: =IF(Availability!F17="","",Availability!F17)
D17: =IF(Availability!A18="","",Availability!A18) | E17: =IF(Availability!E18="","",Availability!E18) | F17: =IF(Availability!F18="","",Availability!F18)

Sheet Reservations
A1: Pet Boarding Reservations
A2: Yellow cells are editable. All displayed records are fictional examples, and every alert requires staff review.
A5: Reservation ID | B5: Client | C5: Pet(s) | D5: Room Type | E5: Arrival | F5: Departure | G5: Rooms | H5: Nightly Rate | I5: Daily Add-ons | J5: Assigned Room | K5: Status | L5: Nights | M5: Estimated Total | N5: Capacity Check | O5: Room Check | P5: Stay Notes
A6: FBR-0001 | B6: Avery Example | C6: Maple | D6: Standard | E6: 46275 | F6: 46278 | G6: 1 | H6: 54 | I6: 8 | J6: S-01 | K6: Confirmed | L6: =IF(OR($E6="",$F6=""),"",IF($F6>$E6,$F6-$E6,"")) | M6: =IF(OR($A6="",$L6="",$G6="",$H6=""),"",IFERROR($L6*($G6*$H6+IF($I6="",0,$I6)),"")) | N6: =IF(OR($A6="",$D6="",$E6="",$F6="",$G6="",$K6="",$K6="Cancelled",$K6="Completed"),"",IF($F6<=$E6,"CHECK DATES",IFERROR(IF(MAX(INDEX(Availability!$B$5:$D$124,MATCH(MAX($E6,Assumptions!$B$4),Availability!$A$5:$A$124,0),MATCH($D6,Availability!$B$4:$D$4,0)):INDEX(Availability!$B$5:$D$124,MATCH($F6-1,Availability!$A$5:$A$124,0),MATCH($D6,Availability!$B$4:$D$4,0)))>IFERROR(VLOOKUP($D6,Assumptions!$D$4:$E$6,2,FALSE),0),"CHECK CAPACITY","Within limit"),"CHECK RANGE"))) | O6: =IF(OR($A6="",$J6="",$E6="",$F6="",$K6="",$K6="Cancelled",$K6="Completed"),"",IF($F6<=$E6,"CHECK DATES",IF(COUNTIFS($J$6:$J$155,$J6,$E$6:$E$155,"<"&$F6,$F$6:$F$155,">"&$E6,$K$6:$K$155,"<>Cancelled",$K$6:$K$155,"<>Completed")>1,"CHECK ROOM","No overlap"))) | P6: Owner note: morning meal is labeled.
A7: FBR-0002 | B7: Jordan Fiction | C7: Pippin | D7: Suite | E7: 46276 | F7: 46281 | G7: 1 | H7: 78 | I7: 0 | J7: U-01 | K7: Confirmed | L7: =IF(OR($E7="",$F7=""),"",IF($F7>$E7,$F7-$E7,"")) | M7: =IF(OR($A7="",$L7="",$G7="",$H7=""),"",IFERROR($L7*($G7*$H7+IF($I7="",0,$I7)),"")) | N7: =IF(OR($A7="",$D7="",$E7="",$F7="",$G7="",$K7="",$K7="Cancelled",$K7="Completed"),"",IF($F7<=$E7,"CHECK DATES",IFERROR(IF(MAX(INDEX(Availability!$B$5:$D$124,MATCH(MAX($E7,Assumptions!$B$4),Availability!$A$5:$A$124,0),MATCH($D7,Availability!$B$4:$D$4,0)):INDEX(Availability!$B$5:$D$124,MATCH($F7-1,Availability!$A$5:$A$124,0),MATCH($D7,Availability!$B$4:$D$4,0)))>IFERROR(VLOOKUP($D7,Assumptions!$D$4:$E$6,2,FALSE),0),"CHECK CAPACITY","Within limit"),"CHECK RANGE"))) | O7: =IF(OR($A7="",$J7="",$E7="",$F7="",$K7="",$K7="Cancelled",$K7="Completed"),"",IF($F7<=$E7,"CHECK DATES",IF(COUNTIFS($J$6:$J$155,$J7,$E$6:$E$155,"<"&$F7,$F$6:$F$155,">"&$E7,$K$6:$K$155,"<>Cancelled",$K$6:$K$155,"<>Completed")>1,"CHECK ROOM","No overlap"))) | P7: Owner note: use the supplied food container.
A8: FBR-0003 | B8: Casey Sample | C8: Nori | D8: Standard | E8: 46275 | F8: 46277 | G8: 1 | H8: 54 | I8: 5 | J8: S-02 | K8: Hold | L8: =IF(OR($E8="",$F8=""),"",IF($F8>$E8,$F8-$E8,"")) | M8: =IF(OR($A8="",$L8="",$G8="",$H8=""),"",IFERROR($L8*($G8*$H8+IF($I8="",0,$I8)),"")) | N8: =IF(OR($A8="",$D8="",$E8="",$F8="",$G8="",$K8="",$K8="Cancelled",$K8="Completed"),"",IF($F8<=$E8,"CHECK DATES",IFERROR(IF(MAX(INDEX(Availability!$B$5:$D$124,MATCH(MAX($E8,Assumptions!$B$4),Availability!$A$5:$A$124,0),MATCH($D8,Availability!$B$4:$D$4,0)):INDEX(Availability!$B$5:$D$124,MATCH($F8-1,Availability!$A$5:$A$124,0),MATCH($D8,Availability!$B$4:$D$4,0)))>IFERROR(VLOOKUP($D8,Assumptions!$D$4:$E$6,2,FALSE),0),"CHECK CAPACITY","Within limit"),"CHECK RANGE"))) | O8: =IF(OR($A8="",$J8="",$E8="",$F8="",$K8="",$K8="Cancelled",$K8="Completed"),"",IF($F8<=$E8,"CHECK DATES",IF(COUNTIFS($J$6:$J$155,$J8,$E$6:$E$155,"<"&$F8,$F$6:$F$155,">"&$E8,$K$6:$K$155,"<>Cancelled",$K$6:$K$155,"<>Completed")>1,"CHECK ROOM","No overlap"))) | P8: Awaiting owner confirmation.
A9: FBR-0004 | B9: Morgan Example | C9: Scout | D9: Standard | E9: 46273 | F9: 46276 | G9: 1 | H9: 54 | I9: 10 | J9: S-03 | K9: Checked In | L9: =IF(OR($E9="",$F9=""),"",IF($F9>$E9,$F9-$E9,"")) | M9: =IF(OR($A9="",$L9="",$G9="",$H9=""),"",IFERROR($L9*($G9*$H9+IF($I9="",0,$I9)),"")) | N9: =IF(OR($A9="",$D9="",$E9="",$F9="",$G9="",$K9="",$K9="Cancelled",$K9="Completed"),"",IF($F9<=$E9,"CHECK DATES",IFERROR(IF(MAX(INDEX(Availability!$B$5:$D$124,MATCH(MAX($E9,Assumptions!$B$4),Availability!$A$5:$A$124,0),MATCH($D9,Availability!$B$4:$D$4,0)):INDEX(Availability!$B$5:$D$124,MATCH($F9-1,Availability!$A$5:$A$124,0),MATCH($D9,Availability!$B$4:$D$4,0)))>IFERROR(VLOOKUP($D9,Assumptions!$D$4:$E$6,2,FALSE),0),"CHECK CAPACITY","Within limit"),"CHECK RANGE"))) | O9: =IF(OR($A9="",$J9="",$E9="",$F9="",$K9="",$K9="Cancelled",$K9="Completed"),"",IF($F9<=$E9,"CHECK DATES",IF(COUNTIFS($J$6:$J$155,$J9,$E$6:$E$155,"<"&$F9,$F$6:$F$155,">"&$E9,$K$6:$K$155,"<>Cancelled",$K$6:$K$155,"<>Completed")>1,"CHECK ROOM","No overlap"))) | P9: Owner note: belongings were tagged at arrival.
A10: FBR-0005 | B10: Riley Fiction | C10: Juniper | D10: Cat Condo | E10: 46266 | F10: 46269 | G10: 1 | H10: 42 | I10: 0 | J10: C-01 | K10: Completed | L10: =IF(OR($E10="",$F10=""),"",IF($F10>$E10,$F10-$E10,"")) | M10: =IF(OR($A10="",$L10="",$G10="",$H10=""),"",IFERROR($L10*($G10*$H10+IF($I10="",0,$I10)),"")) | N10: =IF(OR($A10="",$D10="",$E10="",$F10="",$G10="",$K10="",$K10="Cancelled",$K10="Completed"),"",IF($F10<=$E10,"CHECK DATES",IFERROR(IF(MAX(INDEX(Availability!$B$5:$D$124,MATCH(MAX($E10,Assumptions!$B$4),Availability!$A$5:$A$124,0),MATCH($D10,Availability!$B$4:$D$4,0)):INDEX(Availability!$B$5:$D$124,MATCH($F10-1,Availability!$A$5:$A$124,0),MATCH($D10,Availability!$B$4:$D$4,0)))>IFERROR(VLOOKUP($D10,Assumptions!$D$4:$E$6,2,FALSE),0),"CHECK CAPACITY","Within limit"),"CHECK RANGE"))) | O10: =IF(OR($A10="",$J10="",$E10="",$F10="",$K10="",$K10="Cancelled",$K10="Completed"),"",IF($F10<=$E10,"CHECK DATES",IF(COUNTIFS($J$6:$J$155,$J10,$E$6:$E$155,"<"&$F10,$F$6:$F$155,">"&$E10,$K$6:$K$155,"<>Cancelled",$K$6:$K$155,"<>Completed")>1,"CHECK ROOM","No overlap"))) | P10: Departure was recorded by staff.
A11: FBR-0006 | B11: Taylor Sample | C11: Comet | D11: Suite | E11: 46279 | F11: 46281 | G11: 1 | H11: 78 | I11: 12 | J11: U-02 | K11: Cancelled | L11: =IF(OR($E11="",$F11=""),"",IF($F11>$E11,$F11-$E11,"")) | M11: =IF(OR($A11="",$L11="",$G11="",$H11=""),"",IFERROR($L11*($G11*$H11+IF($I11="",0,$I11)),"")) | N11: =IF(OR($A11="",$D11="",$E11="",$F11="",$G11="",$K11="",$K11="Cancelled",$K11="Completed"),"",IF($F11<=$E11,"CHECK DATES",IFERROR(IF(MAX(INDEX(Availability!$B$5:$D$124,MATCH(MAX($E11,Assumptions!$B$4),Availability!$A$5:$A$124,0),MATCH($D11,Availability!$B$4:$D$4,0)):INDEX(Availability!$B$5:$D$124,MATCH($F11-1,Availability!$A$5:$A$124,0),MATCH($D11,Availability!$B$4:$D$4,0)))>IFERROR(VLOOKUP($D11,Assumptions!$D$4:$E$6,2,FALSE),0),"CHECK CAPACITY","Within limit"),"CHECK RANGE"))) | O11: =IF(OR($A11="",$J11="",$E11="",$F11="",$K11="",$K11="Cancelled",$K11="Completed"),"",IF($F11<=$E11,"CHECK DATES",IF(COUNTIFS($J$6:$J$155,$J11,$E$6:$E$155,"<"&$F11,$F$6:$F$155,">"&$E11,$K$6:$K$155,"<>Cancelled",$K$6:$K$155,"<>Completed")>1,"CHECK ROOM","No overlap"))) | P11: Cancellation retained for planning history.
A12: FBR-0007 | B12: Cameron Example | C12: Miso | D12: Cat Condo | E12: 46284 | F12: 46289 | G12: 1 | H12: 42 | I12: 4 | J12: C-02 | K12: Confirmed | L12: =IF(OR($E12="",$F12=""),"",IF($F12>$E12,$F12-$E12,"")) | M12: =IF(OR($A12="",$L12="",$G12="",$H12=""),"",IFERROR($L12*($G12*$H12+IF($I12="",0,$I12)),"")) | N12: =IF(OR($A12="",$D12="",$E12="",$F12="",$G12="",$K12="",$K12="Cancelled",$K12="Completed"),"",IF($F12<=$E12,"CHECK DATES",IFERROR(IF(MAX(INDEX(Availability!$B$5:$D$124,MATCH(MAX($E12,Assumptions!$B$4),Availability!$A$5:$A$124,0),MATCH($D12,Availability!$B$4:$D$4,0)):INDEX(Availability!$B$5:$D$124,MATCH($F12-1,Availability!$A$5:$A$124,0),MATCH($D12,Availability!$B$4:$D$4,0)))>IFERROR(VLOOKUP($D12,Assumptions!$D$4:$E$6,2,FALSE),0),"CHECK CAPACITY","Within limit"),"CHECK RANGE"))) | O12: =IF(OR($A12="",$J12="",$E12="",$F12="",$K12="",$K12="Cancelled",$K12="Completed"),"",IF($F12<=$E12,"CHECK DATES",IF(COUNTIFS($J$6:$J$155,$J12,$E$6:$E$155,"<"&$F12,$F$6:$F$155,">"&$E12,$K$6:$K$155,"<>Cancelled",$K$6:$K$155,"<>Completed")>1,"CHECK ROOM","No overlap"))) | P12: Owner note: food portions are labeled.
A13: FBR-0008 | B13: Dakota Fiction | C13: Wren | D13: Standard | E13: 46393 | F13: 46394 | G13: 1 | H13: 54 | I13: 0 | J13: S-01 | K13: Hold | L13: =IF(OR($E13="",$F13=""),"",IF($F13>$E13,$F13-$E13,"")) | M13: =IF(OR($A13="",$L13="",$G13="",$H13=""),"",IFERROR($L13*($G13*$H13+IF($I13="",0,$I13)),"")) | N13: =IF(OR($A13="",$D13="",$E13="",$F13="",$G13="",$K13="",$K13="Cancelled",$K13="Completed"),"",IF($F13<=$E13,"CHECK DATES",IFERROR(IF(MAX(INDEX(Availability!$B$5:$D$124,MATCH(MAX($E13,Assumptions!$B$4),Availability!$A$5:$A$124,0),MATCH($D13,Availability!$B$4:$D$4,0)):INDEX(Availability!$B$5:$D$124,MATCH($F13-1,Availability!$A$5:$A$124,0),MATCH($D13,Availability!$B$4:$D$4,0)))>IFERROR(VLOOKUP($D13,Assumptions!$D$4:$E$6,2,FALSE),0),"CHECK CAPACITY","Within limit"),"CHECK RANGE"))) | O13: =IF(OR($A13="",$J13="",$E13="",$F13="",$K13="",$K13="Cancelled",$K13="Completed"),"",IF($F13<=$E13,"CHECK DATES",IF(COUNTIFS($J$6:$J$155,$J13,$E$6:$E$155,"<"&$F13,$F$6:$F$155,">"&$E13,$K$6:$K$155,"<>Cancelled",$K$6:$K$155,"<>Completed")>1,"CHECK ROOM","No overlap"))) | P13: Planning-horizon boundary example.
A14: FBR-0009 | B14: Quinn Sample | C14: Basil | D14: Suite | E14: 46294 | F14: 46299 | G14: 1 | H14: 78 | I14: 6 | J14: U-01 | K14: Confirmed | L14: =IF(OR($E14="",$F14=""),"",IF($F14>$E14,$F14-$E14,"")) | M14: =IF(OR($A14="",$L14="",$G14="",$H14=""),"",IFERROR($L14*($G14*$H14+IF($I14="",0,$I14)),"")) | N14: =IF(OR($A14="",$D14="",$E14="",$F14="",$G14="",$K14="",$K14="Cancelled",$K14="Completed"),"",IF($F14<=$E14,"CHECK DATES",IFERROR(IF(MAX(INDEX(Availability!$B$5:$D$124,MATCH(MAX($E14,Assumptions!$B$4),Availability!$A$5:$A$124,0),MATCH($D14,Availability!$B$4:$D$4,0)):INDEX(Availability!$B$5:$D$124,MATCH($F14-1,Availability!$A$5:$A$124,0),MATCH($D14,Availability!$B$4:$D$4,0)))>IFERROR(VLOOKUP($D14,Assumptions!$D$4:$E$6,2,FALSE),0),"CHECK CAPACITY","Within limit"),"CHECK RANGE"))) | O14: =IF(OR($A14="",$J14="",$E14="",$F14="",$K14="",$K14="Cancelled",$K14="Completed"),"",IF($F14<=$E14,"CHECK DATES",IF(COUNTIFS($J$6:$J$155,$J14,$E$6:$E$155,"<"&$F14,$F$6:$F$155,">"&$E14,$K$6:$K$155,"<>Cancelled",$K$6:$K$155,"<>Completed")>1,"CHECK ROOM","No overlap"))) | P14: Owner note: family items are labeled.
A15: FBR-0010 | B15: Parker Example | C15: Clover | D15: Standard | E15: 46276 | F15: 46279 | G15: 1 | H15: 54 | I15: 7 | J15: S-01 | K15: Confirmed | L15: =IF(OR($E15="",$F15=""),"",IF($F15>$E15,$F15-$E15,"")) | M15: =IF(OR($A15="",$L15="",$G15="",$H15=""),"",IFERROR($L15*($G15*$H15+IF($I15="",0,$I15)),"")) | N15: =IF(OR($A15="",$D15="",$E15="",$F15="",$G15="",$K15="",$K15="Cancelled",$K15="Completed"),"",IF($F15<=$E15,"CHECK DATES",IFERROR(IF(MAX(INDEX(Availability!$B$5:$D$124,MATCH(MAX($E15,Assumptions!$B$4),Availability!$A$5:$A$124,0),MATCH($D15,Availability!$B$4:$D$4,0)):INDEX(Availability!$B$5:$D$124,MATCH($F15-1,Availability!$A$5:$A$124,0),MATCH($D15,Availability!$B$4:$D$4,0)))>IFERROR(VLOOKUP($D15,Assumptions!$D$4:$E$6,2,FALSE),0),"CHECK CAPACITY","Within limit"),"CHECK RANGE"))) | O15: =IF(OR($A15="",$J15="",$E15="",$F15="",$K15="",$K15="Cancelled",$K15="Completed"),"",IF($F15<=$E15,"CHECK DATES",IF(COUNTIFS($J$6:$J$155,$J15,$E$6:$E$155,"<"&$F15,$F$6:$F$155,">"&$E15,$K$6:$K$155,"<>Cancelled",$K$6:$K$155,"<>Completed")>1,"CHECK ROOM","No overlap"))) | P15: Intentional room overlap example for review.
A16: FBR-0011 | B16: Reese Fiction | C16: Otis | D16: Standard | E16: 46276 | F16: 46278 | G16: 1 | H16: 54 | I16: 0 | J16: S-04 | K16: Confirmed | L16: =IF(OR($E16="",$F16=""),"",IF($F16>$E16,$F16-$E16,"")) | M16: =IF(OR($A16="",$L16="",$G16="",$H16=""),"",IFERROR($L16*($G16*$H16+IF($I16="",0,$I16)),"")) | N16: =IF(OR($A16="",$D16="",$E16="",$F16="",$G16="",$K16="",$K16="Cancelled",$K16="Completed"),"",IF($F16<=$E16,"CHECK DATES",IFERROR(IF(MAX(INDEX(Availability!$B$5:$D$124,MATCH(MAX($E16,Assumptions!$B$4),Availability!$A$5:$A$124,0),MATCH($D16,Availability!$B$4:$D$4,0)):INDEX(Availability!$B$5:$D$124,MATCH($F16-1,Availability!$A$5:$A$124,0),MATCH($D16,Availability!$B$4:$D$4,0)))>IFERROR(VLOOKUP($D16,Assumptions!$D$4:$E$6,2,FALSE),0),"CHECK CAPACITY","Within limit"),"CHECK RANGE"))) | O16: =IF(OR($A16="",$J16="",$E16="",$F16="",$K16="",$K16="Cancelled",$K16="Completed"),"",IF($F16<=$E16,"CHECK DATES",IF(COUNTIFS($J$6:$J$155,$J16,$E$6:$E$155,"<"&$F16,$F$6:$F$155,">"&$E16,$K$6:$K$155,"<>Cancelled",$K$6:$K$155,"<>Completed")>1,"CHECK ROOM","No overlap"))) | P16: Intentional capacity example for review.
L17: =IF(OR($E17="",$F17=""),"",IF($F17>$E17,$F17-$E17,"")) | M17: =IF(OR($A17="",$L17="",$G17="",$H17=""),"",IFERROR($L17*($G17*$H17+IF($I17="",0,$I17)),"")) | N17: =IF(OR($A17="",$D17="",$E17="",$F17="",$G17="",$K17="",$K17="Cancelled",$K17="Completed"),"",IF($F17<=$E17,"CHECK DATES",IFERROR(IF(MAX(INDEX(Availability!$B$5:$D$124,MATCH(MAX($E17,Assumptions!$B$4),Availability!$A$5:$A$124,0),MATCH($D17,Availability!$B$4:$D$4,0)):INDEX(Availability!$B$5:$D$124,MATCH($F17-1,Availability!$A$5:$A$124,0),MATCH($D17,Availability!$B$4:$D$4,0)))>IFERROR(VLOOKUP($D17,Assumptions!$D$4:$E$6,2,FALSE),0),"CHECK CAPACITY","Within limit"),"CHECK RANGE"))) | O17: =IF(OR($A17="",$J17="",$E17="",$F17="",$K17="",$K17="Cancelled",$K17="Completed"),"",IF($F17<=$E17,"CHECK DATES",IF(COUNTIFS($J$6:$J$155,$J17,$E$6:$E$155,"<"&$F17,$F$6:$F$155,">"&$E17,$K$6:$K$155,"<>Cancelled",$K$6:$K$155,"<>Completed")>1,"CHECK ROOM","No overlap")))
L18: =IF(OR($E18="",$F18=""),"",IF($F18>$E18,$F18-$E18,"")) | M18: =IF(OR($A18="",$L18="",$G18="",$H18=""),"",IFERROR($L18*($G18*$H18+IF($I18="",0,$I18)),"")) | N18: =IF(OR($A18="",$D18="",$E18="",$F18="",$G18="",$K18="",$K18="Cancelled",$K18="Completed"),"",IF($F18<=$E18,"CHECK DATES",IFERROR(IF(MAX(INDEX(Availability!$B$5:$D$124,MATCH(MAX($E18,Assumptions!$B$4),Availability!$A$5:$A$124,0),MATCH($D18,Availability!$B$4:$D$4,0)):INDEX(Availability!$B$5:$D$124,MATCH($F18-1,Availability!$A$5:$A$124,0),MATCH($D18,Availability!$B$4:$D$4,0)))>IFERROR(VLOOKUP($D18,Assumptions!$D$4:$E$6,2,FALSE),0),"CHECK CAPACITY","Within limit"),"CHECK RANGE"))) | O18: =IF(OR($A18="",$J18="",$E18="",$F18="",$K18="",$K18="Cancelled",$K18="Completed"),"",IF($F18<=$E18,"CHECK DATES",IF(COUNTIFS($J$6:$J$155,$J18,$E$6:$E$155,"<"&$F18,$F$6:$F$155,">"&$E18,$K$6:$K$155,"<>Cancelled",$K$6:$K$155,"<>Completed")>1,"CHECK ROOM","No overlap")))
L19: =IF(OR($E19="",$F19=""),"",IF($F19>$E19,$F19-$E19,"")) | M19: =IF(OR($A19="",$L19="",$G19="",$H19=""),"",IFERROR($L19*($G19*$H19+IF($I19="",0,$I19)),"")) | N19: =IF(OR($A19="",$D19="",$E19="",$F19="",$G19="",$K19="",$K19="Cancelled",$K19="Completed"),"",IF($F19<=$E19,"CHECK DATES",IFERROR(IF(MAX(INDEX(Availability!$B$5:$D$124,MATCH(MAX($E19,Assumptions!$B$4),Availability!$A$5:$A$124,0),MATCH($D19,Availability!$B$4:$D$4,0)):INDEX(Availability!$B$5:$D$124,MATCH($F19-1,Availability!$A$5:$A$124,0),MATCH($D19,Availability!$B$4:$D$4,0)))>IFERROR(VLOOKUP($D19,Assumptions!$D$4:$E$6,2,FALSE),0),"CHECK CAPACITY","Within limit"),"CHECK RANGE"))) | O19: =IF(OR($A19="",$J19="",$E19="",$F19="",$K19="",$K19="Cancelled",$K19="Completed"),"",IF($F19<=$E19,"CHECK DATES",IF(COUNTIFS($J$6:$J$155,$J19,$E$6:$E$155,"<"&$F19,$F$6:$F$155,">"&$E19,$K$6:$K$155,"<>Cancelled",$K$6:$K$155,"<>Completed")>1,"CHECK ROOM","No overlap")))
L20: =IF(OR($E20="",$F20=""),"",IF($F20>$E20,$F20-$E20,"")) | M20: =IF(OR($A20="",$L20="",$G20="",$H20=""),"",IFERROR($L20*($G20*$H20+IF($I20="",0,$I20)),"")) | N20: =IF(OR($A20="",$D20="",$E20="",$F20="",$G20="",$K20="",$K20="Cancelled",$K20="Completed"),"",IF($F20<=$E20,"CHECK DATES",IFERROR(IF(MAX(INDEX(Availability!$B$5:$D$124,MATCH(MAX($E20,Assumptions!$B$4),Availability!$A$5:$A$124,0),MATCH($D20,Availability!$B$4:$D$4,0)):INDEX(Availability!$B$5:$D$124,MATCH($F20-1,Availability!$A$5:$A$124,0),MATCH($D20,Availability!$B$4:$D$4,0)))>IFERROR(VLOOKUP($D20,Assumptions!$D$4:$E$6,2,FALSE),0),"CHECK CAPACITY","Within limit"),"CHECK RANGE"))) | O20: =IF(OR($A20="",$J20="",$E20="",$F20="",$K20="",$K20="Cancelled",$K20="Completed"),"",IF($F20<=$E20,"CHECK DATES",IF(COUNTIFS($J$6:$J$155,$J20,$E$6:$E$155,"<"&$F20,$F$6:$F$155,">"&$E20,$K$6:$K$155,"<>Cancelled",$K$6:$K$155,"<>Completed")>1,"CHECK ROOM","No overlap")))
L21: =IF(OR($E21="",$F21=""),"",IF($F21>$E21,$F21-$E21,"")) | M21: =IF(OR($A21="",$L21="",$G21="",$H21=""),"",IFERROR($L21*($G21*$H21+IF($I21="",0,$I21)),"")) | N21: =IF(OR($A21="",$D21="",$E21="",$F21="",$G21="",$K21="",$K21="Cancelled",$K21="Completed"),"",IF($F21<=$E21,"CHECK DATES",IFERROR(IF(MAX(INDEX(Availability!$B$5:$D$124,MATCH(MAX($E21,Assumptions!$B$4),Availability!$A$5:$A$124,0),MATCH($D21,Availability!$B$4:$D$4,0)):INDEX(Availability!$B$5:$D$124,MATCH($F21-1,Availability!$A$5:$A$124,0),MATCH($D21,Availability!$B$4:$D$4,0)))>IFERROR(VLOOKUP($D21,Assumptions!$D$4:$E$6,2,FALSE),0),"CHECK CAPACITY","Within limit"),"CHECK RANGE"))) | O21: =IF(OR($A21="",$J21="",$E21="",$F21="",$K21="",$K21="Cancelled",$K21="Completed"),"",IF($F21<=$E21,"CHECK DATES",IF(COUNTIFS($J$6:$J$155,$J21,$E$6:$E$155,"<"&$F21,$F$6:$F$155,">"&$E21,$K$6:$K$155,"<>Cancelled",$K$6:$K$155,"<>Completed")>1,"CHECK ROOM","No overlap")))
L22: =IF(OR($E22="",$F22=""),"",IF($F22>$E22,$F22-$E22,"")) | M22: =IF(OR($A22="",$L22="",$G22="",$H22=""),"",IFERROR($L22*($G22*$H22+IF($I22="",0,$I22)),"")) | N22: =IF(OR($A22="",$D22="",$E22="",$F22="",$G22="",$K22="",$K22="Cancelled",$K22="Completed"),"",IF($F22<=$E22,"CHECK DATES",IFERROR(IF(MAX(INDEX(Availability!$B$5:$D$124,MATCH(MAX($E22,Assumptions!$B$4),Availability!$A$5:$A$124,0),MATCH($D22,Availability!$B$4:$D$4,0)):INDEX(Availability!$B$5:$D$124,MATCH($F22-1,Availability!$A$5:$A$124,0),MATCH($D22,Availability!$B$4:$D$4,0)))>IFERROR(VLOOKUP($D22,Assumptions!$D$4:$E$6,2,FALSE),0),"CHECK CAPACITY","Within limit"),"CHECK RANGE"))) | O22: =IF(OR($A22="",$J22="",$E22="",$F22="",$K22="",$K22="Cancelled",$K22="Completed"),"",IF($F22<=$E22,"CHECK DATES",IF(COUNTIFS($J$6:$J$155,$J22,$E$6:$E$155,"<"&$F22,$F$6:$F$155,">"&$E22,$K$6:$K$155,"<>Cancelled",$K$6:$K$155,"<>Completed")>1,"CHECK ROOM","No overlap")))
L23: =IF(OR($E23="",$F23=""),"",IF($F23>$E23,$F23-$E23,"")) | M23: =IF(OR($A23="",$L23="",$G23="",$H23=""),"",IFERROR($L23*($G23*$H23+IF($I23="",0,$I23)),"")) | N23: =IF(OR($A23="",$D23="",$E23="",$F23="",$G23="",$K23="",$K23="Cancelled",$K23="Completed"),"",IF($F23<=$E23,"CHECK DATES",IFERROR(IF(MAX(INDEX(Availability!$B$5:$D$124,MATCH(MAX($E23,Assumptions!$B$4),Availability!$A$5:$A$124,0),MATCH($D23,Availability!$B$4:$D$4,0)):INDEX(Availability!$B$5:$D$124,MATCH($F23-1,Availability!$A$5:$A$124,0),MATCH($D23,Availability!$B$4:$D$4,0)))>IFERROR(VLOOKUP($D23,Assumptions!$D$4:$E$6,2,FALSE),0),"CHECK CAPACITY","Within limit"),"CHECK RANGE"))) | O23: =IF(OR($A23="",$J23="",$E23="",$F23="",$K23="",$K23="Cancelled",$K23="Completed"),"",IF($F23<=$E23,"CHECK DATES",IF(COUNTIFS($J$6:$J$155,$J23,$E$6:$E$155,"<"&$F23,$F$6:$F$155,">"&$E23,$K$6:$K$155,"<>Cancelled",$K$6:$K$155,"<>Completed")>1,"CHECK ROOM","No overlap")))
L24: =IF(OR($E24="",$F24=""),"",IF($F24>$E24,$F24-$E24,"")) | M24: =IF(OR($A24="",$L24="",$G24="",$H24=""),"",IFERROR($L24*($G24*$H24+IF($I24="",0,$I24)),"")) | N24: =IF(OR($A24="",$D24="",$E24="",$F24="",$G24="",$K24="",$K24="Cancelled",$K24="Completed"),"",IF($F24<=$E24,"CHECK DATES",IFERROR(IF(MAX(INDEX(Availability!$B$5:$D$124,MATCH(MAX($E24,Assumptions!$B$4),Availability!$A$5:$A$124,0),MATCH($D24,Availability!$B$4:$D$4,0)):INDEX(Availability!$B$5:$D$124,MATCH($F24-1,Availability!$A$5:$A$124,0),MATCH($D24,Availability!$B$4:$D$4,0)))>IFERROR(VLOOKUP($D24,Assumptions!$D$4:$E$6,2,FALSE),0),"CHECK CAPACITY","Within limit"),"CHECK RANGE"))) | O24: =IF(OR($A24="",$J24="",$E24="",$F24="",$K24="",$K24="Cancelled",$K24="Completed"),"",IF($F24<=$E24,"CHECK DATES",IF(COUNTIFS($J$6:$J$155,$J24,$E$6:$E$155,"<"&$F24,$F$6:$F$155,">"&$E24,$K$6:$K$155,"<>Cancelled",$K$6:$K$155,"<>Completed")>1,"CHECK ROOM","No overlap")))
L25: =IF(OR($E25="",$F25=""),"",IF($F25>$E25,$F25-$E25,"")) | M25: =IF(OR($A25="",$L25="",$G25="",$H25=""),"",IFERROR($L25*($G25*$H25+IF($I25="",0,$I25)),"")) | N25: =IF(OR($A25="",$D25="",$E25="",$F25="",$G25="",$K25="",$K25="Cancelled",$K25="Completed"),"",IF($F25<=$E25,"CHECK DATES",IFERROR(IF(MAX(INDEX(Availability!$B$5:$D$124,MATCH(MAX($E25,Assumptions!$B$4),Availability!$A$5:$A$124,0),MATCH($D25,Availability!$B$4:$D$4,0)):INDEX(Availability!$B$5:$D$124,MATCH($F25-1,Availability!$A$5:$A$124,0),MATCH($D25,Availability!$B$4:$D$4,0)))>IFERROR(VLOOKUP($D25,Assumptions!$D$4:$E$6,2,FALSE),0),"CHECK CAPACITY","Within limit"),"CHECK RANGE"))) | O25: =IF(OR($A25="",$J25="",$E25="",$F25="",$K25="",$K25="Cancelled",$K25="Completed"),"",IF($F25<=$E25,"CHECK DATES",IF(COUNTIFS($J$6:$J$155,$J25,$E$6:$E$155,"<"&$F25,$F$6:$F$155,">"&$E25,$K$6:$K$155,"<>Cancelled",$K$6:$K$155,"<>Completed")>1,"CHECK ROOM","No overlap")))
L26: =IF(OR($E26="",$F26=""),"",IF($F26>$E26,$F26-$E26,"")) | M26: =IF(OR($A26="",$L26="",$G26="",$H26=""),"",IFERROR($L26*($G26*$H26+IF($I26="",0,$I26)),"")) | N26: =IF(OR($A26="",$D26="",$E26="",$F26="",$G26="",$K26="",$K26="Cancelled",$K26="Completed"),"",IF($F26<=$E26,"CHECK DATES",IFERROR(IF(MAX(INDEX(Availability!$B$5:$D$124,MATCH(MAX($E26,Assumptions!$B$4),Availability!$A$5:$A$124,0),MATCH($D26,Availability!$B$4:$D$4,0)):INDEX(Availability!$B$5:$D$124,MATCH($F26-1,Availability!$A$5:$A$124,0),MATCH($D26,Availability!$B$4:$D$4,0)))>IFERROR(VLOOKUP($D26,Assumptions!$D$4:$E$6,2,FALSE),0),"CHECK CAPACITY","Within limit"),"CHECK RANGE"))) | O26: =IF(OR($A26="",$J26="",$E26="",$F26="",$K26="",$K26="Cancelled",$K26="Completed"),"",IF($F26<=$E26,"CHECK DATES",IF(COUNTIFS($J$6:$J$155,$J26,$E$6:$E$155,"<"&$F26,$F$6:$F$155,">"&$E26,$K$6:$K$155,"<>Cancelled",$K$6:$K$155,"<>Completed")>1,"CHECK ROOM","No overlap")))
L27: =IF(OR($E27="",$F27=""),"",IF($F27>$E27,$F27-$E27,"")) | M27: =IF(OR($A27="",$L27="",$G27="",$H27=""),"",IFERROR($L27*($G27*$H27+IF($I27="",0,$I27)),"")) | N27: =IF(OR($A27="",$D27="",$E27="",$F27="",$G27="",$K27="",$K27="Cancelled",$K27="Completed"),"",IF($F27<=$E27,"CHECK DATES",IFERROR(IF(MAX(INDEX(Availability!$B$5:$D$124,MATCH(MAX($E27,Assumptions!$B$4),Availability!$A$5:$A$124,0),MATCH($D27,Availability!$B$4:$D$4,0)):INDEX(Availability!$B$5:$D$124,MATCH($F27-1,Availability!$A$5:$A$124,0),MATCH($D27,Availability!$B$4:$D$4,0)))>IFERROR(VLOOKUP($D27,Assumptions!$D$4:$E$6,2,FALSE),0),"CHECK CAPACITY","Within limit"),"CHECK RANGE"))) | O27: =IF(OR($A27="",$J27="",$E27="",$F27="",$K27="",$K27="Cancelled",$K27="Completed"),"",IF($F27<=$E27,"CHECK DATES",IF(COUNTIFS($J$6:$J$155,$J27,$E$6:$E$155,"<"&$F27,$F$6:$F$155,">"&$E27,$K$6:$K$155,"<>Cancelled",$K$6:$K$155,"<>Completed")>1,"CHECK ROOM","No overlap")))
L28: =IF(OR($E28="",$F28=""),"",IF($F28>$E28,$F28-$E28,"")) | M28: =IF(OR($A28="",$L28="",$G28="",$H28=""),"",IFERROR($L28*($G28*$H28+IF($I28="",0,$I28)),"")) | N28: =IF(OR($A28="",$D28="",$E28="",$F28="",$G28="",$K28="",$K28="Cancelled",$K28="Completed"),"",IF($F28<=$E28,"CHECK DATES",IFERROR(IF(MAX(INDEX(Availability!$B$5:$D$124,MATCH(MAX($E28,Assumptions!$B$4),Availability!$A$5:$A$124,0),MATCH($D28,Availability!$B$4:$D$4,0)):INDEX(Availability!$B$5:$D$124,MATCH($F28-1,Availability!$A$5:$A$124,0),MATCH($D28,Availability!$B$4:$D$4,0)))>IFERROR(VLOOKUP($D28,Assumptions!$D$4:$E$6,2,FALSE),0),"CHECK CAPACITY","Within limit"),"CHECK RANGE"))) | O28: =IF(OR($A28="",$J28="",$E28="",$F28="",$K28="",$K28="Cancelled",$K28="Completed"),"",IF($F28<=$E28,"CHECK DATES",IF(COUNTIFS($J$6:$J$155,$J28,$E$6:$E$155,"<"&$F28,$F$6:$F$155,">"&$E28,$K$6:$K$155,"<>Cancelled",$K$6:$K$155,"<>Completed")>1,"CHECK ROOM","No overlap")))
... L155: =IF(OR($E155="",$F155=""),"",IF($F155>$E155,$F155-$E155,"")) | M155: =IF(OR($A155="",$L155="",$G155="",$H155=""),"",IFERROR($L155*($G155*$H155+IF($I155="",0,$I155)),"")) | N155: =IF(OR($A155="",$D155="",$E155="",$F155="",$G155="",$K155="",$K155="Cancelled",$K155="Completed"),"",IF($F155<=$E155,"CHECK DATES",IFERROR(IF(MAX(INDEX(Availability!$B$5:$D$124,MATCH(MAX($E155,Assumptions!$B$4),Availability!$A$5:$A$124,0),MATCH($D155,Availability!$B$4:$D$4,0)):INDEX(Availability!$B$5:$D$124,MATCH($F155-1,Availability!$A$5:$A$124,0),MATCH($D155,Availability!$B$4:$D$4,0)))>IFERROR(VLOOKUP($D155,Assumptions!$D$4:$E$6,2,FALSE),0),"CHECK CAPACITY","Within limit"),"CHECK RANGE"))) | O155: =IF(OR($A155="",$J155="",$E155="",$F155="",$K155="",$K155="Cancelled",$K155="Completed"),"",IF($F155<=$E155,"CHECK DATES",IF(COUNTIFS($J$6:$J$155,$J155,$E$6:$E$155,"<"&$F155,$F$6:$F$155,">"&$E155,$K$6:$K$155,"<>Cancelled",$K$6:$K$155,"<>Completed")>1,"CHECK ROOM","No overlap")))

Sheet Availability
A1: Daily Room Availability
A2: Daily room use is calculated from active reservations; negative open rooms require staff review.
A3: Capacity | B3: =IFERROR(VLOOKUP(B4,Assumptions!$D$4:$F$6,2,FALSE),"") | C3: =IFERROR(VLOOKUP(C4,Assumptions!$D$4:$F$6,2,FALSE),"") | D3: =IFERROR(VLOOKUP(D4,Assumptions!$D$4:$F$6,2,FALSE),"") | E3: =SUM(B3:D3) | F3: =E3 | G3: Open | H3: Review
A4: Date | B4: =Assumptions!D4 | C4: =Assumptions!D5 | D4: =Assumptions!D6 | E4: Total Booked | F4: Total Capacity | G4: Open Rooms | H4: Daily Status
A5: =IF(ROW()-4<=Assumptions!$B$5,Assumptions!$B$4+ROW()-5,"") | B5: =IF(OR($A5="",B$4=""),"",SUM(SUMIFS(Reservations!$G$6:$G$155,Reservations!$D$6:$D$155,B$4,Reservations!$E$6:$E$155,"<="&$A5,Reservations!$F$6:$F$155,">"&$A5,Reservations!$K$6:$K$155,"Confirmed"),SUMIFS(Reservations!$G$6:$G$155,Reservations!$D$6:$D$155,B$4,Reservations!$E$6:$E$155,"<="&$A5,Reservations!$F$6:$F$155,">"&$A5,Reservations!$K$6:$K$155,"Hold"),SUMIFS(Reservations!$G$6:$G$155,Reservations!$D$6:$D$155,B$4,Reservations!$E$6:$E$155,"<="&$A5,Reservations!$F$6:$F$155,">"&$A5,Reservations!$K$6:$K$155,"Checked In"))) | C5: =IF(OR($A5="",C$4=""),"",SUM(SUMIFS(Reservations!$G$6:$G$155,Reservations!$D$6:$D$155,C$4,Reservations!$E$6:$E$155,"<="&$A5,Reservations!$F$6:$F$155,">"&$A5,Reservations!$K$6:$K$155,"Confirmed"),SUMIFS(Reservations!$G$6:$G$155,Reservations!$D$6:$D$155,C$4,Reservations!$E$6:$E$155,"<="&$A5,Reservations!$F$6:$F$155,">"&$A5,Reservations!$K$6:$K$155,"Hold"),SUMIFS(Reservations!$G$6:$G$155,Reservations!$D$6:$D$155,C$4,Reservations!$E$6:$E$155,"<="&$A5,Reservations!$F$6:$F$155,">"&$A5,Reservations!$K$6:$K$155,"Checked In"))) | D5: =IF(OR($A5="",D$4=""),"",SUM(SUMIFS(Reservations!$G$6:$G$155,Reservations!$D$6:$D$155,D$4,Reservations!$E$6:$E$155,"<="&$A5,Reservations!$F$6:$F$155,">"&$A5,Reservations!$K$6:$K$155,"Confirmed"),SUMIFS(Reservations!$G$6:$G$155,Reservations!$D$6:$D$155,D$4,Reservations!$E$6:$E$155,"<="&$A5,Reservations!$F$6:$F$155,">"&$A5,Reservations!$K$6:$K$155,"Hold"),SUMIFS(Reservations!$G$6:$G$155,Reservations!$D$6:$D$155,D$4,Reservations!$E$6:$E$155,"<="&$A5,Reservations!$F$6:$F$155,">"&$A5,Reservations!$K$6:$K$155,"Checked In"))) | E5: =IF($A5="","",SUM(B5:D5)) | F5: =IF($A5="","",$E$3) | G5: =IF($A5="","",F5-E5) | H5: =IF($A5="","",IF(G5<0,"CHECK CAPACITY",IF(G5=0,"Full","Open")))
A6: =IF(ROW()-4<=Assumptions!$B$5,Assumptions!$B$4+ROW()-5,"") | B6: =IF(OR($A6="",B$4=""),"",SUM(SUMIFS(Reservations!$G$6:$G$155,Reservations!$D$6:$D$155,B$4,Reservations!$E$6:$E$155,"<="&$A6,Reservations!$F$6:$F$155,">"&$A6,Reservations!$K$6:$K$155,"Confirmed"),SUMIFS(Reservations!$G$6:$G$155,Reservations!$D$6:$D$155,B$4,Reservations!$E$6:$E$155,"<="&$A6,Reservations!$F$6:$F$155,">"&$A6,Reservations!$K$6:$K$155,"Hold"),SUMIFS(Reservations!$G$6:$G$155,Reservations!$D$6:$D$155,B$4,Reservations!$E$6:$E$155,"<="&$A6,Reservations!$F$6:$F$155,">"&$A6,Reservations!$K$6:$K$155,"Checked In"))) | C6: =IF(OR($A6="",C$4=""),"",SUM(SUMIFS(Reservations!$G$6:$G$155,Reservations!$D$6:$D$155,C$4,Reservations!$E$6:$E$155,"<="&$A6,Reservations!$F$6:$F$155,">"&$A6,Reservations!$K$6:$K$155,"Confirmed"),SUMIFS(Reservations!$G$6:$G$155,Reservations!$D$6:$D$155,C$4,Reservations!$E$6:$E$155,"<="&$A6,Reservations!$F$6:$F$155,">"&$A6,Reservations!$K$6:$K$155,"Hold"),SUMIFS(Reservations!$G$6:$G$155,Reservations!$D$6:$D$155,C$4,Reservations!$E$6:$E$155,"<="&$A6,Reservations!$F$6:$F$155,">"&$A6,Reservations!$K$6:$K$155,"Checked In"))) | D6: =IF(OR($A6="",D$4=""),"",SUM(SUMIFS(Reservations!$G$6:$G$155,Reservations!$D$6:$D$155,D$4,Reservations!$E$6:$E$155,"<="&$A6,Reservations!$F$6:$F$155,">"&$A6,Reservations!$K$6:$K$155,"Confirmed"),SUMIFS(Reservations!$G$6:$G$155,Reservations!$D$6:$D$155,D$4,Reservations!$E$6:$E$155,"<="&$A6,Reservations!$F$6:$F$155,">"&$A6,Reservations!$K$6:$K$155,"Hold"),SUMIFS(Reservations!$G$6:$G$155,Reservations!$D$6:$D$155,D$4,Reservations!$E$6:$E$155,"<="&$A6,Reservations!$F$6:$F$155,">"&$A6,Reservations!$K$6:$K$155,"Checked In"))) | E6: =IF($A6="","",SUM(B6:D6)) | F6: =IF($A6="","",$E$3) | G6: =IF($A6="","",F6-E6) | H6: =IF($A6="","",IF(G6<0,"CHECK CAPACITY",IF(G6=0,"Full","Open")))
A7: =IF(ROW()-4<=Assumptions!$B$5,Assumptions!$B$4+ROW()-5,"") | B7: =IF(OR($A7="",B$4=""),"",SUM(SUMIFS(Reservations!$G$6:$G$155,Reservations!$D$6:$D$155,B$4,Reservations!$E$6:$E$155,"<="&$A7,Reservations!$F$6:$F$155,">"&$A7,Reservations!$K$6:$K$155,"Confirmed"),SUMIFS(Reservations!$G$6:$G$155,Reservations!$D$6:$D$155,B$4,Reservations!$E$6:$E$155,"<="&$A7,Reservations!$F$6:$F$155,">"&$A7,Reservations!$K$6:$K$155,"Hold"),SUMIFS(Reservations!$G$6:$G$155,Reservations!$D$6:$D$155,B$4,Reservations!$E$6:$E$155,"<="&$A7,Reservations!$F$6:$F$155,">"&$A7,Reservations!$K$6:$K$155,"Checked In"))) | C7: =IF(OR($A7="",C$4=""),"",SUM(SUMIFS(Reservations!$G$6:$G$155,Reservations!$D$6:$D$155,C$4,Reservations!$E$6:$E$155,"<="&$A7,Reservations!$F$6:$F$155,">"&$A7,Reservations!$K$6:$K$155,"Confirmed"),SUMIFS(Reservations!$G$6:$G$155,Reservations!$D$6:$D$155,C$4,Reservations!$E$6:$E$155,"<="&$A7,Reservations!$F$6:$F$155,">"&$A7,Reservations!$K$6:$K$155,"Hold"),SUMIFS(Reservations!$G$6:$G$155,Reservations!$D$6:$D$155,C$4,Reservations!$E$6:$E$155,"<="&$A7,Reservations!$F$6:$F$155,">"&$A7,Reservations!$K$6:$K$155,"Checked In"))) | D7: =IF(OR($A7="",D$4=""),"",SUM(SUMIFS(Reservations!$G$6:$G$155,Reservations!$D$6:$D$155,D$4,Reservations!$E$6:$E$155,"<="&$A7,Reservations!$F$6:$F$155,">"&$A7,Reservations!$K$6:$K$155,"Confirmed"),SUMIFS(Reservations!$G$6:$G$155,Reservations!$D$6:$D$155,D$4,Reservations!$E$6:$E$155,"<="&$A7,Reservations!$F$6:$F$155,">"&$A7,Reservations!$K$6:$K$155,"Hold"),SUMIFS(Reservations!$G$6:$G$155,Reservations!$D$6:$D$155,D$4,Reservations!$E$6:$E$155,"<="&$A7,Reservations!$F$6:$F$155,">"&$A7,Reservations!$K$6:$K$155,"Checked In"))) | E7: =IF($A7="","",SUM(B7:D7)) | F7: =IF($A7="","",$E$3) | G7: =IF($A7="","",F7-E7) | H7: =IF($A7="","",IF(G7<0,"CHECK CAPACITY",IF(G7=0,"Full","Open")))
A8: =IF(ROW()-4<=Assumptions!$B$5,Assumptions!$B$4+ROW()-5,"") | B8: =IF(OR($A8="",B$4=""),"",SUM(SUMIFS(Reservations!$G$6:$G$155,Reservations!$D$6:$D$155,B$4,Reservations!$E$6:$E$155,"<="&$A8,Reservations!$F$6:$F$155,">"&$A8,Reservations!$K$6:$K$155,"Confirmed"),SUMIFS(Reservations!$G$6:$G$155,Reservations!$D$6:$D$155,B$4,Reservations!$E$6:$E$155,"<="&$A8,Reservations!$F$6:$F$155,">"&$A8,Reservations!$K$6:$K$155,"Hold"),SUMIFS(Reservations!$G$6:$G$155,Reservations!$D$6:$D$155,B$4,Reservations!$E$6:$E$155,"<="&$A8,Reservations!$F$6:$F$155,">"&$A8,Reservations!$K$6:$K$155,"Checked In"))) | C8: =IF(OR($A8="",C$4=""),"",SUM(SUMIFS(Reservations!$G$6:$G$155,Reservations!$D$6:$D$155,C$4,Reservations!$E$6:$E$155,"<="&$A8,Reservations!$F$6:$F$155,">"&$A8,Reservations!$K$6:$K$155,"Confirmed"),SUMIFS(Reservations!$G$6:$G$155,Reservations!$D$6:$D$155,C$4,Reservations!$E$6:$E$155,"<="&$A8,Reservations!$F$6:$F$155,">"&$A8,Reservations!$K$6:$K$155,"Hold"),SUMIFS(Reservations!$G$6:$G$155,Reservations!$D$6:$D$155,C$4,Reservations!$E$6:$E$155,"<="&$A8,Reservations!$F$6:$F$155,">"&$A8,Reservations!$K$6:$K$155,"Checked In"))) | D8: =IF(OR($A8="",D$4=""),"",SUM(SUMIFS(Reservations!$G$6:$G$155,Reservations!$D$6:$D$155,D$4,Reservations!$E$6:$E$155,"<="&$A8,Reservations!$F$6:$F$155,">"&$A8,Reservations!$K$6:$K$155,"Confirmed"),SUMIFS(Reservations!$G$6:$G$155,Reservations!$D$6:$D$155,D$4,Reservations!$E$6:$E$155,"<="&$A8,Reservations!$F$6:$F$155,">"&$A8,Reservations!$K$6:$K$155,"Hold"),SUMIFS(Reservations!$G$6:$G$155,Reservations!$D$6:$D$155,D$4,Reservations!$E$6:$E$155,"<="&$A8,Reservations!$F$6:$F$155,">"&$A8,Reservations!$K$6:$K$155,"Checked In"))) | E8: =IF($A8="","",SUM(B8:D8)) | F8: =IF($A8="","",$E$3) | G8: =IF($A8="","",F8-E8) | H8: =IF($A8="","",IF(G8<0,"CHECK CAPACITY",IF(G8=0,"Full","Open")))
A9: =IF(ROW()-4<=Assumptions!$B$5,Assumptions!$B$4+ROW()-5,"") | B9: =IF(OR($A9="",B$4=""),"",SUM(SUMIFS(Reservations!$G$6:$G$155,Reservations!$D$6:$D$155,B$4,Reservations!$E$6:$E$155,"<="&$A9,Reservations!$F$6:$F$155,">"&$A9,Reservations!$K$6:$K$155,"Confirmed"),SUMIFS(Reservations!$G$6:$G$155,Reservations!$D$6:$D$155,B$4,Reservations!$E$6:$E$155,"<="&$A9,Reservations!$F$6:$F$155,">"&$A9,Reservations!$K$6:$K$155,"Hold"),SUMIFS(Reservations!$G$6:$G$155,Reservations!$D$6:$D$155,B$4,Reservations!$E$6:$E$155,"<="&$A9,Reservations!$F$6:$F$155,">"&$A9,Reservations!$K$6:$K$155,"Checked In"))) | C9: =IF(OR($A9="",C$4=""),"",SUM(SUMIFS(Reservations!$G$6:$G$155,Reservations!$D$6:$D$155,C$4,Reservations!$E$6:$E$155,"<="&$A9,Reservations!$F$6:$F$155,">"&$A9,Reservations!$K$6:$K$155,"Confirmed"),SUMIFS(Reservations!$G$6:$G$155,Reservations!$D$6:$D$155,C$4,Reservations!$E$6:$E$155,"<="&$A9,Reservations!$F$6:$F$155,">"&$A9,Reservations!$K$6:$K$155,"Hold"),SUMIFS(Reservations!$G$6:$G$155,Reservations!$D$6:$D$155,C$4,Reservations!$E$6:$E$155,"<="&$A9,Reservations!$F$6:$F$155,">"&$A9,Reservations!$K$6:$K$155,"Checked In"))) | D9: =IF(OR($A9="",D$4=""),"",SUM(SUMIFS(Reservations!$G$6:$G$155,Reservations!$D$6:$D$155,D$4,Reservations!$E$6:$E$155,"<="&$A9,Reservations!$F$6:$F$155,">"&$A9,Reservations!$K$6:$K$155,"Confirmed"),SUMIFS(Reservations!$G$6:$G$155,Reservations!$D$6:$D$155,D$4,Reservations!$E$6:$E$155,"<="&$A9,Reservations!$F$6:$F$155,">"&$A9,Reservations!$K$6:$K$155,"Hold"),SUMIFS(Reservations!$G$6:$G$155,Reservations!$D$6:$D$155,D$4,Reservations!$E$6:$E$155,"<="&$A9,Reservations!$F$6:$F$155,">"&$A9,Reservations!$K$6:$K$155,"Checked In"))) | E9: =IF($A9="","",SUM(B9:D9)) | F9: =IF($A9="","",$E$3) | G9: =IF($A9="","",F9-E9) | H9: =IF($A9="","",IF(G9<0,"CHECK CAPACITY",IF(G9=0,"Full","Open")))
A10: =IF(ROW()-4<=Assumptions!$B$5,Assumptions!$B$4+ROW()-5,"") | B10: =IF(OR($A10="",B$4=""),"",SUM(SUMIFS(Reservations!$G$6:$G$155,Reservations!$D$6:$D$155,B$4,Reservations!$E$6:$E$155,"<="&$A10,Reservations!$F$6:$F$155,">"&$A10,Reservations!$K$6:$K$155,"Confirmed"),SUMIFS(Reservations!$G$6:$G$155,Reservations!$D$6:$D$155,B$4,Reservations!$E$6:$E$155,"<="&$A10,Reservations!$F$6:$F$155,">"&$A10,Reservations!$K$6:$K$155,"Hold"),SUMIFS(Reservations!$G$6:$G$155,Reservations!$D$6:$D$155,B$4,Reservations!$E$6:$E$155,"<="&$A10,Reservations!$F$6:$F$155,">"&$A10,Reservations!$K$6:$K$155,"Checked In"))) | C10: =IF(OR($A10="",C$4=""),"",SUM(SUMIFS(Reservations!$G$6:$G$155,Reservations!$D$6:$D$155,C$4,Reservations!$E$6:$E$155,"<="&$A10,Reservations!$F$6:$F$155,">"&$A10,Reservations!$K$6:$K$155,"Confirmed"),SUMIFS(Reservations!$G$6:$G$155,Reservations!$D$6:$D$155,C$4,Reservations!$E$6:$E$155,"<="&$A10,Reservations!$F$6:$F$155,">"&$A10,Reservations!$K$6:$K$155,"Hold"),SUMIFS(Reservations!$G$6:$G$155,Reservations!$D$6:$D$155,C$4,Reservations!$E$6:$E$155,"<="&$A10,Reservations!$F$6:$F$155,">"&$A10,Reservations!$K$6:$K$155,"Checked In"))) | D10: =IF(OR($A10="",D$4=""),"",SUM(SUMIFS(Reservations!$G$6:$G$155,Reservations!$D$6:$D$155,D$4,Reservations!$E$6:$E$155,"<="&$A10,Reservations!$F$6:$F$155,">"&$A10,Reservations!$K$6:$K$155,"Confirmed"),SUMIFS(Reservations!$G$6:$G$155,Reservations!$D$6:$D$155,D$4,Reservations!$E$6:$E$155,"<="&$A10,Reservations!$F$6:$F$155,">"&$A10,Reservations!$K$6:$K$155,"Hold"),SUMIFS(Reservations!$G$6:$G$155,Reservations!$D$6:$D$155,D$4,Reservations!$E$6:$E$155,"<="&$A10,Reservations!$F$6:$F$155,">"&$A10,Reservations!$K$6:$K$155,"Checked In"))) | E10: =IF($A10="","",SUM(B10:D10)) | F10: =IF($A10="","",$E$3) | G10: =IF($A10="","",F10-E10) | H10: =IF($A10="","",IF(G10<0,"CHECK CAPACITY",IF(G10=0,"Full","Open")))
A11: =IF(ROW()-4<=Assumptions!$B$5,Assumptions!$B$4+ROW()-5,"") | B11: =IF(OR($A11="",B$4=""),"",SUM(SUMIFS(Reservations!$G$6:$G$155,Reservations!$D$6:$D$155,B$4,Reservations!$E$6:$E$155,"<="&$A11,Reservations!$F$6:$F$155,">"&$A11,Reservations!$K$6:$K$155,"Confirmed"),SUMIFS(Reservations!$G$6:$G$155,Reservations!$D$6:$D$155,B$4,Reservations!$E$6:$E$155,"<="&$A11,Reservations!$F$6:$F$155,">"&$A11,Reservations!$K$6:$K$155,"Hold"),SUMIFS(Reservations!$G$6:$G$155,Reservations!$D$6:$D$155,B$4,Reservations!$E$6:$E$155,"<="&$A11,Reservations!$F$6:$F$155,">"&$A11,Reservations!$K$6:$K$155,"Checked In"))) | C11: =IF(OR($A11="",C$4=""),"",SUM(SUMIFS(Reservations!$G$6:$G$155,Reservations!$D$6:$D$155,C$4,Reservations!$E$6:$E$155,"<="&$A11,Reservations!$F$6:$F$155,">"&$A11,Reservations!$K$6:$K$155,"Confirmed"),SUMIFS(Reservations!$G$6:$G$155,Reservations!$D$6:$D$155,C$4,Reservations!$E$6:$E$155,"<="&$A11,Reservations!$F$6:$F$155,">"&$A11,Reservations!$K$6:$K$155,"Hold"),SUMIFS(Reservations!$G$6:$G$155,Reservations!$D$6:$D$155,C$4,Reservations!$E$6:$E$155,"<="&$A11,Reservations!$F$6:$F$155,">"&$A11,Reservations!$K$6:$K$155,"Checked In"))) | D11: =IF(OR($A11="",D$4=""),"",SUM(SUMIFS(Reservations!$G$6:$G$155,Reservations!$D$6:$D$155,D$4,Reservations!$E$6:$E$155,"<="&$A11,Reservations!$F$6:$F$155,">"&$A11,Reservations!$K$6:$K$155,"Confirmed"),SUMIFS(Reservations!$G$6:$G$155,Reservations!$D$6:$D$155,D$4,Reservations!$E$6:$E$155,"<="&$A11,Reservations!$F$6:$F$155,">"&$A11,Reservations!$K$6:$K$155,"Hold"),SUMIFS(Reservations!$G$6:$G$155,Reservations!$D$6:$D$155,D$4,Reservations!$E$6:$E$155,"<="&$A11,Reservations!$F$6:$F$155,">"&$A11,Reservations!$K$6:$K$155,"Checked In"))) | E11: =IF($A11="","",SUM(B11:D11)) | F11: =IF($A11="","",$E$3) | G11: =IF($A11="","",F11-E11) | H11: =IF($A11="","",IF(G11<0,"CHECK CAPACITY",IF(G11=0,"Full","Open")))
A12: =IF(ROW()-4<=Assumptions!$B$5,Assumptions!$B$4+ROW()-5,"") | B12: =IF(OR($A12="",B$4=""),"",SUM(SUMIFS(Reservations!$G$6:$G$155,Reservations!$D$6:$D$155,B$4,Reservations!$E$6:$E$155,"<="&$A12,Reservations!$F$6:$F$155,">"&$A12,Reservations!$K$6:$K$155,"Confirmed"),SUMIFS(Reservations!$G$6:$G$155,Reservations!$D$6:$D$155,B$4,Reservations!$E$6:$E$155,"<="&$A12,Reservations!$F$6:$F$155,">"&$A12,Reservations!$K$6:$K$155,"Hold"),SUMIFS(Reservations!$G$6:$G$155,Reservations!$D$6:$D$155,B$4,Reservations!$E$6:$E$155,"<="&$A12,Reservations!$F$6:$F$155,">"&$A12,Reservations!$K$6:$K$155,"Checked In"))) | C12: =IF(OR($A12="",C$4=""),"",SUM(SUMIFS(Reservations!$G$6:$G$155,Reservations!$D$6:$D$155,C$4,Reservations!$E$6:$E$155,"<="&$A12,Reservations!$F$6:$F$155,">"&$A12,Reservations!$K$6:$K$155,"Confirmed"),SUMIFS(Reservations!$G$6:$G$155,Reservations!$D$6:$D$155,C$4,Reservations!$E$6:$E$155,"<="&$A12,Reservations!$F$6:$F$155,">"&$A12,Reservations!$K$6:$K$155,"Hold"),SUMIFS(Reservations!$G$6:$G$155,Reservations!$D$6:$D$155,C$4,Reservations!$E$6:$E$155,"<="&$A12,Reservations!$F$6:$F$155,">"&$A12,Reservations!$K$6:$K$155,"Checked In"))) | D12: =IF(OR($A12="",D$4=""),"",SUM(SUMIFS(Reservations!$G$6:$G$155,Reservations!$D$6:$D$155,D$4,Reservations!$E$6:$E$155,"<="&$A12,Reservations!$F$6:$F$155,">"&$A12,Reservations!$K$6:$K$155,"Confirmed"),SUMIFS(Reservations!$G$6:$G$155,Reservations!$D$6:$D$155,D$4,Reservations!$E$6:$E$155,"<="&$A12,Reservations!$F$6:$F$155,">"&$A12,Reservations!$K$6:$K$155,"Hold"),SUMIFS(Reservations!$G$6:$G$155,Reservations!$D$6:$D$155,D$4,Reservations!$E$6:$E$155,"<="&$A12,Reservations!$F$6:$F$155,">"&$A12,Reservations!$K$6:$K$155,"Checked In"))) | E12: =IF($A12="","",SUM(B12:D12)) | F12: =IF($A12="","",$E$3) | G12: =IF($A12="","",F12-E12) | H12: =IF($A12="","",IF(G12<0,"CHECK CAPACITY",IF(G12=0,"Full","Open")))
A13: =IF(ROW()-4<=Assumptions!$B$5,Assumptions!$B$4+ROW()-5,"") | B13: =IF(OR($A13="",B$4=""),"",SUM(SUMIFS(Reservations!$G$6:$G$155,Reservations!$D$6:$D$155,B$4,Reservations!$E$6:$E$155,"<="&$A13,Reservations!$F$6:$F$155,">"&$A13,Reservations!$K$6:$K$155,"Confirmed"),SUMIFS(Reservations!$G$6:$G$155,Reservations!$D$6:$D$155,B$4,Reservations!$E$6:$E$155,"<="&$A13,Reservations!$F$6:$F$155,">"&$A13,Reservations!$K$6:$K$155,"Hold"),SUMIFS(Reservations!$G$6:$G$155,Reservations!$D$6:$D$155,B$4,Reservations!$E$6:$E$155,"<="&$A13,Reservations!$F$6:$F$155,">"&$A13,Reservations!$K$6:$K$155,"Checked In"))) | C13: =IF(OR($A13="",C$4=""),"",SUM(SUMIFS(Reservations!$G$6:$G$155,Reservations!$D$6:$D$155,C$4,Reservations!$E$6:$E$155,"<="&$A13,Reservations!$F$6:$F$155,">"&$A13,Reservations!$K$6:$K$155,"Confirmed"),SUMIFS(Reservations!$G$6:$G$155,Reservations!$D$6:$D$155,C$4,Reservations!$E$6:$E$155,"<="&$A13,Reservations!$F$6:$F$155,">"&$A13,Reservations!$K$6:$K$155,"Hold"),SUMIFS(Reservations!$G$6:$G$155,Reservations!$D$6:$D$155,C$4,Reservations!$E$6:$E$155,"<="&$A13,Reservations!$F$6:$F$155,">"&$A13,Reservations!$K$6:$K$155,"Checked In"))) | D13: =IF(OR($A13="",D$4=""),"",SUM(SUMIFS(Reservations!$G$6:$G$155,Reservations!$D$6:$D$155,D$4,Reservations!$E$6:$E$155,"<="&$A13,Reservations!$F$6:$F$155,">"&$A13,Reservations!$K$6:$K$155,"Confirmed"),SUMIFS(Reservations!$G$6:$G$155,Reservations!$D$6:$D$155,D$4,Reservations!$E$6:$E$155,"<="&$A13,Reservations!$F$6:$F$155,">"&$A13,Reservations!$K$6:$K$155,"Hold"),SUMIFS(Reservations!$G$6:$G$155,Reservations!$D$6:$D$155,D$4,Reservations!$E$6:$E$155,"<="&$A13,Reservations!$F$6:$F$155,">"&$A13,Reservations!$K$6:$K$155,"Checked In"))) | E13: =IF($A13="","",SUM(B13:D13)) | F13: =IF($A13="","",$E$3) | G13: =IF($A13="","",F13-E13) | H13: =IF($A13="","",IF(G13<0,"CHECK CAPACITY",IF(G13=0,"Full","Open")))
A14: =IF(ROW()-4<=Assumptions!$B$5,Assumptions!$B$4+ROW()-5,"") | B14: =IF(OR($A14="",B$4=""),"",SUM(SUMIFS(Reservations!$G$6:$G$155,Reservations!$D$6:$D$155,B$4,Reservations!$E$6:$E$155,"<="&$A14,Reservations!$F$6:$F$155,">"&$A14,Reservations!$K$6:$K$155,"Confirmed"),SUMIFS(Reservations!$G$6:$G$155,Reservations!$D$6:$D$155,B$4,Reservations!$E$6:$E$155,"<="&$A14,Reservations!$F$6:$F$155,">"&$A14,Reservations!$K$6:$K$155,"Hold"),SUMIFS(Reservations!$G$6:$G$155,Reservations!$D$6:$D$155,B$4,Reservations!$E$6:$E$155,"<="&$A14,Reservations!$F$6:$F$155,">"&$A14,Reservations!$K$6:$K$155,"Checked In"))) | C14: =IF(OR($A14="",C$4=""),"",SUM(SUMIFS(Reservations!$G$6:$G$155,Reservations!$D$6:$D$155,C$4,Reservations!$E$6:$E$155,"<="&$A14,Reservations!$F$6:$F$155,">"&$A14,Reservations!$K$6:$K$155,"Confirmed"),SUMIFS(Reservations!$G$6:$G$155,Reservations!$D$6:$D$155,C$4,Reservations!$E$6:$E$155,"<="&$A14,Reservations!$F$6:$F$155,">"&$A14,Reservations!$K$6:$K$155,"Hold"),SUMIFS(Reservations!$G$6:$G$155,Reservations!$D$6:$D$155,C$4,Reservations!$E$6:$E$155,"<="&$A14,Reservations!$F$6:$F$155,">"&$A14,Reservations!$K$6:$K$155,"Checked In"))) | D14: =IF(OR($A14="",D$4=""),"",SUM(SUMIFS(Reservations!$G$6:$G$155,Reservations!$D$6:$D$155,D$4,Reservations!$E$6:$E$155,"<="&$A14,Reservations!$F$6:$F$155,">"&$A14,Reservations!$K$6:$K$155,"Confirmed"),SUMIFS(Reservations!$G$6:$G$155,Reservations!$D$6:$D$155,D$4,Reservations!$E$6:$E$155,"<="&$A14,Reservations!$F$6:$F$155,">"&$A14,Reservations!$K$6:$K$155,"Hold"),SUMIFS(Reservations!$G$6:$G$155,Reservations!$D$6:$D$155,D$4,Reservations!$E$6:$E$155,"<="&$A14,Reservations!$F$6:$F$155,">"&$A14,Reservations!$K$6:$K$155,"Checked In"))) | E14: =IF($A14="","",SUM(B14:D14)) | F14: =IF($A14="","",$E$3) | G14: =IF($A14="","",F14-E14) | H14: =IF($A14="","",IF(G14<0,"CHECK CAPACITY",IF(G14=0,"Full","Open")))
A15: =IF(ROW()-4<=Assumptions!$B$5,Assumptions!$B$4+ROW()-5,"") | B15: =IF(OR($A15="",B$4=""),"",SUM(SUMIFS(Reservations!$G$6:$G$155,Reservations!$D$6:$D$155,B$4,Reservations!$E$6:$E$155,"<="&$A15,Reservations!$F$6:$F$155,">"&$A15,Reservations!$K$6:$K$155,"Confirmed"),SUMIFS(Reservations!$G$6:$G$155,Reservations!$D$6:$D$155,B$4,Reservations!$E$6:$E$155,"<="&$A15,Reservations!$F$6:$F$155,">"&$A15,Reservations!$K$6:$K$155,"Hold"),SUMIFS(Reservations!$G$6:$G$155,Reservations!$D$6:$D$155,B$4,Reservations!$E$6:$E$155,"<="&$A15,Reservations!$F$6:$F$155,">"&$A15,Reservations!$K$6:$K$155,"Checked In"))) | C15: =IF(OR($A15="",C$4=""),"",SUM(SUMIFS(Reservations!$G$6:$G$155,Reservations!$D$6:$D$155,C$4,Reservations!$E$6:$E$155,"<="&$A15,Reservations!$F$6:$F$155,">"&$A15,Reservations!$K$6:$K$155,"Confirmed"),SUMIFS(Reservations!$G$6:$G$155,Reservations!$D$6:$D$155,C$4,Reservations!$E$6:$E$155,"<="&$A15,Reservations!$F$6:$F$155,">"&$A15,Reservations!$K$6:$K$155,"Hold"),SUMIFS(Reservations!$G$6:$G$155,Reservations!$D$6:$D$155,C$4,Reservations!$E$6:$E$155,"<="&$A15,Reservations!$F$6:$F$155,">"&$A15,Reservations!$K$6:$K$155,"Checked In"))) | D15: =IF(OR($A15="",D$4=""),"",SUM(SUMIFS(Reservations!$G$6:$G$155,Reservations!$D$6:$D$155,D$4,Reservations!$E$6:$E$155,"<="&$A15,Reservations!$F$6:$F$155,">"&$A15,Reservations!$K$6:$K$155,"Confirmed"),SUMIFS(Reservations!$G$6:$G$155,Reservations!$D$6:$D$155,D$4,Reservations!$E$6:$E$155,"<="&$A15,Reservations!$F$6:$F$155,">"&$A15,Reservations!$K$6:$K$155,"Hold"),SUMIFS(Reservations!$G$6:$G$155,Reservations!$D$6:$D$155,D$4,Reservations!$E$6:$E$155,"<="&$A15,Reservations!$F$6:$F$155,">"&$A15,Reservations!$K$6:$K$155,"Checked In"))) | E15: =IF($A15="","",SUM(B15:D15)) | F15: =IF($A15="","",$E$3) | G15: =IF($A15="","",F15-E15) | H15: =IF($A15="","",IF(G15<0,"CHECK CAPACITY",IF(G15=0,"Full","Open")))
A16: =IF(ROW()-4<=Assumptions!$B$5,Assumptions!$B$4+ROW()-5,"") | B16: =IF(OR($A16="",B$4=""),"",SUM(SUMIFS(Reservations!$G$6:$G$155,Reservations!$D$6:$D$155,B$4,Reservations!$E$6:$E$155,"<="&$A16,Reservations!$F$6:$F$155,">"&$A16,Reservations!$K$6:$K$155,"Confirmed"),SUMIFS(Reservations!$G$6:$G$155,Reservations!$D$6:$D$155,B$4,Reservations!$E$6:$E$155,"<="&$A16,Reservations!$F$6:$F$155,">"&$A16,Reservations!$K$6:$K$155,"Hold"),SUMIFS(Reservations!$G$6:$G$155,Reservations!$D$6:$D$155,B$4,Reservations!$E$6:$E$155,"<="&$A16,Reservations!$F$6:$F$155,">"&$A16,Reservations!$K$6:$K$155,"Checked In"))) | C16: =IF(OR($A16="",C$4=""),"",SUM(SUMIFS(Reservations!$G$6:$G$155,Reservations!$D$6:$D$155,C$4,Reservations!$E$6:$E$155,"<="&$A16,Reservations!$F$6:$F$155,">"&$A16,Reservations!$K$6:$K$155,"Confirmed"),SUMIFS(Reservations!$G$6:$G$155,Reservations!$D$6:$D$155,C$4,Reservations!$E$6:$E$155,"<="&$A16,Reservations!$F$6:$F$155,">"&$A16,Reservations!$K$6:$K$155,"Hold"),SUMIFS(Reservations!$G$6:$G$155,Reservations!$D$6:$D$155,C$4,Reservations!$E$6:$E$155,"<="&$A16,Reservations!$F$6:$F$155,">"&$A16,Reservations!$K$6:$K$155,"Checked In"))) | D16: =IF(OR($A16="",D$4=""),"",SUM(SUMIFS(Reservations!$G$6:$G$155,Reservations!$D$6:$D$155,D$4,Reservations!$E$6:$E$155,"<="&$A16,Reservations!$F$6:$F$155,">"&$A16,Reservations!$K$6:$K$155,"Confirmed"),SUMIFS(Reservations!$G$6:$G$155,Reservations!$D$6:$D$155,D$4,Reservations!$E$6:$E$155,"<="&$A16,Reservations!$F$6:$F$155,">"&$A16,Reservations!$K$6:$K$155,"Hold"),SUMIFS(Reservations!$G$6:$G$155,Reservations!$D$6:$D$155,D$4,Reservations!$E$6:$E$155,"<="&$A16,Reservations!$F$6:$F$155,">"&$A16,Reservations!$K$6:$K$155,"Checked In"))) | E16: =IF($A16="","",SUM(B16:D16)) | F16: =IF($A16="","",$E$3) | G16: =IF($A16="","",F16-E16) | H16: =IF($A16="","",IF(G16<0,"CHECK CAPACITY",IF(G16=0,"Full","Open")))
... A124: =IF(ROW()-4<=Assumptions!$B$5,Assumptions!$B$4+ROW()-5,"") | B124: =IF(OR($A124="",B$4=""),"",SUM(SUMIFS(Reservations!$G$6:$G$155,Reservations!$D$6:$D$155,B$4,Reservations!$E$6:$E$155,"<="&$A124,Reservations!$F$6:$F$155,">"&$A124,Reservations!$K$6:$K$155,"Confirmed"),SUMIFS(Reservations!$G$6:$G$155,Reservations!$D$6:$D$155,B$4,Reservations!$E$6:$E$155,"<="&$A124,Reservations!$F$6:$F$155,">"&$A124,Reservations!$K$6:$K$155,"Hold"),SUMIFS(Reservations!$G$6:$G$155,Reservations!$D$6:$D$155,B$4,Reservations!$E$6:$E$155,"<="&$A124,Reservations!$F$6:$F$155,">"&$A124,Reservations!$K$6:$K$155,"Checked In"))) | C124: =IF(OR($A124="",C$4=""),"",SUM(SUMIFS(Reservations!$G$6:$G$155,Reservations!$D$6:$D$155,C$4,Reservations!$E$6:$E$155,"<="&$A124,Reservations!$F$6:$F$155,">"&$A124,Reservations!$K$6:$K$155,"Confirmed"),SUMIFS(Reservations!$G$6:$G$155,Reservations!$D$6:$D$155,C$4,Reservations!$E$6:$E$155,"<="&$A124,Reservations!$F$6:$F$155,">"&$A124,Reservations!$K$6:$K$155,"Hold"),SUMIFS(Reservations!$G$6:$G$155,Reservations!$D$6:$D$155,C$4,Reservations!$E$6:$E$155,"<="&$A124,Reservations!$F$6:$F$155,">"&$A124,Reservations!$K$6:$K$155,"Checked In"))) | D124: =IF(OR($A124="",D$4=""),"",SUM(SUMIFS(Reservations!$G$6:$G$155,Reservations!$D$6:$D$155,D$4,Reservations!$E$6:$E$155,"<="&$A124,Reservations!$F$6:$F$155,">"&$A124,Reservations!$K$6:$K$155,"Confirmed"),SUMIFS(Reservations!$G$6:$G$155,Reservations!$D$6:$D$155,D$4,Reservations!$E$6:$E$155,"<="&$A124,Reservations!$F$6:$F$155,">"&$A124,Reservations!$K$6:$K$155,"Hold"),SUMIFS(Reservations!$G$6:$G$155,Reservations!$D$6:$D$155,D$4,Reservations!$E$6:$E$155,"<="&$A124,Reservations!$F$6:$F$155,">"&$A124,Reservations!$K$6:$K$155,"Checked In"))) | E124: =IF($A124="","",SUM(B124:D124)) | F124: =IF($A124="","",$E$3) | G124: =IF($A124="","",F124-E124) | H124: =IF($A124="","",IF(G124<0,"CHECK CAPACITY",IF(G124=0,"Full","Open")))

Sheet Assumptions
A1: Editable Boarding Assumptions
A2: Edit planning dates, operating limits, room capacities, rate guides, and stable status choices.
A3: Planning Setting | B3: Value | D3: Room Type | E3: Room Capacity | F3: Default Nightly Rate | H3: Reservation Status
A4: Planning Start | B4: 46274 | D4: Standard | E4: 3 | F4: 54 | H4: Hold
A5: Planning Horizon (Days) | B5: 120 | D5: Suite | E5: 2 | F5: 78 | H5: Confirmed
A6: Max Rooms per Reservation | B6: 5 | D6: Cat Condo | E6: 2 | F6: 42 | H6: Checked In
A7: Max Nightly Rate | B7: 500 | H7: Completed
A8: Max Daily Add-ons | B8: 250 | H8: Cancelled
