Workbook

Sheet Summary
A1: Pet Booking Lead Time Dashboard
A2: Indicators below are calculated from the entered booking records.
A3: Indicator | B3: Value
A4: Requests Logged | B4: =COUNTA(Bookings!$A$4:$A$103)
A5: Active Bookings | B5: =COUNTIFS(Bookings!$A$4:$A$103,"<>",Bookings!$H$4:$H$103,"Requested")+COUNTIFS(Bookings!$A$4:$A$103,"<>",Bookings!$H$4:$H$103,"Confirmed")+COUNTIFS(Bookings!$A$4:$A$103,"<>",Bookings!$H$4:$H$103,"Completed")
A6: Bookings with Valid Lead Time | B6: =COUNT(Bookings!$I$4:$I$103)
A7: Average Lead Time (Days) | B7: =IFERROR(AVERAGE(Bookings!$I$4:$I$103),"")
A8: Within Target | B8: =IFERROR(SUMPRODUCT(--(Bookings!$I$4:$I$103<>""),--(Bookings!$I$4:$I$103<=Assumptions!$I$9))/COUNT(Bookings!$I$4:$I$103),"")
A9: Capacity Review Alerts | B9: =COUNTIF(Bookings!$K$4:$K$103,"Review capacity")
A10: Date Check Alerts | B10: =COUNTIF(Bookings!$K$4:$K$103,"Check dates")+COUNTIF(Bookings!$K$4:$K$103,"Missing dates")
A11: Confirmed Bookings | B11: =COUNTIFS(Bookings!$A$4:$A$103,"<>",Bookings!$H$4:$H$103,"Confirmed")
A12: Requested Bookings | B12: =COUNTIFS(Bookings!$A$4:$A$103,"<>",Bookings!$H$4:$H$103,"Requested")
A14: Status Mix | D14: Service Mix
A15: Status | B15: Bookings | D15: Service Type | E15: Bookings | F15: Average Days
A16: =Assumptions!$A$4 | B16: =COUNTIFS(Bookings!$A$4:$A$103,"<>",Bookings!$H$4:$H$103,$A16) | D16: =Assumptions!$C$4 | E16: =COUNTIFS(Bookings!$A$4:$A$103,"<>",Bookings!$E$4:$E$103,$D16) | F16: =IFERROR(AVERAGEIF(Bookings!$E$4:$E$103,$D16,Bookings!$I$4:$I$103),"")
A17: =Assumptions!$A$5 | B17: =COUNTIFS(Bookings!$A$4:$A$103,"<>",Bookings!$H$4:$H$103,$A17) | D17: =Assumptions!$C$5 | E17: =COUNTIFS(Bookings!$A$4:$A$103,"<>",Bookings!$E$4:$E$103,$D17) | F17: =IFERROR(AVERAGEIF(Bookings!$E$4:$E$103,$D17,Bookings!$I$4:$I$103),"")
A18: =Assumptions!$A$6 | B18: =COUNTIFS(Bookings!$A$4:$A$103,"<>",Bookings!$H$4:$H$103,$A18) | D18: =Assumptions!$C$6 | E18: =COUNTIFS(Bookings!$A$4:$A$103,"<>",Bookings!$E$4:$E$103,$D18) | F18: =IFERROR(AVERAGEIF(Bookings!$E$4:$E$103,$D18,Bookings!$I$4:$I$103),"")
A19: =Assumptions!$A$7 | B19: =COUNTIFS(Bookings!$A$4:$A$103,"<>",Bookings!$H$4:$H$103,$A19) | D19: =Assumptions!$C$7 | E19: =COUNTIFS(Bookings!$A$4:$A$103,"<>",Bookings!$E$4:$E$103,$D19) | F19: =IFERROR(AVERAGEIF(Bookings!$E$4:$E$103,$D19,Bookings!$I$4:$I$103),"")
A20: =Assumptions!$A$8 | B20: =COUNTIFS(Bookings!$A$4:$A$103,"<>",Bookings!$H$4:$H$103,$A20) | D20: =Assumptions!$C$8 | E20: =COUNTIFS(Bookings!$A$4:$A$103,"<>",Bookings!$E$4:$E$103,$D20) | F20: =IFERROR(AVERAGEIF(Bookings!$E$4:$E$103,$D20,Bookings!$I$4:$I$103),"")
A23: Lead Time Mix
A24: Lead Time Band | B24: Bookings
A25: =Assumptions!$F$4 | B25: =COUNTIFS(Bookings!$A$4:$A$103,"<>",Bookings!$J$4:$J$103,$A25)
A26: =Assumptions!$F$5 | B26: =COUNTIFS(Bookings!$A$4:$A$103,"<>",Bookings!$J$4:$J$103,$A26)
A27: =Assumptions!$F$6 | B27: =COUNTIFS(Bookings!$A$4:$A$103,"<>",Bookings!$J$4:$J$103,$A27)
A28: =Assumptions!$F$7 | B28: =COUNTIFS(Bookings!$A$4:$A$103,"<>",Bookings!$J$4:$J$103,$A28)

Sheet Bookings
A1: Pet Booking Lead Time Records
A2: Enter one booking per row. Lead time uses calendar days from request to service; alerts are prompts for staff review.
A3: Booking ID | B3: Pet Name | C3: Request Date | D3: Service Date | E3: Service Type | F3: Pet Count | G3: Assigned To | H3: Status | I3: Lead Time (Days) | J3: Lead Time Band | K3: Check Needed
A4: BK-26-001 | B4: Comet | C4: 46230 | D4: 46231 | E4: Grooming | F4: 1 | G4: Team Member A | H4: Completed | I4: =IF(OR($C4="",$D4="",NOT(ISNUMBER($C4)),NOT(ISNUMBER($D4))),"",IFERROR(IF($D4<$C4,"",$D4-$C4),"")) | J4: =IF($I4="","",IFERROR(VLOOKUP($I4,Assumptions!$E$4:$F$7,2,TRUE),"Check thresholds")) | K4: =IF($A4="","",IF(OR($C4="",$D4=""),"Missing dates",IF(OR(NOT(ISNUMBER($C4)),NOT(ISNUMBER($D4))),"Check dates",IF($D4<$C4,"Check dates",IF($I4>=Assumptions!$I$8,"Review capacity","")))))
A5: BK-26-002 | B5: Waffles | C5: 46235 | D5: 46249 | E5: Boarding | F5: 2 | G5: Team Member B | H5: Completed | I5: =IF(OR($C5="",$D5="",NOT(ISNUMBER($C5)),NOT(ISNUMBER($D5))),"",IFERROR(IF($D5<$C5,"",$D5-$C5),"")) | J5: =IF($I5="","",IFERROR(VLOOKUP($I5,Assumptions!$E$4:$F$7,2,TRUE),"Check thresholds")) | K5: =IF($A5="","",IF(OR($C5="",$D5=""),"Missing dates",IF(OR(NOT(ISNUMBER($C5)),NOT(ISNUMBER($D5))),"Check dates",IF($D5<$C5,"Check dates",IF($I5>=Assumptions!$I$8,"Review capacity","")))))
A6: BK-26-003 | B6: Juniper | C6: 46250 | D6: 46276 | E6: Daycare | F6: 1 | G6: Team Member C | H6: Confirmed | I6: =IF(OR($C6="",$D6="",NOT(ISNUMBER($C6)),NOT(ISNUMBER($D6))),"",IFERROR(IF($D6<$C6,"",$D6-$C6),"")) | J6: =IF($I6="","",IFERROR(VLOOKUP($I6,Assumptions!$E$4:$F$7,2,TRUE),"Check thresholds")) | K6: =IF($A6="","",IF(OR($C6="",$D6=""),"Missing dates",IF(OR(NOT(ISNUMBER($C6)),NOT(ISNUMBER($D6))),"Check dates",IF($D6<$C6,"Check dates",IF($I6>=Assumptions!$I$8,"Review capacity","")))))
A7: BK-26-004 | B7: Orbit | C7: 46263 | D7: 46302 | E7: Pet Sitting | F7: 3 | G7: Team Member A | H7: Confirmed | I7: =IF(OR($C7="",$D7="",NOT(ISNUMBER($C7)),NOT(ISNUMBER($D7))),"",IFERROR(IF($D7<$C7,"",$D7-$C7),"")) | J7: =IF($I7="","",IFERROR(VLOOKUP($I7,Assumptions!$E$4:$F$7,2,TRUE),"Check thresholds")) | K7: =IF($A7="","",IF(OR($C7="",$D7=""),"Missing dates",IF(OR(NOT(ISNUMBER($C7)),NOT(ISNUMBER($D7))),"Check dates",IF($D7<$C7,"Check dates",IF($I7>=Assumptions!$I$8,"Review capacity","")))))
A8: BK-26-005 | B8: Pickle | C8: 46257 | D8: 46264 | E8: Dog Walking | F8: 1 | G8: Team Member B | H8: Completed | I8: =IF(OR($C8="",$D8="",NOT(ISNUMBER($C8)),NOT(ISNUMBER($D8))),"",IFERROR(IF($D8<$C8,"",$D8-$C8),"")) | J8: =IF($I8="","",IFERROR(VLOOKUP($I8,Assumptions!$E$4:$F$7,2,TRUE),"Check thresholds")) | K8: =IF($A8="","",IF(OR($C8="",$D8=""),"Missing dates",IF(OR(NOT(ISNUMBER($C8)),NOT(ISNUMBER($D8))),"Check dates",IF($D8<$C8,"Check dates",IF($I8>=Assumptions!$I$8,"Review capacity","")))))
A9: BK-26-006 | B9: Maple | C9: 46267 | D9: 46267 | E9: Grooming | F9: 1 | G9: Team Member C | H9: Completed | I9: =IF(OR($C9="",$D9="",NOT(ISNUMBER($C9)),NOT(ISNUMBER($D9))),"",IFERROR(IF($D9<$C9,"",$D9-$C9),"")) | J9: =IF($I9="","",IFERROR(VLOOKUP($I9,Assumptions!$E$4:$F$7,2,TRUE),"Check thresholds")) | K9: =IF($A9="","",IF(OR($C9="",$D9=""),"Missing dates",IF(OR(NOT(ISNUMBER($C9)),NOT(ISNUMBER($D9))),"Check dates",IF($D9<$C9,"Check dates",IF($I9>=Assumptions!$I$8,"Review capacity","")))))
A10: BK-26-007 | B10: Nimbus | C10: 46270 | D10: 46295 | E10: Boarding | F10: 2 | G10: Unassigned | H10: Requested | I10: =IF(OR($C10="",$D10="",NOT(ISNUMBER($C10)),NOT(ISNUMBER($D10))),"",IFERROR(IF($D10<$C10,"",$D10-$C10),"")) | J10: =IF($I10="","",IFERROR(VLOOKUP($I10,Assumptions!$E$4:$F$7,2,TRUE),"Check thresholds")) | K10: =IF($A10="","",IF(OR($C10="",$D10=""),"Missing dates",IF(OR(NOT(ISNUMBER($C10)),NOT(ISNUMBER($D10))),"Check dates",IF($D10<$C10,"Check dates",IF($I10>=Assumptions!$I$8,"Review capacity","")))))
A11: BK-26-008 | B11: Biscuit | C11: 46271 | D11: 46301 | E11: Pet Sitting | F11: 10 | G11: Team Member A | H11: Cancelled | I11: =IF(OR($C11="",$D11="",NOT(ISNUMBER($C11)),NOT(ISNUMBER($D11))),"",IFERROR(IF($D11<$C11,"",$D11-$C11),"")) | J11: =IF($I11="","",IFERROR(VLOOKUP($I11,Assumptions!$E$4:$F$7,2,TRUE),"Check thresholds")) | K11: =IF($A11="","",IF(OR($C11="",$D11=""),"Missing dates",IF(OR(NOT(ISNUMBER($C11)),NOT(ISNUMBER($D11))),"Check dates",IF($D11<$C11,"Check dates",IF($I11>=Assumptions!$I$8,"Review capacity","")))))
A12: BK-26-009 | B12: Tinker | C12: 46273 | D12: 46287 | E12: Daycare | F12: 1 | G12: Team Member B | H12: Confirmed | I12: =IF(OR($C12="",$D12="",NOT(ISNUMBER($C12)),NOT(ISNUMBER($D12))),"",IFERROR(IF($D12<$C12,"",$D12-$C12),"")) | J12: =IF($I12="","",IFERROR(VLOOKUP($I12,Assumptions!$E$4:$F$7,2,TRUE),"Check thresholds")) | K12: =IF($A12="","",IF(OR($C12="",$D12=""),"Missing dates",IF(OR(NOT(ISNUMBER($C12)),NOT(ISNUMBER($D12))),"Check dates",IF($D12<$C12,"Check dates",IF($I12>=Assumptions!$I$8,"Review capacity","")))))
A13: BK-26-010 | B13: Clover | C13: 46275 | D13: 46274 | E13: Dog Walking | F13: 1 | G13: Unassigned | H13: Requested | I13: =IF(OR($C13="",$D13="",NOT(ISNUMBER($C13)),NOT(ISNUMBER($D13))),"",IFERROR(IF($D13<$C13,"",$D13-$C13),"")) | J13: =IF($I13="","",IFERROR(VLOOKUP($I13,Assumptions!$E$4:$F$7,2,TRUE),"Check thresholds")) | K13: =IF($A13="","",IF(OR($C13="",$D13=""),"Missing dates",IF(OR(NOT(ISNUMBER($C13)),NOT(ISNUMBER($D13))),"Check dates",IF($D13<$C13,"Check dates",IF($I13>=Assumptions!$I$8,"Review capacity","")))))
I14: =IF(OR($C14="",$D14="",NOT(ISNUMBER($C14)),NOT(ISNUMBER($D14))),"",IFERROR(IF($D14<$C14,"",$D14-$C14),"")) | J14: =IF($I14="","",IFERROR(VLOOKUP($I14,Assumptions!$E$4:$F$7,2,TRUE),"Check thresholds")) | K14: =IF($A14="","",IF(OR($C14="",$D14=""),"Missing dates",IF(OR(NOT(ISNUMBER($C14)),NOT(ISNUMBER($D14))),"Check dates",IF($D14<$C14,"Check dates",IF($I14>=Assumptions!$I$8,"Review capacity","")))))
I15: =IF(OR($C15="",$D15="",NOT(ISNUMBER($C15)),NOT(ISNUMBER($D15))),"",IFERROR(IF($D15<$C15,"",$D15-$C15),"")) | J15: =IF($I15="","",IFERROR(VLOOKUP($I15,Assumptions!$E$4:$F$7,2,TRUE),"Check thresholds")) | K15: =IF($A15="","",IF(OR($C15="",$D15=""),"Missing dates",IF(OR(NOT(ISNUMBER($C15)),NOT(ISNUMBER($D15))),"Check dates",IF($D15<$C15,"Check dates",IF($I15>=Assumptions!$I$8,"Review capacity","")))))
I16: =IF(OR($C16="",$D16="",NOT(ISNUMBER($C16)),NOT(ISNUMBER($D16))),"",IFERROR(IF($D16<$C16,"",$D16-$C16),"")) | J16: =IF($I16="","",IFERROR(VLOOKUP($I16,Assumptions!$E$4:$F$7,2,TRUE),"Check thresholds")) | K16: =IF($A16="","",IF(OR($C16="",$D16=""),"Missing dates",IF(OR(NOT(ISNUMBER($C16)),NOT(ISNUMBER($D16))),"Check dates",IF($D16<$C16,"Check dates",IF($I16>=Assumptions!$I$8,"Review capacity","")))))
I17: =IF(OR($C17="",$D17="",NOT(ISNUMBER($C17)),NOT(ISNUMBER($D17))),"",IFERROR(IF($D17<$C17,"",$D17-$C17),"")) | J17: =IF($I17="","",IFERROR(VLOOKUP($I17,Assumptions!$E$4:$F$7,2,TRUE),"Check thresholds")) | K17: =IF($A17="","",IF(OR($C17="",$D17=""),"Missing dates",IF(OR(NOT(ISNUMBER($C17)),NOT(ISNUMBER($D17))),"Check dates",IF($D17<$C17,"Check dates",IF($I17>=Assumptions!$I$8,"Review capacity","")))))
I18: =IF(OR($C18="",$D18="",NOT(ISNUMBER($C18)),NOT(ISNUMBER($D18))),"",IFERROR(IF($D18<$C18,"",$D18-$C18),"")) | J18: =IF($I18="","",IFERROR(VLOOKUP($I18,Assumptions!$E$4:$F$7,2,TRUE),"Check thresholds")) | K18: =IF($A18="","",IF(OR($C18="",$D18=""),"Missing dates",IF(OR(NOT(ISNUMBER($C18)),NOT(ISNUMBER($D18))),"Check dates",IF($D18<$C18,"Check dates",IF($I18>=Assumptions!$I$8,"Review capacity","")))))
I19: =IF(OR($C19="",$D19="",NOT(ISNUMBER($C19)),NOT(ISNUMBER($D19))),"",IFERROR(IF($D19<$C19,"",$D19-$C19),"")) | J19: =IF($I19="","",IFERROR(VLOOKUP($I19,Assumptions!$E$4:$F$7,2,TRUE),"Check thresholds")) | K19: =IF($A19="","",IF(OR($C19="",$D19=""),"Missing dates",IF(OR(NOT(ISNUMBER($C19)),NOT(ISNUMBER($D19))),"Check dates",IF($D19<$C19,"Check dates",IF($I19>=Assumptions!$I$8,"Review capacity","")))))
I20: =IF(OR($C20="",$D20="",NOT(ISNUMBER($C20)),NOT(ISNUMBER($D20))),"",IFERROR(IF($D20<$C20,"",$D20-$C20),"")) | J20: =IF($I20="","",IFERROR(VLOOKUP($I20,Assumptions!$E$4:$F$7,2,TRUE),"Check thresholds")) | K20: =IF($A20="","",IF(OR($C20="",$D20=""),"Missing dates",IF(OR(NOT(ISNUMBER($C20)),NOT(ISNUMBER($D20))),"Check dates",IF($D20<$C20,"Check dates",IF($I20>=Assumptions!$I$8,"Review capacity","")))))
I21: =IF(OR($C21="",$D21="",NOT(ISNUMBER($C21)),NOT(ISNUMBER($D21))),"",IFERROR(IF($D21<$C21,"",$D21-$C21),"")) | J21: =IF($I21="","",IFERROR(VLOOKUP($I21,Assumptions!$E$4:$F$7,2,TRUE),"Check thresholds")) | K21: =IF($A21="","",IF(OR($C21="",$D21=""),"Missing dates",IF(OR(NOT(ISNUMBER($C21)),NOT(ISNUMBER($D21))),"Check dates",IF($D21<$C21,"Check dates",IF($I21>=Assumptions!$I$8,"Review capacity","")))))
I22: =IF(OR($C22="",$D22="",NOT(ISNUMBER($C22)),NOT(ISNUMBER($D22))),"",IFERROR(IF($D22<$C22,"",$D22-$C22),"")) | J22: =IF($I22="","",IFERROR(VLOOKUP($I22,Assumptions!$E$4:$F$7,2,TRUE),"Check thresholds")) | K22: =IF($A22="","",IF(OR($C22="",$D22=""),"Missing dates",IF(OR(NOT(ISNUMBER($C22)),NOT(ISNUMBER($D22))),"Check dates",IF($D22<$C22,"Check dates",IF($I22>=Assumptions!$I$8,"Review capacity","")))))
I23: =IF(OR($C23="",$D23="",NOT(ISNUMBER($C23)),NOT(ISNUMBER($D23))),"",IFERROR(IF($D23<$C23,"",$D23-$C23),"")) | J23: =IF($I23="","",IFERROR(VLOOKUP($I23,Assumptions!$E$4:$F$7,2,TRUE),"Check thresholds")) | K23: =IF($A23="","",IF(OR($C23="",$D23=""),"Missing dates",IF(OR(NOT(ISNUMBER($C23)),NOT(ISNUMBER($D23))),"Check dates",IF($D23<$C23,"Check dates",IF($I23>=Assumptions!$I$8,"Review capacity","")))))
I24: =IF(OR($C24="",$D24="",NOT(ISNUMBER($C24)),NOT(ISNUMBER($D24))),"",IFERROR(IF($D24<$C24,"",$D24-$C24),"")) | J24: =IF($I24="","",IFERROR(VLOOKUP($I24,Assumptions!$E$4:$F$7,2,TRUE),"Check thresholds")) | K24: =IF($A24="","",IF(OR($C24="",$D24=""),"Missing dates",IF(OR(NOT(ISNUMBER($C24)),NOT(ISNUMBER($D24))),"Check dates",IF($D24<$C24,"Check dates",IF($I24>=Assumptions!$I$8,"Review capacity","")))))
I25: =IF(OR($C25="",$D25="",NOT(ISNUMBER($C25)),NOT(ISNUMBER($D25))),"",IFERROR(IF($D25<$C25,"",$D25-$C25),"")) | J25: =IF($I25="","",IFERROR(VLOOKUP($I25,Assumptions!$E$4:$F$7,2,TRUE),"Check thresholds")) | K25: =IF($A25="","",IF(OR($C25="",$D25=""),"Missing dates",IF(OR(NOT(ISNUMBER($C25)),NOT(ISNUMBER($D25))),"Check dates",IF($D25<$C25,"Check dates",IF($I25>=Assumptions!$I$8,"Review capacity","")))))
... I103: =IF(OR($C103="",$D103="",NOT(ISNUMBER($C103)),NOT(ISNUMBER($D103))),"",IFERROR(IF($D103<$C103,"",$D103-$C103),"")) | J103: =IF($I103="","",IFERROR(VLOOKUP($I103,Assumptions!$E$4:$F$7,2,TRUE),"Check thresholds")) | K103: =IF($A103="","",IF(OR($C103="",$D103=""),"Missing dates",IF(OR(NOT(ISNUMBER($C103)),NOT(ISNUMBER($D103))),"Check dates",IF($D103<$C103,"Check dates",IF($I103>=Assumptions!$I$8,"Review capacity","")))))

Sheet Assumptions
A1: Pet Booking Lead Time Assumptions
A2: Edit the choices and limits below. Keep lead time minimums in ascending order.
A3: Status Choices | C3: Service Type Choices | E3: Minimum Days | F3: Lead Time Band | H3: Setting | I3: Value
A4: Requested | C4: Grooming | E4: 0 | F4: Short | H4: Earliest Input Date | I4: 45292
A5: Confirmed | C5: Boarding | E5: 7 | F5: Moderate | H5: Latest Input Date | I5: 47118
A6: Completed | C6: Daycare | E6: 14 | F6: Long
A7: Cancelled | C7: Pet Sitting | E7: 30 | F7: Extended
A8: Declined | C8: Dog Walking | H8: Capacity Review At (Days) | I8: 21
H9: Target Lead Time (Days) | I9: 14
H10: Maximum Pet Count | I10: 10
H11: Minimum Pet Count | I11: 1
