Workbook

Sheet Summary
A1: Pet Pickup Authorization List
A3: Indicator | B3: Calculated Value | C3: Record Basis
A4: As of date | B4: =TODAY() | C4: Workbook calculation date
A5: Authorization rows entered | B5: =COUNTIF(Authorizations!$A$4:$A$103,"<>") | C5: Rows with an authorization ID
A6: Active authorizations today | B6: =COUNTIF(Authorizations!$K$4:$K$103,"Active") | C6: Calculated effective status
A7: Active authorizations expiring within the editable window | B7: =IFERROR(COUNTIFS(Authorizations!$K$4:$K$103,"Active",Authorizations!$G$4:$G$103,">="&TODAY(),Authorizations!$G$4:$G$103,"<="&TODAY()+Assumptions!$B$4),0) | C7: Uses the window on Assumptions
A8: Active authorizations with no end date | B8: =COUNTIFS(Authorizations!$K$4:$K$103,"Active",Authorizations!$G$4:$G$103,"") | C8: May require periodic human confirmation
A9: Not-yet-valid authorizations | B9: =COUNTIF(Authorizations!$K$4:$K$103,"Not Yet Valid") | C9: Valid-from date is after today
A10: Expired authorizations | B10: =COUNTIF(Authorizations!$K$4:$K$103,"Expired") | C10: Valid-through date is before today
A11: Paused or revoked authorizations | B11: =SUM(COUNTIF(Authorizations!$K$4:$K$103,"Paused"),COUNTIF(Authorizations!$K$4:$K$103,"Revoked")) | C11: Entered authorization status
A12: Pickup log rows entered | B12: =COUNTIF('Pickup Log'!$A$4:$A$103,"<>") | C12: Rows with a handoff ID
A13: Pickup logs marked released | B13: =COUNTIF('Pickup Log'!$J$4:$J$103,"Yes") | C13: Entered release decision
A14: Pickup log rows needing review | B14: =COUNTIFS('Pickup Log'!$A$4:$A$103,"<>",'Pickup Log'!$K$4:$K$103,"<>Handoff logged") | C14: Calculated check result is not Handoff logged
A15: Pickup logs marked not released | B15: =COUNTIF('Pickup Log'!$J$4:$J$103,"No") | C15: Entered release decision

Sheet Authorizations
A1: Authorized Pickup People
A2: Yellow cells are editable. All sample names, IDs, pets, and notes are fictional. Calculated fields provide prompts for human review.
A3: Authorization ID | B3: Client ID | C3: Pet Name | D3: Authorized Person | E3: Relationship | F3: Valid From | G3: Valid Through | H3: Authorization Status | I3: Expected Verification | J3: Owner-Supplied Handoff Notes | K3: Effective Status | L3: Human Check
A4: AUTH-0001 | B4: CL-1001 | C4: Pixel | D4: Jordan Example | E4: Sibling | F4: 46234 | G4: 46394 | H4: Active | I4: Photo ID | J4: Use the lobby handoff. | K4: =IF(COUNTA(A4:J4)=0,"",IF(OR(A4="",B4="",C4="",D4="",F4="",H4="",I4=""),"Incomplete",IF(NOT(ISNUMBER(F4)),"Incomplete",IF(AND(G4<>"",NOT(ISNUMBER(G4))),"Incomplete",IF(AND(ISNUMBER(G4),G4<F4),"Incomplete",IF(H4<>"Active",H4,IF(F4>TODAY(),"Not Yet Valid",IF(AND(G4<>"",G4<TODAY()),"Expired","Active")))))))) | L4: =IF(A4="","",IF(K4="Incomplete","Complete required fields—review",IF(K4="Active",IF(G4="","No end date—confirm as needed",IF(IFERROR(G4<=TODAY()+Assumptions!$B$4,FALSE),"Expiry approaching—review","Ready for pickup check")),IF(K4="Not Yet Valid","Not valid yet—review",IF(K4="Expired","Expired—do not use without owner review",IF(K4="Paused","Paused—owner review",IF(K4="Revoked","Revoked—do not use","Review status")))))))
A5: AUTH-0002 | B5: CL-1001 | C5: Pixel | D5: Morgan Sample | E5: Neighbor | F5: 46259 | G5: 46280 | H5: Active | I5: Pickup Code | J5: Client requested weekday pickup only. | K5: =IF(COUNTA(A5:J5)=0,"",IF(OR(A5="",B5="",C5="",D5="",F5="",H5="",I5=""),"Incomplete",IF(NOT(ISNUMBER(F5)),"Incomplete",IF(AND(G5<>"",NOT(ISNUMBER(G5))),"Incomplete",IF(AND(ISNUMBER(G5),G5<F5),"Incomplete",IF(H5<>"Active",H5,IF(F5>TODAY(),"Not Yet Valid",IF(AND(G5<>"",G5<TODAY()),"Expired","Active")))))))) | L5: =IF(A5="","",IF(K5="Incomplete","Complete required fields—review",IF(K5="Active",IF(G5="","No end date—confirm as needed",IF(IFERROR(G5<=TODAY()+Assumptions!$B$4,FALSE),"Expiry approaching—review","Ready for pickup check")),IF(K5="Not Yet Valid","Not valid yet—review",IF(K5="Expired","Expired—do not use without owner review",IF(K5="Paused","Paused—owner review",IF(K5="Revoked","Revoked—do not use","Review status")))))))
A6: AUTH-0003 | B6: CL-1002 | C6: Biscuit | D6: Riley Fiction | E6: Parent | F6: 46285 | G6: 46364 | H6: Active | I6: Pickup Code | J6: Confirm the pickup code at the desk. | K6: =IF(COUNTA(A6:J6)=0,"",IF(OR(A6="",B6="",C6="",D6="",F6="",H6="",I6=""),"Incomplete",IF(NOT(ISNUMBER(F6)),"Incomplete",IF(AND(G6<>"",NOT(ISNUMBER(G6))),"Incomplete",IF(AND(ISNUMBER(G6),G6<F6),"Incomplete",IF(H6<>"Active",H6,IF(F6>TODAY(),"Not Yet Valid",IF(AND(G6<>"",G6<TODAY()),"Expired","Active")))))))) | L6: =IF(A6="","",IF(K6="Incomplete","Complete required fields—review",IF(K6="Active",IF(G6="","No end date—confirm as needed",IF(IFERROR(G6<=TODAY()+Assumptions!$B$4,FALSE),"Expiry approaching—review","Ready for pickup check")),IF(K6="Not Yet Valid","Not valid yet—review",IF(K6="Expired","Expired—do not use without owner review",IF(K6="Paused","Paused—owner review",IF(K6="Revoked","Revoked—do not use","Review status")))))))
A7: AUTH-0004 | B7: CL-1003 | C7: Juniper | D7: Taylor Demo | E7: Friend | F7: 46154 | G7: 46265 | H7: Active | I7: Photo ID | J7: Use the west entrance handoff. | K7: =IF(COUNTA(A7:J7)=0,"",IF(OR(A7="",B7="",C7="",D7="",F7="",H7="",I7=""),"Incomplete",IF(NOT(ISNUMBER(F7)),"Incomplete",IF(AND(G7<>"",NOT(ISNUMBER(G7))),"Incomplete",IF(AND(ISNUMBER(G7),G7<F7),"Incomplete",IF(H7<>"Active",H7,IF(F7>TODAY(),"Not Yet Valid",IF(AND(G7<>"",G7<TODAY()),"Expired","Active")))))))) | L7: =IF(A7="","",IF(K7="Incomplete","Complete required fields—review",IF(K7="Active",IF(G7="","No end date—confirm as needed",IF(IFERROR(G7<=TODAY()+Assumptions!$B$4,FALSE),"Expiry approaching—review","Ready for pickup check")),IF(K7="Not Yet Valid","Not valid yet—review",IF(K7="Expired","Expired—do not use without owner review",IF(K7="Paused","Paused—owner review",IF(K7="Revoked","Revoked—do not use","Review status")))))))
A8: AUTH-0005 | B8: CL-1004 | C8: Clover | D8: Drew Example | E8: Partner | F8: 46214 | G8: 46334 | H8: Paused | I8: Photo ID | J8: Owner paused pickup access. | K8: =IF(COUNTA(A8:J8)=0,"",IF(OR(A8="",B8="",C8="",D8="",F8="",H8="",I8=""),"Incomplete",IF(NOT(ISNUMBER(F8)),"Incomplete",IF(AND(G8<>"",NOT(ISNUMBER(G8))),"Incomplete",IF(AND(ISNUMBER(G8),G8<F8),"Incomplete",IF(H8<>"Active",H8,IF(F8>TODAY(),"Not Yet Valid",IF(AND(G8<>"",G8<TODAY()),"Expired","Active")))))))) | L8: =IF(A8="","",IF(K8="Incomplete","Complete required fields—review",IF(K8="Active",IF(G8="","No end date—confirm as needed",IF(IFERROR(G8<=TODAY()+Assumptions!$B$4,FALSE),"Expiry approaching—review","Ready for pickup check")),IF(K8="Not Yet Valid","Not valid yet—review",IF(K8="Expired","Expired—do not use without owner review",IF(K8="Paused","Paused—owner review",IF(K8="Revoked","Revoked—do not use","Review status")))))))
A9: AUTH-0006 | B9: CL-1005 | C9: Miso | D9: Quinn Sample | E9: Roommate | F9: 46174 | G9: 46374 | H9: Revoked | I9: Pickup Code | J9: Owner revoked pickup access. | K9: =IF(COUNTA(A9:J9)=0,"",IF(OR(A9="",B9="",C9="",D9="",F9="",H9="",I9=""),"Incomplete",IF(NOT(ISNUMBER(F9)),"Incomplete",IF(AND(G9<>"",NOT(ISNUMBER(G9))),"Incomplete",IF(AND(ISNUMBER(G9),G9<F9),"Incomplete",IF(H9<>"Active",H9,IF(F9>TODAY(),"Not Yet Valid",IF(AND(G9<>"",G9<TODAY()),"Expired","Active")))))))) | L9: =IF(A9="","",IF(K9="Incomplete","Complete required fields—review",IF(K9="Active",IF(G9="","No end date—confirm as needed",IF(IFERROR(G9<=TODAY()+Assumptions!$B$4,FALSE),"Expiry approaching—review","Ready for pickup check")),IF(K9="Not Yet Valid","Not valid yet—review",IF(K9="Expired","Expired—do not use without owner review",IF(K9="Paused","Paused—owner review",IF(K9="Revoked","Revoked—do not use","Review status")))))))
A10: AUTH-0007 | B10: CL-1006 | C10: Orbit | D10: Alex Fiction | E10: Family Member | F10: 46254 | H10: Active | I10: In-Person Recognition | J10: No scheduled end date; confirm when needed. | K10: =IF(COUNTA(A10:J10)=0,"",IF(OR(A10="",B10="",C10="",D10="",F10="",H10="",I10=""),"Incomplete",IF(NOT(ISNUMBER(F10)),"Incomplete",IF(AND(G10<>"",NOT(ISNUMBER(G10))),"Incomplete",IF(AND(ISNUMBER(G10),G10<F10),"Incomplete",IF(H10<>"Active",H10,IF(F10>TODAY(),"Not Yet Valid",IF(AND(G10<>"",G10<TODAY()),"Expired","Active")))))))) | L10: =IF(A10="","",IF(K10="Incomplete","Complete required fields—review",IF(K10="Active",IF(G10="","No end date—confirm as needed",IF(IFERROR(G10<=TODAY()+Assumptions!$B$4,FALSE),"Expiry approaching—review","Ready for pickup check")),IF(K10="Not Yet Valid","Not valid yet—review",IF(K10="Expired","Expired—do not use without owner review",IF(K10="Paused","Paused—owner review",IF(K10="Revoked","Revoked—do not use","Review status")))))))
A11: AUTH-0008 | B11: CL-1007 | C11: Poppy | D11: Cameron Demo | E11: Neighbor | F11: 46266 | G11: 46274 | H11: Active | I11: Photo ID | J11: Valid through today's closing handoff. | K11: =IF(COUNTA(A11:J11)=0,"",IF(OR(A11="",B11="",C11="",D11="",F11="",H11="",I11=""),"Incomplete",IF(NOT(ISNUMBER(F11)),"Incomplete",IF(AND(G11<>"",NOT(ISNUMBER(G11))),"Incomplete",IF(AND(ISNUMBER(G11),G11<F11),"Incomplete",IF(H11<>"Active",H11,IF(F11>TODAY(),"Not Yet Valid",IF(AND(G11<>"",G11<TODAY()),"Expired","Active")))))))) | L11: =IF(A11="","",IF(K11="Incomplete","Complete required fields—review",IF(K11="Active",IF(G11="","No end date—confirm as needed",IF(IFERROR(G11<=TODAY()+Assumptions!$B$4,FALSE),"Expiry approaching—review","Ready for pickup check")),IF(K11="Not Yet Valid","Not valid yet—review",IF(K11="Expired","Expired—do not use without owner review",IF(K11="Paused","Paused—owner review",IF(K11="Revoked","Revoked—do not use","Review status")))))))
A12: AUTH-0009 | B12: CL-1008 | C12: Waffles | D12: Robin Example | E12: Sibling | F12: 46274 | G12: 46288 | H12: Active | I12: Pickup Code | J12: Authorization starts today. | K12: =IF(COUNTA(A12:J12)=0,"",IF(OR(A12="",B12="",C12="",D12="",F12="",H12="",I12=""),"Incomplete",IF(NOT(ISNUMBER(F12)),"Incomplete",IF(AND(G12<>"",NOT(ISNUMBER(G12))),"Incomplete",IF(AND(ISNUMBER(G12),G12<F12),"Incomplete",IF(H12<>"Active",H12,IF(F12>TODAY(),"Not Yet Valid",IF(AND(G12<>"",G12<TODAY()),"Expired","Active")))))))) | L12: =IF(A12="","",IF(K12="Incomplete","Complete required fields—review",IF(K12="Active",IF(G12="","No end date—confirm as needed",IF(IFERROR(G12<=TODAY()+Assumptions!$B$4,FALSE),"Expiry approaching—review","Ready for pickup check")),IF(K12="Not Yet Valid","Not valid yet—review",IF(K12="Expired","Expired—do not use without owner review",IF(K12="Paused","Paused—owner review",IF(K12="Revoked","Revoked—do not use","Review status")))))))
A13: AUTH-0010 | B13: CL-1009 | C13: Nori | D13: Pat Sample | E13: Friend | F13: 46273 | G13: 46295 | H13: Active | I13: Other | J13: Short-term authorization recorded by the owner. | K13: =IF(COUNTA(A13:J13)=0,"",IF(OR(A13="",B13="",C13="",D13="",F13="",H13="",I13=""),"Incomplete",IF(NOT(ISNUMBER(F13)),"Incomplete",IF(AND(G13<>"",NOT(ISNUMBER(G13))),"Incomplete",IF(AND(ISNUMBER(G13),G13<F13),"Incomplete",IF(H13<>"Active",H13,IF(F13>TODAY(),"Not Yet Valid",IF(AND(G13<>"",G13<TODAY()),"Expired","Active")))))))) | L13: =IF(A13="","",IF(K13="Incomplete","Complete required fields—review",IF(K13="Active",IF(G13="","No end date—confirm as needed",IF(IFERROR(G13<=TODAY()+Assumptions!$B$4,FALSE),"Expiry approaching—review","Ready for pickup check")),IF(K13="Not Yet Valid","Not valid yet—review",IF(K13="Expired","Expired—do not use without owner review",IF(K13="Paused","Paused—owner review",IF(K13="Revoked","Revoked—do not use","Review status")))))))
K14: =IF(COUNTA(A14:J14)=0,"",IF(OR(A14="",B14="",C14="",D14="",F14="",H14="",I14=""),"Incomplete",IF(NOT(ISNUMBER(F14)),"Incomplete",IF(AND(G14<>"",NOT(ISNUMBER(G14))),"Incomplete",IF(AND(ISNUMBER(G14),G14<F14),"Incomplete",IF(H14<>"Active",H14,IF(F14>TODAY(),"Not Yet Valid",IF(AND(G14<>"",G14<TODAY()),"Expired","Active")))))))) | L14: =IF(A14="","",IF(K14="Incomplete","Complete required fields—review",IF(K14="Active",IF(G14="","No end date—confirm as needed",IF(IFERROR(G14<=TODAY()+Assumptions!$B$4,FALSE),"Expiry approaching—review","Ready for pickup check")),IF(K14="Not Yet Valid","Not valid yet—review",IF(K14="Expired","Expired—do not use without owner review",IF(K14="Paused","Paused—owner review",IF(K14="Revoked","Revoked—do not use","Review status")))))))
K15: =IF(COUNTA(A15:J15)=0,"",IF(OR(A15="",B15="",C15="",D15="",F15="",H15="",I15=""),"Incomplete",IF(NOT(ISNUMBER(F15)),"Incomplete",IF(AND(G15<>"",NOT(ISNUMBER(G15))),"Incomplete",IF(AND(ISNUMBER(G15),G15<F15),"Incomplete",IF(H15<>"Active",H15,IF(F15>TODAY(),"Not Yet Valid",IF(AND(G15<>"",G15<TODAY()),"Expired","Active")))))))) | L15: =IF(A15="","",IF(K15="Incomplete","Complete required fields—review",IF(K15="Active",IF(G15="","No end date—confirm as needed",IF(IFERROR(G15<=TODAY()+Assumptions!$B$4,FALSE),"Expiry approaching—review","Ready for pickup check")),IF(K15="Not Yet Valid","Not valid yet—review",IF(K15="Expired","Expired—do not use without owner review",IF(K15="Paused","Paused—owner review",IF(K15="Revoked","Revoked—do not use","Review status")))))))
K16: =IF(COUNTA(A16:J16)=0,"",IF(OR(A16="",B16="",C16="",D16="",F16="",H16="",I16=""),"Incomplete",IF(NOT(ISNUMBER(F16)),"Incomplete",IF(AND(G16<>"",NOT(ISNUMBER(G16))),"Incomplete",IF(AND(ISNUMBER(G16),G16<F16),"Incomplete",IF(H16<>"Active",H16,IF(F16>TODAY(),"Not Yet Valid",IF(AND(G16<>"",G16<TODAY()),"Expired","Active")))))))) | L16: =IF(A16="","",IF(K16="Incomplete","Complete required fields—review",IF(K16="Active",IF(G16="","No end date—confirm as needed",IF(IFERROR(G16<=TODAY()+Assumptions!$B$4,FALSE),"Expiry approaching—review","Ready for pickup check")),IF(K16="Not Yet Valid","Not valid yet—review",IF(K16="Expired","Expired—do not use without owner review",IF(K16="Paused","Paused—owner review",IF(K16="Revoked","Revoked—do not use","Review status")))))))
K17: =IF(COUNTA(A17:J17)=0,"",IF(OR(A17="",B17="",C17="",D17="",F17="",H17="",I17=""),"Incomplete",IF(NOT(ISNUMBER(F17)),"Incomplete",IF(AND(G17<>"",NOT(ISNUMBER(G17))),"Incomplete",IF(AND(ISNUMBER(G17),G17<F17),"Incomplete",IF(H17<>"Active",H17,IF(F17>TODAY(),"Not Yet Valid",IF(AND(G17<>"",G17<TODAY()),"Expired","Active")))))))) | L17: =IF(A17="","",IF(K17="Incomplete","Complete required fields—review",IF(K17="Active",IF(G17="","No end date—confirm as needed",IF(IFERROR(G17<=TODAY()+Assumptions!$B$4,FALSE),"Expiry approaching—review","Ready for pickup check")),IF(K17="Not Yet Valid","Not valid yet—review",IF(K17="Expired","Expired—do not use without owner review",IF(K17="Paused","Paused—owner review",IF(K17="Revoked","Revoked—do not use","Review status")))))))
K18: =IF(COUNTA(A18:J18)=0,"",IF(OR(A18="",B18="",C18="",D18="",F18="",H18="",I18=""),"Incomplete",IF(NOT(ISNUMBER(F18)),"Incomplete",IF(AND(G18<>"",NOT(ISNUMBER(G18))),"Incomplete",IF(AND(ISNUMBER(G18),G18<F18),"Incomplete",IF(H18<>"Active",H18,IF(F18>TODAY(),"Not Yet Valid",IF(AND(G18<>"",G18<TODAY()),"Expired","Active")))))))) | L18: =IF(A18="","",IF(K18="Incomplete","Complete required fields—review",IF(K18="Active",IF(G18="","No end date—confirm as needed",IF(IFERROR(G18<=TODAY()+Assumptions!$B$4,FALSE),"Expiry approaching—review","Ready for pickup check")),IF(K18="Not Yet Valid","Not valid yet—review",IF(K18="Expired","Expired—do not use without owner review",IF(K18="Paused","Paused—owner review",IF(K18="Revoked","Revoked—do not use","Review status")))))))
K19: =IF(COUNTA(A19:J19)=0,"",IF(OR(A19="",B19="",C19="",D19="",F19="",H19="",I19=""),"Incomplete",IF(NOT(ISNUMBER(F19)),"Incomplete",IF(AND(G19<>"",NOT(ISNUMBER(G19))),"Incomplete",IF(AND(ISNUMBER(G19),G19<F19),"Incomplete",IF(H19<>"Active",H19,IF(F19>TODAY(),"Not Yet Valid",IF(AND(G19<>"",G19<TODAY()),"Expired","Active")))))))) | L19: =IF(A19="","",IF(K19="Incomplete","Complete required fields—review",IF(K19="Active",IF(G19="","No end date—confirm as needed",IF(IFERROR(G19<=TODAY()+Assumptions!$B$4,FALSE),"Expiry approaching—review","Ready for pickup check")),IF(K19="Not Yet Valid","Not valid yet—review",IF(K19="Expired","Expired—do not use without owner review",IF(K19="Paused","Paused—owner review",IF(K19="Revoked","Revoked—do not use","Review status")))))))
K20: =IF(COUNTA(A20:J20)=0,"",IF(OR(A20="",B20="",C20="",D20="",F20="",H20="",I20=""),"Incomplete",IF(NOT(ISNUMBER(F20)),"Incomplete",IF(AND(G20<>"",NOT(ISNUMBER(G20))),"Incomplete",IF(AND(ISNUMBER(G20),G20<F20),"Incomplete",IF(H20<>"Active",H20,IF(F20>TODAY(),"Not Yet Valid",IF(AND(G20<>"",G20<TODAY()),"Expired","Active")))))))) | L20: =IF(A20="","",IF(K20="Incomplete","Complete required fields—review",IF(K20="Active",IF(G20="","No end date—confirm as needed",IF(IFERROR(G20<=TODAY()+Assumptions!$B$4,FALSE),"Expiry approaching—review","Ready for pickup check")),IF(K20="Not Yet Valid","Not valid yet—review",IF(K20="Expired","Expired—do not use without owner review",IF(K20="Paused","Paused—owner review",IF(K20="Revoked","Revoked—do not use","Review status")))))))
K21: =IF(COUNTA(A21:J21)=0,"",IF(OR(A21="",B21="",C21="",D21="",F21="",H21="",I21=""),"Incomplete",IF(NOT(ISNUMBER(F21)),"Incomplete",IF(AND(G21<>"",NOT(ISNUMBER(G21))),"Incomplete",IF(AND(ISNUMBER(G21),G21<F21),"Incomplete",IF(H21<>"Active",H21,IF(F21>TODAY(),"Not Yet Valid",IF(AND(G21<>"",G21<TODAY()),"Expired","Active")))))))) | L21: =IF(A21="","",IF(K21="Incomplete","Complete required fields—review",IF(K21="Active",IF(G21="","No end date—confirm as needed",IF(IFERROR(G21<=TODAY()+Assumptions!$B$4,FALSE),"Expiry approaching—review","Ready for pickup check")),IF(K21="Not Yet Valid","Not valid yet—review",IF(K21="Expired","Expired—do not use without owner review",IF(K21="Paused","Paused—owner review",IF(K21="Revoked","Revoked—do not use","Review status")))))))
K22: =IF(COUNTA(A22:J22)=0,"",IF(OR(A22="",B22="",C22="",D22="",F22="",H22="",I22=""),"Incomplete",IF(NOT(ISNUMBER(F22)),"Incomplete",IF(AND(G22<>"",NOT(ISNUMBER(G22))),"Incomplete",IF(AND(ISNUMBER(G22),G22<F22),"Incomplete",IF(H22<>"Active",H22,IF(F22>TODAY(),"Not Yet Valid",IF(AND(G22<>"",G22<TODAY()),"Expired","Active")))))))) | L22: =IF(A22="","",IF(K22="Incomplete","Complete required fields—review",IF(K22="Active",IF(G22="","No end date—confirm as needed",IF(IFERROR(G22<=TODAY()+Assumptions!$B$4,FALSE),"Expiry approaching—review","Ready for pickup check")),IF(K22="Not Yet Valid","Not valid yet—review",IF(K22="Expired","Expired—do not use without owner review",IF(K22="Paused","Paused—owner review",IF(K22="Revoked","Revoked—do not use","Review status")))))))
K23: =IF(COUNTA(A23:J23)=0,"",IF(OR(A23="",B23="",C23="",D23="",F23="",H23="",I23=""),"Incomplete",IF(NOT(ISNUMBER(F23)),"Incomplete",IF(AND(G23<>"",NOT(ISNUMBER(G23))),"Incomplete",IF(AND(ISNUMBER(G23),G23<F23),"Incomplete",IF(H23<>"Active",H23,IF(F23>TODAY(),"Not Yet Valid",IF(AND(G23<>"",G23<TODAY()),"Expired","Active")))))))) | L23: =IF(A23="","",IF(K23="Incomplete","Complete required fields—review",IF(K23="Active",IF(G23="","No end date—confirm as needed",IF(IFERROR(G23<=TODAY()+Assumptions!$B$4,FALSE),"Expiry approaching—review","Ready for pickup check")),IF(K23="Not Yet Valid","Not valid yet—review",IF(K23="Expired","Expired—do not use without owner review",IF(K23="Paused","Paused—owner review",IF(K23="Revoked","Revoked—do not use","Review status")))))))
K24: =IF(COUNTA(A24:J24)=0,"",IF(OR(A24="",B24="",C24="",D24="",F24="",H24="",I24=""),"Incomplete",IF(NOT(ISNUMBER(F24)),"Incomplete",IF(AND(G24<>"",NOT(ISNUMBER(G24))),"Incomplete",IF(AND(ISNUMBER(G24),G24<F24),"Incomplete",IF(H24<>"Active",H24,IF(F24>TODAY(),"Not Yet Valid",IF(AND(G24<>"",G24<TODAY()),"Expired","Active")))))))) | L24: =IF(A24="","",IF(K24="Incomplete","Complete required fields—review",IF(K24="Active",IF(G24="","No end date—confirm as needed",IF(IFERROR(G24<=TODAY()+Assumptions!$B$4,FALSE),"Expiry approaching—review","Ready for pickup check")),IF(K24="Not Yet Valid","Not valid yet—review",IF(K24="Expired","Expired—do not use without owner review",IF(K24="Paused","Paused—owner review",IF(K24="Revoked","Revoked—do not use","Review status")))))))
K25: =IF(COUNTA(A25:J25)=0,"",IF(OR(A25="",B25="",C25="",D25="",F25="",H25="",I25=""),"Incomplete",IF(NOT(ISNUMBER(F25)),"Incomplete",IF(AND(G25<>"",NOT(ISNUMBER(G25))),"Incomplete",IF(AND(ISNUMBER(G25),G25<F25),"Incomplete",IF(H25<>"Active",H25,IF(F25>TODAY(),"Not Yet Valid",IF(AND(G25<>"",G25<TODAY()),"Expired","Active")))))))) | L25: =IF(A25="","",IF(K25="Incomplete","Complete required fields—review",IF(K25="Active",IF(G25="","No end date—confirm as needed",IF(IFERROR(G25<=TODAY()+Assumptions!$B$4,FALSE),"Expiry approaching—review","Ready for pickup check")),IF(K25="Not Yet Valid","Not valid yet—review",IF(K25="Expired","Expired—do not use without owner review",IF(K25="Paused","Paused—owner review",IF(K25="Revoked","Revoked—do not use","Review status")))))))
... K103: =IF(COUNTA(A103:J103)=0,"",IF(OR(A103="",B103="",C103="",D103="",F103="",H103="",I103=""),"Incomplete",IF(NOT(ISNUMBER(F103)),"Incomplete",IF(AND(G103<>"",NOT(ISNUMBER(G103))),"Incomplete",IF(AND(ISNUMBER(G103),G103<F103),"Incomplete",IF(H103<>"Active",H103,IF(F103>TODAY(),"Not Yet Valid",IF(AND(G103<>"",G103<TODAY()),"Expired","Active")))))))) | L103: =IF(A103="","",IF(K103="Incomplete","Complete required fields—review",IF(K103="Active",IF(G103="","No end date—confirm as needed",IF(IFERROR(G103<=TODAY()+Assumptions!$B$4,FALSE),"Expiry approaching—review","Ready for pickup check")),IF(K103="Not Yet Valid","Not valid yet—review",IF(K103="Expired","Expired—do not use without owner review",IF(K103="Paused","Paused—owner review",IF(K103="Revoked","Revoked—do not use","Review status")))))))

Sheet Pickup Log
A1: Pickup Handoff Log
A2: Yellow cells are editable. Lookup fields come from Authorizations. The calculated result is a prompt for a human handoff check.
A3: Handoff ID | B3: Pickup Date | C3: Authorization ID | D3: Client ID | E3: Pet Name | F3: Authorized Person | G3: Staff Initials | H3: Verification Method Used | I3: Verification Result | J3: Pet Released? | K3: Check Result | L3: Handoff Notes
A4: HAND-0001 | B4: 46267 | C4: AUTH-0001 | D4: =IF($C4="","",IFERROR(VLOOKUP($C4,Authorizations!$A$4:$L$103,2,FALSE),"ID not found")) | E4: =IF($C4="","",IFERROR(VLOOKUP($C4,Authorizations!$A$4:$L$103,3,FALSE),"ID not found")) | F4: =IF($C4="","",IFERROR(VLOOKUP($C4,Authorizations!$A$4:$L$103,4,FALSE),"ID not found")) | G4: FE | H4: Photo ID | I4: Matched | J4: Yes | K4: =IF(COUNTA(A4:C4,G4:J4,L4)=0,"",IF(OR(A4="",B4="",C4="",G4="",H4="",I4="",J4=""),"Complete required fields—review",IF(D4="ID not found","Authorization ID not found—review",IF(NOT(ISNUMBER(B4)),"Pickup date invalid—review",IF(IFERROR(VLOOKUP(C4,Authorizations!$A$4:$L$103,11,FALSE),"")="Incomplete","Authorization details need review",IF(IFERROR(VLOOKUP(C4,Authorizations!$A$4:$L$103,8,FALSE),"")<>"Active","Authorization not marked Active—review",IF(B4<IFERROR(VLOOKUP(C4,Authorizations!$A$4:$L$103,6,FALSE),DATE(9999,12,31)),"Pickup before valid date—review",IF(AND(IFERROR(VLOOKUP(C4,Authorizations!$A$4:$L$103,7,FALSE),0)>0,B4>IFERROR(VLOOKUP(C4,Authorizations!$A$4:$L$103,7,FALSE),B4)),"Pickup after valid date—review",IF(H4<>IFERROR(VLOOKUP(C4,Authorizations!$A$4:$L$103,9,FALSE),""),"Method differs—review",IF(I4<>"Matched","Verification needs review",IF(J4<>"Yes","Not released—review log","Handoff logged"))))))))))) | L4: Routine lobby handoff.
A5: HAND-0002 | B5: 46269 | C5: AUTH-0002 | D5: =IF($C5="","",IFERROR(VLOOKUP($C5,Authorizations!$A$4:$L$103,2,FALSE),"ID not found")) | E5: =IF($C5="","",IFERROR(VLOOKUP($C5,Authorizations!$A$4:$L$103,3,FALSE),"ID not found")) | F5: =IF($C5="","",IFERROR(VLOOKUP($C5,Authorizations!$A$4:$L$103,4,FALSE),"ID not found")) | G5: FS | H5: Pickup Code | I5: Matched | J5: Yes | K5: =IF(COUNTA(A5:C5,G5:J5,L5)=0,"",IF(OR(A5="",B5="",C5="",G5="",H5="",I5="",J5=""),"Complete required fields—review",IF(D5="ID not found","Authorization ID not found—review",IF(NOT(ISNUMBER(B5)),"Pickup date invalid—review",IF(IFERROR(VLOOKUP(C5,Authorizations!$A$4:$L$103,11,FALSE),"")="Incomplete","Authorization details need review",IF(IFERROR(VLOOKUP(C5,Authorizations!$A$4:$L$103,8,FALSE),"")<>"Active","Authorization not marked Active—review",IF(B5<IFERROR(VLOOKUP(C5,Authorizations!$A$4:$L$103,6,FALSE),DATE(9999,12,31)),"Pickup before valid date—review",IF(AND(IFERROR(VLOOKUP(C5,Authorizations!$A$4:$L$103,7,FALSE),0)>0,B5>IFERROR(VLOOKUP(C5,Authorizations!$A$4:$L$103,7,FALSE),B5)),"Pickup after valid date—review",IF(H5<>IFERROR(VLOOKUP(C5,Authorizations!$A$4:$L$103,9,FALSE),""),"Method differs—review",IF(I5<>"Matched","Verification needs review",IF(J5<>"Yes","Not released—review log","Handoff logged"))))))))))) | L5: Pickup code matched.
A6: HAND-0003 | B6: 46271 | C6: AUTH-0007 | D6: =IF($C6="","",IFERROR(VLOOKUP($C6,Authorizations!$A$4:$L$103,2,FALSE),"ID not found")) | E6: =IF($C6="","",IFERROR(VLOOKUP($C6,Authorizations!$A$4:$L$103,3,FALSE),"ID not found")) | F6: =IF($C6="","",IFERROR(VLOOKUP($C6,Authorizations!$A$4:$L$103,4,FALSE),"ID not found")) | G6: FD | H6: In-Person Recognition | I6: Matched | J6: Yes | K6: =IF(COUNTA(A6:C6,G6:J6,L6)=0,"",IF(OR(A6="",B6="",C6="",G6="",H6="",I6="",J6=""),"Complete required fields—review",IF(D6="ID not found","Authorization ID not found—review",IF(NOT(ISNUMBER(B6)),"Pickup date invalid—review",IF(IFERROR(VLOOKUP(C6,Authorizations!$A$4:$L$103,11,FALSE),"")="Incomplete","Authorization details need review",IF(IFERROR(VLOOKUP(C6,Authorizations!$A$4:$L$103,8,FALSE),"")<>"Active","Authorization not marked Active—review",IF(B6<IFERROR(VLOOKUP(C6,Authorizations!$A$4:$L$103,6,FALSE),DATE(9999,12,31)),"Pickup before valid date—review",IF(AND(IFERROR(VLOOKUP(C6,Authorizations!$A$4:$L$103,7,FALSE),0)>0,B6>IFERROR(VLOOKUP(C6,Authorizations!$A$4:$L$103,7,FALSE),B6)),"Pickup after valid date—review",IF(H6<>IFERROR(VLOOKUP(C6,Authorizations!$A$4:$L$103,9,FALSE),""),"Method differs—review",IF(I6<>"Matched","Verification needs review",IF(J6<>"Yes","Not released—review log","Handoff logged"))))))))))) | L6: Recognized at the front desk.
A7: HAND-0004 | B7: 46274 | C7: AUTH-0008 | D7: =IF($C7="","",IFERROR(VLOOKUP($C7,Authorizations!$A$4:$L$103,2,FALSE),"ID not found")) | E7: =IF($C7="","",IFERROR(VLOOKUP($C7,Authorizations!$A$4:$L$103,3,FALSE),"ID not found")) | F7: =IF($C7="","",IFERROR(VLOOKUP($C7,Authorizations!$A$4:$L$103,4,FALSE),"ID not found")) | G7: FX | H7: Photo ID | I7: Matched | J7: Yes | K7: =IF(COUNTA(A7:C7,G7:J7,L7)=0,"",IF(OR(A7="",B7="",C7="",G7="",H7="",I7="",J7=""),"Complete required fields—review",IF(D7="ID not found","Authorization ID not found—review",IF(NOT(ISNUMBER(B7)),"Pickup date invalid—review",IF(IFERROR(VLOOKUP(C7,Authorizations!$A$4:$L$103,11,FALSE),"")="Incomplete","Authorization details need review",IF(IFERROR(VLOOKUP(C7,Authorizations!$A$4:$L$103,8,FALSE),"")<>"Active","Authorization not marked Active—review",IF(B7<IFERROR(VLOOKUP(C7,Authorizations!$A$4:$L$103,6,FALSE),DATE(9999,12,31)),"Pickup before valid date—review",IF(AND(IFERROR(VLOOKUP(C7,Authorizations!$A$4:$L$103,7,FALSE),0)>0,B7>IFERROR(VLOOKUP(C7,Authorizations!$A$4:$L$103,7,FALSE),B7)),"Pickup after valid date—review",IF(H7<>IFERROR(VLOOKUP(C7,Authorizations!$A$4:$L$103,9,FALSE),""),"Method differs—review",IF(I7<>"Matched","Verification needs review",IF(J7<>"Yes","Not released—review log","Handoff logged"))))))))))) | L7: Valid-through boundary check.
A8: HAND-0005 | B8: 46274 | C8: AUTH-0009 | D8: =IF($C8="","",IFERROR(VLOOKUP($C8,Authorizations!$A$4:$L$103,2,FALSE),"ID not found")) | E8: =IF($C8="","",IFERROR(VLOOKUP($C8,Authorizations!$A$4:$L$103,3,FALSE),"ID not found")) | F8: =IF($C8="","",IFERROR(VLOOKUP($C8,Authorizations!$A$4:$L$103,4,FALSE),"ID not found")) | G8: FA | H8: Pickup Code | I8: Matched | J8: Yes | K8: =IF(COUNTA(A8:C8,G8:J8,L8)=0,"",IF(OR(A8="",B8="",C8="",G8="",H8="",I8="",J8=""),"Complete required fields—review",IF(D8="ID not found","Authorization ID not found—review",IF(NOT(ISNUMBER(B8)),"Pickup date invalid—review",IF(IFERROR(VLOOKUP(C8,Authorizations!$A$4:$L$103,11,FALSE),"")="Incomplete","Authorization details need review",IF(IFERROR(VLOOKUP(C8,Authorizations!$A$4:$L$103,8,FALSE),"")<>"Active","Authorization not marked Active—review",IF(B8<IFERROR(VLOOKUP(C8,Authorizations!$A$4:$L$103,6,FALSE),DATE(9999,12,31)),"Pickup before valid date—review",IF(AND(IFERROR(VLOOKUP(C8,Authorizations!$A$4:$L$103,7,FALSE),0)>0,B8>IFERROR(VLOOKUP(C8,Authorizations!$A$4:$L$103,7,FALSE),B8)),"Pickup after valid date—review",IF(H8<>IFERROR(VLOOKUP(C8,Authorizations!$A$4:$L$103,9,FALSE),""),"Method differs—review",IF(I8<>"Matched","Verification needs review",IF(J8<>"Yes","Not released—review log","Handoff logged"))))))))))) | L8: Valid-from boundary check.
A9: HAND-0006 | B9: 46274 | C9: AUTH-0010 | D9: =IF($C9="","",IFERROR(VLOOKUP($C9,Authorizations!$A$4:$L$103,2,FALSE),"ID not found")) | E9: =IF($C9="","",IFERROR(VLOOKUP($C9,Authorizations!$A$4:$L$103,3,FALSE),"ID not found")) | F9: =IF($C9="","",IFERROR(VLOOKUP($C9,Authorizations!$A$4:$L$103,4,FALSE),"ID not found")) | G9: FB | H9: Other | I9: Matched | J9: Yes | K9: =IF(COUNTA(A9:C9,G9:J9,L9)=0,"",IF(OR(A9="",B9="",C9="",G9="",H9="",I9="",J9=""),"Complete required fields—review",IF(D9="ID not found","Authorization ID not found—review",IF(NOT(ISNUMBER(B9)),"Pickup date invalid—review",IF(IFERROR(VLOOKUP(C9,Authorizations!$A$4:$L$103,11,FALSE),"")="Incomplete","Authorization details need review",IF(IFERROR(VLOOKUP(C9,Authorizations!$A$4:$L$103,8,FALSE),"")<>"Active","Authorization not marked Active—review",IF(B9<IFERROR(VLOOKUP(C9,Authorizations!$A$4:$L$103,6,FALSE),DATE(9999,12,31)),"Pickup before valid date—review",IF(AND(IFERROR(VLOOKUP(C9,Authorizations!$A$4:$L$103,7,FALSE),0)>0,B9>IFERROR(VLOOKUP(C9,Authorizations!$A$4:$L$103,7,FALSE),B9)),"Pickup after valid date—review",IF(H9<>IFERROR(VLOOKUP(C9,Authorizations!$A$4:$L$103,9,FALSE),""),"Method differs—review",IF(I9<>"Matched","Verification needs review",IF(J9<>"Yes","Not released—review log","Handoff logged"))))))))))) | L9: Owner-recorded alternate method used.
A10: HAND-0007 | B10: 46274 | C10: AUTH-0002 | D10: =IF($C10="","",IFERROR(VLOOKUP($C10,Authorizations!$A$4:$L$103,2,FALSE),"ID not found")) | E10: =IF($C10="","",IFERROR(VLOOKUP($C10,Authorizations!$A$4:$L$103,3,FALSE),"ID not found")) | F10: =IF($C10="","",IFERROR(VLOOKUP($C10,Authorizations!$A$4:$L$103,4,FALSE),"ID not found")) | G10: FC | H10: Photo ID | I10: Matched | J10: No | K10: =IF(COUNTA(A10:C10,G10:J10,L10)=0,"",IF(OR(A10="",B10="",C10="",G10="",H10="",I10="",J10=""),"Complete required fields—review",IF(D10="ID not found","Authorization ID not found—review",IF(NOT(ISNUMBER(B10)),"Pickup date invalid—review",IF(IFERROR(VLOOKUP(C10,Authorizations!$A$4:$L$103,11,FALSE),"")="Incomplete","Authorization details need review",IF(IFERROR(VLOOKUP(C10,Authorizations!$A$4:$L$103,8,FALSE),"")<>"Active","Authorization not marked Active—review",IF(B10<IFERROR(VLOOKUP(C10,Authorizations!$A$4:$L$103,6,FALSE),DATE(9999,12,31)),"Pickup before valid date—review",IF(AND(IFERROR(VLOOKUP(C10,Authorizations!$A$4:$L$103,7,FALSE),0)>0,B10>IFERROR(VLOOKUP(C10,Authorizations!$A$4:$L$103,7,FALSE),B10)),"Pickup after valid date—review",IF(H10<>IFERROR(VLOOKUP(C10,Authorizations!$A$4:$L$103,9,FALSE),""),"Method differs—review",IF(I10<>"Matched","Verification needs review",IF(J10<>"Yes","Not released—review log","Handoff logged"))))))))))) | L10: Pet was not released; the expected method was not used.
A11: HAND-0008 | B11: 46274 | C11: AUTH-0005 | D11: =IF($C11="","",IFERROR(VLOOKUP($C11,Authorizations!$A$4:$L$103,2,FALSE),"ID not found")) | E11: =IF($C11="","",IFERROR(VLOOKUP($C11,Authorizations!$A$4:$L$103,3,FALSE),"ID not found")) | F11: =IF($C11="","",IFERROR(VLOOKUP($C11,Authorizations!$A$4:$L$103,4,FALSE),"ID not found")) | G11: FG | H11: Photo ID | I11: Matched | J11: No | K11: =IF(COUNTA(A11:C11,G11:J11,L11)=0,"",IF(OR(A11="",B11="",C11="",G11="",H11="",I11="",J11=""),"Complete required fields—review",IF(D11="ID not found","Authorization ID not found—review",IF(NOT(ISNUMBER(B11)),"Pickup date invalid—review",IF(IFERROR(VLOOKUP(C11,Authorizations!$A$4:$L$103,11,FALSE),"")="Incomplete","Authorization details need review",IF(IFERROR(VLOOKUP(C11,Authorizations!$A$4:$L$103,8,FALSE),"")<>"Active","Authorization not marked Active—review",IF(B11<IFERROR(VLOOKUP(C11,Authorizations!$A$4:$L$103,6,FALSE),DATE(9999,12,31)),"Pickup before valid date—review",IF(AND(IFERROR(VLOOKUP(C11,Authorizations!$A$4:$L$103,7,FALSE),0)>0,B11>IFERROR(VLOOKUP(C11,Authorizations!$A$4:$L$103,7,FALSE),B11)),"Pickup after valid date—review",IF(H11<>IFERROR(VLOOKUP(C11,Authorizations!$A$4:$L$103,9,FALSE),""),"Method differs—review",IF(I11<>"Matched","Verification needs review",IF(J11<>"Yes","Not released—review log","Handoff logged"))))))))))) | L11: Pet was not released.
A12: HAND-0009 | B12: 46274 | C12: AUTH-0004 | D12: =IF($C12="","",IFERROR(VLOOKUP($C12,Authorizations!$A$4:$L$103,2,FALSE),"ID not found")) | E12: =IF($C12="","",IFERROR(VLOOKUP($C12,Authorizations!$A$4:$L$103,3,FALSE),"ID not found")) | F12: =IF($C12="","",IFERROR(VLOOKUP($C12,Authorizations!$A$4:$L$103,4,FALSE),"ID not found")) | G12: FH | H12: Photo ID | I12: Not Matched | J12: No | K12: =IF(COUNTA(A12:C12,G12:J12,L12)=0,"",IF(OR(A12="",B12="",C12="",G12="",H12="",I12="",J12=""),"Complete required fields—review",IF(D12="ID not found","Authorization ID not found—review",IF(NOT(ISNUMBER(B12)),"Pickup date invalid—review",IF(IFERROR(VLOOKUP(C12,Authorizations!$A$4:$L$103,11,FALSE),"")="Incomplete","Authorization details need review",IF(IFERROR(VLOOKUP(C12,Authorizations!$A$4:$L$103,8,FALSE),"")<>"Active","Authorization not marked Active—review",IF(B12<IFERROR(VLOOKUP(C12,Authorizations!$A$4:$L$103,6,FALSE),DATE(9999,12,31)),"Pickup before valid date—review",IF(AND(IFERROR(VLOOKUP(C12,Authorizations!$A$4:$L$103,7,FALSE),0)>0,B12>IFERROR(VLOOKUP(C12,Authorizations!$A$4:$L$103,7,FALSE),B12)),"Pickup after valid date—review",IF(H12<>IFERROR(VLOOKUP(C12,Authorizations!$A$4:$L$103,9,FALSE),""),"Method differs—review",IF(I12<>"Matched","Verification needs review",IF(J12<>"Yes","Not released—review log","Handoff logged"))))))))))) | L12: Pet was not released; the authorization date had passed.
A13: HAND-0010 | B13: 46274 | C13: AUTH-0999 | D13: =IF($C13="","",IFERROR(VLOOKUP($C13,Authorizations!$A$4:$L$103,2,FALSE),"ID not found")) | E13: =IF($C13="","",IFERROR(VLOOKUP($C13,Authorizations!$A$4:$L$103,3,FALSE),"ID not found")) | F13: =IF($C13="","",IFERROR(VLOOKUP($C13,Authorizations!$A$4:$L$103,4,FALSE),"ID not found")) | G13: FZ | H13: Photo ID | I13: Not Checked | J13: No | K13: =IF(COUNTA(A13:C13,G13:J13,L13)=0,"",IF(OR(A13="",B13="",C13="",G13="",H13="",I13="",J13=""),"Complete required fields—review",IF(D13="ID not found","Authorization ID not found—review",IF(NOT(ISNUMBER(B13)),"Pickup date invalid—review",IF(IFERROR(VLOOKUP(C13,Authorizations!$A$4:$L$103,11,FALSE),"")="Incomplete","Authorization details need review",IF(IFERROR(VLOOKUP(C13,Authorizations!$A$4:$L$103,8,FALSE),"")<>"Active","Authorization not marked Active—review",IF(B13<IFERROR(VLOOKUP(C13,Authorizations!$A$4:$L$103,6,FALSE),DATE(9999,12,31)),"Pickup before valid date—review",IF(AND(IFERROR(VLOOKUP(C13,Authorizations!$A$4:$L$103,7,FALSE),0)>0,B13>IFERROR(VLOOKUP(C13,Authorizations!$A$4:$L$103,7,FALSE),B13)),"Pickup after valid date—review",IF(H13<>IFERROR(VLOOKUP(C13,Authorizations!$A$4:$L$103,9,FALSE),""),"Method differs—review",IF(I13<>"Matched","Verification needs review",IF(J13<>"Yes","Not released—review log","Handoff logged"))))))))))) | L13: Pet was not released; the authorization ID requires correction.
D14: =IF($C14="","",IFERROR(VLOOKUP($C14,Authorizations!$A$4:$L$103,2,FALSE),"ID not found")) | E14: =IF($C14="","",IFERROR(VLOOKUP($C14,Authorizations!$A$4:$L$103,3,FALSE),"ID not found")) | F14: =IF($C14="","",IFERROR(VLOOKUP($C14,Authorizations!$A$4:$L$103,4,FALSE),"ID not found")) | K14: =IF(COUNTA(A14:C14,G14:J14,L14)=0,"",IF(OR(A14="",B14="",C14="",G14="",H14="",I14="",J14=""),"Complete required fields—review",IF(D14="ID not found","Authorization ID not found—review",IF(NOT(ISNUMBER(B14)),"Pickup date invalid—review",IF(IFERROR(VLOOKUP(C14,Authorizations!$A$4:$L$103,11,FALSE),"")="Incomplete","Authorization details need review",IF(IFERROR(VLOOKUP(C14,Authorizations!$A$4:$L$103,8,FALSE),"")<>"Active","Authorization not marked Active—review",IF(B14<IFERROR(VLOOKUP(C14,Authorizations!$A$4:$L$103,6,FALSE),DATE(9999,12,31)),"Pickup before valid date—review",IF(AND(IFERROR(VLOOKUP(C14,Authorizations!$A$4:$L$103,7,FALSE),0)>0,B14>IFERROR(VLOOKUP(C14,Authorizations!$A$4:$L$103,7,FALSE),B14)),"Pickup after valid date—review",IF(H14<>IFERROR(VLOOKUP(C14,Authorizations!$A$4:$L$103,9,FALSE),""),"Method differs—review",IF(I14<>"Matched","Verification needs review",IF(J14<>"Yes","Not released—review log","Handoff logged")))))))))))
D15: =IF($C15="","",IFERROR(VLOOKUP($C15,Authorizations!$A$4:$L$103,2,FALSE),"ID not found")) | E15: =IF($C15="","",IFERROR(VLOOKUP($C15,Authorizations!$A$4:$L$103,3,FALSE),"ID not found")) | F15: =IF($C15="","",IFERROR(VLOOKUP($C15,Authorizations!$A$4:$L$103,4,FALSE),"ID not found")) | K15: =IF(COUNTA(A15:C15,G15:J15,L15)=0,"",IF(OR(A15="",B15="",C15="",G15="",H15="",I15="",J15=""),"Complete required fields—review",IF(D15="ID not found","Authorization ID not found—review",IF(NOT(ISNUMBER(B15)),"Pickup date invalid—review",IF(IFERROR(VLOOKUP(C15,Authorizations!$A$4:$L$103,11,FALSE),"")="Incomplete","Authorization details need review",IF(IFERROR(VLOOKUP(C15,Authorizations!$A$4:$L$103,8,FALSE),"")<>"Active","Authorization not marked Active—review",IF(B15<IFERROR(VLOOKUP(C15,Authorizations!$A$4:$L$103,6,FALSE),DATE(9999,12,31)),"Pickup before valid date—review",IF(AND(IFERROR(VLOOKUP(C15,Authorizations!$A$4:$L$103,7,FALSE),0)>0,B15>IFERROR(VLOOKUP(C15,Authorizations!$A$4:$L$103,7,FALSE),B15)),"Pickup after valid date—review",IF(H15<>IFERROR(VLOOKUP(C15,Authorizations!$A$4:$L$103,9,FALSE),""),"Method differs—review",IF(I15<>"Matched","Verification needs review",IF(J15<>"Yes","Not released—review log","Handoff logged")))))))))))
D16: =IF($C16="","",IFERROR(VLOOKUP($C16,Authorizations!$A$4:$L$103,2,FALSE),"ID not found")) | E16: =IF($C16="","",IFERROR(VLOOKUP($C16,Authorizations!$A$4:$L$103,3,FALSE),"ID not found")) | F16: =IF($C16="","",IFERROR(VLOOKUP($C16,Authorizations!$A$4:$L$103,4,FALSE),"ID not found")) | K16: =IF(COUNTA(A16:C16,G16:J16,L16)=0,"",IF(OR(A16="",B16="",C16="",G16="",H16="",I16="",J16=""),"Complete required fields—review",IF(D16="ID not found","Authorization ID not found—review",IF(NOT(ISNUMBER(B16)),"Pickup date invalid—review",IF(IFERROR(VLOOKUP(C16,Authorizations!$A$4:$L$103,11,FALSE),"")="Incomplete","Authorization details need review",IF(IFERROR(VLOOKUP(C16,Authorizations!$A$4:$L$103,8,FALSE),"")<>"Active","Authorization not marked Active—review",IF(B16<IFERROR(VLOOKUP(C16,Authorizations!$A$4:$L$103,6,FALSE),DATE(9999,12,31)),"Pickup before valid date—review",IF(AND(IFERROR(VLOOKUP(C16,Authorizations!$A$4:$L$103,7,FALSE),0)>0,B16>IFERROR(VLOOKUP(C16,Authorizations!$A$4:$L$103,7,FALSE),B16)),"Pickup after valid date—review",IF(H16<>IFERROR(VLOOKUP(C16,Authorizations!$A$4:$L$103,9,FALSE),""),"Method differs—review",IF(I16<>"Matched","Verification needs review",IF(J16<>"Yes","Not released—review log","Handoff logged")))))))))))
D17: =IF($C17="","",IFERROR(VLOOKUP($C17,Authorizations!$A$4:$L$103,2,FALSE),"ID not found")) | E17: =IF($C17="","",IFERROR(VLOOKUP($C17,Authorizations!$A$4:$L$103,3,FALSE),"ID not found")) | F17: =IF($C17="","",IFERROR(VLOOKUP($C17,Authorizations!$A$4:$L$103,4,FALSE),"ID not found")) | K17: =IF(COUNTA(A17:C17,G17:J17,L17)=0,"",IF(OR(A17="",B17="",C17="",G17="",H17="",I17="",J17=""),"Complete required fields—review",IF(D17="ID not found","Authorization ID not found—review",IF(NOT(ISNUMBER(B17)),"Pickup date invalid—review",IF(IFERROR(VLOOKUP(C17,Authorizations!$A$4:$L$103,11,FALSE),"")="Incomplete","Authorization details need review",IF(IFERROR(VLOOKUP(C17,Authorizations!$A$4:$L$103,8,FALSE),"")<>"Active","Authorization not marked Active—review",IF(B17<IFERROR(VLOOKUP(C17,Authorizations!$A$4:$L$103,6,FALSE),DATE(9999,12,31)),"Pickup before valid date—review",IF(AND(IFERROR(VLOOKUP(C17,Authorizations!$A$4:$L$103,7,FALSE),0)>0,B17>IFERROR(VLOOKUP(C17,Authorizations!$A$4:$L$103,7,FALSE),B17)),"Pickup after valid date—review",IF(H17<>IFERROR(VLOOKUP(C17,Authorizations!$A$4:$L$103,9,FALSE),""),"Method differs—review",IF(I17<>"Matched","Verification needs review",IF(J17<>"Yes","Not released—review log","Handoff logged")))))))))))
D18: =IF($C18="","",IFERROR(VLOOKUP($C18,Authorizations!$A$4:$L$103,2,FALSE),"ID not found")) | E18: =IF($C18="","",IFERROR(VLOOKUP($C18,Authorizations!$A$4:$L$103,3,FALSE),"ID not found")) | F18: =IF($C18="","",IFERROR(VLOOKUP($C18,Authorizations!$A$4:$L$103,4,FALSE),"ID not found")) | K18: =IF(COUNTA(A18:C18,G18:J18,L18)=0,"",IF(OR(A18="",B18="",C18="",G18="",H18="",I18="",J18=""),"Complete required fields—review",IF(D18="ID not found","Authorization ID not found—review",IF(NOT(ISNUMBER(B18)),"Pickup date invalid—review",IF(IFERROR(VLOOKUP(C18,Authorizations!$A$4:$L$103,11,FALSE),"")="Incomplete","Authorization details need review",IF(IFERROR(VLOOKUP(C18,Authorizations!$A$4:$L$103,8,FALSE),"")<>"Active","Authorization not marked Active—review",IF(B18<IFERROR(VLOOKUP(C18,Authorizations!$A$4:$L$103,6,FALSE),DATE(9999,12,31)),"Pickup before valid date—review",IF(AND(IFERROR(VLOOKUP(C18,Authorizations!$A$4:$L$103,7,FALSE),0)>0,B18>IFERROR(VLOOKUP(C18,Authorizations!$A$4:$L$103,7,FALSE),B18)),"Pickup after valid date—review",IF(H18<>IFERROR(VLOOKUP(C18,Authorizations!$A$4:$L$103,9,FALSE),""),"Method differs—review",IF(I18<>"Matched","Verification needs review",IF(J18<>"Yes","Not released—review log","Handoff logged")))))))))))
D19: =IF($C19="","",IFERROR(VLOOKUP($C19,Authorizations!$A$4:$L$103,2,FALSE),"ID not found")) | E19: =IF($C19="","",IFERROR(VLOOKUP($C19,Authorizations!$A$4:$L$103,3,FALSE),"ID not found")) | F19: =IF($C19="","",IFERROR(VLOOKUP($C19,Authorizations!$A$4:$L$103,4,FALSE),"ID not found")) | K19: =IF(COUNTA(A19:C19,G19:J19,L19)=0,"",IF(OR(A19="",B19="",C19="",G19="",H19="",I19="",J19=""),"Complete required fields—review",IF(D19="ID not found","Authorization ID not found—review",IF(NOT(ISNUMBER(B19)),"Pickup date invalid—review",IF(IFERROR(VLOOKUP(C19,Authorizations!$A$4:$L$103,11,FALSE),"")="Incomplete","Authorization details need review",IF(IFERROR(VLOOKUP(C19,Authorizations!$A$4:$L$103,8,FALSE),"")<>"Active","Authorization not marked Active—review",IF(B19<IFERROR(VLOOKUP(C19,Authorizations!$A$4:$L$103,6,FALSE),DATE(9999,12,31)),"Pickup before valid date—review",IF(AND(IFERROR(VLOOKUP(C19,Authorizations!$A$4:$L$103,7,FALSE),0)>0,B19>IFERROR(VLOOKUP(C19,Authorizations!$A$4:$L$103,7,FALSE),B19)),"Pickup after valid date—review",IF(H19<>IFERROR(VLOOKUP(C19,Authorizations!$A$4:$L$103,9,FALSE),""),"Method differs—review",IF(I19<>"Matched","Verification needs review",IF(J19<>"Yes","Not released—review log","Handoff logged")))))))))))
D20: =IF($C20="","",IFERROR(VLOOKUP($C20,Authorizations!$A$4:$L$103,2,FALSE),"ID not found")) | E20: =IF($C20="","",IFERROR(VLOOKUP($C20,Authorizations!$A$4:$L$103,3,FALSE),"ID not found")) | F20: =IF($C20="","",IFERROR(VLOOKUP($C20,Authorizations!$A$4:$L$103,4,FALSE),"ID not found")) | K20: =IF(COUNTA(A20:C20,G20:J20,L20)=0,"",IF(OR(A20="",B20="",C20="",G20="",H20="",I20="",J20=""),"Complete required fields—review",IF(D20="ID not found","Authorization ID not found—review",IF(NOT(ISNUMBER(B20)),"Pickup date invalid—review",IF(IFERROR(VLOOKUP(C20,Authorizations!$A$4:$L$103,11,FALSE),"")="Incomplete","Authorization details need review",IF(IFERROR(VLOOKUP(C20,Authorizations!$A$4:$L$103,8,FALSE),"")<>"Active","Authorization not marked Active—review",IF(B20<IFERROR(VLOOKUP(C20,Authorizations!$A$4:$L$103,6,FALSE),DATE(9999,12,31)),"Pickup before valid date—review",IF(AND(IFERROR(VLOOKUP(C20,Authorizations!$A$4:$L$103,7,FALSE),0)>0,B20>IFERROR(VLOOKUP(C20,Authorizations!$A$4:$L$103,7,FALSE),B20)),"Pickup after valid date—review",IF(H20<>IFERROR(VLOOKUP(C20,Authorizations!$A$4:$L$103,9,FALSE),""),"Method differs—review",IF(I20<>"Matched","Verification needs review",IF(J20<>"Yes","Not released—review log","Handoff logged")))))))))))
D21: =IF($C21="","",IFERROR(VLOOKUP($C21,Authorizations!$A$4:$L$103,2,FALSE),"ID not found")) | E21: =IF($C21="","",IFERROR(VLOOKUP($C21,Authorizations!$A$4:$L$103,3,FALSE),"ID not found")) | F21: =IF($C21="","",IFERROR(VLOOKUP($C21,Authorizations!$A$4:$L$103,4,FALSE),"ID not found")) | K21: =IF(COUNTA(A21:C21,G21:J21,L21)=0,"",IF(OR(A21="",B21="",C21="",G21="",H21="",I21="",J21=""),"Complete required fields—review",IF(D21="ID not found","Authorization ID not found—review",IF(NOT(ISNUMBER(B21)),"Pickup date invalid—review",IF(IFERROR(VLOOKUP(C21,Authorizations!$A$4:$L$103,11,FALSE),"")="Incomplete","Authorization details need review",IF(IFERROR(VLOOKUP(C21,Authorizations!$A$4:$L$103,8,FALSE),"")<>"Active","Authorization not marked Active—review",IF(B21<IFERROR(VLOOKUP(C21,Authorizations!$A$4:$L$103,6,FALSE),DATE(9999,12,31)),"Pickup before valid date—review",IF(AND(IFERROR(VLOOKUP(C21,Authorizations!$A$4:$L$103,7,FALSE),0)>0,B21>IFERROR(VLOOKUP(C21,Authorizations!$A$4:$L$103,7,FALSE),B21)),"Pickup after valid date—review",IF(H21<>IFERROR(VLOOKUP(C21,Authorizations!$A$4:$L$103,9,FALSE),""),"Method differs—review",IF(I21<>"Matched","Verification needs review",IF(J21<>"Yes","Not released—review log","Handoff logged")))))))))))
D22: =IF($C22="","",IFERROR(VLOOKUP($C22,Authorizations!$A$4:$L$103,2,FALSE),"ID not found")) | E22: =IF($C22="","",IFERROR(VLOOKUP($C22,Authorizations!$A$4:$L$103,3,FALSE),"ID not found")) | F22: =IF($C22="","",IFERROR(VLOOKUP($C22,Authorizations!$A$4:$L$103,4,FALSE),"ID not found")) | K22: =IF(COUNTA(A22:C22,G22:J22,L22)=0,"",IF(OR(A22="",B22="",C22="",G22="",H22="",I22="",J22=""),"Complete required fields—review",IF(D22="ID not found","Authorization ID not found—review",IF(NOT(ISNUMBER(B22)),"Pickup date invalid—review",IF(IFERROR(VLOOKUP(C22,Authorizations!$A$4:$L$103,11,FALSE),"")="Incomplete","Authorization details need review",IF(IFERROR(VLOOKUP(C22,Authorizations!$A$4:$L$103,8,FALSE),"")<>"Active","Authorization not marked Active—review",IF(B22<IFERROR(VLOOKUP(C22,Authorizations!$A$4:$L$103,6,FALSE),DATE(9999,12,31)),"Pickup before valid date—review",IF(AND(IFERROR(VLOOKUP(C22,Authorizations!$A$4:$L$103,7,FALSE),0)>0,B22>IFERROR(VLOOKUP(C22,Authorizations!$A$4:$L$103,7,FALSE),B22)),"Pickup after valid date—review",IF(H22<>IFERROR(VLOOKUP(C22,Authorizations!$A$4:$L$103,9,FALSE),""),"Method differs—review",IF(I22<>"Matched","Verification needs review",IF(J22<>"Yes","Not released—review log","Handoff logged")))))))))))
D23: =IF($C23="","",IFERROR(VLOOKUP($C23,Authorizations!$A$4:$L$103,2,FALSE),"ID not found")) | E23: =IF($C23="","",IFERROR(VLOOKUP($C23,Authorizations!$A$4:$L$103,3,FALSE),"ID not found")) | F23: =IF($C23="","",IFERROR(VLOOKUP($C23,Authorizations!$A$4:$L$103,4,FALSE),"ID not found")) | K23: =IF(COUNTA(A23:C23,G23:J23,L23)=0,"",IF(OR(A23="",B23="",C23="",G23="",H23="",I23="",J23=""),"Complete required fields—review",IF(D23="ID not found","Authorization ID not found—review",IF(NOT(ISNUMBER(B23)),"Pickup date invalid—review",IF(IFERROR(VLOOKUP(C23,Authorizations!$A$4:$L$103,11,FALSE),"")="Incomplete","Authorization details need review",IF(IFERROR(VLOOKUP(C23,Authorizations!$A$4:$L$103,8,FALSE),"")<>"Active","Authorization not marked Active—review",IF(B23<IFERROR(VLOOKUP(C23,Authorizations!$A$4:$L$103,6,FALSE),DATE(9999,12,31)),"Pickup before valid date—review",IF(AND(IFERROR(VLOOKUP(C23,Authorizations!$A$4:$L$103,7,FALSE),0)>0,B23>IFERROR(VLOOKUP(C23,Authorizations!$A$4:$L$103,7,FALSE),B23)),"Pickup after valid date—review",IF(H23<>IFERROR(VLOOKUP(C23,Authorizations!$A$4:$L$103,9,FALSE),""),"Method differs—review",IF(I23<>"Matched","Verification needs review",IF(J23<>"Yes","Not released—review log","Handoff logged")))))))))))
D24: =IF($C24="","",IFERROR(VLOOKUP($C24,Authorizations!$A$4:$L$103,2,FALSE),"ID not found")) | E24: =IF($C24="","",IFERROR(VLOOKUP($C24,Authorizations!$A$4:$L$103,3,FALSE),"ID not found")) | F24: =IF($C24="","",IFERROR(VLOOKUP($C24,Authorizations!$A$4:$L$103,4,FALSE),"ID not found")) | K24: =IF(COUNTA(A24:C24,G24:J24,L24)=0,"",IF(OR(A24="",B24="",C24="",G24="",H24="",I24="",J24=""),"Complete required fields—review",IF(D24="ID not found","Authorization ID not found—review",IF(NOT(ISNUMBER(B24)),"Pickup date invalid—review",IF(IFERROR(VLOOKUP(C24,Authorizations!$A$4:$L$103,11,FALSE),"")="Incomplete","Authorization details need review",IF(IFERROR(VLOOKUP(C24,Authorizations!$A$4:$L$103,8,FALSE),"")<>"Active","Authorization not marked Active—review",IF(B24<IFERROR(VLOOKUP(C24,Authorizations!$A$4:$L$103,6,FALSE),DATE(9999,12,31)),"Pickup before valid date—review",IF(AND(IFERROR(VLOOKUP(C24,Authorizations!$A$4:$L$103,7,FALSE),0)>0,B24>IFERROR(VLOOKUP(C24,Authorizations!$A$4:$L$103,7,FALSE),B24)),"Pickup after valid date—review",IF(H24<>IFERROR(VLOOKUP(C24,Authorizations!$A$4:$L$103,9,FALSE),""),"Method differs—review",IF(I24<>"Matched","Verification needs review",IF(J24<>"Yes","Not released—review log","Handoff logged")))))))))))
D25: =IF($C25="","",IFERROR(VLOOKUP($C25,Authorizations!$A$4:$L$103,2,FALSE),"ID not found")) | E25: =IF($C25="","",IFERROR(VLOOKUP($C25,Authorizations!$A$4:$L$103,3,FALSE),"ID not found")) | F25: =IF($C25="","",IFERROR(VLOOKUP($C25,Authorizations!$A$4:$L$103,4,FALSE),"ID not found")) | K25: =IF(COUNTA(A25:C25,G25:J25,L25)=0,"",IF(OR(A25="",B25="",C25="",G25="",H25="",I25="",J25=""),"Complete required fields—review",IF(D25="ID not found","Authorization ID not found—review",IF(NOT(ISNUMBER(B25)),"Pickup date invalid—review",IF(IFERROR(VLOOKUP(C25,Authorizations!$A$4:$L$103,11,FALSE),"")="Incomplete","Authorization details need review",IF(IFERROR(VLOOKUP(C25,Authorizations!$A$4:$L$103,8,FALSE),"")<>"Active","Authorization not marked Active—review",IF(B25<IFERROR(VLOOKUP(C25,Authorizations!$A$4:$L$103,6,FALSE),DATE(9999,12,31)),"Pickup before valid date—review",IF(AND(IFERROR(VLOOKUP(C25,Authorizations!$A$4:$L$103,7,FALSE),0)>0,B25>IFERROR(VLOOKUP(C25,Authorizations!$A$4:$L$103,7,FALSE),B25)),"Pickup after valid date—review",IF(H25<>IFERROR(VLOOKUP(C25,Authorizations!$A$4:$L$103,9,FALSE),""),"Method differs—review",IF(I25<>"Matched","Verification needs review",IF(J25<>"Yes","Not released—review log","Handoff logged")))))))))))
... D103: =IF($C103="","",IFERROR(VLOOKUP($C103,Authorizations!$A$4:$L$103,2,FALSE),"ID not found")) | E103: =IF($C103="","",IFERROR(VLOOKUP($C103,Authorizations!$A$4:$L$103,3,FALSE),"ID not found")) | F103: =IF($C103="","",IFERROR(VLOOKUP($C103,Authorizations!$A$4:$L$103,4,FALSE),"ID not found")) | K103: =IF(COUNTA(A103:C103,G103:J103,L103)=0,"",IF(OR(A103="",B103="",C103="",G103="",H103="",I103="",J103=""),"Complete required fields—review",IF(D103="ID not found","Authorization ID not found—review",IF(NOT(ISNUMBER(B103)),"Pickup date invalid—review",IF(IFERROR(VLOOKUP(C103,Authorizations!$A$4:$L$103,11,FALSE),"")="Incomplete","Authorization details need review",IF(IFERROR(VLOOKUP(C103,Authorizations!$A$4:$L$103,8,FALSE),"")<>"Active","Authorization not marked Active—review",IF(B103<IFERROR(VLOOKUP(C103,Authorizations!$A$4:$L$103,6,FALSE),DATE(9999,12,31)),"Pickup before valid date—review",IF(AND(IFERROR(VLOOKUP(C103,Authorizations!$A$4:$L$103,7,FALSE),0)>0,B103>IFERROR(VLOOKUP(C103,Authorizations!$A$4:$L$103,7,FALSE),B103)),"Pickup after valid date—review",IF(H103<>IFERROR(VLOOKUP(C103,Authorizations!$A$4:$L$103,9,FALSE),""),"Method differs—review",IF(I103<>"Matched","Verification needs review",IF(J103<>"Yes","Not released—review log","Handoff logged")))))))))))

Sheet Assumptions
A1: Editable Assumptions and Lists
A2: Edit these visible limits and stable choices when business procedures change. Validation lists in the working sheets use these cells.
A3: Editable Limit | B3: Value | C3: Use | E3: Authorization Status | F3: Verification Method | G3: Verification Result | H3: Yes / No
A4: Upcoming expiry window (days) | B4: 14 | C4: Summary and authorization review prompts | E4: Active | F4: Photo ID | G4: Matched | H4: Yes
A5: Minimum allowed window (days) | B5: 1 | C5: Lower validation boundary | E5: Paused | F5: Pickup Code | G5: Not Matched | H5: No
A6: Maximum allowed window (days) | B6: 90 | C6: Upper validation boundary | E6: Revoked | F6: In-Person Recognition | G6: Not Checked
F7: Other
A8: Earliest permitted entry date | B8: 45292 | C8: Authorization and pickup date validation
A9: Latest permitted entry date | B9: 48213 | C9: Authorization and pickup date validation
