Workbook

Sheet Summary
A1: Pet Service Capacity Planner
A2: Weekly indicators are calculated from the fictional booking forecasts and entered capacity records.
A3: Booking records | B3: =COUNTIFS(Bookings!$B$4:$B$103,">="&Assumptions!$B$5,Bookings!$B$4:$B$103,"<="&Assumptions!$B$5+7*(Assumptions!$B$6-1),Bookings!$A$4:$A$103,"<>") | C3: Counted staff hours | D3: =IFERROR(SUM($B$8:$B$59),0) | E3: Counted facility hours | F3: =IFERROR(SUM($E$8:$E$59),0)
A4: Weeks at or over staff capacity | B4: =COUNTIF($D$8:$D$59,">=1") | C4: Weeks at or over facility capacity | D4: =COUNTIF($G$8:$G$59,">=1") | E4: Missing capacity fields | F4: =COUNTIFS($A$8:$A$59,"<>",$C$8:$C$59,"")+COUNTIFS($A$8:$A$59,"<>",$F$8:$F$59,"")
A6: Weekly capacity comparison
A7: Week Start | B7: Booked Staff Hours | C7: Available Staff Hours | D7: Staff Utilization | E7: Booked Facility Hours | F7: Available Facility Hours | G7: Facility Utilization | H7: Capacity Check
A8: =IF(1<=Assumptions!$B$6,Assumptions!$B$5+7*(1-1),"") | B8: =IF($A8="","",SUMIFS(Bookings!$J$4:$J$103,Bookings!$B$4:$B$103,$A8)) | C8: =IF($A8="","",IFERROR(VLOOKUP($A8,Capacity!$A$4:$C$103,2,FALSE),"")) | D8: =IF(OR($A8="",$C8=""),"",IF($C8=0,IF($B8>0,1,0),IFERROR($B8/$C8,""))) | E8: =IF($A8="","",SUMIFS(Bookings!$K$4:$K$103,Bookings!$B$4:$B$103,$A8)) | F8: =IF($A8="","",IFERROR(VLOOKUP($A8,Capacity!$A$4:$C$103,3,FALSE),"")) | G8: =IF(OR($A8="",$F8=""),"",IF($F8=0,IF($E8>0,1,0),IFERROR($E8/$F8,""))) | H8: =IF($A8="","",IF(OR($C8="",$F8=""),"Enter capacity",IF(OR(AND($B8>0,$B8>=$C8),AND($E8>0,$E8>=$F8)),"Over capacity",IF(OR($D8>=Assumptions!$B$7,$G8>=Assumptions!$B$7),"Check near limit","Within capacity"))))
A9: =IF(2<=Assumptions!$B$6,Assumptions!$B$5+7*(2-1),"") | B9: =IF($A9="","",SUMIFS(Bookings!$J$4:$J$103,Bookings!$B$4:$B$103,$A9)) | C9: =IF($A9="","",IFERROR(VLOOKUP($A9,Capacity!$A$4:$C$103,2,FALSE),"")) | D9: =IF(OR($A9="",$C9=""),"",IF($C9=0,IF($B9>0,1,0),IFERROR($B9/$C9,""))) | E9: =IF($A9="","",SUMIFS(Bookings!$K$4:$K$103,Bookings!$B$4:$B$103,$A9)) | F9: =IF($A9="","",IFERROR(VLOOKUP($A9,Capacity!$A$4:$C$103,3,FALSE),"")) | G9: =IF(OR($A9="",$F9=""),"",IF($F9=0,IF($E9>0,1,0),IFERROR($E9/$F9,""))) | H9: =IF($A9="","",IF(OR($C9="",$F9=""),"Enter capacity",IF(OR(AND($B9>0,$B9>=$C9),AND($E9>0,$E9>=$F9)),"Over capacity",IF(OR($D9>=Assumptions!$B$7,$G9>=Assumptions!$B$7),"Check near limit","Within capacity"))))
A10: =IF(3<=Assumptions!$B$6,Assumptions!$B$5+7*(3-1),"") | B10: =IF($A10="","",SUMIFS(Bookings!$J$4:$J$103,Bookings!$B$4:$B$103,$A10)) | C10: =IF($A10="","",IFERROR(VLOOKUP($A10,Capacity!$A$4:$C$103,2,FALSE),"")) | D10: =IF(OR($A10="",$C10=""),"",IF($C10=0,IF($B10>0,1,0),IFERROR($B10/$C10,""))) | E10: =IF($A10="","",SUMIFS(Bookings!$K$4:$K$103,Bookings!$B$4:$B$103,$A10)) | F10: =IF($A10="","",IFERROR(VLOOKUP($A10,Capacity!$A$4:$C$103,3,FALSE),"")) | G10: =IF(OR($A10="",$F10=""),"",IF($F10=0,IF($E10>0,1,0),IFERROR($E10/$F10,""))) | H10: =IF($A10="","",IF(OR($C10="",$F10=""),"Enter capacity",IF(OR(AND($B10>0,$B10>=$C10),AND($E10>0,$E10>=$F10)),"Over capacity",IF(OR($D10>=Assumptions!$B$7,$G10>=Assumptions!$B$7),"Check near limit","Within capacity"))))
A11: =IF(4<=Assumptions!$B$6,Assumptions!$B$5+7*(4-1),"") | B11: =IF($A11="","",SUMIFS(Bookings!$J$4:$J$103,Bookings!$B$4:$B$103,$A11)) | C11: =IF($A11="","",IFERROR(VLOOKUP($A11,Capacity!$A$4:$C$103,2,FALSE),"")) | D11: =IF(OR($A11="",$C11=""),"",IF($C11=0,IF($B11>0,1,0),IFERROR($B11/$C11,""))) | E11: =IF($A11="","",SUMIFS(Bookings!$K$4:$K$103,Bookings!$B$4:$B$103,$A11)) | F11: =IF($A11="","",IFERROR(VLOOKUP($A11,Capacity!$A$4:$C$103,3,FALSE),"")) | G11: =IF(OR($A11="",$F11=""),"",IF($F11=0,IF($E11>0,1,0),IFERROR($E11/$F11,""))) | H11: =IF($A11="","",IF(OR($C11="",$F11=""),"Enter capacity",IF(OR(AND($B11>0,$B11>=$C11),AND($E11>0,$E11>=$F11)),"Over capacity",IF(OR($D11>=Assumptions!$B$7,$G11>=Assumptions!$B$7),"Check near limit","Within capacity"))))
A12: =IF(5<=Assumptions!$B$6,Assumptions!$B$5+7*(5-1),"") | B12: =IF($A12="","",SUMIFS(Bookings!$J$4:$J$103,Bookings!$B$4:$B$103,$A12)) | C12: =IF($A12="","",IFERROR(VLOOKUP($A12,Capacity!$A$4:$C$103,2,FALSE),"")) | D12: =IF(OR($A12="",$C12=""),"",IF($C12=0,IF($B12>0,1,0),IFERROR($B12/$C12,""))) | E12: =IF($A12="","",SUMIFS(Bookings!$K$4:$K$103,Bookings!$B$4:$B$103,$A12)) | F12: =IF($A12="","",IFERROR(VLOOKUP($A12,Capacity!$A$4:$C$103,3,FALSE),"")) | G12: =IF(OR($A12="",$F12=""),"",IF($F12=0,IF($E12>0,1,0),IFERROR($E12/$F12,""))) | H12: =IF($A12="","",IF(OR($C12="",$F12=""),"Enter capacity",IF(OR(AND($B12>0,$B12>=$C12),AND($E12>0,$E12>=$F12)),"Over capacity",IF(OR($D12>=Assumptions!$B$7,$G12>=Assumptions!$B$7),"Check near limit","Within capacity"))))
A13: =IF(6<=Assumptions!$B$6,Assumptions!$B$5+7*(6-1),"") | B13: =IF($A13="","",SUMIFS(Bookings!$J$4:$J$103,Bookings!$B$4:$B$103,$A13)) | C13: =IF($A13="","",IFERROR(VLOOKUP($A13,Capacity!$A$4:$C$103,2,FALSE),"")) | D13: =IF(OR($A13="",$C13=""),"",IF($C13=0,IF($B13>0,1,0),IFERROR($B13/$C13,""))) | E13: =IF($A13="","",SUMIFS(Bookings!$K$4:$K$103,Bookings!$B$4:$B$103,$A13)) | F13: =IF($A13="","",IFERROR(VLOOKUP($A13,Capacity!$A$4:$C$103,3,FALSE),"")) | G13: =IF(OR($A13="",$F13=""),"",IF($F13=0,IF($E13>0,1,0),IFERROR($E13/$F13,""))) | H13: =IF($A13="","",IF(OR($C13="",$F13=""),"Enter capacity",IF(OR(AND($B13>0,$B13>=$C13),AND($E13>0,$E13>=$F13)),"Over capacity",IF(OR($D13>=Assumptions!$B$7,$G13>=Assumptions!$B$7),"Check near limit","Within capacity"))))
A14: =IF(7<=Assumptions!$B$6,Assumptions!$B$5+7*(7-1),"") | B14: =IF($A14="","",SUMIFS(Bookings!$J$4:$J$103,Bookings!$B$4:$B$103,$A14)) | C14: =IF($A14="","",IFERROR(VLOOKUP($A14,Capacity!$A$4:$C$103,2,FALSE),"")) | D14: =IF(OR($A14="",$C14=""),"",IF($C14=0,IF($B14>0,1,0),IFERROR($B14/$C14,""))) | E14: =IF($A14="","",SUMIFS(Bookings!$K$4:$K$103,Bookings!$B$4:$B$103,$A14)) | F14: =IF($A14="","",IFERROR(VLOOKUP($A14,Capacity!$A$4:$C$103,3,FALSE),"")) | G14: =IF(OR($A14="",$F14=""),"",IF($F14=0,IF($E14>0,1,0),IFERROR($E14/$F14,""))) | H14: =IF($A14="","",IF(OR($C14="",$F14=""),"Enter capacity",IF(OR(AND($B14>0,$B14>=$C14),AND($E14>0,$E14>=$F14)),"Over capacity",IF(OR($D14>=Assumptions!$B$7,$G14>=Assumptions!$B$7),"Check near limit","Within capacity"))))
A15: =IF(8<=Assumptions!$B$6,Assumptions!$B$5+7*(8-1),"") | B15: =IF($A15="","",SUMIFS(Bookings!$J$4:$J$103,Bookings!$B$4:$B$103,$A15)) | C15: =IF($A15="","",IFERROR(VLOOKUP($A15,Capacity!$A$4:$C$103,2,FALSE),"")) | D15: =IF(OR($A15="",$C15=""),"",IF($C15=0,IF($B15>0,1,0),IFERROR($B15/$C15,""))) | E15: =IF($A15="","",SUMIFS(Bookings!$K$4:$K$103,Bookings!$B$4:$B$103,$A15)) | F15: =IF($A15="","",IFERROR(VLOOKUP($A15,Capacity!$A$4:$C$103,3,FALSE),"")) | G15: =IF(OR($A15="",$F15=""),"",IF($F15=0,IF($E15>0,1,0),IFERROR($E15/$F15,""))) | H15: =IF($A15="","",IF(OR($C15="",$F15=""),"Enter capacity",IF(OR(AND($B15>0,$B15>=$C15),AND($E15>0,$E15>=$F15)),"Over capacity",IF(OR($D15>=Assumptions!$B$7,$G15>=Assumptions!$B$7),"Check near limit","Within capacity"))))
A16: =IF(9<=Assumptions!$B$6,Assumptions!$B$5+7*(9-1),"") | B16: =IF($A16="","",SUMIFS(Bookings!$J$4:$J$103,Bookings!$B$4:$B$103,$A16)) | C16: =IF($A16="","",IFERROR(VLOOKUP($A16,Capacity!$A$4:$C$103,2,FALSE),"")) | D16: =IF(OR($A16="",$C16=""),"",IF($C16=0,IF($B16>0,1,0),IFERROR($B16/$C16,""))) | E16: =IF($A16="","",SUMIFS(Bookings!$K$4:$K$103,Bookings!$B$4:$B$103,$A16)) | F16: =IF($A16="","",IFERROR(VLOOKUP($A16,Capacity!$A$4:$C$103,3,FALSE),"")) | G16: =IF(OR($A16="",$F16=""),"",IF($F16=0,IF($E16>0,1,0),IFERROR($E16/$F16,""))) | H16: =IF($A16="","",IF(OR($C16="",$F16=""),"Enter capacity",IF(OR(AND($B16>0,$B16>=$C16),AND($E16>0,$E16>=$F16)),"Over capacity",IF(OR($D16>=Assumptions!$B$7,$G16>=Assumptions!$B$7),"Check near limit","Within capacity"))))
A17: =IF(10<=Assumptions!$B$6,Assumptions!$B$5+7*(10-1),"") | B17: =IF($A17="","",SUMIFS(Bookings!$J$4:$J$103,Bookings!$B$4:$B$103,$A17)) | C17: =IF($A17="","",IFERROR(VLOOKUP($A17,Capacity!$A$4:$C$103,2,FALSE),"")) | D17: =IF(OR($A17="",$C17=""),"",IF($C17=0,IF($B17>0,1,0),IFERROR($B17/$C17,""))) | E17: =IF($A17="","",SUMIFS(Bookings!$K$4:$K$103,Bookings!$B$4:$B$103,$A17)) | F17: =IF($A17="","",IFERROR(VLOOKUP($A17,Capacity!$A$4:$C$103,3,FALSE),"")) | G17: =IF(OR($A17="",$F17=""),"",IF($F17=0,IF($E17>0,1,0),IFERROR($E17/$F17,""))) | H17: =IF($A17="","",IF(OR($C17="",$F17=""),"Enter capacity",IF(OR(AND($B17>0,$B17>=$C17),AND($E17>0,$E17>=$F17)),"Over capacity",IF(OR($D17>=Assumptions!$B$7,$G17>=Assumptions!$B$7),"Check near limit","Within capacity"))))
A18: =IF(11<=Assumptions!$B$6,Assumptions!$B$5+7*(11-1),"") | B18: =IF($A18="","",SUMIFS(Bookings!$J$4:$J$103,Bookings!$B$4:$B$103,$A18)) | C18: =IF($A18="","",IFERROR(VLOOKUP($A18,Capacity!$A$4:$C$103,2,FALSE),"")) | D18: =IF(OR($A18="",$C18=""),"",IF($C18=0,IF($B18>0,1,0),IFERROR($B18/$C18,""))) | E18: =IF($A18="","",SUMIFS(Bookings!$K$4:$K$103,Bookings!$B$4:$B$103,$A18)) | F18: =IF($A18="","",IFERROR(VLOOKUP($A18,Capacity!$A$4:$C$103,3,FALSE),"")) | G18: =IF(OR($A18="",$F18=""),"",IF($F18=0,IF($E18>0,1,0),IFERROR($E18/$F18,""))) | H18: =IF($A18="","",IF(OR($C18="",$F18=""),"Enter capacity",IF(OR(AND($B18>0,$B18>=$C18),AND($E18>0,$E18>=$F18)),"Over capacity",IF(OR($D18>=Assumptions!$B$7,$G18>=Assumptions!$B$7),"Check near limit","Within capacity"))))
A19: =IF(12<=Assumptions!$B$6,Assumptions!$B$5+7*(12-1),"") | B19: =IF($A19="","",SUMIFS(Bookings!$J$4:$J$103,Bookings!$B$4:$B$103,$A19)) | C19: =IF($A19="","",IFERROR(VLOOKUP($A19,Capacity!$A$4:$C$103,2,FALSE),"")) | D19: =IF(OR($A19="",$C19=""),"",IF($C19=0,IF($B19>0,1,0),IFERROR($B19/$C19,""))) | E19: =IF($A19="","",SUMIFS(Bookings!$K$4:$K$103,Bookings!$B$4:$B$103,$A19)) | F19: =IF($A19="","",IFERROR(VLOOKUP($A19,Capacity!$A$4:$C$103,3,FALSE),"")) | G19: =IF(OR($A19="",$F19=""),"",IF($F19=0,IF($E19>0,1,0),IFERROR($E19/$F19,""))) | H19: =IF($A19="","",IF(OR($C19="",$F19=""),"Enter capacity",IF(OR(AND($B19>0,$B19>=$C19),AND($E19>0,$E19>=$F19)),"Over capacity",IF(OR($D19>=Assumptions!$B$7,$G19>=Assumptions!$B$7),"Check near limit","Within capacity"))))
A20: =IF(13<=Assumptions!$B$6,Assumptions!$B$5+7*(13-1),"") | B20: =IF($A20="","",SUMIFS(Bookings!$J$4:$J$103,Bookings!$B$4:$B$103,$A20)) | C20: =IF($A20="","",IFERROR(VLOOKUP($A20,Capacity!$A$4:$C$103,2,FALSE),"")) | D20: =IF(OR($A20="",$C20=""),"",IF($C20=0,IF($B20>0,1,0),IFERROR($B20/$C20,""))) | E20: =IF($A20="","",SUMIFS(Bookings!$K$4:$K$103,Bookings!$B$4:$B$103,$A20)) | F20: =IF($A20="","",IFERROR(VLOOKUP($A20,Capacity!$A$4:$C$103,3,FALSE),"")) | G20: =IF(OR($A20="",$F20=""),"",IF($F20=0,IF($E20>0,1,0),IFERROR($E20/$F20,""))) | H20: =IF($A20="","",IF(OR($C20="",$F20=""),"Enter capacity",IF(OR(AND($B20>0,$B20>=$C20),AND($E20>0,$E20>=$F20)),"Over capacity",IF(OR($D20>=Assumptions!$B$7,$G20>=Assumptions!$B$7),"Check near limit","Within capacity"))))
A21: =IF(14<=Assumptions!$B$6,Assumptions!$B$5+7*(14-1),"") | B21: =IF($A21="","",SUMIFS(Bookings!$J$4:$J$103,Bookings!$B$4:$B$103,$A21)) | C21: =IF($A21="","",IFERROR(VLOOKUP($A21,Capacity!$A$4:$C$103,2,FALSE),"")) | D21: =IF(OR($A21="",$C21=""),"",IF($C21=0,IF($B21>0,1,0),IFERROR($B21/$C21,""))) | E21: =IF($A21="","",SUMIFS(Bookings!$K$4:$K$103,Bookings!$B$4:$B$103,$A21)) | F21: =IF($A21="","",IFERROR(VLOOKUP($A21,Capacity!$A$4:$C$103,3,FALSE),"")) | G21: =IF(OR($A21="",$F21=""),"",IF($F21=0,IF($E21>0,1,0),IFERROR($E21/$F21,""))) | H21: =IF($A21="","",IF(OR($C21="",$F21=""),"Enter capacity",IF(OR(AND($B21>0,$B21>=$C21),AND($E21>0,$E21>=$F21)),"Over capacity",IF(OR($D21>=Assumptions!$B$7,$G21>=Assumptions!$B$7),"Check near limit","Within capacity"))))
A22: =IF(15<=Assumptions!$B$6,Assumptions!$B$5+7*(15-1),"") | B22: =IF($A22="","",SUMIFS(Bookings!$J$4:$J$103,Bookings!$B$4:$B$103,$A22)) | C22: =IF($A22="","",IFERROR(VLOOKUP($A22,Capacity!$A$4:$C$103,2,FALSE),"")) | D22: =IF(OR($A22="",$C22=""),"",IF($C22=0,IF($B22>0,1,0),IFERROR($B22/$C22,""))) | E22: =IF($A22="","",SUMIFS(Bookings!$K$4:$K$103,Bookings!$B$4:$B$103,$A22)) | F22: =IF($A22="","",IFERROR(VLOOKUP($A22,Capacity!$A$4:$C$103,3,FALSE),"")) | G22: =IF(OR($A22="",$F22=""),"",IF($F22=0,IF($E22>0,1,0),IFERROR($E22/$F22,""))) | H22: =IF($A22="","",IF(OR($C22="",$F22=""),"Enter capacity",IF(OR(AND($B22>0,$B22>=$C22),AND($E22>0,$E22>=$F22)),"Over capacity",IF(OR($D22>=Assumptions!$B$7,$G22>=Assumptions!$B$7),"Check near limit","Within capacity"))))
A23: =IF(16<=Assumptions!$B$6,Assumptions!$B$5+7*(16-1),"") | B23: =IF($A23="","",SUMIFS(Bookings!$J$4:$J$103,Bookings!$B$4:$B$103,$A23)) | C23: =IF($A23="","",IFERROR(VLOOKUP($A23,Capacity!$A$4:$C$103,2,FALSE),"")) | D23: =IF(OR($A23="",$C23=""),"",IF($C23=0,IF($B23>0,1,0),IFERROR($B23/$C23,""))) | E23: =IF($A23="","",SUMIFS(Bookings!$K$4:$K$103,Bookings!$B$4:$B$103,$A23)) | F23: =IF($A23="","",IFERROR(VLOOKUP($A23,Capacity!$A$4:$C$103,3,FALSE),"")) | G23: =IF(OR($A23="",$F23=""),"",IF($F23=0,IF($E23>0,1,0),IFERROR($E23/$F23,""))) | H23: =IF($A23="","",IF(OR($C23="",$F23=""),"Enter capacity",IF(OR(AND($B23>0,$B23>=$C23),AND($E23>0,$E23>=$F23)),"Over capacity",IF(OR($D23>=Assumptions!$B$7,$G23>=Assumptions!$B$7),"Check near limit","Within capacity"))))
A24: =IF(17<=Assumptions!$B$6,Assumptions!$B$5+7*(17-1),"") | B24: =IF($A24="","",SUMIFS(Bookings!$J$4:$J$103,Bookings!$B$4:$B$103,$A24)) | C24: =IF($A24="","",IFERROR(VLOOKUP($A24,Capacity!$A$4:$C$103,2,FALSE),"")) | D24: =IF(OR($A24="",$C24=""),"",IF($C24=0,IF($B24>0,1,0),IFERROR($B24/$C24,""))) | E24: =IF($A24="","",SUMIFS(Bookings!$K$4:$K$103,Bookings!$B$4:$B$103,$A24)) | F24: =IF($A24="","",IFERROR(VLOOKUP($A24,Capacity!$A$4:$C$103,3,FALSE),"")) | G24: =IF(OR($A24="",$F24=""),"",IF($F24=0,IF($E24>0,1,0),IFERROR($E24/$F24,""))) | H24: =IF($A24="","",IF(OR($C24="",$F24=""),"Enter capacity",IF(OR(AND($B24>0,$B24>=$C24),AND($E24>0,$E24>=$F24)),"Over capacity",IF(OR($D24>=Assumptions!$B$7,$G24>=Assumptions!$B$7),"Check near limit","Within capacity"))))
A25: =IF(18<=Assumptions!$B$6,Assumptions!$B$5+7*(18-1),"") | B25: =IF($A25="","",SUMIFS(Bookings!$J$4:$J$103,Bookings!$B$4:$B$103,$A25)) | C25: =IF($A25="","",IFERROR(VLOOKUP($A25,Capacity!$A$4:$C$103,2,FALSE),"")) | D25: =IF(OR($A25="",$C25=""),"",IF($C25=0,IF($B25>0,1,0),IFERROR($B25/$C25,""))) | E25: =IF($A25="","",SUMIFS(Bookings!$K$4:$K$103,Bookings!$B$4:$B$103,$A25)) | F25: =IF($A25="","",IFERROR(VLOOKUP($A25,Capacity!$A$4:$C$103,3,FALSE),"")) | G25: =IF(OR($A25="",$F25=""),"",IF($F25=0,IF($E25>0,1,0),IFERROR($E25/$F25,""))) | H25: =IF($A25="","",IF(OR($C25="",$F25=""),"Enter capacity",IF(OR(AND($B25>0,$B25>=$C25),AND($E25>0,$E25>=$F25)),"Over capacity",IF(OR($D25>=Assumptions!$B$7,$G25>=Assumptions!$B$7),"Check near limit","Within capacity"))))
A26: =IF(19<=Assumptions!$B$6,Assumptions!$B$5+7*(19-1),"") | B26: =IF($A26="","",SUMIFS(Bookings!$J$4:$J$103,Bookings!$B$4:$B$103,$A26)) | C26: =IF($A26="","",IFERROR(VLOOKUP($A26,Capacity!$A$4:$C$103,2,FALSE),"")) | D26: =IF(OR($A26="",$C26=""),"",IF($C26=0,IF($B26>0,1,0),IFERROR($B26/$C26,""))) | E26: =IF($A26="","",SUMIFS(Bookings!$K$4:$K$103,Bookings!$B$4:$B$103,$A26)) | F26: =IF($A26="","",IFERROR(VLOOKUP($A26,Capacity!$A$4:$C$103,3,FALSE),"")) | G26: =IF(OR($A26="",$F26=""),"",IF($F26=0,IF($E26>0,1,0),IFERROR($E26/$F26,""))) | H26: =IF($A26="","",IF(OR($C26="",$F26=""),"Enter capacity",IF(OR(AND($B26>0,$B26>=$C26),AND($E26>0,$E26>=$F26)),"Over capacity",IF(OR($D26>=Assumptions!$B$7,$G26>=Assumptions!$B$7),"Check near limit","Within capacity"))))
A27: =IF(20<=Assumptions!$B$6,Assumptions!$B$5+7*(20-1),"") | B27: =IF($A27="","",SUMIFS(Bookings!$J$4:$J$103,Bookings!$B$4:$B$103,$A27)) | C27: =IF($A27="","",IFERROR(VLOOKUP($A27,Capacity!$A$4:$C$103,2,FALSE),"")) | D27: =IF(OR($A27="",$C27=""),"",IF($C27=0,IF($B27>0,1,0),IFERROR($B27/$C27,""))) | E27: =IF($A27="","",SUMIFS(Bookings!$K$4:$K$103,Bookings!$B$4:$B$103,$A27)) | F27: =IF($A27="","",IFERROR(VLOOKUP($A27,Capacity!$A$4:$C$103,3,FALSE),"")) | G27: =IF(OR($A27="",$F27=""),"",IF($F27=0,IF($E27>0,1,0),IFERROR($E27/$F27,""))) | H27: =IF($A27="","",IF(OR($C27="",$F27=""),"Enter capacity",IF(OR(AND($B27>0,$B27>=$C27),AND($E27>0,$E27>=$F27)),"Over capacity",IF(OR($D27>=Assumptions!$B$7,$G27>=Assumptions!$B$7),"Check near limit","Within capacity"))))
A28: =IF(21<=Assumptions!$B$6,Assumptions!$B$5+7*(21-1),"") | B28: =IF($A28="","",SUMIFS(Bookings!$J$4:$J$103,Bookings!$B$4:$B$103,$A28)) | C28: =IF($A28="","",IFERROR(VLOOKUP($A28,Capacity!$A$4:$C$103,2,FALSE),"")) | D28: =IF(OR($A28="",$C28=""),"",IF($C28=0,IF($B28>0,1,0),IFERROR($B28/$C28,""))) | E28: =IF($A28="","",SUMIFS(Bookings!$K$4:$K$103,Bookings!$B$4:$B$103,$A28)) | F28: =IF($A28="","",IFERROR(VLOOKUP($A28,Capacity!$A$4:$C$103,3,FALSE),"")) | G28: =IF(OR($A28="",$F28=""),"",IF($F28=0,IF($E28>0,1,0),IFERROR($E28/$F28,""))) | H28: =IF($A28="","",IF(OR($C28="",$F28=""),"Enter capacity",IF(OR(AND($B28>0,$B28>=$C28),AND($E28>0,$E28>=$F28)),"Over capacity",IF(OR($D28>=Assumptions!$B$7,$G28>=Assumptions!$B$7),"Check near limit","Within capacity"))))
A29: =IF(22<=Assumptions!$B$6,Assumptions!$B$5+7*(22-1),"") | B29: =IF($A29="","",SUMIFS(Bookings!$J$4:$J$103,Bookings!$B$4:$B$103,$A29)) | C29: =IF($A29="","",IFERROR(VLOOKUP($A29,Capacity!$A$4:$C$103,2,FALSE),"")) | D29: =IF(OR($A29="",$C29=""),"",IF($C29=0,IF($B29>0,1,0),IFERROR($B29/$C29,""))) | E29: =IF($A29="","",SUMIFS(Bookings!$K$4:$K$103,Bookings!$B$4:$B$103,$A29)) | F29: =IF($A29="","",IFERROR(VLOOKUP($A29,Capacity!$A$4:$C$103,3,FALSE),"")) | G29: =IF(OR($A29="",$F29=""),"",IF($F29=0,IF($E29>0,1,0),IFERROR($E29/$F29,""))) | H29: =IF($A29="","",IF(OR($C29="",$F29=""),"Enter capacity",IF(OR(AND($B29>0,$B29>=$C29),AND($E29>0,$E29>=$F29)),"Over capacity",IF(OR($D29>=Assumptions!$B$7,$G29>=Assumptions!$B$7),"Check near limit","Within capacity"))))
A30: =IF(23<=Assumptions!$B$6,Assumptions!$B$5+7*(23-1),"") | B30: =IF($A30="","",SUMIFS(Bookings!$J$4:$J$103,Bookings!$B$4:$B$103,$A30)) | C30: =IF($A30="","",IFERROR(VLOOKUP($A30,Capacity!$A$4:$C$103,2,FALSE),"")) | D30: =IF(OR($A30="",$C30=""),"",IF($C30=0,IF($B30>0,1,0),IFERROR($B30/$C30,""))) | E30: =IF($A30="","",SUMIFS(Bookings!$K$4:$K$103,Bookings!$B$4:$B$103,$A30)) | F30: =IF($A30="","",IFERROR(VLOOKUP($A30,Capacity!$A$4:$C$103,3,FALSE),"")) | G30: =IF(OR($A30="",$F30=""),"",IF($F30=0,IF($E30>0,1,0),IFERROR($E30/$F30,""))) | H30: =IF($A30="","",IF(OR($C30="",$F30=""),"Enter capacity",IF(OR(AND($B30>0,$B30>=$C30),AND($E30>0,$E30>=$F30)),"Over capacity",IF(OR($D30>=Assumptions!$B$7,$G30>=Assumptions!$B$7),"Check near limit","Within capacity"))))
A31: =IF(24<=Assumptions!$B$6,Assumptions!$B$5+7*(24-1),"") | B31: =IF($A31="","",SUMIFS(Bookings!$J$4:$J$103,Bookings!$B$4:$B$103,$A31)) | C31: =IF($A31="","",IFERROR(VLOOKUP($A31,Capacity!$A$4:$C$103,2,FALSE),"")) | D31: =IF(OR($A31="",$C31=""),"",IF($C31=0,IF($B31>0,1,0),IFERROR($B31/$C31,""))) | E31: =IF($A31="","",SUMIFS(Bookings!$K$4:$K$103,Bookings!$B$4:$B$103,$A31)) | F31: =IF($A31="","",IFERROR(VLOOKUP($A31,Capacity!$A$4:$C$103,3,FALSE),"")) | G31: =IF(OR($A31="",$F31=""),"",IF($F31=0,IF($E31>0,1,0),IFERROR($E31/$F31,""))) | H31: =IF($A31="","",IF(OR($C31="",$F31=""),"Enter capacity",IF(OR(AND($B31>0,$B31>=$C31),AND($E31>0,$E31>=$F31)),"Over capacity",IF(OR($D31>=Assumptions!$B$7,$G31>=Assumptions!$B$7),"Check near limit","Within capacity"))))
A32: =IF(25<=Assumptions!$B$6,Assumptions!$B$5+7*(25-1),"") | B32: =IF($A32="","",SUMIFS(Bookings!$J$4:$J$103,Bookings!$B$4:$B$103,$A32)) | C32: =IF($A32="","",IFERROR(VLOOKUP($A32,Capacity!$A$4:$C$103,2,FALSE),"")) | D32: =IF(OR($A32="",$C32=""),"",IF($C32=0,IF($B32>0,1,0),IFERROR($B32/$C32,""))) | E32: =IF($A32="","",SUMIFS(Bookings!$K$4:$K$103,Bookings!$B$4:$B$103,$A32)) | F32: =IF($A32="","",IFERROR(VLOOKUP($A32,Capacity!$A$4:$C$103,3,FALSE),"")) | G32: =IF(OR($A32="",$F32=""),"",IF($F32=0,IF($E32>0,1,0),IFERROR($E32/$F32,""))) | H32: =IF($A32="","",IF(OR($C32="",$F32=""),"Enter capacity",IF(OR(AND($B32>0,$B32>=$C32),AND($E32>0,$E32>=$F32)),"Over capacity",IF(OR($D32>=Assumptions!$B$7,$G32>=Assumptions!$B$7),"Check near limit","Within capacity"))))
A33: =IF(26<=Assumptions!$B$6,Assumptions!$B$5+7*(26-1),"") | B33: =IF($A33="","",SUMIFS(Bookings!$J$4:$J$103,Bookings!$B$4:$B$103,$A33)) | C33: =IF($A33="","",IFERROR(VLOOKUP($A33,Capacity!$A$4:$C$103,2,FALSE),"")) | D33: =IF(OR($A33="",$C33=""),"",IF($C33=0,IF($B33>0,1,0),IFERROR($B33/$C33,""))) | E33: =IF($A33="","",SUMIFS(Bookings!$K$4:$K$103,Bookings!$B$4:$B$103,$A33)) | F33: =IF($A33="","",IFERROR(VLOOKUP($A33,Capacity!$A$4:$C$103,3,FALSE),"")) | G33: =IF(OR($A33="",$F33=""),"",IF($F33=0,IF($E33>0,1,0),IFERROR($E33/$F33,""))) | H33: =IF($A33="","",IF(OR($C33="",$F33=""),"Enter capacity",IF(OR(AND($B33>0,$B33>=$C33),AND($E33>0,$E33>=$F33)),"Over capacity",IF(OR($D33>=Assumptions!$B$7,$G33>=Assumptions!$B$7),"Check near limit","Within capacity"))))
A34: =IF(27<=Assumptions!$B$6,Assumptions!$B$5+7*(27-1),"") | B34: =IF($A34="","",SUMIFS(Bookings!$J$4:$J$103,Bookings!$B$4:$B$103,$A34)) | C34: =IF($A34="","",IFERROR(VLOOKUP($A34,Capacity!$A$4:$C$103,2,FALSE),"")) | D34: =IF(OR($A34="",$C34=""),"",IF($C34=0,IF($B34>0,1,0),IFERROR($B34/$C34,""))) | E34: =IF($A34="","",SUMIFS(Bookings!$K$4:$K$103,Bookings!$B$4:$B$103,$A34)) | F34: =IF($A34="","",IFERROR(VLOOKUP($A34,Capacity!$A$4:$C$103,3,FALSE),"")) | G34: =IF(OR($A34="",$F34=""),"",IF($F34=0,IF($E34>0,1,0),IFERROR($E34/$F34,""))) | H34: =IF($A34="","",IF(OR($C34="",$F34=""),"Enter capacity",IF(OR(AND($B34>0,$B34>=$C34),AND($E34>0,$E34>=$F34)),"Over capacity",IF(OR($D34>=Assumptions!$B$7,$G34>=Assumptions!$B$7),"Check near limit","Within capacity"))))
A35: =IF(28<=Assumptions!$B$6,Assumptions!$B$5+7*(28-1),"") | B35: =IF($A35="","",SUMIFS(Bookings!$J$4:$J$103,Bookings!$B$4:$B$103,$A35)) | C35: =IF($A35="","",IFERROR(VLOOKUP($A35,Capacity!$A$4:$C$103,2,FALSE),"")) | D35: =IF(OR($A35="",$C35=""),"",IF($C35=0,IF($B35>0,1,0),IFERROR($B35/$C35,""))) | E35: =IF($A35="","",SUMIFS(Bookings!$K$4:$K$103,Bookings!$B$4:$B$103,$A35)) | F35: =IF($A35="","",IFERROR(VLOOKUP($A35,Capacity!$A$4:$C$103,3,FALSE),"")) | G35: =IF(OR($A35="",$F35=""),"",IF($F35=0,IF($E35>0,1,0),IFERROR($E35/$F35,""))) | H35: =IF($A35="","",IF(OR($C35="",$F35=""),"Enter capacity",IF(OR(AND($B35>0,$B35>=$C35),AND($E35>0,$E35>=$F35)),"Over capacity",IF(OR($D35>=Assumptions!$B$7,$G35>=Assumptions!$B$7),"Check near limit","Within capacity"))))
A36: =IF(29<=Assumptions!$B$6,Assumptions!$B$5+7*(29-1),"") | B36: =IF($A36="","",SUMIFS(Bookings!$J$4:$J$103,Bookings!$B$4:$B$103,$A36)) | C36: =IF($A36="","",IFERROR(VLOOKUP($A36,Capacity!$A$4:$C$103,2,FALSE),"")) | D36: =IF(OR($A36="",$C36=""),"",IF($C36=0,IF($B36>0,1,0),IFERROR($B36/$C36,""))) | E36: =IF($A36="","",SUMIFS(Bookings!$K$4:$K$103,Bookings!$B$4:$B$103,$A36)) | F36: =IF($A36="","",IFERROR(VLOOKUP($A36,Capacity!$A$4:$C$103,3,FALSE),"")) | G36: =IF(OR($A36="",$F36=""),"",IF($F36=0,IF($E36>0,1,0),IFERROR($E36/$F36,""))) | H36: =IF($A36="","",IF(OR($C36="",$F36=""),"Enter capacity",IF(OR(AND($B36>0,$B36>=$C36),AND($E36>0,$E36>=$F36)),"Over capacity",IF(OR($D36>=Assumptions!$B$7,$G36>=Assumptions!$B$7),"Check near limit","Within capacity"))))
A37: =IF(30<=Assumptions!$B$6,Assumptions!$B$5+7*(30-1),"") | B37: =IF($A37="","",SUMIFS(Bookings!$J$4:$J$103,Bookings!$B$4:$B$103,$A37)) | C37: =IF($A37="","",IFERROR(VLOOKUP($A37,Capacity!$A$4:$C$103,2,FALSE),"")) | D37: =IF(OR($A37="",$C37=""),"",IF($C37=0,IF($B37>0,1,0),IFERROR($B37/$C37,""))) | E37: =IF($A37="","",SUMIFS(Bookings!$K$4:$K$103,Bookings!$B$4:$B$103,$A37)) | F37: =IF($A37="","",IFERROR(VLOOKUP($A37,Capacity!$A$4:$C$103,3,FALSE),"")) | G37: =IF(OR($A37="",$F37=""),"",IF($F37=0,IF($E37>0,1,0),IFERROR($E37/$F37,""))) | H37: =IF($A37="","",IF(OR($C37="",$F37=""),"Enter capacity",IF(OR(AND($B37>0,$B37>=$C37),AND($E37>0,$E37>=$F37)),"Over capacity",IF(OR($D37>=Assumptions!$B$7,$G37>=Assumptions!$B$7),"Check near limit","Within capacity"))))
A38: =IF(31<=Assumptions!$B$6,Assumptions!$B$5+7*(31-1),"") | B38: =IF($A38="","",SUMIFS(Bookings!$J$4:$J$103,Bookings!$B$4:$B$103,$A38)) | C38: =IF($A38="","",IFERROR(VLOOKUP($A38,Capacity!$A$4:$C$103,2,FALSE),"")) | D38: =IF(OR($A38="",$C38=""),"",IF($C38=0,IF($B38>0,1,0),IFERROR($B38/$C38,""))) | E38: =IF($A38="","",SUMIFS(Bookings!$K$4:$K$103,Bookings!$B$4:$B$103,$A38)) | F38: =IF($A38="","",IFERROR(VLOOKUP($A38,Capacity!$A$4:$C$103,3,FALSE),"")) | G38: =IF(OR($A38="",$F38=""),"",IF($F38=0,IF($E38>0,1,0),IFERROR($E38/$F38,""))) | H38: =IF($A38="","",IF(OR($C38="",$F38=""),"Enter capacity",IF(OR(AND($B38>0,$B38>=$C38),AND($E38>0,$E38>=$F38)),"Over capacity",IF(OR($D38>=Assumptions!$B$7,$G38>=Assumptions!$B$7),"Check near limit","Within capacity"))))
A39: =IF(32<=Assumptions!$B$6,Assumptions!$B$5+7*(32-1),"") | B39: =IF($A39="","",SUMIFS(Bookings!$J$4:$J$103,Bookings!$B$4:$B$103,$A39)) | C39: =IF($A39="","",IFERROR(VLOOKUP($A39,Capacity!$A$4:$C$103,2,FALSE),"")) | D39: =IF(OR($A39="",$C39=""),"",IF($C39=0,IF($B39>0,1,0),IFERROR($B39/$C39,""))) | E39: =IF($A39="","",SUMIFS(Bookings!$K$4:$K$103,Bookings!$B$4:$B$103,$A39)) | F39: =IF($A39="","",IFERROR(VLOOKUP($A39,Capacity!$A$4:$C$103,3,FALSE),"")) | G39: =IF(OR($A39="",$F39=""),"",IF($F39=0,IF($E39>0,1,0),IFERROR($E39/$F39,""))) | H39: =IF($A39="","",IF(OR($C39="",$F39=""),"Enter capacity",IF(OR(AND($B39>0,$B39>=$C39),AND($E39>0,$E39>=$F39)),"Over capacity",IF(OR($D39>=Assumptions!$B$7,$G39>=Assumptions!$B$7),"Check near limit","Within capacity"))))
A40: =IF(33<=Assumptions!$B$6,Assumptions!$B$5+7*(33-1),"") | B40: =IF($A40="","",SUMIFS(Bookings!$J$4:$J$103,Bookings!$B$4:$B$103,$A40)) | C40: =IF($A40="","",IFERROR(VLOOKUP($A40,Capacity!$A$4:$C$103,2,FALSE),"")) | D40: =IF(OR($A40="",$C40=""),"",IF($C40=0,IF($B40>0,1,0),IFERROR($B40/$C40,""))) | E40: =IF($A40="","",SUMIFS(Bookings!$K$4:$K$103,Bookings!$B$4:$B$103,$A40)) | F40: =IF($A40="","",IFERROR(VLOOKUP($A40,Capacity!$A$4:$C$103,3,FALSE),"")) | G40: =IF(OR($A40="",$F40=""),"",IF($F40=0,IF($E40>0,1,0),IFERROR($E40/$F40,""))) | H40: =IF($A40="","",IF(OR($C40="",$F40=""),"Enter capacity",IF(OR(AND($B40>0,$B40>=$C40),AND($E40>0,$E40>=$F40)),"Over capacity",IF(OR($D40>=Assumptions!$B$7,$G40>=Assumptions!$B$7),"Check near limit","Within capacity"))))
A41: =IF(34<=Assumptions!$B$6,Assumptions!$B$5+7*(34-1),"") | B41: =IF($A41="","",SUMIFS(Bookings!$J$4:$J$103,Bookings!$B$4:$B$103,$A41)) | C41: =IF($A41="","",IFERROR(VLOOKUP($A41,Capacity!$A$4:$C$103,2,FALSE),"")) | D41: =IF(OR($A41="",$C41=""),"",IF($C41=0,IF($B41>0,1,0),IFERROR($B41/$C41,""))) | E41: =IF($A41="","",SUMIFS(Bookings!$K$4:$K$103,Bookings!$B$4:$B$103,$A41)) | F41: =IF($A41="","",IFERROR(VLOOKUP($A41,Capacity!$A$4:$C$103,3,FALSE),"")) | G41: =IF(OR($A41="",$F41=""),"",IF($F41=0,IF($E41>0,1,0),IFERROR($E41/$F41,""))) | H41: =IF($A41="","",IF(OR($C41="",$F41=""),"Enter capacity",IF(OR(AND($B41>0,$B41>=$C41),AND($E41>0,$E41>=$F41)),"Over capacity",IF(OR($D41>=Assumptions!$B$7,$G41>=Assumptions!$B$7),"Check near limit","Within capacity"))))
A42: =IF(35<=Assumptions!$B$6,Assumptions!$B$5+7*(35-1),"") | B42: =IF($A42="","",SUMIFS(Bookings!$J$4:$J$103,Bookings!$B$4:$B$103,$A42)) | C42: =IF($A42="","",IFERROR(VLOOKUP($A42,Capacity!$A$4:$C$103,2,FALSE),"")) | D42: =IF(OR($A42="",$C42=""),"",IF($C42=0,IF($B42>0,1,0),IFERROR($B42/$C42,""))) | E42: =IF($A42="","",SUMIFS(Bookings!$K$4:$K$103,Bookings!$B$4:$B$103,$A42)) | F42: =IF($A42="","",IFERROR(VLOOKUP($A42,Capacity!$A$4:$C$103,3,FALSE),"")) | G42: =IF(OR($A42="",$F42=""),"",IF($F42=0,IF($E42>0,1,0),IFERROR($E42/$F42,""))) | H42: =IF($A42="","",IF(OR($C42="",$F42=""),"Enter capacity",IF(OR(AND($B42>0,$B42>=$C42),AND($E42>0,$E42>=$F42)),"Over capacity",IF(OR($D42>=Assumptions!$B$7,$G42>=Assumptions!$B$7),"Check near limit","Within capacity"))))
A43: =IF(36<=Assumptions!$B$6,Assumptions!$B$5+7*(36-1),"") | B43: =IF($A43="","",SUMIFS(Bookings!$J$4:$J$103,Bookings!$B$4:$B$103,$A43)) | C43: =IF($A43="","",IFERROR(VLOOKUP($A43,Capacity!$A$4:$C$103,2,FALSE),"")) | D43: =IF(OR($A43="",$C43=""),"",IF($C43=0,IF($B43>0,1,0),IFERROR($B43/$C43,""))) | E43: =IF($A43="","",SUMIFS(Bookings!$K$4:$K$103,Bookings!$B$4:$B$103,$A43)) | F43: =IF($A43="","",IFERROR(VLOOKUP($A43,Capacity!$A$4:$C$103,3,FALSE),"")) | G43: =IF(OR($A43="",$F43=""),"",IF($F43=0,IF($E43>0,1,0),IFERROR($E43/$F43,""))) | H43: =IF($A43="","",IF(OR($C43="",$F43=""),"Enter capacity",IF(OR(AND($B43>0,$B43>=$C43),AND($E43>0,$E43>=$F43)),"Over capacity",IF(OR($D43>=Assumptions!$B$7,$G43>=Assumptions!$B$7),"Check near limit","Within capacity"))))
A44: =IF(37<=Assumptions!$B$6,Assumptions!$B$5+7*(37-1),"") | B44: =IF($A44="","",SUMIFS(Bookings!$J$4:$J$103,Bookings!$B$4:$B$103,$A44)) | C44: =IF($A44="","",IFERROR(VLOOKUP($A44,Capacity!$A$4:$C$103,2,FALSE),"")) | D44: =IF(OR($A44="",$C44=""),"",IF($C44=0,IF($B44>0,1,0),IFERROR($B44/$C44,""))) | E44: =IF($A44="","",SUMIFS(Bookings!$K$4:$K$103,Bookings!$B$4:$B$103,$A44)) | F44: =IF($A44="","",IFERROR(VLOOKUP($A44,Capacity!$A$4:$C$103,3,FALSE),"")) | G44: =IF(OR($A44="",$F44=""),"",IF($F44=0,IF($E44>0,1,0),IFERROR($E44/$F44,""))) | H44: =IF($A44="","",IF(OR($C44="",$F44=""),"Enter capacity",IF(OR(AND($B44>0,$B44>=$C44),AND($E44>0,$E44>=$F44)),"Over capacity",IF(OR($D44>=Assumptions!$B$7,$G44>=Assumptions!$B$7),"Check near limit","Within capacity"))))
A45: =IF(38<=Assumptions!$B$6,Assumptions!$B$5+7*(38-1),"") | B45: =IF($A45="","",SUMIFS(Bookings!$J$4:$J$103,Bookings!$B$4:$B$103,$A45)) | C45: =IF($A45="","",IFERROR(VLOOKUP($A45,Capacity!$A$4:$C$103,2,FALSE),"")) | D45: =IF(OR($A45="",$C45=""),"",IF($C45=0,IF($B45>0,1,0),IFERROR($B45/$C45,""))) | E45: =IF($A45="","",SUMIFS(Bookings!$K$4:$K$103,Bookings!$B$4:$B$103,$A45)) | F45: =IF($A45="","",IFERROR(VLOOKUP($A45,Capacity!$A$4:$C$103,3,FALSE),"")) | G45: =IF(OR($A45="",$F45=""),"",IF($F45=0,IF($E45>0,1,0),IFERROR($E45/$F45,""))) | H45: =IF($A45="","",IF(OR($C45="",$F45=""),"Enter capacity",IF(OR(AND($B45>0,$B45>=$C45),AND($E45>0,$E45>=$F45)),"Over capacity",IF(OR($D45>=Assumptions!$B$7,$G45>=Assumptions!$B$7),"Check near limit","Within capacity"))))
A46: =IF(39<=Assumptions!$B$6,Assumptions!$B$5+7*(39-1),"") | B46: =IF($A46="","",SUMIFS(Bookings!$J$4:$J$103,Bookings!$B$4:$B$103,$A46)) | C46: =IF($A46="","",IFERROR(VLOOKUP($A46,Capacity!$A$4:$C$103,2,FALSE),"")) | D46: =IF(OR($A46="",$C46=""),"",IF($C46=0,IF($B46>0,1,0),IFERROR($B46/$C46,""))) | E46: =IF($A46="","",SUMIFS(Bookings!$K$4:$K$103,Bookings!$B$4:$B$103,$A46)) | F46: =IF($A46="","",IFERROR(VLOOKUP($A46,Capacity!$A$4:$C$103,3,FALSE),"")) | G46: =IF(OR($A46="",$F46=""),"",IF($F46=0,IF($E46>0,1,0),IFERROR($E46/$F46,""))) | H46: =IF($A46="","",IF(OR($C46="",$F46=""),"Enter capacity",IF(OR(AND($B46>0,$B46>=$C46),AND($E46>0,$E46>=$F46)),"Over capacity",IF(OR($D46>=Assumptions!$B$7,$G46>=Assumptions!$B$7),"Check near limit","Within capacity"))))
A47: =IF(40<=Assumptions!$B$6,Assumptions!$B$5+7*(40-1),"") | B47: =IF($A47="","",SUMIFS(Bookings!$J$4:$J$103,Bookings!$B$4:$B$103,$A47)) | C47: =IF($A47="","",IFERROR(VLOOKUP($A47,Capacity!$A$4:$C$103,2,FALSE),"")) | D47: =IF(OR($A47="",$C47=""),"",IF($C47=0,IF($B47>0,1,0),IFERROR($B47/$C47,""))) | E47: =IF($A47="","",SUMIFS(Bookings!$K$4:$K$103,Bookings!$B$4:$B$103,$A47)) | F47: =IF($A47="","",IFERROR(VLOOKUP($A47,Capacity!$A$4:$C$103,3,FALSE),"")) | G47: =IF(OR($A47="",$F47=""),"",IF($F47=0,IF($E47>0,1,0),IFERROR($E47/$F47,""))) | H47: =IF($A47="","",IF(OR($C47="",$F47=""),"Enter capacity",IF(OR(AND($B47>0,$B47>=$C47),AND($E47>0,$E47>=$F47)),"Over capacity",IF(OR($D47>=Assumptions!$B$7,$G47>=Assumptions!$B$7),"Check near limit","Within capacity"))))
A48: =IF(41<=Assumptions!$B$6,Assumptions!$B$5+7*(41-1),"") | B48: =IF($A48="","",SUMIFS(Bookings!$J$4:$J$103,Bookings!$B$4:$B$103,$A48)) | C48: =IF($A48="","",IFERROR(VLOOKUP($A48,Capacity!$A$4:$C$103,2,FALSE),"")) | D48: =IF(OR($A48="",$C48=""),"",IF($C48=0,IF($B48>0,1,0),IFERROR($B48/$C48,""))) | E48: =IF($A48="","",SUMIFS(Bookings!$K$4:$K$103,Bookings!$B$4:$B$103,$A48)) | F48: =IF($A48="","",IFERROR(VLOOKUP($A48,Capacity!$A$4:$C$103,3,FALSE),"")) | G48: =IF(OR($A48="",$F48=""),"",IF($F48=0,IF($E48>0,1,0),IFERROR($E48/$F48,""))) | H48: =IF($A48="","",IF(OR($C48="",$F48=""),"Enter capacity",IF(OR(AND($B48>0,$B48>=$C48),AND($E48>0,$E48>=$F48)),"Over capacity",IF(OR($D48>=Assumptions!$B$7,$G48>=Assumptions!$B$7),"Check near limit","Within capacity"))))
A49: =IF(42<=Assumptions!$B$6,Assumptions!$B$5+7*(42-1),"") | B49: =IF($A49="","",SUMIFS(Bookings!$J$4:$J$103,Bookings!$B$4:$B$103,$A49)) | C49: =IF($A49="","",IFERROR(VLOOKUP($A49,Capacity!$A$4:$C$103,2,FALSE),"")) | D49: =IF(OR($A49="",$C49=""),"",IF($C49=0,IF($B49>0,1,0),IFERROR($B49/$C49,""))) | E49: =IF($A49="","",SUMIFS(Bookings!$K$4:$K$103,Bookings!$B$4:$B$103,$A49)) | F49: =IF($A49="","",IFERROR(VLOOKUP($A49,Capacity!$A$4:$C$103,3,FALSE),"")) | G49: =IF(OR($A49="",$F49=""),"",IF($F49=0,IF($E49>0,1,0),IFERROR($E49/$F49,""))) | H49: =IF($A49="","",IF(OR($C49="",$F49=""),"Enter capacity",IF(OR(AND($B49>0,$B49>=$C49),AND($E49>0,$E49>=$F49)),"Over capacity",IF(OR($D49>=Assumptions!$B$7,$G49>=Assumptions!$B$7),"Check near limit","Within capacity"))))
A50: =IF(43<=Assumptions!$B$6,Assumptions!$B$5+7*(43-1),"") | B50: =IF($A50="","",SUMIFS(Bookings!$J$4:$J$103,Bookings!$B$4:$B$103,$A50)) | C50: =IF($A50="","",IFERROR(VLOOKUP($A50,Capacity!$A$4:$C$103,2,FALSE),"")) | D50: =IF(OR($A50="",$C50=""),"",IF($C50=0,IF($B50>0,1,0),IFERROR($B50/$C50,""))) | E50: =IF($A50="","",SUMIFS(Bookings!$K$4:$K$103,Bookings!$B$4:$B$103,$A50)) | F50: =IF($A50="","",IFERROR(VLOOKUP($A50,Capacity!$A$4:$C$103,3,FALSE),"")) | G50: =IF(OR($A50="",$F50=""),"",IF($F50=0,IF($E50>0,1,0),IFERROR($E50/$F50,""))) | H50: =IF($A50="","",IF(OR($C50="",$F50=""),"Enter capacity",IF(OR(AND($B50>0,$B50>=$C50),AND($E50>0,$E50>=$F50)),"Over capacity",IF(OR($D50>=Assumptions!$B$7,$G50>=Assumptions!$B$7),"Check near limit","Within capacity"))))
A51: =IF(44<=Assumptions!$B$6,Assumptions!$B$5+7*(44-1),"") | B51: =IF($A51="","",SUMIFS(Bookings!$J$4:$J$103,Bookings!$B$4:$B$103,$A51)) | C51: =IF($A51="","",IFERROR(VLOOKUP($A51,Capacity!$A$4:$C$103,2,FALSE),"")) | D51: =IF(OR($A51="",$C51=""),"",IF($C51=0,IF($B51>0,1,0),IFERROR($B51/$C51,""))) | E51: =IF($A51="","",SUMIFS(Bookings!$K$4:$K$103,Bookings!$B$4:$B$103,$A51)) | F51: =IF($A51="","",IFERROR(VLOOKUP($A51,Capacity!$A$4:$C$103,3,FALSE),"")) | G51: =IF(OR($A51="",$F51=""),"",IF($F51=0,IF($E51>0,1,0),IFERROR($E51/$F51,""))) | H51: =IF($A51="","",IF(OR($C51="",$F51=""),"Enter capacity",IF(OR(AND($B51>0,$B51>=$C51),AND($E51>0,$E51>=$F51)),"Over capacity",IF(OR($D51>=Assumptions!$B$7,$G51>=Assumptions!$B$7),"Check near limit","Within capacity"))))
A52: =IF(45<=Assumptions!$B$6,Assumptions!$B$5+7*(45-1),"") | B52: =IF($A52="","",SUMIFS(Bookings!$J$4:$J$103,Bookings!$B$4:$B$103,$A52)) | C52: =IF($A52="","",IFERROR(VLOOKUP($A52,Capacity!$A$4:$C$103,2,FALSE),"")) | D52: =IF(OR($A52="",$C52=""),"",IF($C52=0,IF($B52>0,1,0),IFERROR($B52/$C52,""))) | E52: =IF($A52="","",SUMIFS(Bookings!$K$4:$K$103,Bookings!$B$4:$B$103,$A52)) | F52: =IF($A52="","",IFERROR(VLOOKUP($A52,Capacity!$A$4:$C$103,3,FALSE),"")) | G52: =IF(OR($A52="",$F52=""),"",IF($F52=0,IF($E52>0,1,0),IFERROR($E52/$F52,""))) | H52: =IF($A52="","",IF(OR($C52="",$F52=""),"Enter capacity",IF(OR(AND($B52>0,$B52>=$C52),AND($E52>0,$E52>=$F52)),"Over capacity",IF(OR($D52>=Assumptions!$B$7,$G52>=Assumptions!$B$7),"Check near limit","Within capacity"))))
A53: =IF(46<=Assumptions!$B$6,Assumptions!$B$5+7*(46-1),"") | B53: =IF($A53="","",SUMIFS(Bookings!$J$4:$J$103,Bookings!$B$4:$B$103,$A53)) | C53: =IF($A53="","",IFERROR(VLOOKUP($A53,Capacity!$A$4:$C$103,2,FALSE),"")) | D53: =IF(OR($A53="",$C53=""),"",IF($C53=0,IF($B53>0,1,0),IFERROR($B53/$C53,""))) | E53: =IF($A53="","",SUMIFS(Bookings!$K$4:$K$103,Bookings!$B$4:$B$103,$A53)) | F53: =IF($A53="","",IFERROR(VLOOKUP($A53,Capacity!$A$4:$C$103,3,FALSE),"")) | G53: =IF(OR($A53="",$F53=""),"",IF($F53=0,IF($E53>0,1,0),IFERROR($E53/$F53,""))) | H53: =IF($A53="","",IF(OR($C53="",$F53=""),"Enter capacity",IF(OR(AND($B53>0,$B53>=$C53),AND($E53>0,$E53>=$F53)),"Over capacity",IF(OR($D53>=Assumptions!$B$7,$G53>=Assumptions!$B$7),"Check near limit","Within capacity"))))
A54: =IF(47<=Assumptions!$B$6,Assumptions!$B$5+7*(47-1),"") | B54: =IF($A54="","",SUMIFS(Bookings!$J$4:$J$103,Bookings!$B$4:$B$103,$A54)) | C54: =IF($A54="","",IFERROR(VLOOKUP($A54,Capacity!$A$4:$C$103,2,FALSE),"")) | D54: =IF(OR($A54="",$C54=""),"",IF($C54=0,IF($B54>0,1,0),IFERROR($B54/$C54,""))) | E54: =IF($A54="","",SUMIFS(Bookings!$K$4:$K$103,Bookings!$B$4:$B$103,$A54)) | F54: =IF($A54="","",IFERROR(VLOOKUP($A54,Capacity!$A$4:$C$103,3,FALSE),"")) | G54: =IF(OR($A54="",$F54=""),"",IF($F54=0,IF($E54>0,1,0),IFERROR($E54/$F54,""))) | H54: =IF($A54="","",IF(OR($C54="",$F54=""),"Enter capacity",IF(OR(AND($B54>0,$B54>=$C54),AND($E54>0,$E54>=$F54)),"Over capacity",IF(OR($D54>=Assumptions!$B$7,$G54>=Assumptions!$B$7),"Check near limit","Within capacity"))))
A55: =IF(48<=Assumptions!$B$6,Assumptions!$B$5+7*(48-1),"") | B55: =IF($A55="","",SUMIFS(Bookings!$J$4:$J$103,Bookings!$B$4:$B$103,$A55)) | C55: =IF($A55="","",IFERROR(VLOOKUP($A55,Capacity!$A$4:$C$103,2,FALSE),"")) | D55: =IF(OR($A55="",$C55=""),"",IF($C55=0,IF($B55>0,1,0),IFERROR($B55/$C55,""))) | E55: =IF($A55="","",SUMIFS(Bookings!$K$4:$K$103,Bookings!$B$4:$B$103,$A55)) | F55: =IF($A55="","",IFERROR(VLOOKUP($A55,Capacity!$A$4:$C$103,3,FALSE),"")) | G55: =IF(OR($A55="",$F55=""),"",IF($F55=0,IF($E55>0,1,0),IFERROR($E55/$F55,""))) | H55: =IF($A55="","",IF(OR($C55="",$F55=""),"Enter capacity",IF(OR(AND($B55>0,$B55>=$C55),AND($E55>0,$E55>=$F55)),"Over capacity",IF(OR($D55>=Assumptions!$B$7,$G55>=Assumptions!$B$7),"Check near limit","Within capacity"))))
A56: =IF(49<=Assumptions!$B$6,Assumptions!$B$5+7*(49-1),"") | B56: =IF($A56="","",SUMIFS(Bookings!$J$4:$J$103,Bookings!$B$4:$B$103,$A56)) | C56: =IF($A56="","",IFERROR(VLOOKUP($A56,Capacity!$A$4:$C$103,2,FALSE),"")) | D56: =IF(OR($A56="",$C56=""),"",IF($C56=0,IF($B56>0,1,0),IFERROR($B56/$C56,""))) | E56: =IF($A56="","",SUMIFS(Bookings!$K$4:$K$103,Bookings!$B$4:$B$103,$A56)) | F56: =IF($A56="","",IFERROR(VLOOKUP($A56,Capacity!$A$4:$C$103,3,FALSE),"")) | G56: =IF(OR($A56="",$F56=""),"",IF($F56=0,IF($E56>0,1,0),IFERROR($E56/$F56,""))) | H56: =IF($A56="","",IF(OR($C56="",$F56=""),"Enter capacity",IF(OR(AND($B56>0,$B56>=$C56),AND($E56>0,$E56>=$F56)),"Over capacity",IF(OR($D56>=Assumptions!$B$7,$G56>=Assumptions!$B$7),"Check near limit","Within capacity"))))
A57: =IF(50<=Assumptions!$B$6,Assumptions!$B$5+7*(50-1),"") | B57: =IF($A57="","",SUMIFS(Bookings!$J$4:$J$103,Bookings!$B$4:$B$103,$A57)) | C57: =IF($A57="","",IFERROR(VLOOKUP($A57,Capacity!$A$4:$C$103,2,FALSE),"")) | D57: =IF(OR($A57="",$C57=""),"",IF($C57=0,IF($B57>0,1,0),IFERROR($B57/$C57,""))) | E57: =IF($A57="","",SUMIFS(Bookings!$K$4:$K$103,Bookings!$B$4:$B$103,$A57)) | F57: =IF($A57="","",IFERROR(VLOOKUP($A57,Capacity!$A$4:$C$103,3,FALSE),"")) | G57: =IF(OR($A57="",$F57=""),"",IF($F57=0,IF($E57>0,1,0),IFERROR($E57/$F57,""))) | H57: =IF($A57="","",IF(OR($C57="",$F57=""),"Enter capacity",IF(OR(AND($B57>0,$B57>=$C57),AND($E57>0,$E57>=$F57)),"Over capacity",IF(OR($D57>=Assumptions!$B$7,$G57>=Assumptions!$B$7),"Check near limit","Within capacity"))))
A58: =IF(51<=Assumptions!$B$6,Assumptions!$B$5+7*(51-1),"") | B58: =IF($A58="","",SUMIFS(Bookings!$J$4:$J$103,Bookings!$B$4:$B$103,$A58)) | C58: =IF($A58="","",IFERROR(VLOOKUP($A58,Capacity!$A$4:$C$103,2,FALSE),"")) | D58: =IF(OR($A58="",$C58=""),"",IF($C58=0,IF($B58>0,1,0),IFERROR($B58/$C58,""))) | E58: =IF($A58="","",SUMIFS(Bookings!$K$4:$K$103,Bookings!$B$4:$B$103,$A58)) | F58: =IF($A58="","",IFERROR(VLOOKUP($A58,Capacity!$A$4:$C$103,3,FALSE),"")) | G58: =IF(OR($A58="",$F58=""),"",IF($F58=0,IF($E58>0,1,0),IFERROR($E58/$F58,""))) | H58: =IF($A58="","",IF(OR($C58="",$F58=""),"Enter capacity",IF(OR(AND($B58>0,$B58>=$C58),AND($E58>0,$E58>=$F58)),"Over capacity",IF(OR($D58>=Assumptions!$B$7,$G58>=Assumptions!$B$7),"Check near limit","Within capacity"))))
A59: =IF(52<=Assumptions!$B$6,Assumptions!$B$5+7*(52-1),"") | B59: =IF($A59="","",SUMIFS(Bookings!$J$4:$J$103,Bookings!$B$4:$B$103,$A59)) | C59: =IF($A59="","",IFERROR(VLOOKUP($A59,Capacity!$A$4:$C$103,2,FALSE),"")) | D59: =IF(OR($A59="",$C59=""),"",IF($C59=0,IF($B59>0,1,0),IFERROR($B59/$C59,""))) | E59: =IF($A59="","",SUMIFS(Bookings!$K$4:$K$103,Bookings!$B$4:$B$103,$A59)) | F59: =IF($A59="","",IFERROR(VLOOKUP($A59,Capacity!$A$4:$C$103,3,FALSE),"")) | G59: =IF(OR($A59="",$F59=""),"",IF($F59=0,IF($E59>0,1,0),IFERROR($E59/$F59,""))) | H59: =IF($A59="","",IF(OR($C59="",$F59=""),"Enter capacity",IF(OR(AND($B59>0,$B59>=$C59),AND($E59>0,$E59>=$F59)),"Over capacity",IF(OR($D59>=Assumptions!$B$7,$G59>=Assumptions!$B$7),"Check near limit","Within capacity"))))

Sheet Bookings
A1: Booking Forecast Inputs
A2: Yellow cells are editable. Counted hours apply the status factor entered on the Assumptions sheet.
A3: Booking ID | B3: Week Start | C3: Service Type | D3: Client Alias | E3: Pet Alias | F3: Forecast Staff Hours | G3: Forecast Facility Hours | H3: Assigned Team | I3: Status | J3: Counted Staff Hours | K3: Counted Facility Hours | L3: Planning Note
A4: BK-001 | B4: 46272 | C4: Grooming | D4: Fictional Acorn Household | E4: Fable | F4: 8 | G4: 3 | H4: Fictional Team Maple | I4: Confirmed | J4: =IF(OR($A4="",$B4="",$F4="",$I4=""),"",IFERROR($F4*VLOOKUP($I4,Assumptions!$H$5:$I$8,2,FALSE),"")) | K4: =IF(OR($A4="",$B4="",$G4="",$I4=""),"",IFERROR($G4*VLOOKUP($I4,Assumptions!$H$5:$I$8,2,FALSE),"")) | L4: Routine weekly planning estimate.
A5: BK-002 | B5: 46272 | C5: Daycare | D5: Fictional Birch Household | E5: Mosaic | F5: 18 | G5: 18 | H5: Fictional Team Cedar | I5: Planned | J5: =IF(OR($A5="",$B5="",$F5="",$I5=""),"",IFERROR($F5*VLOOKUP($I5,Assumptions!$H$5:$I$8,2,FALSE),"")) | K5: =IF(OR($A5="",$B5="",$G5="",$I5=""),"",IFERROR($G5*VLOOKUP($I5,Assumptions!$H$5:$I$8,2,FALSE),"")) | L5: Draft attendance forecast.
A6: BK-003 | B6: 46279 | C6: Boarding Care | D6: Fictional Comet Household | E6: Puddle | F6: 12 | G6: 42 | H6: Fictional Team Birch | I6: Confirmed | J6: =IF(OR($A6="",$B6="",$F6="",$I6=""),"",IFERROR($F6*VLOOKUP($I6,Assumptions!$H$5:$I$8,2,FALSE),"")) | K6: =IF(OR($A6="",$B6="",$G6="",$I6=""),"",IFERROR($G6*VLOOKUP($I6,Assumptions!$H$5:$I$8,2,FALSE),"")) | L6: Facility occupancy estimate.
A7: BK-004 | B7: 46279 | C7: Dog Walking | D7: Fictional Dandelion Household | E7: Quill | F7: 6 | G7: 0 | H7: Fictional Team Maple | I7: On Hold | J7: =IF(OR($A7="",$B7="",$F7="",$I7=""),"",IFERROR($F7*VLOOKUP($I7,Assumptions!$H$5:$I$8,2,FALSE),"")) | K7: =IF(OR($A7="",$B7="",$G7="",$I7=""),"",IFERROR($G7*VLOOKUP($I7,Assumptions!$H$5:$I$8,2,FALSE),"")) | L7: Half weight is applied by status factor.
A8: BK-005 | B8: 46286 | C8: Grooming | D8: Fictional Ember Household | E8: Sprout | F8: 14 | G8: 5 | H8: Fictional Team Cedar | I8: Confirmed | J8: =IF(OR($A8="",$B8="",$F8="",$I8=""),"",IFERROR($F8*VLOOKUP($I8,Assumptions!$H$5:$I$8,2,FALSE),"")) | K8: =IF(OR($A8="",$B8="",$G8="",$I8=""),"",IFERROR($G8*VLOOKUP($I8,Assumptions!$H$5:$I$8,2,FALSE),"")) | L8: Longer grooming block forecast.
A9: BK-006 | B9: 46286 | C9: Daycare | D9: Fictional Fern Household | E9: Tumble | F9: 22 | G9: 22 | H9: Fictional Team Birch | I9: Planned | J9: =IF(OR($A9="",$B9="",$F9="",$I9=""),"",IFERROR($F9*VLOOKUP($I9,Assumptions!$H$5:$I$8,2,FALSE),"")) | K9: =IF(OR($A9="",$B9="",$G9="",$I9=""),"",IFERROR($G9*VLOOKUP($I9,Assumptions!$H$5:$I$8,2,FALSE),"")) | L9: Busy-week planning example.
A10: BK-007 | B10: 46293 | C10: Pet Sitting | D10: Fictional Glimmer Household | E10: Waffle | F10: 10 | G10: 0 | H10: Fictional Team Maple | I10: Confirmed | J10: =IF(OR($A10="",$B10="",$F10="",$I10=""),"",IFERROR($F10*VLOOKUP($I10,Assumptions!$H$5:$I$8,2,FALSE),"")) | K10: =IF(OR($A10="",$B10="",$G10="",$I10=""),"",IFERROR($G10*VLOOKUP($I10,Assumptions!$H$5:$I$8,2,FALSE),"")) | L10: Off-site service forecast.
A11: BK-008 | B11: 46300 | C11: Boarding Care | D11: Fictional Harbor Household | E11: Yonder | F11: 10 | G11: 48 | H11: Fictional Team Cedar | I11: Canceled | J11: =IF(OR($A11="",$B11="",$F11="",$I11=""),"",IFERROR($F11*VLOOKUP($I11,Assumptions!$H$5:$I$8,2,FALSE),"")) | K11: =IF(OR($A11="",$B11="",$G11="",$I11=""),"",IFERROR($G11*VLOOKUP($I11,Assumptions!$H$5:$I$8,2,FALSE),"")) | L11: Canceled example contributes no counted hours.
A12: BK-009 | B12: 46300 | C12: Dog Walking | D12: Fictional Juniper Household | E12: Zigzag | F12: 4 | G12: 0 | H12: Fictional Team Birch | I12: Planned | J12: =IF(OR($A12="",$B12="",$F12="",$I12=""),"",IFERROR($F12*VLOOKUP($I12,Assumptions!$H$5:$I$8,2,FALSE),"")) | K12: =IF(OR($A12="",$B12="",$G12="",$I12=""),"",IFERROR($G12*VLOOKUP($I12,Assumptions!$H$5:$I$8,2,FALSE),"")) | L12: Tests a zero staff-capacity week.
A13: BK-010 | B13: 46321 | C13: Grooming | D13: Fictional Kite Household | E13: Bramble | F13: 12 | G13: 4 | H13: Fictional Team Maple | I13: On Hold | J13: =IF(OR($A13="",$B13="",$F13="",$I13=""),"",IFERROR($F13*VLOOKUP($I13,Assumptions!$H$5:$I$8,2,FALSE),"")) | K13: =IF(OR($A13="",$B13="",$G13="",$I13=""),"",IFERROR($G13*VLOOKUP($I13,Assumptions!$H$5:$I$8,2,FALSE),"")) | L13: Tests the exact staff-capacity boundary.
J14: =IF(OR($A14="",$B14="",$F14="",$I14=""),"",IFERROR($F14*VLOOKUP($I14,Assumptions!$H$5:$I$8,2,FALSE),"")) | K14: =IF(OR($A14="",$B14="",$G14="",$I14=""),"",IFERROR($G14*VLOOKUP($I14,Assumptions!$H$5:$I$8,2,FALSE),""))
J15: =IF(OR($A15="",$B15="",$F15="",$I15=""),"",IFERROR($F15*VLOOKUP($I15,Assumptions!$H$5:$I$8,2,FALSE),"")) | K15: =IF(OR($A15="",$B15="",$G15="",$I15=""),"",IFERROR($G15*VLOOKUP($I15,Assumptions!$H$5:$I$8,2,FALSE),""))
J16: =IF(OR($A16="",$B16="",$F16="",$I16=""),"",IFERROR($F16*VLOOKUP($I16,Assumptions!$H$5:$I$8,2,FALSE),"")) | K16: =IF(OR($A16="",$B16="",$G16="",$I16=""),"",IFERROR($G16*VLOOKUP($I16,Assumptions!$H$5:$I$8,2,FALSE),""))
J17: =IF(OR($A17="",$B17="",$F17="",$I17=""),"",IFERROR($F17*VLOOKUP($I17,Assumptions!$H$5:$I$8,2,FALSE),"")) | K17: =IF(OR($A17="",$B17="",$G17="",$I17=""),"",IFERROR($G17*VLOOKUP($I17,Assumptions!$H$5:$I$8,2,FALSE),""))
J18: =IF(OR($A18="",$B18="",$F18="",$I18=""),"",IFERROR($F18*VLOOKUP($I18,Assumptions!$H$5:$I$8,2,FALSE),"")) | K18: =IF(OR($A18="",$B18="",$G18="",$I18=""),"",IFERROR($G18*VLOOKUP($I18,Assumptions!$H$5:$I$8,2,FALSE),""))
J19: =IF(OR($A19="",$B19="",$F19="",$I19=""),"",IFERROR($F19*VLOOKUP($I19,Assumptions!$H$5:$I$8,2,FALSE),"")) | K19: =IF(OR($A19="",$B19="",$G19="",$I19=""),"",IFERROR($G19*VLOOKUP($I19,Assumptions!$H$5:$I$8,2,FALSE),""))
J20: =IF(OR($A20="",$B20="",$F20="",$I20=""),"",IFERROR($F20*VLOOKUP($I20,Assumptions!$H$5:$I$8,2,FALSE),"")) | K20: =IF(OR($A20="",$B20="",$G20="",$I20=""),"",IFERROR($G20*VLOOKUP($I20,Assumptions!$H$5:$I$8,2,FALSE),""))
J21: =IF(OR($A21="",$B21="",$F21="",$I21=""),"",IFERROR($F21*VLOOKUP($I21,Assumptions!$H$5:$I$8,2,FALSE),"")) | K21: =IF(OR($A21="",$B21="",$G21="",$I21=""),"",IFERROR($G21*VLOOKUP($I21,Assumptions!$H$5:$I$8,2,FALSE),""))
J22: =IF(OR($A22="",$B22="",$F22="",$I22=""),"",IFERROR($F22*VLOOKUP($I22,Assumptions!$H$5:$I$8,2,FALSE),"")) | K22: =IF(OR($A22="",$B22="",$G22="",$I22=""),"",IFERROR($G22*VLOOKUP($I22,Assumptions!$H$5:$I$8,2,FALSE),""))
J23: =IF(OR($A23="",$B23="",$F23="",$I23=""),"",IFERROR($F23*VLOOKUP($I23,Assumptions!$H$5:$I$8,2,FALSE),"")) | K23: =IF(OR($A23="",$B23="",$G23="",$I23=""),"",IFERROR($G23*VLOOKUP($I23,Assumptions!$H$5:$I$8,2,FALSE),""))
J24: =IF(OR($A24="",$B24="",$F24="",$I24=""),"",IFERROR($F24*VLOOKUP($I24,Assumptions!$H$5:$I$8,2,FALSE),"")) | K24: =IF(OR($A24="",$B24="",$G24="",$I24=""),"",IFERROR($G24*VLOOKUP($I24,Assumptions!$H$5:$I$8,2,FALSE),""))
J25: =IF(OR($A25="",$B25="",$F25="",$I25=""),"",IFERROR($F25*VLOOKUP($I25,Assumptions!$H$5:$I$8,2,FALSE),"")) | K25: =IF(OR($A25="",$B25="",$G25="",$I25=""),"",IFERROR($G25*VLOOKUP($I25,Assumptions!$H$5:$I$8,2,FALSE),""))
... J103: =IF(OR($A103="",$B103="",$F103="",$I103=""),"",IFERROR($F103*VLOOKUP($I103,Assumptions!$H$5:$I$8,2,FALSE),"")) | K103: =IF(OR($A103="",$B103="",$G103="",$I103=""),"",IFERROR($G103*VLOOKUP($I103,Assumptions!$H$5:$I$8,2,FALSE),""))

Sheet Capacity
A1: Weekly Capacity Inputs
A2: Yellow cells are editable. Alerts are planning prompts for human review and do not guarantee availability.
A3: Week Start | B3: Available Staff Hours | C3: Available Facility Hours | D3: Lead Assignment | E3: Capacity Note | F3: Booked Staff Hours | G3: Staff Headroom | H3: Booked Facility Hours | I3: Facility Headroom | J3: Capacity Check
A4: 46272 | B4: 32 | C4: 30 | D4: Fictional Team Maple | E4: Draft weekly staffing and space estimate. | F4: =IF($A4="","",SUMIFS(Bookings!$J$4:$J$103,Bookings!$B$4:$B$103,$A4)) | G4: =IF(OR($A4="",$B4=""),"",IFERROR($B4-$F4,"")) | H4: =IF($A4="","",SUMIFS(Bookings!$K$4:$K$103,Bookings!$B$4:$B$103,$A4)) | I4: =IF(OR($A4="",$C4=""),"",IFERROR($C4-$H4,"")) | J4: =IF($A4="","",IF(OR($B4="",$C4=""),"Enter capacity",IF(OR(AND($F4>0,$F4>=$B4),AND($H4>0,$H4>=$C4)),"Over capacity",IF(OR(IFERROR($F4/$B4,0)>=Assumptions!$B$7,IFERROR($H4/$C4,0)>=Assumptions!$B$7),"Check near limit","Within capacity"))))
A5: 46279 | B5: 16 | C5: 48 | D5: Fictional Team Birch | E5: Near-limit staff example. | F5: =IF($A5="","",SUMIFS(Bookings!$J$4:$J$103,Bookings!$B$4:$B$103,$A5)) | G5: =IF(OR($A5="",$B5=""),"",IFERROR($B5-$F5,"")) | H5: =IF($A5="","",SUMIFS(Bookings!$K$4:$K$103,Bookings!$B$4:$B$103,$A5)) | I5: =IF(OR($A5="",$C5=""),"",IFERROR($C5-$H5,"")) | J5: =IF($A5="","",IF(OR($B5="",$C5=""),"Enter capacity",IF(OR(AND($F5>0,$F5>=$B5),AND($H5>0,$H5>=$C5)),"Over capacity",IF(OR(IFERROR($F5/$B5,0)>=Assumptions!$B$7,IFERROR($H5/$C5,0)>=Assumptions!$B$7),"Check near limit","Within capacity"))))
A6: 46286 | B6: 34 | C6: 25 | D6: Fictional Team Cedar | E6: Busy-week capacity example. | F6: =IF($A6="","",SUMIFS(Bookings!$J$4:$J$103,Bookings!$B$4:$B$103,$A6)) | G6: =IF(OR($A6="",$B6=""),"",IFERROR($B6-$F6,"")) | H6: =IF($A6="","",SUMIFS(Bookings!$K$4:$K$103,Bookings!$B$4:$B$103,$A6)) | I6: =IF(OR($A6="",$C6=""),"",IFERROR($C6-$H6,"")) | J6: =IF($A6="","",IF(OR($B6="",$C6=""),"Enter capacity",IF(OR(AND($F6>0,$F6>=$B6),AND($H6>0,$H6>=$C6)),"Over capacity",IF(OR(IFERROR($F6/$B6,0)>=Assumptions!$B$7,IFERROR($H6/$C6,0)>=Assumptions!$B$7),"Check near limit","Within capacity"))))
A7: 46293 | B7: 18 | C7: 12 | D7: Fictional Team Maple | E7: Includes off-site service hours. | F7: =IF($A7="","",SUMIFS(Bookings!$J$4:$J$103,Bookings!$B$4:$B$103,$A7)) | G7: =IF(OR($A7="",$B7=""),"",IFERROR($B7-$F7,"")) | H7: =IF($A7="","",SUMIFS(Bookings!$K$4:$K$103,Bookings!$B$4:$B$103,$A7)) | I7: =IF(OR($A7="",$C7=""),"",IFERROR($C7-$H7,"")) | J7: =IF($A7="","",IF(OR($B7="",$C7=""),"Enter capacity",IF(OR(AND($F7>0,$F7>=$B7),AND($H7>0,$H7>=$C7)),"Over capacity",IF(OR(IFERROR($F7/$B7,0)>=Assumptions!$B$7,IFERROR($H7/$C7,0)>=Assumptions!$B$7),"Check near limit","Within capacity"))))
A8: 46300 | B8: 0 | C8: 12 | D8: Fictional Team Birch | E8: Zero staff-hours boundary example. | F8: =IF($A8="","",SUMIFS(Bookings!$J$4:$J$103,Bookings!$B$4:$B$103,$A8)) | G8: =IF(OR($A8="",$B8=""),"",IFERROR($B8-$F8,"")) | H8: =IF($A8="","",SUMIFS(Bookings!$K$4:$K$103,Bookings!$B$4:$B$103,$A8)) | I8: =IF(OR($A8="",$C8=""),"",IFERROR($C8-$H8,"")) | J8: =IF($A8="","",IF(OR($B8="",$C8=""),"Enter capacity",IF(OR(AND($F8>0,$F8>=$B8),AND($H8>0,$H8>=$C8)),"Over capacity",IF(OR(IFERROR($F8/$B8,0)>=Assumptions!$B$7,IFERROR($H8/$C8,0)>=Assumptions!$B$7),"Check near limit","Within capacity"))))
A9: 46307 | B9: 24 | C9: 20 | D9: Fictional Team Cedar | E9: No booking demand entered yet. | F9: =IF($A9="","",SUMIFS(Bookings!$J$4:$J$103,Bookings!$B$4:$B$103,$A9)) | G9: =IF(OR($A9="",$B9=""),"",IFERROR($B9-$F9,"")) | H9: =IF($A9="","",SUMIFS(Bookings!$K$4:$K$103,Bookings!$B$4:$B$103,$A9)) | I9: =IF(OR($A9="",$C9=""),"",IFERROR($C9-$H9,"")) | J9: =IF($A9="","",IF(OR($B9="",$C9=""),"Enter capacity",IF(OR(AND($F9>0,$F9>=$B9),AND($H9>0,$H9>=$C9)),"Over capacity",IF(OR(IFERROR($F9/$B9,0)>=Assumptions!$B$7,IFERROR($H9/$C9,0)>=Assumptions!$B$7),"Check near limit","Within capacity"))))
A10: 46314 | B10: 28 | C10: 24 | D10: Fictional Team Maple | E10: Draft open capacity. | F10: =IF($A10="","",SUMIFS(Bookings!$J$4:$J$103,Bookings!$B$4:$B$103,$A10)) | G10: =IF(OR($A10="",$B10=""),"",IFERROR($B10-$F10,"")) | H10: =IF($A10="","",SUMIFS(Bookings!$K$4:$K$103,Bookings!$B$4:$B$103,$A10)) | I10: =IF(OR($A10="",$C10=""),"",IFERROR($C10-$H10,"")) | J10: =IF($A10="","",IF(OR($B10="",$C10=""),"Enter capacity",IF(OR(AND($F10>0,$F10>=$B10),AND($H10>0,$H10>=$C10)),"Over capacity",IF(OR(IFERROR($F10/$B10,0)>=Assumptions!$B$7,IFERROR($H10/$C10,0)>=Assumptions!$B$7),"Check near limit","Within capacity"))))
A11: 46321 | B11: 6 | C11: 8 | D11: Fictional Team Birch | E11: Exact staff-capacity boundary example. | F11: =IF($A11="","",SUMIFS(Bookings!$J$4:$J$103,Bookings!$B$4:$B$103,$A11)) | G11: =IF(OR($A11="",$B11=""),"",IFERROR($B11-$F11,"")) | H11: =IF($A11="","",SUMIFS(Bookings!$K$4:$K$103,Bookings!$B$4:$B$103,$A11)) | I11: =IF(OR($A11="",$C11=""),"",IFERROR($C11-$H11,"")) | J11: =IF($A11="","",IF(OR($B11="",$C11=""),"Enter capacity",IF(OR(AND($F11>0,$F11>=$B11),AND($H11>0,$H11>=$C11)),"Over capacity",IF(OR(IFERROR($F11/$B11,0)>=Assumptions!$B$7,IFERROR($H11/$C11,0)>=Assumptions!$B$7),"Check near limit","Within capacity"))))
A12: 46328 | B12: 30 | C12: 28 | D12: Fictional Team Cedar | E12: Draft open capacity. | F12: =IF($A12="","",SUMIFS(Bookings!$J$4:$J$103,Bookings!$B$4:$B$103,$A12)) | G12: =IF(OR($A12="",$B12=""),"",IFERROR($B12-$F12,"")) | H12: =IF($A12="","",SUMIFS(Bookings!$K$4:$K$103,Bookings!$B$4:$B$103,$A12)) | I12: =IF(OR($A12="",$C12=""),"",IFERROR($C12-$H12,"")) | J12: =IF($A12="","",IF(OR($B12="",$C12=""),"Enter capacity",IF(OR(AND($F12>0,$F12>=$B12),AND($H12>0,$H12>=$C12)),"Over capacity",IF(OR(IFERROR($F12/$B12,0)>=Assumptions!$B$7,IFERROR($H12/$C12,0)>=Assumptions!$B$7),"Check near limit","Within capacity"))))
A13: 46335 | B13: 30 | C13: 28 | D13: Fictional Team Maple | E13: Draft open capacity. | F13: =IF($A13="","",SUMIFS(Bookings!$J$4:$J$103,Bookings!$B$4:$B$103,$A13)) | G13: =IF(OR($A13="",$B13=""),"",IFERROR($B13-$F13,"")) | H13: =IF($A13="","",SUMIFS(Bookings!$K$4:$K$103,Bookings!$B$4:$B$103,$A13)) | I13: =IF(OR($A13="",$C13=""),"",IFERROR($C13-$H13,"")) | J13: =IF($A13="","",IF(OR($B13="",$C13=""),"Enter capacity",IF(OR(AND($F13>0,$F13>=$B13),AND($H13>0,$H13>=$C13)),"Over capacity",IF(OR(IFERROR($F13/$B13,0)>=Assumptions!$B$7,IFERROR($H13/$C13,0)>=Assumptions!$B$7),"Check near limit","Within capacity"))))
F14: =IF($A14="","",SUMIFS(Bookings!$J$4:$J$103,Bookings!$B$4:$B$103,$A14)) | G14: =IF(OR($A14="",$B14=""),"",IFERROR($B14-$F14,"")) | H14: =IF($A14="","",SUMIFS(Bookings!$K$4:$K$103,Bookings!$B$4:$B$103,$A14)) | I14: =IF(OR($A14="",$C14=""),"",IFERROR($C14-$H14,"")) | J14: =IF($A14="","",IF(OR($B14="",$C14=""),"Enter capacity",IF(OR(AND($F14>0,$F14>=$B14),AND($H14>0,$H14>=$C14)),"Over capacity",IF(OR(IFERROR($F14/$B14,0)>=Assumptions!$B$7,IFERROR($H14/$C14,0)>=Assumptions!$B$7),"Check near limit","Within capacity"))))
F15: =IF($A15="","",SUMIFS(Bookings!$J$4:$J$103,Bookings!$B$4:$B$103,$A15)) | G15: =IF(OR($A15="",$B15=""),"",IFERROR($B15-$F15,"")) | H15: =IF($A15="","",SUMIFS(Bookings!$K$4:$K$103,Bookings!$B$4:$B$103,$A15)) | I15: =IF(OR($A15="",$C15=""),"",IFERROR($C15-$H15,"")) | J15: =IF($A15="","",IF(OR($B15="",$C15=""),"Enter capacity",IF(OR(AND($F15>0,$F15>=$B15),AND($H15>0,$H15>=$C15)),"Over capacity",IF(OR(IFERROR($F15/$B15,0)>=Assumptions!$B$7,IFERROR($H15/$C15,0)>=Assumptions!$B$7),"Check near limit","Within capacity"))))
F16: =IF($A16="","",SUMIFS(Bookings!$J$4:$J$103,Bookings!$B$4:$B$103,$A16)) | G16: =IF(OR($A16="",$B16=""),"",IFERROR($B16-$F16,"")) | H16: =IF($A16="","",SUMIFS(Bookings!$K$4:$K$103,Bookings!$B$4:$B$103,$A16)) | I16: =IF(OR($A16="",$C16=""),"",IFERROR($C16-$H16,"")) | J16: =IF($A16="","",IF(OR($B16="",$C16=""),"Enter capacity",IF(OR(AND($F16>0,$F16>=$B16),AND($H16>0,$H16>=$C16)),"Over capacity",IF(OR(IFERROR($F16/$B16,0)>=Assumptions!$B$7,IFERROR($H16/$C16,0)>=Assumptions!$B$7),"Check near limit","Within capacity"))))
F17: =IF($A17="","",SUMIFS(Bookings!$J$4:$J$103,Bookings!$B$4:$B$103,$A17)) | G17: =IF(OR($A17="",$B17=""),"",IFERROR($B17-$F17,"")) | H17: =IF($A17="","",SUMIFS(Bookings!$K$4:$K$103,Bookings!$B$4:$B$103,$A17)) | I17: =IF(OR($A17="",$C17=""),"",IFERROR($C17-$H17,"")) | J17: =IF($A17="","",IF(OR($B17="",$C17=""),"Enter capacity",IF(OR(AND($F17>0,$F17>=$B17),AND($H17>0,$H17>=$C17)),"Over capacity",IF(OR(IFERROR($F17/$B17,0)>=Assumptions!$B$7,IFERROR($H17/$C17,0)>=Assumptions!$B$7),"Check near limit","Within capacity"))))
F18: =IF($A18="","",SUMIFS(Bookings!$J$4:$J$103,Bookings!$B$4:$B$103,$A18)) | G18: =IF(OR($A18="",$B18=""),"",IFERROR($B18-$F18,"")) | H18: =IF($A18="","",SUMIFS(Bookings!$K$4:$K$103,Bookings!$B$4:$B$103,$A18)) | I18: =IF(OR($A18="",$C18=""),"",IFERROR($C18-$H18,"")) | J18: =IF($A18="","",IF(OR($B18="",$C18=""),"Enter capacity",IF(OR(AND($F18>0,$F18>=$B18),AND($H18>0,$H18>=$C18)),"Over capacity",IF(OR(IFERROR($F18/$B18,0)>=Assumptions!$B$7,IFERROR($H18/$C18,0)>=Assumptions!$B$7),"Check near limit","Within capacity"))))
F19: =IF($A19="","",SUMIFS(Bookings!$J$4:$J$103,Bookings!$B$4:$B$103,$A19)) | G19: =IF(OR($A19="",$B19=""),"",IFERROR($B19-$F19,"")) | H19: =IF($A19="","",SUMIFS(Bookings!$K$4:$K$103,Bookings!$B$4:$B$103,$A19)) | I19: =IF(OR($A19="",$C19=""),"",IFERROR($C19-$H19,"")) | J19: =IF($A19="","",IF(OR($B19="",$C19=""),"Enter capacity",IF(OR(AND($F19>0,$F19>=$B19),AND($H19>0,$H19>=$C19)),"Over capacity",IF(OR(IFERROR($F19/$B19,0)>=Assumptions!$B$7,IFERROR($H19/$C19,0)>=Assumptions!$B$7),"Check near limit","Within capacity"))))
F20: =IF($A20="","",SUMIFS(Bookings!$J$4:$J$103,Bookings!$B$4:$B$103,$A20)) | G20: =IF(OR($A20="",$B20=""),"",IFERROR($B20-$F20,"")) | H20: =IF($A20="","",SUMIFS(Bookings!$K$4:$K$103,Bookings!$B$4:$B$103,$A20)) | I20: =IF(OR($A20="",$C20=""),"",IFERROR($C20-$H20,"")) | J20: =IF($A20="","",IF(OR($B20="",$C20=""),"Enter capacity",IF(OR(AND($F20>0,$F20>=$B20),AND($H20>0,$H20>=$C20)),"Over capacity",IF(OR(IFERROR($F20/$B20,0)>=Assumptions!$B$7,IFERROR($H20/$C20,0)>=Assumptions!$B$7),"Check near limit","Within capacity"))))
F21: =IF($A21="","",SUMIFS(Bookings!$J$4:$J$103,Bookings!$B$4:$B$103,$A21)) | G21: =IF(OR($A21="",$B21=""),"",IFERROR($B21-$F21,"")) | H21: =IF($A21="","",SUMIFS(Bookings!$K$4:$K$103,Bookings!$B$4:$B$103,$A21)) | I21: =IF(OR($A21="",$C21=""),"",IFERROR($C21-$H21,"")) | J21: =IF($A21="","",IF(OR($B21="",$C21=""),"Enter capacity",IF(OR(AND($F21>0,$F21>=$B21),AND($H21>0,$H21>=$C21)),"Over capacity",IF(OR(IFERROR($F21/$B21,0)>=Assumptions!$B$7,IFERROR($H21/$C21,0)>=Assumptions!$B$7),"Check near limit","Within capacity"))))
F22: =IF($A22="","",SUMIFS(Bookings!$J$4:$J$103,Bookings!$B$4:$B$103,$A22)) | G22: =IF(OR($A22="",$B22=""),"",IFERROR($B22-$F22,"")) | H22: =IF($A22="","",SUMIFS(Bookings!$K$4:$K$103,Bookings!$B$4:$B$103,$A22)) | I22: =IF(OR($A22="",$C22=""),"",IFERROR($C22-$H22,"")) | J22: =IF($A22="","",IF(OR($B22="",$C22=""),"Enter capacity",IF(OR(AND($F22>0,$F22>=$B22),AND($H22>0,$H22>=$C22)),"Over capacity",IF(OR(IFERROR($F22/$B22,0)>=Assumptions!$B$7,IFERROR($H22/$C22,0)>=Assumptions!$B$7),"Check near limit","Within capacity"))))
F23: =IF($A23="","",SUMIFS(Bookings!$J$4:$J$103,Bookings!$B$4:$B$103,$A23)) | G23: =IF(OR($A23="",$B23=""),"",IFERROR($B23-$F23,"")) | H23: =IF($A23="","",SUMIFS(Bookings!$K$4:$K$103,Bookings!$B$4:$B$103,$A23)) | I23: =IF(OR($A23="",$C23=""),"",IFERROR($C23-$H23,"")) | J23: =IF($A23="","",IF(OR($B23="",$C23=""),"Enter capacity",IF(OR(AND($F23>0,$F23>=$B23),AND($H23>0,$H23>=$C23)),"Over capacity",IF(OR(IFERROR($F23/$B23,0)>=Assumptions!$B$7,IFERROR($H23/$C23,0)>=Assumptions!$B$7),"Check near limit","Within capacity"))))
F24: =IF($A24="","",SUMIFS(Bookings!$J$4:$J$103,Bookings!$B$4:$B$103,$A24)) | G24: =IF(OR($A24="",$B24=""),"",IFERROR($B24-$F24,"")) | H24: =IF($A24="","",SUMIFS(Bookings!$K$4:$K$103,Bookings!$B$4:$B$103,$A24)) | I24: =IF(OR($A24="",$C24=""),"",IFERROR($C24-$H24,"")) | J24: =IF($A24="","",IF(OR($B24="",$C24=""),"Enter capacity",IF(OR(AND($F24>0,$F24>=$B24),AND($H24>0,$H24>=$C24)),"Over capacity",IF(OR(IFERROR($F24/$B24,0)>=Assumptions!$B$7,IFERROR($H24/$C24,0)>=Assumptions!$B$7),"Check near limit","Within capacity"))))
F25: =IF($A25="","",SUMIFS(Bookings!$J$4:$J$103,Bookings!$B$4:$B$103,$A25)) | G25: =IF(OR($A25="",$B25=""),"",IFERROR($B25-$F25,"")) | H25: =IF($A25="","",SUMIFS(Bookings!$K$4:$K$103,Bookings!$B$4:$B$103,$A25)) | I25: =IF(OR($A25="",$C25=""),"",IFERROR($C25-$H25,"")) | J25: =IF($A25="","",IF(OR($B25="",$C25=""),"Enter capacity",IF(OR(AND($F25>0,$F25>=$B25),AND($H25>0,$H25>=$C25)),"Over capacity",IF(OR(IFERROR($F25/$B25,0)>=Assumptions!$B$7,IFERROR($H25/$C25,0)>=Assumptions!$B$7),"Check near limit","Within capacity"))))
... F103: =IF($A103="","",SUMIFS(Bookings!$J$4:$J$103,Bookings!$B$4:$B$103,$A103)) | G103: =IF(OR($A103="",$B103=""),"",IFERROR($B103-$F103,"")) | H103: =IF($A103="","",SUMIFS(Bookings!$K$4:$K$103,Bookings!$B$4:$B$103,$A103)) | I103: =IF(OR($A103="",$C103=""),"",IFERROR($C103-$H103,"")) | J103: =IF($A103="","",IF(OR($B103="",$C103=""),"Enter capacity",IF(OR(AND($F103>0,$F103>=$B103),AND($H103>0,$H103>=$C103)),"Over capacity",IF(OR(IFERROR($F103/$B103,0)>=Assumptions!$B$7,IFERROR($H103/$C103,0)>=Assumptions!$B$7),"Check near limit","Within capacity"))))

Sheet Assumptions
A1: Planning Assumptions and Lists
A2: Yellow cells are editable. Review factors and limits before using the capacity alerts for local planning.
A4: Setting | B4: Value | C4: Planning Use | D4: Service Choices | F4: Team Choices | H4: Status | I4: Forecast Factor
A5: Review start date | B5: 46272 | C5: First Monday shown on Summary | D5: Grooming | F5: Fictional Team Maple | H5: Planned | I5: 1
A6: Weeks to review | B6: 12 | C6: Number of weekly rows shown on Summary | D6: Boarding Care | F6: Fictional Team Cedar | H6: Confirmed | I6: 1
A7: Near-limit threshold | B7: 0.9 | C7: Utilization level that prompts a human check | D7: Daycare | F7: Fictional Team Birch | H7: On Hold | I7: 0.5
A8: Prepared horizon in weeks | B8: 100 | C8: Date validation horizon for prepared input rows | D8: Pet Sitting | F8: Unassigned | H8: Canceled | I8: 0
A9: Maximum hours per entry | B9: 1000 | C9: Upper input check for forecast and capacity hours | D9: Dog Walking
A11: Planning Field | B11: Meaning
A12: Forecast staff hours | B12: Estimated labor hours needed for the booking week.
A13: Forecast facility hours | B13: Estimated occupied pet-space hours for the booking week.
A14: Headroom | B14: Available hours minus counted booking hours.
A15: Capacity check | B15: A prompt to review entered demand and capacity; it is not a guarantee.
