Workbook

Sheet Summary
A1: Pet Service Demand Calendar
A2: Calculated indicators use entered demand records. All sample records and crew labels are fictional. | Z2: =IF(Assumptions!$B$14="","",Assumptions!$B$14)
A4: Report Start | B4: =IF(Assumptions!$B$15="","",Assumptions!$B$15) | C4: Report End | D4: =IF(Assumptions!$B$16="","",Assumptions!$B$16)
A6: Counted Bookings | B6: =IF(OR(NOT(ISNUMBER($B$4)),NOT(ISNUMBER($D$4))),"",IF(COUNTIFS('Demand Log'!$B$5:$B$124,">="&$B$4,'Demand Log'!$B$5:$B$124,"<="&$D$4,'Demand Log'!$C$5:$C$124,"<>")=0,"",SUMIFS('Demand Log'!$H$5:$H$124,'Demand Log'!$B$5:$B$124,">="&$B$4,'Demand Log'!$B$5:$B$124,"<="&$D$4))) | C6: Entered Records | D6: =IF(OR(NOT(ISNUMBER($B$4)),NOT(ISNUMBER($D$4))),"",IF(COUNTIFS('Demand Log'!$B$5:$B$124,">="&$B$4,'Demand Log'!$B$5:$B$124,"<="&$D$4,'Demand Log'!$C$5:$C$124,"<>")=0,"",COUNTIFS('Demand Log'!$B$5:$B$124,">="&$B$4,'Demand Log'!$B$5:$B$124,"<="&$D$4,'Demand Log'!$C$5:$C$124,"<>")))
A7: Planned Capacity | B7: =IF($D$6="","",SUMIFS('Demand Log'!$G$5:$G$124,'Demand Log'!$B$5:$B$124,">="&$B$4,'Demand Log'!$B$5:$B$124,"<="&$D$4)) | C7: Capacity Review Rows | D7: =IF($D$6="","",COUNTIFS('Demand Log'!$B$5:$B$124,">="&$B$4,'Demand Log'!$B$5:$B$124,"<="&$D$4,'Demand Log'!$J$5:$J$124,"Review*"))
A8: Overall Utilization | B8: =IF(OR(NOT(ISNUMBER($B$6)),NOT(ISNUMBER($B$7)),$B$7=0),"",IFERROR($B$6/$B$7,"")) | C8: Average Bookings per Record | D8: =IF(OR(NOT(ISNUMBER($B$6)),NOT(ISNUMBER($D$6)),$D$6=0),"",IFERROR($B$6/$D$6,""))
A9: Busiest Service | B9: =IF(COUNT($B$13:$B$17)=0,"",IFERROR(INDEX($A$13:$A$17,MATCH(MAX($B$13:$B$17),$B$13:$B$17,0)),"")) | C9: Highest Utilization Service | D9: =IF(COUNT($D$13:$D$17)=0,"",IFERROR(INDEX($A$13:$A$17,MATCH(MAX($D$13:$D$17),$D$13:$D$17,0)),""))
A12: Service | B12: Counted Bookings | C12: Planned Capacity | D12: Utilization | E12: Review Rows
A13: =IF(Assumptions!$A$5="","",Assumptions!$A$5) | B13: =IF(OR($A13="",NOT(ISNUMBER($B$4)),NOT(ISNUMBER($D$4))),"",IF(COUNTIFS('Demand Log'!$B$5:$B$124,">="&$B$4,'Demand Log'!$B$5:$B$124,"<="&$D$4,'Demand Log'!$C$5:$C$124,$A13)=0,"",SUMIFS('Demand Log'!$H$5:$H$124,'Demand Log'!$B$5:$B$124,">="&$B$4,'Demand Log'!$B$5:$B$124,"<="&$D$4,'Demand Log'!$C$5:$C$124,$A13))) | C13: =IF($B13="","",SUMIFS('Demand Log'!$G$5:$G$124,'Demand Log'!$B$5:$B$124,">="&$B$4,'Demand Log'!$B$5:$B$124,"<="&$D$4,'Demand Log'!$C$5:$C$124,$A13)) | D13: =IF(OR(NOT(ISNUMBER($B13)),NOT(ISNUMBER($C13)),$C13=0),"",IFERROR($B13/$C13,"")) | E13: =IF($B13="","",COUNTIFS('Demand Log'!$B$5:$B$124,">="&$B$4,'Demand Log'!$B$5:$B$124,"<="&$D$4,'Demand Log'!$C$5:$C$124,$A13,'Demand Log'!$J$5:$J$124,"Review*"))
A14: =IF(Assumptions!$A$6="","",Assumptions!$A$6) | B14: =IF(OR($A14="",NOT(ISNUMBER($B$4)),NOT(ISNUMBER($D$4))),"",IF(COUNTIFS('Demand Log'!$B$5:$B$124,">="&$B$4,'Demand Log'!$B$5:$B$124,"<="&$D$4,'Demand Log'!$C$5:$C$124,$A14)=0,"",SUMIFS('Demand Log'!$H$5:$H$124,'Demand Log'!$B$5:$B$124,">="&$B$4,'Demand Log'!$B$5:$B$124,"<="&$D$4,'Demand Log'!$C$5:$C$124,$A14))) | C14: =IF($B14="","",SUMIFS('Demand Log'!$G$5:$G$124,'Demand Log'!$B$5:$B$124,">="&$B$4,'Demand Log'!$B$5:$B$124,"<="&$D$4,'Demand Log'!$C$5:$C$124,$A14)) | D14: =IF(OR(NOT(ISNUMBER($B14)),NOT(ISNUMBER($C14)),$C14=0),"",IFERROR($B14/$C14,"")) | E14: =IF($B14="","",COUNTIFS('Demand Log'!$B$5:$B$124,">="&$B$4,'Demand Log'!$B$5:$B$124,"<="&$D$4,'Demand Log'!$C$5:$C$124,$A14,'Demand Log'!$J$5:$J$124,"Review*"))
A15: =IF(Assumptions!$A$7="","",Assumptions!$A$7) | B15: =IF(OR($A15="",NOT(ISNUMBER($B$4)),NOT(ISNUMBER($D$4))),"",IF(COUNTIFS('Demand Log'!$B$5:$B$124,">="&$B$4,'Demand Log'!$B$5:$B$124,"<="&$D$4,'Demand Log'!$C$5:$C$124,$A15)=0,"",SUMIFS('Demand Log'!$H$5:$H$124,'Demand Log'!$B$5:$B$124,">="&$B$4,'Demand Log'!$B$5:$B$124,"<="&$D$4,'Demand Log'!$C$5:$C$124,$A15))) | C15: =IF($B15="","",SUMIFS('Demand Log'!$G$5:$G$124,'Demand Log'!$B$5:$B$124,">="&$B$4,'Demand Log'!$B$5:$B$124,"<="&$D$4,'Demand Log'!$C$5:$C$124,$A15)) | D15: =IF(OR(NOT(ISNUMBER($B15)),NOT(ISNUMBER($C15)),$C15=0),"",IFERROR($B15/$C15,"")) | E15: =IF($B15="","",COUNTIFS('Demand Log'!$B$5:$B$124,">="&$B$4,'Demand Log'!$B$5:$B$124,"<="&$D$4,'Demand Log'!$C$5:$C$124,$A15,'Demand Log'!$J$5:$J$124,"Review*"))
A16: =IF(Assumptions!$A$8="","",Assumptions!$A$8) | B16: =IF(OR($A16="",NOT(ISNUMBER($B$4)),NOT(ISNUMBER($D$4))),"",IF(COUNTIFS('Demand Log'!$B$5:$B$124,">="&$B$4,'Demand Log'!$B$5:$B$124,"<="&$D$4,'Demand Log'!$C$5:$C$124,$A16)=0,"",SUMIFS('Demand Log'!$H$5:$H$124,'Demand Log'!$B$5:$B$124,">="&$B$4,'Demand Log'!$B$5:$B$124,"<="&$D$4,'Demand Log'!$C$5:$C$124,$A16))) | C16: =IF($B16="","",SUMIFS('Demand Log'!$G$5:$G$124,'Demand Log'!$B$5:$B$124,">="&$B$4,'Demand Log'!$B$5:$B$124,"<="&$D$4,'Demand Log'!$C$5:$C$124,$A16)) | D16: =IF(OR(NOT(ISNUMBER($B16)),NOT(ISNUMBER($C16)),$C16=0),"",IFERROR($B16/$C16,"")) | E16: =IF($B16="","",COUNTIFS('Demand Log'!$B$5:$B$124,">="&$B$4,'Demand Log'!$B$5:$B$124,"<="&$D$4,'Demand Log'!$C$5:$C$124,$A16,'Demand Log'!$J$5:$J$124,"Review*"))
A17: =IF(Assumptions!$A$9="","",Assumptions!$A$9) | B17: =IF(OR($A17="",NOT(ISNUMBER($B$4)),NOT(ISNUMBER($D$4))),"",IF(COUNTIFS('Demand Log'!$B$5:$B$124,">="&$B$4,'Demand Log'!$B$5:$B$124,"<="&$D$4,'Demand Log'!$C$5:$C$124,$A17)=0,"",SUMIFS('Demand Log'!$H$5:$H$124,'Demand Log'!$B$5:$B$124,">="&$B$4,'Demand Log'!$B$5:$B$124,"<="&$D$4,'Demand Log'!$C$5:$C$124,$A17))) | C17: =IF($B17="","",SUMIFS('Demand Log'!$G$5:$G$124,'Demand Log'!$B$5:$B$124,">="&$B$4,'Demand Log'!$B$5:$B$124,"<="&$D$4,'Demand Log'!$C$5:$C$124,$A17)) | D17: =IF(OR(NOT(ISNUMBER($B17)),NOT(ISNUMBER($C17)),$C17=0),"",IFERROR($B17/$C17,"")) | E17: =IF($B17="","",COUNTIFS('Demand Log'!$B$5:$B$124,">="&$B$4,'Demand Log'!$B$5:$B$124,"<="&$D$4,'Demand Log'!$C$5:$C$124,$A17,'Demand Log'!$J$5:$J$124,"Review*"))

Sheet Daily View
A1: Daily Demand View
A2: Calendar Month | B2: =IF(Assumptions!$B$17="","",Assumptions!$B$17) | L2: =IF(Assumptions!$B$14="","",Assumptions!$B$14)
A3: Change the calendar month start on Assumptions. Blank days have no entered records.
A4: Date | B4: Day | C4: =IF(Assumptions!$A$5="","",Assumptions!$A$5) | D4: =IF(Assumptions!$A$6="","",Assumptions!$A$6) | E4: =IF(Assumptions!$A$7="","",Assumptions!$A$7) | F4: =IF(Assumptions!$A$8="","",Assumptions!$A$8) | G4: =IF(Assumptions!$A$9="","",Assumptions!$A$9) | H4: Total Demand | I4: Planned Capacity | J4: Utilization | K4: Staffing Check
A5: =IF(NOT(ISNUMBER($B$2)),"",IF(ROW()-4>DAY(DATE(YEAR($B$2),MONTH($B$2)+1,0)),"",DATE(YEAR($B$2),MONTH($B$2),ROW()-4))) | B5: =IF($A5="","",TEXT($A5,"ddd")) | C5: =IF(OR($A5="",C$4=""),"",IF(COUNTIFS('Demand Log'!$B$5:$B$124,$A5,'Demand Log'!$C$5:$C$124,C$4)=0,"",SUMIFS('Demand Log'!$H$5:$H$124,'Demand Log'!$B$5:$B$124,$A5,'Demand Log'!$C$5:$C$124,C$4))) | D5: =IF(OR($A5="",D$4=""),"",IF(COUNTIFS('Demand Log'!$B$5:$B$124,$A5,'Demand Log'!$C$5:$C$124,D$4)=0,"",SUMIFS('Demand Log'!$H$5:$H$124,'Demand Log'!$B$5:$B$124,$A5,'Demand Log'!$C$5:$C$124,D$4))) | E5: =IF(OR($A5="",E$4=""),"",IF(COUNTIFS('Demand Log'!$B$5:$B$124,$A5,'Demand Log'!$C$5:$C$124,E$4)=0,"",SUMIFS('Demand Log'!$H$5:$H$124,'Demand Log'!$B$5:$B$124,$A5,'Demand Log'!$C$5:$C$124,E$4))) | F5: =IF(OR($A5="",F$4=""),"",IF(COUNTIFS('Demand Log'!$B$5:$B$124,$A5,'Demand Log'!$C$5:$C$124,F$4)=0,"",SUMIFS('Demand Log'!$H$5:$H$124,'Demand Log'!$B$5:$B$124,$A5,'Demand Log'!$C$5:$C$124,F$4))) | G5: =IF(OR($A5="",G$4=""),"",IF(COUNTIFS('Demand Log'!$B$5:$B$124,$A5,'Demand Log'!$C$5:$C$124,G$4)=0,"",SUMIFS('Demand Log'!$H$5:$H$124,'Demand Log'!$B$5:$B$124,$A5,'Demand Log'!$C$5:$C$124,G$4))) | H5: =IF($A5="","",IF(COUNTIFS('Demand Log'!$B$5:$B$124,$A5,'Demand Log'!$C$5:$C$124,"<>")=0,"",SUM($C5:$G5))) | I5: =IF($H5="","",SUMIFS('Demand Log'!$G$5:$G$124,'Demand Log'!$B$5:$B$124,$A5)) | J5: =IF(OR(NOT(ISNUMBER($H5)),NOT(ISNUMBER($I5)),$I5=0),"",IFERROR($H5/$I5,"")) | K5: =IF($H5="","",IF(OR($I5="",$I5=0),"Review staffing",IF(NOT(ISNUMBER(Assumptions!$B$14)),"Check threshold",IF($J5>Assumptions!$B$14,"Review capacity","Within guide"))))
A6: =IF(NOT(ISNUMBER($B$2)),"",IF(ROW()-4>DAY(DATE(YEAR($B$2),MONTH($B$2)+1,0)),"",DATE(YEAR($B$2),MONTH($B$2),ROW()-4))) | B6: =IF($A6="","",TEXT($A6,"ddd")) | C6: =IF(OR($A6="",C$4=""),"",IF(COUNTIFS('Demand Log'!$B$5:$B$124,$A6,'Demand Log'!$C$5:$C$124,C$4)=0,"",SUMIFS('Demand Log'!$H$5:$H$124,'Demand Log'!$B$5:$B$124,$A6,'Demand Log'!$C$5:$C$124,C$4))) | D6: =IF(OR($A6="",D$4=""),"",IF(COUNTIFS('Demand Log'!$B$5:$B$124,$A6,'Demand Log'!$C$5:$C$124,D$4)=0,"",SUMIFS('Demand Log'!$H$5:$H$124,'Demand Log'!$B$5:$B$124,$A6,'Demand Log'!$C$5:$C$124,D$4))) | E6: =IF(OR($A6="",E$4=""),"",IF(COUNTIFS('Demand Log'!$B$5:$B$124,$A6,'Demand Log'!$C$5:$C$124,E$4)=0,"",SUMIFS('Demand Log'!$H$5:$H$124,'Demand Log'!$B$5:$B$124,$A6,'Demand Log'!$C$5:$C$124,E$4))) | F6: =IF(OR($A6="",F$4=""),"",IF(COUNTIFS('Demand Log'!$B$5:$B$124,$A6,'Demand Log'!$C$5:$C$124,F$4)=0,"",SUMIFS('Demand Log'!$H$5:$H$124,'Demand Log'!$B$5:$B$124,$A6,'Demand Log'!$C$5:$C$124,F$4))) | G6: =IF(OR($A6="",G$4=""),"",IF(COUNTIFS('Demand Log'!$B$5:$B$124,$A6,'Demand Log'!$C$5:$C$124,G$4)=0,"",SUMIFS('Demand Log'!$H$5:$H$124,'Demand Log'!$B$5:$B$124,$A6,'Demand Log'!$C$5:$C$124,G$4))) | H6: =IF($A6="","",IF(COUNTIFS('Demand Log'!$B$5:$B$124,$A6,'Demand Log'!$C$5:$C$124,"<>")=0,"",SUM($C6:$G6))) | I6: =IF($H6="","",SUMIFS('Demand Log'!$G$5:$G$124,'Demand Log'!$B$5:$B$124,$A6)) | J6: =IF(OR(NOT(ISNUMBER($H6)),NOT(ISNUMBER($I6)),$I6=0),"",IFERROR($H6/$I6,"")) | K6: =IF($H6="","",IF(OR($I6="",$I6=0),"Review staffing",IF(NOT(ISNUMBER(Assumptions!$B$14)),"Check threshold",IF($J6>Assumptions!$B$14,"Review capacity","Within guide"))))
A7: =IF(NOT(ISNUMBER($B$2)),"",IF(ROW()-4>DAY(DATE(YEAR($B$2),MONTH($B$2)+1,0)),"",DATE(YEAR($B$2),MONTH($B$2),ROW()-4))) | B7: =IF($A7="","",TEXT($A7,"ddd")) | C7: =IF(OR($A7="",C$4=""),"",IF(COUNTIFS('Demand Log'!$B$5:$B$124,$A7,'Demand Log'!$C$5:$C$124,C$4)=0,"",SUMIFS('Demand Log'!$H$5:$H$124,'Demand Log'!$B$5:$B$124,$A7,'Demand Log'!$C$5:$C$124,C$4))) | D7: =IF(OR($A7="",D$4=""),"",IF(COUNTIFS('Demand Log'!$B$5:$B$124,$A7,'Demand Log'!$C$5:$C$124,D$4)=0,"",SUMIFS('Demand Log'!$H$5:$H$124,'Demand Log'!$B$5:$B$124,$A7,'Demand Log'!$C$5:$C$124,D$4))) | E7: =IF(OR($A7="",E$4=""),"",IF(COUNTIFS('Demand Log'!$B$5:$B$124,$A7,'Demand Log'!$C$5:$C$124,E$4)=0,"",SUMIFS('Demand Log'!$H$5:$H$124,'Demand Log'!$B$5:$B$124,$A7,'Demand Log'!$C$5:$C$124,E$4))) | F7: =IF(OR($A7="",F$4=""),"",IF(COUNTIFS('Demand Log'!$B$5:$B$124,$A7,'Demand Log'!$C$5:$C$124,F$4)=0,"",SUMIFS('Demand Log'!$H$5:$H$124,'Demand Log'!$B$5:$B$124,$A7,'Demand Log'!$C$5:$C$124,F$4))) | G7: =IF(OR($A7="",G$4=""),"",IF(COUNTIFS('Demand Log'!$B$5:$B$124,$A7,'Demand Log'!$C$5:$C$124,G$4)=0,"",SUMIFS('Demand Log'!$H$5:$H$124,'Demand Log'!$B$5:$B$124,$A7,'Demand Log'!$C$5:$C$124,G$4))) | H7: =IF($A7="","",IF(COUNTIFS('Demand Log'!$B$5:$B$124,$A7,'Demand Log'!$C$5:$C$124,"<>")=0,"",SUM($C7:$G7))) | I7: =IF($H7="","",SUMIFS('Demand Log'!$G$5:$G$124,'Demand Log'!$B$5:$B$124,$A7)) | J7: =IF(OR(NOT(ISNUMBER($H7)),NOT(ISNUMBER($I7)),$I7=0),"",IFERROR($H7/$I7,"")) | K7: =IF($H7="","",IF(OR($I7="",$I7=0),"Review staffing",IF(NOT(ISNUMBER(Assumptions!$B$14)),"Check threshold",IF($J7>Assumptions!$B$14,"Review capacity","Within guide"))))
A8: =IF(NOT(ISNUMBER($B$2)),"",IF(ROW()-4>DAY(DATE(YEAR($B$2),MONTH($B$2)+1,0)),"",DATE(YEAR($B$2),MONTH($B$2),ROW()-4))) | B8: =IF($A8="","",TEXT($A8,"ddd")) | C8: =IF(OR($A8="",C$4=""),"",IF(COUNTIFS('Demand Log'!$B$5:$B$124,$A8,'Demand Log'!$C$5:$C$124,C$4)=0,"",SUMIFS('Demand Log'!$H$5:$H$124,'Demand Log'!$B$5:$B$124,$A8,'Demand Log'!$C$5:$C$124,C$4))) | D8: =IF(OR($A8="",D$4=""),"",IF(COUNTIFS('Demand Log'!$B$5:$B$124,$A8,'Demand Log'!$C$5:$C$124,D$4)=0,"",SUMIFS('Demand Log'!$H$5:$H$124,'Demand Log'!$B$5:$B$124,$A8,'Demand Log'!$C$5:$C$124,D$4))) | E8: =IF(OR($A8="",E$4=""),"",IF(COUNTIFS('Demand Log'!$B$5:$B$124,$A8,'Demand Log'!$C$5:$C$124,E$4)=0,"",SUMIFS('Demand Log'!$H$5:$H$124,'Demand Log'!$B$5:$B$124,$A8,'Demand Log'!$C$5:$C$124,E$4))) | F8: =IF(OR($A8="",F$4=""),"",IF(COUNTIFS('Demand Log'!$B$5:$B$124,$A8,'Demand Log'!$C$5:$C$124,F$4)=0,"",SUMIFS('Demand Log'!$H$5:$H$124,'Demand Log'!$B$5:$B$124,$A8,'Demand Log'!$C$5:$C$124,F$4))) | G8: =IF(OR($A8="",G$4=""),"",IF(COUNTIFS('Demand Log'!$B$5:$B$124,$A8,'Demand Log'!$C$5:$C$124,G$4)=0,"",SUMIFS('Demand Log'!$H$5:$H$124,'Demand Log'!$B$5:$B$124,$A8,'Demand Log'!$C$5:$C$124,G$4))) | H8: =IF($A8="","",IF(COUNTIFS('Demand Log'!$B$5:$B$124,$A8,'Demand Log'!$C$5:$C$124,"<>")=0,"",SUM($C8:$G8))) | I8: =IF($H8="","",SUMIFS('Demand Log'!$G$5:$G$124,'Demand Log'!$B$5:$B$124,$A8)) | J8: =IF(OR(NOT(ISNUMBER($H8)),NOT(ISNUMBER($I8)),$I8=0),"",IFERROR($H8/$I8,"")) | K8: =IF($H8="","",IF(OR($I8="",$I8=0),"Review staffing",IF(NOT(ISNUMBER(Assumptions!$B$14)),"Check threshold",IF($J8>Assumptions!$B$14,"Review capacity","Within guide"))))
A9: =IF(NOT(ISNUMBER($B$2)),"",IF(ROW()-4>DAY(DATE(YEAR($B$2),MONTH($B$2)+1,0)),"",DATE(YEAR($B$2),MONTH($B$2),ROW()-4))) | B9: =IF($A9="","",TEXT($A9,"ddd")) | C9: =IF(OR($A9="",C$4=""),"",IF(COUNTIFS('Demand Log'!$B$5:$B$124,$A9,'Demand Log'!$C$5:$C$124,C$4)=0,"",SUMIFS('Demand Log'!$H$5:$H$124,'Demand Log'!$B$5:$B$124,$A9,'Demand Log'!$C$5:$C$124,C$4))) | D9: =IF(OR($A9="",D$4=""),"",IF(COUNTIFS('Demand Log'!$B$5:$B$124,$A9,'Demand Log'!$C$5:$C$124,D$4)=0,"",SUMIFS('Demand Log'!$H$5:$H$124,'Demand Log'!$B$5:$B$124,$A9,'Demand Log'!$C$5:$C$124,D$4))) | E9: =IF(OR($A9="",E$4=""),"",IF(COUNTIFS('Demand Log'!$B$5:$B$124,$A9,'Demand Log'!$C$5:$C$124,E$4)=0,"",SUMIFS('Demand Log'!$H$5:$H$124,'Demand Log'!$B$5:$B$124,$A9,'Demand Log'!$C$5:$C$124,E$4))) | F9: =IF(OR($A9="",F$4=""),"",IF(COUNTIFS('Demand Log'!$B$5:$B$124,$A9,'Demand Log'!$C$5:$C$124,F$4)=0,"",SUMIFS('Demand Log'!$H$5:$H$124,'Demand Log'!$B$5:$B$124,$A9,'Demand Log'!$C$5:$C$124,F$4))) | G9: =IF(OR($A9="",G$4=""),"",IF(COUNTIFS('Demand Log'!$B$5:$B$124,$A9,'Demand Log'!$C$5:$C$124,G$4)=0,"",SUMIFS('Demand Log'!$H$5:$H$124,'Demand Log'!$B$5:$B$124,$A9,'Demand Log'!$C$5:$C$124,G$4))) | H9: =IF($A9="","",IF(COUNTIFS('Demand Log'!$B$5:$B$124,$A9,'Demand Log'!$C$5:$C$124,"<>")=0,"",SUM($C9:$G9))) | I9: =IF($H9="","",SUMIFS('Demand Log'!$G$5:$G$124,'Demand Log'!$B$5:$B$124,$A9)) | J9: =IF(OR(NOT(ISNUMBER($H9)),NOT(ISNUMBER($I9)),$I9=0),"",IFERROR($H9/$I9,"")) | K9: =IF($H9="","",IF(OR($I9="",$I9=0),"Review staffing",IF(NOT(ISNUMBER(Assumptions!$B$14)),"Check threshold",IF($J9>Assumptions!$B$14,"Review capacity","Within guide"))))
A10: =IF(NOT(ISNUMBER($B$2)),"",IF(ROW()-4>DAY(DATE(YEAR($B$2),MONTH($B$2)+1,0)),"",DATE(YEAR($B$2),MONTH($B$2),ROW()-4))) | B10: =IF($A10="","",TEXT($A10,"ddd")) | C10: =IF(OR($A10="",C$4=""),"",IF(COUNTIFS('Demand Log'!$B$5:$B$124,$A10,'Demand Log'!$C$5:$C$124,C$4)=0,"",SUMIFS('Demand Log'!$H$5:$H$124,'Demand Log'!$B$5:$B$124,$A10,'Demand Log'!$C$5:$C$124,C$4))) | D10: =IF(OR($A10="",D$4=""),"",IF(COUNTIFS('Demand Log'!$B$5:$B$124,$A10,'Demand Log'!$C$5:$C$124,D$4)=0,"",SUMIFS('Demand Log'!$H$5:$H$124,'Demand Log'!$B$5:$B$124,$A10,'Demand Log'!$C$5:$C$124,D$4))) | E10: =IF(OR($A10="",E$4=""),"",IF(COUNTIFS('Demand Log'!$B$5:$B$124,$A10,'Demand Log'!$C$5:$C$124,E$4)=0,"",SUMIFS('Demand Log'!$H$5:$H$124,'Demand Log'!$B$5:$B$124,$A10,'Demand Log'!$C$5:$C$124,E$4))) | F10: =IF(OR($A10="",F$4=""),"",IF(COUNTIFS('Demand Log'!$B$5:$B$124,$A10,'Demand Log'!$C$5:$C$124,F$4)=0,"",SUMIFS('Demand Log'!$H$5:$H$124,'Demand Log'!$B$5:$B$124,$A10,'Demand Log'!$C$5:$C$124,F$4))) | G10: =IF(OR($A10="",G$4=""),"",IF(COUNTIFS('Demand Log'!$B$5:$B$124,$A10,'Demand Log'!$C$5:$C$124,G$4)=0,"",SUMIFS('Demand Log'!$H$5:$H$124,'Demand Log'!$B$5:$B$124,$A10,'Demand Log'!$C$5:$C$124,G$4))) | H10: =IF($A10="","",IF(COUNTIFS('Demand Log'!$B$5:$B$124,$A10,'Demand Log'!$C$5:$C$124,"<>")=0,"",SUM($C10:$G10))) | I10: =IF($H10="","",SUMIFS('Demand Log'!$G$5:$G$124,'Demand Log'!$B$5:$B$124,$A10)) | J10: =IF(OR(NOT(ISNUMBER($H10)),NOT(ISNUMBER($I10)),$I10=0),"",IFERROR($H10/$I10,"")) | K10: =IF($H10="","",IF(OR($I10="",$I10=0),"Review staffing",IF(NOT(ISNUMBER(Assumptions!$B$14)),"Check threshold",IF($J10>Assumptions!$B$14,"Review capacity","Within guide"))))
A11: =IF(NOT(ISNUMBER($B$2)),"",IF(ROW()-4>DAY(DATE(YEAR($B$2),MONTH($B$2)+1,0)),"",DATE(YEAR($B$2),MONTH($B$2),ROW()-4))) | B11: =IF($A11="","",TEXT($A11,"ddd")) | C11: =IF(OR($A11="",C$4=""),"",IF(COUNTIFS('Demand Log'!$B$5:$B$124,$A11,'Demand Log'!$C$5:$C$124,C$4)=0,"",SUMIFS('Demand Log'!$H$5:$H$124,'Demand Log'!$B$5:$B$124,$A11,'Demand Log'!$C$5:$C$124,C$4))) | D11: =IF(OR($A11="",D$4=""),"",IF(COUNTIFS('Demand Log'!$B$5:$B$124,$A11,'Demand Log'!$C$5:$C$124,D$4)=0,"",SUMIFS('Demand Log'!$H$5:$H$124,'Demand Log'!$B$5:$B$124,$A11,'Demand Log'!$C$5:$C$124,D$4))) | E11: =IF(OR($A11="",E$4=""),"",IF(COUNTIFS('Demand Log'!$B$5:$B$124,$A11,'Demand Log'!$C$5:$C$124,E$4)=0,"",SUMIFS('Demand Log'!$H$5:$H$124,'Demand Log'!$B$5:$B$124,$A11,'Demand Log'!$C$5:$C$124,E$4))) | F11: =IF(OR($A11="",F$4=""),"",IF(COUNTIFS('Demand Log'!$B$5:$B$124,$A11,'Demand Log'!$C$5:$C$124,F$4)=0,"",SUMIFS('Demand Log'!$H$5:$H$124,'Demand Log'!$B$5:$B$124,$A11,'Demand Log'!$C$5:$C$124,F$4))) | G11: =IF(OR($A11="",G$4=""),"",IF(COUNTIFS('Demand Log'!$B$5:$B$124,$A11,'Demand Log'!$C$5:$C$124,G$4)=0,"",SUMIFS('Demand Log'!$H$5:$H$124,'Demand Log'!$B$5:$B$124,$A11,'Demand Log'!$C$5:$C$124,G$4))) | H11: =IF($A11="","",IF(COUNTIFS('Demand Log'!$B$5:$B$124,$A11,'Demand Log'!$C$5:$C$124,"<>")=0,"",SUM($C11:$G11))) | I11: =IF($H11="","",SUMIFS('Demand Log'!$G$5:$G$124,'Demand Log'!$B$5:$B$124,$A11)) | J11: =IF(OR(NOT(ISNUMBER($H11)),NOT(ISNUMBER($I11)),$I11=0),"",IFERROR($H11/$I11,"")) | K11: =IF($H11="","",IF(OR($I11="",$I11=0),"Review staffing",IF(NOT(ISNUMBER(Assumptions!$B$14)),"Check threshold",IF($J11>Assumptions!$B$14,"Review capacity","Within guide"))))
A12: =IF(NOT(ISNUMBER($B$2)),"",IF(ROW()-4>DAY(DATE(YEAR($B$2),MONTH($B$2)+1,0)),"",DATE(YEAR($B$2),MONTH($B$2),ROW()-4))) | B12: =IF($A12="","",TEXT($A12,"ddd")) | C12: =IF(OR($A12="",C$4=""),"",IF(COUNTIFS('Demand Log'!$B$5:$B$124,$A12,'Demand Log'!$C$5:$C$124,C$4)=0,"",SUMIFS('Demand Log'!$H$5:$H$124,'Demand Log'!$B$5:$B$124,$A12,'Demand Log'!$C$5:$C$124,C$4))) | D12: =IF(OR($A12="",D$4=""),"",IF(COUNTIFS('Demand Log'!$B$5:$B$124,$A12,'Demand Log'!$C$5:$C$124,D$4)=0,"",SUMIFS('Demand Log'!$H$5:$H$124,'Demand Log'!$B$5:$B$124,$A12,'Demand Log'!$C$5:$C$124,D$4))) | E12: =IF(OR($A12="",E$4=""),"",IF(COUNTIFS('Demand Log'!$B$5:$B$124,$A12,'Demand Log'!$C$5:$C$124,E$4)=0,"",SUMIFS('Demand Log'!$H$5:$H$124,'Demand Log'!$B$5:$B$124,$A12,'Demand Log'!$C$5:$C$124,E$4))) | F12: =IF(OR($A12="",F$4=""),"",IF(COUNTIFS('Demand Log'!$B$5:$B$124,$A12,'Demand Log'!$C$5:$C$124,F$4)=0,"",SUMIFS('Demand Log'!$H$5:$H$124,'Demand Log'!$B$5:$B$124,$A12,'Demand Log'!$C$5:$C$124,F$4))) | G12: =IF(OR($A12="",G$4=""),"",IF(COUNTIFS('Demand Log'!$B$5:$B$124,$A12,'Demand Log'!$C$5:$C$124,G$4)=0,"",SUMIFS('Demand Log'!$H$5:$H$124,'Demand Log'!$B$5:$B$124,$A12,'Demand Log'!$C$5:$C$124,G$4))) | H12: =IF($A12="","",IF(COUNTIFS('Demand Log'!$B$5:$B$124,$A12,'Demand Log'!$C$5:$C$124,"<>")=0,"",SUM($C12:$G12))) | I12: =IF($H12="","",SUMIFS('Demand Log'!$G$5:$G$124,'Demand Log'!$B$5:$B$124,$A12)) | J12: =IF(OR(NOT(ISNUMBER($H12)),NOT(ISNUMBER($I12)),$I12=0),"",IFERROR($H12/$I12,"")) | K12: =IF($H12="","",IF(OR($I12="",$I12=0),"Review staffing",IF(NOT(ISNUMBER(Assumptions!$B$14)),"Check threshold",IF($J12>Assumptions!$B$14,"Review capacity","Within guide"))))
A13: =IF(NOT(ISNUMBER($B$2)),"",IF(ROW()-4>DAY(DATE(YEAR($B$2),MONTH($B$2)+1,0)),"",DATE(YEAR($B$2),MONTH($B$2),ROW()-4))) | B13: =IF($A13="","",TEXT($A13,"ddd")) | C13: =IF(OR($A13="",C$4=""),"",IF(COUNTIFS('Demand Log'!$B$5:$B$124,$A13,'Demand Log'!$C$5:$C$124,C$4)=0,"",SUMIFS('Demand Log'!$H$5:$H$124,'Demand Log'!$B$5:$B$124,$A13,'Demand Log'!$C$5:$C$124,C$4))) | D13: =IF(OR($A13="",D$4=""),"",IF(COUNTIFS('Demand Log'!$B$5:$B$124,$A13,'Demand Log'!$C$5:$C$124,D$4)=0,"",SUMIFS('Demand Log'!$H$5:$H$124,'Demand Log'!$B$5:$B$124,$A13,'Demand Log'!$C$5:$C$124,D$4))) | E13: =IF(OR($A13="",E$4=""),"",IF(COUNTIFS('Demand Log'!$B$5:$B$124,$A13,'Demand Log'!$C$5:$C$124,E$4)=0,"",SUMIFS('Demand Log'!$H$5:$H$124,'Demand Log'!$B$5:$B$124,$A13,'Demand Log'!$C$5:$C$124,E$4))) | F13: =IF(OR($A13="",F$4=""),"",IF(COUNTIFS('Demand Log'!$B$5:$B$124,$A13,'Demand Log'!$C$5:$C$124,F$4)=0,"",SUMIFS('Demand Log'!$H$5:$H$124,'Demand Log'!$B$5:$B$124,$A13,'Demand Log'!$C$5:$C$124,F$4))) | G13: =IF(OR($A13="",G$4=""),"",IF(COUNTIFS('Demand Log'!$B$5:$B$124,$A13,'Demand Log'!$C$5:$C$124,G$4)=0,"",SUMIFS('Demand Log'!$H$5:$H$124,'Demand Log'!$B$5:$B$124,$A13,'Demand Log'!$C$5:$C$124,G$4))) | H13: =IF($A13="","",IF(COUNTIFS('Demand Log'!$B$5:$B$124,$A13,'Demand Log'!$C$5:$C$124,"<>")=0,"",SUM($C13:$G13))) | I13: =IF($H13="","",SUMIFS('Demand Log'!$G$5:$G$124,'Demand Log'!$B$5:$B$124,$A13)) | J13: =IF(OR(NOT(ISNUMBER($H13)),NOT(ISNUMBER($I13)),$I13=0),"",IFERROR($H13/$I13,"")) | K13: =IF($H13="","",IF(OR($I13="",$I13=0),"Review staffing",IF(NOT(ISNUMBER(Assumptions!$B$14)),"Check threshold",IF($J13>Assumptions!$B$14,"Review capacity","Within guide"))))
A14: =IF(NOT(ISNUMBER($B$2)),"",IF(ROW()-4>DAY(DATE(YEAR($B$2),MONTH($B$2)+1,0)),"",DATE(YEAR($B$2),MONTH($B$2),ROW()-4))) | B14: =IF($A14="","",TEXT($A14,"ddd")) | C14: =IF(OR($A14="",C$4=""),"",IF(COUNTIFS('Demand Log'!$B$5:$B$124,$A14,'Demand Log'!$C$5:$C$124,C$4)=0,"",SUMIFS('Demand Log'!$H$5:$H$124,'Demand Log'!$B$5:$B$124,$A14,'Demand Log'!$C$5:$C$124,C$4))) | D14: =IF(OR($A14="",D$4=""),"",IF(COUNTIFS('Demand Log'!$B$5:$B$124,$A14,'Demand Log'!$C$5:$C$124,D$4)=0,"",SUMIFS('Demand Log'!$H$5:$H$124,'Demand Log'!$B$5:$B$124,$A14,'Demand Log'!$C$5:$C$124,D$4))) | E14: =IF(OR($A14="",E$4=""),"",IF(COUNTIFS('Demand Log'!$B$5:$B$124,$A14,'Demand Log'!$C$5:$C$124,E$4)=0,"",SUMIFS('Demand Log'!$H$5:$H$124,'Demand Log'!$B$5:$B$124,$A14,'Demand Log'!$C$5:$C$124,E$4))) | F14: =IF(OR($A14="",F$4=""),"",IF(COUNTIFS('Demand Log'!$B$5:$B$124,$A14,'Demand Log'!$C$5:$C$124,F$4)=0,"",SUMIFS('Demand Log'!$H$5:$H$124,'Demand Log'!$B$5:$B$124,$A14,'Demand Log'!$C$5:$C$124,F$4))) | G14: =IF(OR($A14="",G$4=""),"",IF(COUNTIFS('Demand Log'!$B$5:$B$124,$A14,'Demand Log'!$C$5:$C$124,G$4)=0,"",SUMIFS('Demand Log'!$H$5:$H$124,'Demand Log'!$B$5:$B$124,$A14,'Demand Log'!$C$5:$C$124,G$4))) | H14: =IF($A14="","",IF(COUNTIFS('Demand Log'!$B$5:$B$124,$A14,'Demand Log'!$C$5:$C$124,"<>")=0,"",SUM($C14:$G14))) | I14: =IF($H14="","",SUMIFS('Demand Log'!$G$5:$G$124,'Demand Log'!$B$5:$B$124,$A14)) | J14: =IF(OR(NOT(ISNUMBER($H14)),NOT(ISNUMBER($I14)),$I14=0),"",IFERROR($H14/$I14,"")) | K14: =IF($H14="","",IF(OR($I14="",$I14=0),"Review staffing",IF(NOT(ISNUMBER(Assumptions!$B$14)),"Check threshold",IF($J14>Assumptions!$B$14,"Review capacity","Within guide"))))
A15: =IF(NOT(ISNUMBER($B$2)),"",IF(ROW()-4>DAY(DATE(YEAR($B$2),MONTH($B$2)+1,0)),"",DATE(YEAR($B$2),MONTH($B$2),ROW()-4))) | B15: =IF($A15="","",TEXT($A15,"ddd")) | C15: =IF(OR($A15="",C$4=""),"",IF(COUNTIFS('Demand Log'!$B$5:$B$124,$A15,'Demand Log'!$C$5:$C$124,C$4)=0,"",SUMIFS('Demand Log'!$H$5:$H$124,'Demand Log'!$B$5:$B$124,$A15,'Demand Log'!$C$5:$C$124,C$4))) | D15: =IF(OR($A15="",D$4=""),"",IF(COUNTIFS('Demand Log'!$B$5:$B$124,$A15,'Demand Log'!$C$5:$C$124,D$4)=0,"",SUMIFS('Demand Log'!$H$5:$H$124,'Demand Log'!$B$5:$B$124,$A15,'Demand Log'!$C$5:$C$124,D$4))) | E15: =IF(OR($A15="",E$4=""),"",IF(COUNTIFS('Demand Log'!$B$5:$B$124,$A15,'Demand Log'!$C$5:$C$124,E$4)=0,"",SUMIFS('Demand Log'!$H$5:$H$124,'Demand Log'!$B$5:$B$124,$A15,'Demand Log'!$C$5:$C$124,E$4))) | F15: =IF(OR($A15="",F$4=""),"",IF(COUNTIFS('Demand Log'!$B$5:$B$124,$A15,'Demand Log'!$C$5:$C$124,F$4)=0,"",SUMIFS('Demand Log'!$H$5:$H$124,'Demand Log'!$B$5:$B$124,$A15,'Demand Log'!$C$5:$C$124,F$4))) | G15: =IF(OR($A15="",G$4=""),"",IF(COUNTIFS('Demand Log'!$B$5:$B$124,$A15,'Demand Log'!$C$5:$C$124,G$4)=0,"",SUMIFS('Demand Log'!$H$5:$H$124,'Demand Log'!$B$5:$B$124,$A15,'Demand Log'!$C$5:$C$124,G$4))) | H15: =IF($A15="","",IF(COUNTIFS('Demand Log'!$B$5:$B$124,$A15,'Demand Log'!$C$5:$C$124,"<>")=0,"",SUM($C15:$G15))) | I15: =IF($H15="","",SUMIFS('Demand Log'!$G$5:$G$124,'Demand Log'!$B$5:$B$124,$A15)) | J15: =IF(OR(NOT(ISNUMBER($H15)),NOT(ISNUMBER($I15)),$I15=0),"",IFERROR($H15/$I15,"")) | K15: =IF($H15="","",IF(OR($I15="",$I15=0),"Review staffing",IF(NOT(ISNUMBER(Assumptions!$B$14)),"Check threshold",IF($J15>Assumptions!$B$14,"Review capacity","Within guide"))))
A16: =IF(NOT(ISNUMBER($B$2)),"",IF(ROW()-4>DAY(DATE(YEAR($B$2),MONTH($B$2)+1,0)),"",DATE(YEAR($B$2),MONTH($B$2),ROW()-4))) | B16: =IF($A16="","",TEXT($A16,"ddd")) | C16: =IF(OR($A16="",C$4=""),"",IF(COUNTIFS('Demand Log'!$B$5:$B$124,$A16,'Demand Log'!$C$5:$C$124,C$4)=0,"",SUMIFS('Demand Log'!$H$5:$H$124,'Demand Log'!$B$5:$B$124,$A16,'Demand Log'!$C$5:$C$124,C$4))) | D16: =IF(OR($A16="",D$4=""),"",IF(COUNTIFS('Demand Log'!$B$5:$B$124,$A16,'Demand Log'!$C$5:$C$124,D$4)=0,"",SUMIFS('Demand Log'!$H$5:$H$124,'Demand Log'!$B$5:$B$124,$A16,'Demand Log'!$C$5:$C$124,D$4))) | E16: =IF(OR($A16="",E$4=""),"",IF(COUNTIFS('Demand Log'!$B$5:$B$124,$A16,'Demand Log'!$C$5:$C$124,E$4)=0,"",SUMIFS('Demand Log'!$H$5:$H$124,'Demand Log'!$B$5:$B$124,$A16,'Demand Log'!$C$5:$C$124,E$4))) | F16: =IF(OR($A16="",F$4=""),"",IF(COUNTIFS('Demand Log'!$B$5:$B$124,$A16,'Demand Log'!$C$5:$C$124,F$4)=0,"",SUMIFS('Demand Log'!$H$5:$H$124,'Demand Log'!$B$5:$B$124,$A16,'Demand Log'!$C$5:$C$124,F$4))) | G16: =IF(OR($A16="",G$4=""),"",IF(COUNTIFS('Demand Log'!$B$5:$B$124,$A16,'Demand Log'!$C$5:$C$124,G$4)=0,"",SUMIFS('Demand Log'!$H$5:$H$124,'Demand Log'!$B$5:$B$124,$A16,'Demand Log'!$C$5:$C$124,G$4))) | H16: =IF($A16="","",IF(COUNTIFS('Demand Log'!$B$5:$B$124,$A16,'Demand Log'!$C$5:$C$124,"<>")=0,"",SUM($C16:$G16))) | I16: =IF($H16="","",SUMIFS('Demand Log'!$G$5:$G$124,'Demand Log'!$B$5:$B$124,$A16)) | J16: =IF(OR(NOT(ISNUMBER($H16)),NOT(ISNUMBER($I16)),$I16=0),"",IFERROR($H16/$I16,"")) | K16: =IF($H16="","",IF(OR($I16="",$I16=0),"Review staffing",IF(NOT(ISNUMBER(Assumptions!$B$14)),"Check threshold",IF($J16>Assumptions!$B$14,"Review capacity","Within guide"))))
... A35: =IF(NOT(ISNUMBER($B$2)),"",IF(ROW()-4>DAY(DATE(YEAR($B$2),MONTH($B$2)+1,0)),"",DATE(YEAR($B$2),MONTH($B$2),ROW()-4))) | B35: =IF($A35="","",TEXT($A35,"ddd")) | C35: =IF(OR($A35="",C$4=""),"",IF(COUNTIFS('Demand Log'!$B$5:$B$124,$A35,'Demand Log'!$C$5:$C$124,C$4)=0,"",SUMIFS('Demand Log'!$H$5:$H$124,'Demand Log'!$B$5:$B$124,$A35,'Demand Log'!$C$5:$C$124,C$4))) | D35: =IF(OR($A35="",D$4=""),"",IF(COUNTIFS('Demand Log'!$B$5:$B$124,$A35,'Demand Log'!$C$5:$C$124,D$4)=0,"",SUMIFS('Demand Log'!$H$5:$H$124,'Demand Log'!$B$5:$B$124,$A35,'Demand Log'!$C$5:$C$124,D$4))) | E35: =IF(OR($A35="",E$4=""),"",IF(COUNTIFS('Demand Log'!$B$5:$B$124,$A35,'Demand Log'!$C$5:$C$124,E$4)=0,"",SUMIFS('Demand Log'!$H$5:$H$124,'Demand Log'!$B$5:$B$124,$A35,'Demand Log'!$C$5:$C$124,E$4))) | F35: =IF(OR($A35="",F$4=""),"",IF(COUNTIFS('Demand Log'!$B$5:$B$124,$A35,'Demand Log'!$C$5:$C$124,F$4)=0,"",SUMIFS('Demand Log'!$H$5:$H$124,'Demand Log'!$B$5:$B$124,$A35,'Demand Log'!$C$5:$C$124,F$4))) | G35: =IF(OR($A35="",G$4=""),"",IF(COUNTIFS('Demand Log'!$B$5:$B$124,$A35,'Demand Log'!$C$5:$C$124,G$4)=0,"",SUMIFS('Demand Log'!$H$5:$H$124,'Demand Log'!$B$5:$B$124,$A35,'Demand Log'!$C$5:$C$124,G$4))) | H35: =IF($A35="","",IF(COUNTIFS('Demand Log'!$B$5:$B$124,$A35,'Demand Log'!$C$5:$C$124,"<>")=0,"",SUM($C35:$G35))) | I35: =IF($H35="","",SUMIFS('Demand Log'!$G$5:$G$124,'Demand Log'!$B$5:$B$124,$A35)) | J35: =IF(OR(NOT(ISNUMBER($H35)),NOT(ISNUMBER($I35)),$I35=0),"",IFERROR($H35/$I35,"")) | K35: =IF($H35="","",IF(OR($I35="",$I35=0),"Review staffing",IF(NOT(ISNUMBER(Assumptions!$B$14)),"Check threshold",IF($J35>Assumptions!$B$14,"Review capacity","Within guide"))))

Sheet Demand Log
A1: Demand Log
A2: Enter one row per service and date. Yellow cells are editable; all sample entries are fictional.
A3: Planning alerts request a human check and do not represent automated staffing decisions.
A4: Record ID | B4: Service Date | C4: Service | D4: Booking Count | E4: Staff Scheduled | F4: Capacity per Staff | G4: Planned Capacity | H4: Counted Demand | I4: Utilization | J4: Staffing Check | K4: Lead Assignment | L4: Status | M4: Notes
A5: DEM-F001 | B5: 46180 | C5: Dog Grooming | D5: 8 | E5: 2 | F5: =IF($C5="","",IFERROR(IF(ISNUMBER(VLOOKUP($C5,Assumptions!$A$5:$B$9,2,FALSE)),VLOOKUP($C5,Assumptions!$A$5:$B$9,2,FALSE),""),"")) | G5: =IF(OR($E5="",$F5="",NOT(ISNUMBER($E5)),NOT(ISNUMBER($F5))),"",$E5*$F5) | H5: =IF(OR($D5="",$L5="",NOT(ISNUMBER($D5))),"",IFERROR(IF(ISNUMBER(VLOOKUP($L5,Assumptions!$D$5:$E$8,2,FALSE)),$D5*VLOOKUP($L5,Assumptions!$D$5:$E$8,2,FALSE),""),"")) | I5: =IF(OR($H5="",$G5="",NOT(ISNUMBER($H5)),NOT(ISNUMBER($G5)),$G5=0),"",IFERROR($H5/$G5,"")) | J5: =IF($H5="","",IF(OR($E5="",$G5="",$G5=0),"Review staffing",IF(NOT(ISNUMBER(Assumptions!$B$14)),"Check threshold",IF($I5>Assumptions!$B$14,"Review capacity","Within guide")))) | K5: Fictional Cedar Crew | L5: Completed | M5: Routine early-summer demand. | O5: =IF(Assumptions!$A$5="","",Assumptions!$A$5) | P5: =IF(Assumptions!$D$5="","",Assumptions!$D$5)
A6: DEM-F002 | B6: 46188 | C6: Dog Daycare | D6: 20 | E6: 3 | F6: =IF($C6="","",IFERROR(IF(ISNUMBER(VLOOKUP($C6,Assumptions!$A$5:$B$9,2,FALSE)),VLOOKUP($C6,Assumptions!$A$5:$B$9,2,FALSE),""),"")) | G6: =IF(OR($E6="",$F6="",NOT(ISNUMBER($E6)),NOT(ISNUMBER($F6))),"",$E6*$F6) | H6: =IF(OR($D6="",$L6="",NOT(ISNUMBER($D6))),"",IFERROR(IF(ISNUMBER(VLOOKUP($L6,Assumptions!$D$5:$E$8,2,FALSE)),$D6*VLOOKUP($L6,Assumptions!$D$5:$E$8,2,FALSE),""),"")) | I6: =IF(OR($H6="",$G6="",NOT(ISNUMBER($H6)),NOT(ISNUMBER($G6)),$G6=0),"",IFERROR($H6/$G6,"")) | J6: =IF($H6="","",IF(OR($E6="",$G6="",$G6=0),"Review staffing",IF(NOT(ISNUMBER(Assumptions!$B$14)),"Check threshold",IF($I6>Assumptions!$B$14,"Review capacity","Within guide")))) | K6: Fictional Maple Crew | L6: Completed | M6: Regular weekday attendance. | O6: =IF(Assumptions!$A$6="","",Assumptions!$A$6) | P6: =IF(Assumptions!$D$6="","",Assumptions!$D$6)
A7: DEM-F003 | B7: 46202 | C7: Overnight Boarding | D7: 18 | E7: 2 | F7: =IF($C7="","",IFERROR(IF(ISNUMBER(VLOOKUP($C7,Assumptions!$A$5:$B$9,2,FALSE)),VLOOKUP($C7,Assumptions!$A$5:$B$9,2,FALSE),""),"")) | G7: =IF(OR($E7="",$F7="",NOT(ISNUMBER($E7)),NOT(ISNUMBER($F7))),"",$E7*$F7) | H7: =IF(OR($D7="",$L7="",NOT(ISNUMBER($D7))),"",IFERROR(IF(ISNUMBER(VLOOKUP($L7,Assumptions!$D$5:$E$8,2,FALSE)),$D7*VLOOKUP($L7,Assumptions!$D$5:$E$8,2,FALSE),""),"")) | I7: =IF(OR($H7="",$G7="",NOT(ISNUMBER($H7)),NOT(ISNUMBER($G7)),$G7=0),"",IFERROR($H7/$G7,"")) | J7: =IF($H7="","",IF(OR($E7="",$G7="",$G7=0),"Review staffing",IF(NOT(ISNUMBER(Assumptions!$B$14)),"Check threshold",IF($I7>Assumptions!$B$14,"Review capacity","Within guide")))) | K7: Fictional Harbor Crew | L7: Completed | M7: Demand increased before a holiday week. | O7: =IF(Assumptions!$A$7="","",Assumptions!$A$7) | P7: =IF(Assumptions!$D$7="","",Assumptions!$D$7)
A8: DEM-F004 | B8: 46206 | C8: Dog Daycare | D8: 27 | E8: 3 | F8: =IF($C8="","",IFERROR(IF(ISNUMBER(VLOOKUP($C8,Assumptions!$A$5:$B$9,2,FALSE)),VLOOKUP($C8,Assumptions!$A$5:$B$9,2,FALSE),""),"")) | G8: =IF(OR($E8="",$F8="",NOT(ISNUMBER($E8)),NOT(ISNUMBER($F8))),"",$E8*$F8) | H8: =IF(OR($D8="",$L8="",NOT(ISNUMBER($D8))),"",IFERROR(IF(ISNUMBER(VLOOKUP($L8,Assumptions!$D$5:$E$8,2,FALSE)),$D8*VLOOKUP($L8,Assumptions!$D$5:$E$8,2,FALSE),""),"")) | I8: =IF(OR($H8="",$G8="",NOT(ISNUMBER($H8)),NOT(ISNUMBER($G8)),$G8=0),"",IFERROR($H8/$G8,"")) | J8: =IF($H8="","",IF(OR($E8="",$G8="",$G8=0),"Review staffing",IF(NOT(ISNUMBER(Assumptions!$B$14)),"Check threshold",IF($I8>Assumptions!$B$14,"Review capacity","Within guide")))) | K8: Fictional Maple Crew | L8: Completed | M8: Holiday-week demand requires review. | O8: =IF(Assumptions!$A$8="","",Assumptions!$A$8) | P8: =IF(Assumptions!$D$8="","",Assumptions!$D$8)
A9: DEM-F005 | B9: 46207 | C9: Overnight Boarding | D9: 23 | E9: 2 | F9: =IF($C9="","",IFERROR(IF(ISNUMBER(VLOOKUP($C9,Assumptions!$A$5:$B$9,2,FALSE)),VLOOKUP($C9,Assumptions!$A$5:$B$9,2,FALSE),""),"")) | G9: =IF(OR($E9="",$F9="",NOT(ISNUMBER($E9)),NOT(ISNUMBER($F9))),"",$E9*$F9) | H9: =IF(OR($D9="",$L9="",NOT(ISNUMBER($D9))),"",IFERROR(IF(ISNUMBER(VLOOKUP($L9,Assumptions!$D$5:$E$8,2,FALSE)),$D9*VLOOKUP($L9,Assumptions!$D$5:$E$8,2,FALSE),""),"")) | I9: =IF(OR($H9="",$G9="",NOT(ISNUMBER($H9)),NOT(ISNUMBER($G9)),$G9=0),"",IFERROR($H9/$G9,"")) | J9: =IF($H9="","",IF(OR($E9="",$G9="",$G9=0),"Review staffing",IF(NOT(ISNUMBER(Assumptions!$B$14)),"Check threshold",IF($I9>Assumptions!$B$14,"Review capacity","Within guide")))) | K9: Fictional Harbor Crew | L9: Completed | M9: Holiday demand exceeded the planning guide. | O9: =IF(Assumptions!$A$9="","",Assumptions!$A$9)
A10: DEM-F006 | B10: 46221 | C10: Dog Walking | D10: 13 | E10: 2 | F10: =IF($C10="","",IFERROR(IF(ISNUMBER(VLOOKUP($C10,Assumptions!$A$5:$B$9,2,FALSE)),VLOOKUP($C10,Assumptions!$A$5:$B$9,2,FALSE),""),"")) | G10: =IF(OR($E10="",$F10="",NOT(ISNUMBER($E10)),NOT(ISNUMBER($F10))),"",$E10*$F10) | H10: =IF(OR($D10="",$L10="",NOT(ISNUMBER($D10))),"",IFERROR(IF(ISNUMBER(VLOOKUP($L10,Assumptions!$D$5:$E$8,2,FALSE)),$D10*VLOOKUP($L10,Assumptions!$D$5:$E$8,2,FALSE),""),"")) | I10: =IF(OR($H10="",$G10="",NOT(ISNUMBER($H10)),NOT(ISNUMBER($G10)),$G10=0),"",IFERROR($H10/$G10,"")) | J10: =IF($H10="","",IF(OR($E10="",$G10="",$G10=0),"Review staffing",IF(NOT(ISNUMBER(Assumptions!$B$14)),"Check threshold",IF($I10>Assumptions!$B$14,"Review capacity","Within guide")))) | K10: Fictional Cedar Crew | L10: Completed | M10: Weekend route demand was elevated.
A11: DEM-F007 | B11: 46236 | C11: Pet Sitting | D11: 7 | E11: 2 | F11: =IF($C11="","",IFERROR(IF(ISNUMBER(VLOOKUP($C11,Assumptions!$A$5:$B$9,2,FALSE)),VLOOKUP($C11,Assumptions!$A$5:$B$9,2,FALSE),""),"")) | G11: =IF(OR($E11="",$F11="",NOT(ISNUMBER($E11)),NOT(ISNUMBER($F11))),"",$E11*$F11) | H11: =IF(OR($D11="",$L11="",NOT(ISNUMBER($D11))),"",IFERROR(IF(ISNUMBER(VLOOKUP($L11,Assumptions!$D$5:$E$8,2,FALSE)),$D11*VLOOKUP($L11,Assumptions!$D$5:$E$8,2,FALSE),""),"")) | I11: =IF(OR($H11="",$G11="",NOT(ISNUMBER($H11)),NOT(ISNUMBER($G11)),$G11=0),"",IFERROR($H11/$G11,"")) | J11: =IF($H11="","",IF(OR($E11="",$G11="",$G11=0),"Review staffing",IF(NOT(ISNUMBER(Assumptions!$B$14)),"Check threshold",IF($I11>Assumptions!$B$14,"Review capacity","Within guide")))) | K11: Fictional Birch Crew | L11: Completed | M11: Entered as a completed daily service count.
A12: DEM-F008 | B12: 46249 | C12: Dog Grooming | D12: 11 | E12: 2 | F12: =IF($C12="","",IFERROR(IF(ISNUMBER(VLOOKUP($C12,Assumptions!$A$5:$B$9,2,FALSE)),VLOOKUP($C12,Assumptions!$A$5:$B$9,2,FALSE),""),"")) | G12: =IF(OR($E12="",$F12="",NOT(ISNUMBER($E12)),NOT(ISNUMBER($F12))),"",$E12*$F12) | H12: =IF(OR($D12="",$L12="",NOT(ISNUMBER($D12))),"",IFERROR(IF(ISNUMBER(VLOOKUP($L12,Assumptions!$D$5:$E$8,2,FALSE)),$D12*VLOOKUP($L12,Assumptions!$D$5:$E$8,2,FALSE),""),"")) | I12: =IF(OR($H12="",$G12="",NOT(ISNUMBER($H12)),NOT(ISNUMBER($G12)),$G12=0),"",IFERROR($H12/$G12,"")) | J12: =IF($H12="","",IF(OR($E12="",$G12="",$G12=0),"Review staffing",IF(NOT(ISNUMBER(Assumptions!$B$14)),"Check threshold",IF($I12>Assumptions!$B$14,"Review capacity","Within guide")))) | K12: Fictional Cedar Crew | L12: Completed | M12: Back-to-school period demand requires review. | O12: =IF(Assumptions!$B$12="","",Assumptions!$B$12)
A13: DEM-F009 | B13: 46263 | C13: Dog Daycare | D13: 6 | E13: 2 | F13: =IF($C13="","",IFERROR(IF(ISNUMBER(VLOOKUP($C13,Assumptions!$A$5:$B$9,2,FALSE)),VLOOKUP($C13,Assumptions!$A$5:$B$9,2,FALSE),""),"")) | G13: =IF(OR($E13="",$F13="",NOT(ISNUMBER($E13)),NOT(ISNUMBER($F13))),"",$E13*$F13) | H13: =IF(OR($D13="",$L13="",NOT(ISNUMBER($D13))),"",IFERROR(IF(ISNUMBER(VLOOKUP($L13,Assumptions!$D$5:$E$8,2,FALSE)),$D13*VLOOKUP($L13,Assumptions!$D$5:$E$8,2,FALSE),""),"")) | I13: =IF(OR($H13="",$G13="",NOT(ISNUMBER($H13)),NOT(ISNUMBER($G13)),$G13=0),"",IFERROR($H13/$G13,"")) | J13: =IF($H13="","",IF(OR($E13="",$G13="",$G13=0),"Review staffing",IF(NOT(ISNUMBER(Assumptions!$B$14)),"Check threshold",IF($I13>Assumptions!$B$14,"Review capacity","Within guide")))) | K13: Fictional Maple Crew | L13: Canceled | M13: Canceled demand is excluded by the status factor. | O13: =IF(Assumptions!$B$13="","",Assumptions!$B$13)
A14: DEM-F010 | B14: 46265 | C14: Overnight Boarding | D14: 20 | E14: 0 | F14: =IF($C14="","",IFERROR(IF(ISNUMBER(VLOOKUP($C14,Assumptions!$A$5:$B$9,2,FALSE)),VLOOKUP($C14,Assumptions!$A$5:$B$9,2,FALSE),""),"")) | G14: =IF(OR($E14="",$F14="",NOT(ISNUMBER($E14)),NOT(ISNUMBER($F14))),"",$E14*$F14) | H14: =IF(OR($D14="",$L14="",NOT(ISNUMBER($D14))),"",IFERROR(IF(ISNUMBER(VLOOKUP($L14,Assumptions!$D$5:$E$8,2,FALSE)),$D14*VLOOKUP($L14,Assumptions!$D$5:$E$8,2,FALSE),""),"")) | I14: =IF(OR($H14="",$G14="",NOT(ISNUMBER($H14)),NOT(ISNUMBER($G14)),$G14=0),"",IFERROR($H14/$G14,"")) | J14: =IF($H14="","",IF(OR($E14="",$G14="",$G14=0),"Review staffing",IF(NOT(ISNUMBER(Assumptions!$B$14)),"Check threshold",IF($I14>Assumptions!$B$14,"Review capacity","Within guide")))) | K14: Unassigned | L14: Confirmed | M14: Zero scheduled staff is a boundary-value staffing check. | O14: =IF(Assumptions!$B$14="","",Assumptions!$B$14)
F15: =IF($C15="","",IFERROR(IF(ISNUMBER(VLOOKUP($C15,Assumptions!$A$5:$B$9,2,FALSE)),VLOOKUP($C15,Assumptions!$A$5:$B$9,2,FALSE),""),"")) | G15: =IF(OR($E15="",$F15="",NOT(ISNUMBER($E15)),NOT(ISNUMBER($F15))),"",$E15*$F15) | H15: =IF(OR($D15="",$L15="",NOT(ISNUMBER($D15))),"",IFERROR(IF(ISNUMBER(VLOOKUP($L15,Assumptions!$D$5:$E$8,2,FALSE)),$D15*VLOOKUP($L15,Assumptions!$D$5:$E$8,2,FALSE),""),"")) | I15: =IF(OR($H15="",$G15="",NOT(ISNUMBER($H15)),NOT(ISNUMBER($G15)),$G15=0),"",IFERROR($H15/$G15,"")) | J15: =IF($H15="","",IF(OR($E15="",$G15="",$G15=0),"Review staffing",IF(NOT(ISNUMBER(Assumptions!$B$14)),"Check threshold",IF($I15>Assumptions!$B$14,"Review capacity","Within guide"))))
F16: =IF($C16="","",IFERROR(IF(ISNUMBER(VLOOKUP($C16,Assumptions!$A$5:$B$9,2,FALSE)),VLOOKUP($C16,Assumptions!$A$5:$B$9,2,FALSE),""),"")) | G16: =IF(OR($E16="",$F16="",NOT(ISNUMBER($E16)),NOT(ISNUMBER($F16))),"",$E16*$F16) | H16: =IF(OR($D16="",$L16="",NOT(ISNUMBER($D16))),"",IFERROR(IF(ISNUMBER(VLOOKUP($L16,Assumptions!$D$5:$E$8,2,FALSE)),$D16*VLOOKUP($L16,Assumptions!$D$5:$E$8,2,FALSE),""),"")) | I16: =IF(OR($H16="",$G16="",NOT(ISNUMBER($H16)),NOT(ISNUMBER($G16)),$G16=0),"",IFERROR($H16/$G16,"")) | J16: =IF($H16="","",IF(OR($E16="",$G16="",$G16=0),"Review staffing",IF(NOT(ISNUMBER(Assumptions!$B$14)),"Check threshold",IF($I16>Assumptions!$B$14,"Review capacity","Within guide"))))
F17: =IF($C17="","",IFERROR(IF(ISNUMBER(VLOOKUP($C17,Assumptions!$A$5:$B$9,2,FALSE)),VLOOKUP($C17,Assumptions!$A$5:$B$9,2,FALSE),""),"")) | G17: =IF(OR($E17="",$F17="",NOT(ISNUMBER($E17)),NOT(ISNUMBER($F17))),"",$E17*$F17) | H17: =IF(OR($D17="",$L17="",NOT(ISNUMBER($D17))),"",IFERROR(IF(ISNUMBER(VLOOKUP($L17,Assumptions!$D$5:$E$8,2,FALSE)),$D17*VLOOKUP($L17,Assumptions!$D$5:$E$8,2,FALSE),""),"")) | I17: =IF(OR($H17="",$G17="",NOT(ISNUMBER($H17)),NOT(ISNUMBER($G17)),$G17=0),"",IFERROR($H17/$G17,"")) | J17: =IF($H17="","",IF(OR($E17="",$G17="",$G17=0),"Review staffing",IF(NOT(ISNUMBER(Assumptions!$B$14)),"Check threshold",IF($I17>Assumptions!$B$14,"Review capacity","Within guide"))))
F18: =IF($C18="","",IFERROR(IF(ISNUMBER(VLOOKUP($C18,Assumptions!$A$5:$B$9,2,FALSE)),VLOOKUP($C18,Assumptions!$A$5:$B$9,2,FALSE),""),"")) | G18: =IF(OR($E18="",$F18="",NOT(ISNUMBER($E18)),NOT(ISNUMBER($F18))),"",$E18*$F18) | H18: =IF(OR($D18="",$L18="",NOT(ISNUMBER($D18))),"",IFERROR(IF(ISNUMBER(VLOOKUP($L18,Assumptions!$D$5:$E$8,2,FALSE)),$D18*VLOOKUP($L18,Assumptions!$D$5:$E$8,2,FALSE),""),"")) | I18: =IF(OR($H18="",$G18="",NOT(ISNUMBER($H18)),NOT(ISNUMBER($G18)),$G18=0),"",IFERROR($H18/$G18,"")) | J18: =IF($H18="","",IF(OR($E18="",$G18="",$G18=0),"Review staffing",IF(NOT(ISNUMBER(Assumptions!$B$14)),"Check threshold",IF($I18>Assumptions!$B$14,"Review capacity","Within guide")))) | O18: =IF(Assumptions!$B$18="","",Assumptions!$B$18)
F19: =IF($C19="","",IFERROR(IF(ISNUMBER(VLOOKUP($C19,Assumptions!$A$5:$B$9,2,FALSE)),VLOOKUP($C19,Assumptions!$A$5:$B$9,2,FALSE),""),"")) | G19: =IF(OR($E19="",$F19="",NOT(ISNUMBER($E19)),NOT(ISNUMBER($F19))),"",$E19*$F19) | H19: =IF(OR($D19="",$L19="",NOT(ISNUMBER($D19))),"",IFERROR(IF(ISNUMBER(VLOOKUP($L19,Assumptions!$D$5:$E$8,2,FALSE)),$D19*VLOOKUP($L19,Assumptions!$D$5:$E$8,2,FALSE),""),"")) | I19: =IF(OR($H19="",$G19="",NOT(ISNUMBER($H19)),NOT(ISNUMBER($G19)),$G19=0),"",IFERROR($H19/$G19,"")) | J19: =IF($H19="","",IF(OR($E19="",$G19="",$G19=0),"Review staffing",IF(NOT(ISNUMBER(Assumptions!$B$14)),"Check threshold",IF($I19>Assumptions!$B$14,"Review capacity","Within guide")))) | O19: =IF(Assumptions!$B$19="","",Assumptions!$B$19)
F20: =IF($C20="","",IFERROR(IF(ISNUMBER(VLOOKUP($C20,Assumptions!$A$5:$B$9,2,FALSE)),VLOOKUP($C20,Assumptions!$A$5:$B$9,2,FALSE),""),"")) | G20: =IF(OR($E20="",$F20="",NOT(ISNUMBER($E20)),NOT(ISNUMBER($F20))),"",$E20*$F20) | H20: =IF(OR($D20="",$L20="",NOT(ISNUMBER($D20))),"",IFERROR(IF(ISNUMBER(VLOOKUP($L20,Assumptions!$D$5:$E$8,2,FALSE)),$D20*VLOOKUP($L20,Assumptions!$D$5:$E$8,2,FALSE),""),"")) | I20: =IF(OR($H20="",$G20="",NOT(ISNUMBER($H20)),NOT(ISNUMBER($G20)),$G20=0),"",IFERROR($H20/$G20,"")) | J20: =IF($H20="","",IF(OR($E20="",$G20="",$G20=0),"Review staffing",IF(NOT(ISNUMBER(Assumptions!$B$14)),"Check threshold",IF($I20>Assumptions!$B$14,"Review capacity","Within guide"))))
F21: =IF($C21="","",IFERROR(IF(ISNUMBER(VLOOKUP($C21,Assumptions!$A$5:$B$9,2,FALSE)),VLOOKUP($C21,Assumptions!$A$5:$B$9,2,FALSE),""),"")) | G21: =IF(OR($E21="",$F21="",NOT(ISNUMBER($E21)),NOT(ISNUMBER($F21))),"",$E21*$F21) | H21: =IF(OR($D21="",$L21="",NOT(ISNUMBER($D21))),"",IFERROR(IF(ISNUMBER(VLOOKUP($L21,Assumptions!$D$5:$E$8,2,FALSE)),$D21*VLOOKUP($L21,Assumptions!$D$5:$E$8,2,FALSE),""),"")) | I21: =IF(OR($H21="",$G21="",NOT(ISNUMBER($H21)),NOT(ISNUMBER($G21)),$G21=0),"",IFERROR($H21/$G21,"")) | J21: =IF($H21="","",IF(OR($E21="",$G21="",$G21=0),"Review staffing",IF(NOT(ISNUMBER(Assumptions!$B$14)),"Check threshold",IF($I21>Assumptions!$B$14,"Review capacity","Within guide"))))
F22: =IF($C22="","",IFERROR(IF(ISNUMBER(VLOOKUP($C22,Assumptions!$A$5:$B$9,2,FALSE)),VLOOKUP($C22,Assumptions!$A$5:$B$9,2,FALSE),""),"")) | G22: =IF(OR($E22="",$F22="",NOT(ISNUMBER($E22)),NOT(ISNUMBER($F22))),"",$E22*$F22) | H22: =IF(OR($D22="",$L22="",NOT(ISNUMBER($D22))),"",IFERROR(IF(ISNUMBER(VLOOKUP($L22,Assumptions!$D$5:$E$8,2,FALSE)),$D22*VLOOKUP($L22,Assumptions!$D$5:$E$8,2,FALSE),""),"")) | I22: =IF(OR($H22="",$G22="",NOT(ISNUMBER($H22)),NOT(ISNUMBER($G22)),$G22=0),"",IFERROR($H22/$G22,"")) | J22: =IF($H22="","",IF(OR($E22="",$G22="",$G22=0),"Review staffing",IF(NOT(ISNUMBER(Assumptions!$B$14)),"Check threshold",IF($I22>Assumptions!$B$14,"Review capacity","Within guide"))))
F23: =IF($C23="","",IFERROR(IF(ISNUMBER(VLOOKUP($C23,Assumptions!$A$5:$B$9,2,FALSE)),VLOOKUP($C23,Assumptions!$A$5:$B$9,2,FALSE),""),"")) | G23: =IF(OR($E23="",$F23="",NOT(ISNUMBER($E23)),NOT(ISNUMBER($F23))),"",$E23*$F23) | H23: =IF(OR($D23="",$L23="",NOT(ISNUMBER($D23))),"",IFERROR(IF(ISNUMBER(VLOOKUP($L23,Assumptions!$D$5:$E$8,2,FALSE)),$D23*VLOOKUP($L23,Assumptions!$D$5:$E$8,2,FALSE),""),"")) | I23: =IF(OR($H23="",$G23="",NOT(ISNUMBER($H23)),NOT(ISNUMBER($G23)),$G23=0),"",IFERROR($H23/$G23,"")) | J23: =IF($H23="","",IF(OR($E23="",$G23="",$G23=0),"Review staffing",IF(NOT(ISNUMBER(Assumptions!$B$14)),"Check threshold",IF($I23>Assumptions!$B$14,"Review capacity","Within guide"))))
F24: =IF($C24="","",IFERROR(IF(ISNUMBER(VLOOKUP($C24,Assumptions!$A$5:$B$9,2,FALSE)),VLOOKUP($C24,Assumptions!$A$5:$B$9,2,FALSE),""),"")) | G24: =IF(OR($E24="",$F24="",NOT(ISNUMBER($E24)),NOT(ISNUMBER($F24))),"",$E24*$F24) | H24: =IF(OR($D24="",$L24="",NOT(ISNUMBER($D24))),"",IFERROR(IF(ISNUMBER(VLOOKUP($L24,Assumptions!$D$5:$E$8,2,FALSE)),$D24*VLOOKUP($L24,Assumptions!$D$5:$E$8,2,FALSE),""),"")) | I24: =IF(OR($H24="",$G24="",NOT(ISNUMBER($H24)),NOT(ISNUMBER($G24)),$G24=0),"",IFERROR($H24/$G24,"")) | J24: =IF($H24="","",IF(OR($E24="",$G24="",$G24=0),"Review staffing",IF(NOT(ISNUMBER(Assumptions!$B$14)),"Check threshold",IF($I24>Assumptions!$B$14,"Review capacity","Within guide"))))
F25: =IF($C25="","",IFERROR(IF(ISNUMBER(VLOOKUP($C25,Assumptions!$A$5:$B$9,2,FALSE)),VLOOKUP($C25,Assumptions!$A$5:$B$9,2,FALSE),""),"")) | G25: =IF(OR($E25="",$F25="",NOT(ISNUMBER($E25)),NOT(ISNUMBER($F25))),"",$E25*$F25) | H25: =IF(OR($D25="",$L25="",NOT(ISNUMBER($D25))),"",IFERROR(IF(ISNUMBER(VLOOKUP($L25,Assumptions!$D$5:$E$8,2,FALSE)),$D25*VLOOKUP($L25,Assumptions!$D$5:$E$8,2,FALSE),""),"")) | I25: =IF(OR($H25="",$G25="",NOT(ISNUMBER($H25)),NOT(ISNUMBER($G25)),$G25=0),"",IFERROR($H25/$G25,"")) | J25: =IF($H25="","",IF(OR($E25="",$G25="",$G25=0),"Review staffing",IF(NOT(ISNUMBER(Assumptions!$B$14)),"Check threshold",IF($I25>Assumptions!$B$14,"Review capacity","Within guide"))))
F26: =IF($C26="","",IFERROR(IF(ISNUMBER(VLOOKUP($C26,Assumptions!$A$5:$B$9,2,FALSE)),VLOOKUP($C26,Assumptions!$A$5:$B$9,2,FALSE),""),"")) | G26: =IF(OR($E26="",$F26="",NOT(ISNUMBER($E26)),NOT(ISNUMBER($F26))),"",$E26*$F26) | H26: =IF(OR($D26="",$L26="",NOT(ISNUMBER($D26))),"",IFERROR(IF(ISNUMBER(VLOOKUP($L26,Assumptions!$D$5:$E$8,2,FALSE)),$D26*VLOOKUP($L26,Assumptions!$D$5:$E$8,2,FALSE),""),"")) | I26: =IF(OR($H26="",$G26="",NOT(ISNUMBER($H26)),NOT(ISNUMBER($G26)),$G26=0),"",IFERROR($H26/$G26,"")) | J26: =IF($H26="","",IF(OR($E26="",$G26="",$G26=0),"Review staffing",IF(NOT(ISNUMBER(Assumptions!$B$14)),"Check threshold",IF($I26>Assumptions!$B$14,"Review capacity","Within guide"))))
F27: =IF($C27="","",IFERROR(IF(ISNUMBER(VLOOKUP($C27,Assumptions!$A$5:$B$9,2,FALSE)),VLOOKUP($C27,Assumptions!$A$5:$B$9,2,FALSE),""),"")) | G27: =IF(OR($E27="",$F27="",NOT(ISNUMBER($E27)),NOT(ISNUMBER($F27))),"",$E27*$F27) | H27: =IF(OR($D27="",$L27="",NOT(ISNUMBER($D27))),"",IFERROR(IF(ISNUMBER(VLOOKUP($L27,Assumptions!$D$5:$E$8,2,FALSE)),$D27*VLOOKUP($L27,Assumptions!$D$5:$E$8,2,FALSE),""),"")) | I27: =IF(OR($H27="",$G27="",NOT(ISNUMBER($H27)),NOT(ISNUMBER($G27)),$G27=0),"",IFERROR($H27/$G27,"")) | J27: =IF($H27="","",IF(OR($E27="",$G27="",$G27=0),"Review staffing",IF(NOT(ISNUMBER(Assumptions!$B$14)),"Check threshold",IF($I27>Assumptions!$B$14,"Review capacity","Within guide"))))
F28: =IF($C28="","",IFERROR(IF(ISNUMBER(VLOOKUP($C28,Assumptions!$A$5:$B$9,2,FALSE)),VLOOKUP($C28,Assumptions!$A$5:$B$9,2,FALSE),""),"")) | G28: =IF(OR($E28="",$F28="",NOT(ISNUMBER($E28)),NOT(ISNUMBER($F28))),"",$E28*$F28) | H28: =IF(OR($D28="",$L28="",NOT(ISNUMBER($D28))),"",IFERROR(IF(ISNUMBER(VLOOKUP($L28,Assumptions!$D$5:$E$8,2,FALSE)),$D28*VLOOKUP($L28,Assumptions!$D$5:$E$8,2,FALSE),""),"")) | I28: =IF(OR($H28="",$G28="",NOT(ISNUMBER($H28)),NOT(ISNUMBER($G28)),$G28=0),"",IFERROR($H28/$G28,"")) | J28: =IF($H28="","",IF(OR($E28="",$G28="",$G28=0),"Review staffing",IF(NOT(ISNUMBER(Assumptions!$B$14)),"Check threshold",IF($I28>Assumptions!$B$14,"Review capacity","Within guide"))))
F29: =IF($C29="","",IFERROR(IF(ISNUMBER(VLOOKUP($C29,Assumptions!$A$5:$B$9,2,FALSE)),VLOOKUP($C29,Assumptions!$A$5:$B$9,2,FALSE),""),"")) | G29: =IF(OR($E29="",$F29="",NOT(ISNUMBER($E29)),NOT(ISNUMBER($F29))),"",$E29*$F29) | H29: =IF(OR($D29="",$L29="",NOT(ISNUMBER($D29))),"",IFERROR(IF(ISNUMBER(VLOOKUP($L29,Assumptions!$D$5:$E$8,2,FALSE)),$D29*VLOOKUP($L29,Assumptions!$D$5:$E$8,2,FALSE),""),"")) | I29: =IF(OR($H29="",$G29="",NOT(ISNUMBER($H29)),NOT(ISNUMBER($G29)),$G29=0),"",IFERROR($H29/$G29,"")) | J29: =IF($H29="","",IF(OR($E29="",$G29="",$G29=0),"Review staffing",IF(NOT(ISNUMBER(Assumptions!$B$14)),"Check threshold",IF($I29>Assumptions!$B$14,"Review capacity","Within guide"))))
F30: =IF($C30="","",IFERROR(IF(ISNUMBER(VLOOKUP($C30,Assumptions!$A$5:$B$9,2,FALSE)),VLOOKUP($C30,Assumptions!$A$5:$B$9,2,FALSE),""),"")) | G30: =IF(OR($E30="",$F30="",NOT(ISNUMBER($E30)),NOT(ISNUMBER($F30))),"",$E30*$F30) | H30: =IF(OR($D30="",$L30="",NOT(ISNUMBER($D30))),"",IFERROR(IF(ISNUMBER(VLOOKUP($L30,Assumptions!$D$5:$E$8,2,FALSE)),$D30*VLOOKUP($L30,Assumptions!$D$5:$E$8,2,FALSE),""),"")) | I30: =IF(OR($H30="",$G30="",NOT(ISNUMBER($H30)),NOT(ISNUMBER($G30)),$G30=0),"",IFERROR($H30/$G30,"")) | J30: =IF($H30="","",IF(OR($E30="",$G30="",$G30=0),"Review staffing",IF(NOT(ISNUMBER(Assumptions!$B$14)),"Check threshold",IF($I30>Assumptions!$B$14,"Review capacity","Within guide"))))
F31: =IF($C31="","",IFERROR(IF(ISNUMBER(VLOOKUP($C31,Assumptions!$A$5:$B$9,2,FALSE)),VLOOKUP($C31,Assumptions!$A$5:$B$9,2,FALSE),""),"")) | G31: =IF(OR($E31="",$F31="",NOT(ISNUMBER($E31)),NOT(ISNUMBER($F31))),"",$E31*$F31) | H31: =IF(OR($D31="",$L31="",NOT(ISNUMBER($D31))),"",IFERROR(IF(ISNUMBER(VLOOKUP($L31,Assumptions!$D$5:$E$8,2,FALSE)),$D31*VLOOKUP($L31,Assumptions!$D$5:$E$8,2,FALSE),""),"")) | I31: =IF(OR($H31="",$G31="",NOT(ISNUMBER($H31)),NOT(ISNUMBER($G31)),$G31=0),"",IFERROR($H31/$G31,"")) | J31: =IF($H31="","",IF(OR($E31="",$G31="",$G31=0),"Review staffing",IF(NOT(ISNUMBER(Assumptions!$B$14)),"Check threshold",IF($I31>Assumptions!$B$14,"Review capacity","Within guide"))))
... F124: =IF($C124="","",IFERROR(IF(ISNUMBER(VLOOKUP($C124,Assumptions!$A$5:$B$9,2,FALSE)),VLOOKUP($C124,Assumptions!$A$5:$B$9,2,FALSE),""),"")) | G124: =IF(OR($E124="",$F124="",NOT(ISNUMBER($E124)),NOT(ISNUMBER($F124))),"",$E124*$F124) | H124: =IF(OR($D124="",$L124="",NOT(ISNUMBER($D124))),"",IFERROR(IF(ISNUMBER(VLOOKUP($L124,Assumptions!$D$5:$E$8,2,FALSE)),$D124*VLOOKUP($L124,Assumptions!$D$5:$E$8,2,FALSE),""),"")) | I124: =IF(OR($H124="",$G124="",NOT(ISNUMBER($H124)),NOT(ISNUMBER($G124)),$G124=0),"",IFERROR($H124/$G124,"")) | J124: =IF($H124="","",IF(OR($E124="",$G124="",$G124=0),"Review staffing",IF(NOT(ISNUMBER(Assumptions!$B$14)),"Check threshold",IF($I124>Assumptions!$B$14,"Review capacity","Within guide"))))

Sheet Assumptions
A1: Assumptions
A2: Editable planning guides support this workbook only. They are not guarantees, staffing rules, or compliance requirements.
A3: Service Planning List | D3: Status Handling
A4: Service | B4: Capacity per Staff | D4: Status | E4: Demand Factor
A5: Dog Daycare | B5: 8 | D5: Completed | E5: 1
A6: Overnight Boarding | B6: 10 | D6: Confirmed | E6: 1
A7: Dog Grooming | B7: 5 | D7: Pending | E7: 1
A8: Dog Walking | B8: 6 | D8: Canceled | E8: 0
A9: Pet Sitting | B9: 5
A11: Calendar and Validation Controls | D11: Field Guide
A12: Earliest Allowed Date | B12: 43831 | D12: Counted Demand | E12: Booking count multiplied by the editable status factor.
A13: Latest Allowed Date | B13: 49674 | D13: Planned Capacity | E13: Staff scheduled multiplied by capacity per staff.
A14: Capacity Review Threshold | B14: 0.9 | D14: Review Capacity | E14: Utilization is above the editable review threshold.
A15: Report Start Date | B15: 46174 | D15: Review Staffing | E15: Counted demand exists without positive planned capacity.
A16: Report End Date | B16: 46265 | D16: Date Use | E16: Report dates drive Summary; calendar month drives Daily View.
A17: Calendar Month Start | B17: 46204 | D17: Editable Cells | E17: Yellow cells are intended for user entry or assumptions.
A18: Maximum Booking Count | B18: 500
A19: Maximum Staff Scheduled | B19: 50
