Workbook

Sheet Summary
A1: Fictional Paws & Paths — Pet Service Master Booking Calendar
A2: Indicators are calculated from the prepared booking rows. Review alerts require a human decision.
A3: Total bookings | B3: =COUNTIF(Bookings!$A$5:$A$154,"<>") | C3: Noncanceled bookings | D3: =COUNTIFS(Bookings!$A$5:$A$154,"<>",Bookings!$K$5:$K$154,"<>Canceled") | E3: Confirmed bookings | F3: =COUNTIFS(Bookings!$A$5:$A$154,"<>",Bookings!$K$5:$K$154,"Confirmed")
A4: Needs review | B4: =COUNTIF(Bookings!$N$5:$N$154,"Review*")+COUNTIF(Bookings!$N$5:$N$154,"Assign staff") | C4: Unassigned confirmed | D4: =COUNTIFS(Bookings!$A$5:$A$154,"<>",Bookings!$J$5:$J$154,"",Bookings!$K$5:$K$154,"Confirmed") | E4: Estimated amount | F4: =SUMIFS(Bookings!$M$5:$M$154,Bookings!$A$5:$A$154,"<>",Bookings!$K$5:$K$154,"<>Canceled")
A5: Scheduled quantity | B5: =SUMIFS(Bookings!$I$5:$I$154,Bookings!$A$5:$A$154,"<>",Bookings!$K$5:$K$154,"<>Canceled")
A8: Service mix | F8: Status totals
A9: Service | B9: Noncanceled bookings | C9: Quantity | D9: Estimated amount | F9: Status | G9: Bookings
A10: =Assumptions!$A$5 | B10: =COUNTIFS(Bookings!$A$5:$A$154,"<>",Bookings!$H$5:$H$154,$A10,Bookings!$K$5:$K$154,"<>Canceled") | C10: =SUMIFS(Bookings!$I$5:$I$154,Bookings!$A$5:$A$154,"<>",Bookings!$H$5:$H$154,$A10,Bookings!$K$5:$K$154,"<>Canceled") | D10: =SUMIFS(Bookings!$M$5:$M$154,Bookings!$A$5:$A$154,"<>",Bookings!$H$5:$H$154,$A10,Bookings!$K$5:$K$154,"<>Canceled") | F10: =Assumptions!$F$14 | G10: =COUNTIFS(Bookings!$A$5:$A$154,"<>",Bookings!$K$5:$K$154,$F10)
A11: =Assumptions!$A$6 | B11: =COUNTIFS(Bookings!$A$5:$A$154,"<>",Bookings!$H$5:$H$154,$A11,Bookings!$K$5:$K$154,"<>Canceled") | C11: =SUMIFS(Bookings!$I$5:$I$154,Bookings!$A$5:$A$154,"<>",Bookings!$H$5:$H$154,$A11,Bookings!$K$5:$K$154,"<>Canceled") | D11: =SUMIFS(Bookings!$M$5:$M$154,Bookings!$A$5:$A$154,"<>",Bookings!$H$5:$H$154,$A11,Bookings!$K$5:$K$154,"<>Canceled") | F11: =Assumptions!$F$15 | G11: =COUNTIFS(Bookings!$A$5:$A$154,"<>",Bookings!$K$5:$K$154,$F11)
A12: =Assumptions!$A$7 | B12: =COUNTIFS(Bookings!$A$5:$A$154,"<>",Bookings!$H$5:$H$154,$A12,Bookings!$K$5:$K$154,"<>Canceled") | C12: =SUMIFS(Bookings!$I$5:$I$154,Bookings!$A$5:$A$154,"<>",Bookings!$H$5:$H$154,$A12,Bookings!$K$5:$K$154,"<>Canceled") | D12: =SUMIFS(Bookings!$M$5:$M$154,Bookings!$A$5:$A$154,"<>",Bookings!$H$5:$H$154,$A12,Bookings!$K$5:$K$154,"<>Canceled") | F12: =Assumptions!$F$16 | G12: =COUNTIFS(Bookings!$A$5:$A$154,"<>",Bookings!$K$5:$K$154,$F12)
A13: =Assumptions!$A$8 | B13: =COUNTIFS(Bookings!$A$5:$A$154,"<>",Bookings!$H$5:$H$154,$A13,Bookings!$K$5:$K$154,"<>Canceled") | C13: =SUMIFS(Bookings!$I$5:$I$154,Bookings!$A$5:$A$154,"<>",Bookings!$H$5:$H$154,$A13,Bookings!$K$5:$K$154,"<>Canceled") | D13: =SUMIFS(Bookings!$M$5:$M$154,Bookings!$A$5:$A$154,"<>",Bookings!$H$5:$H$154,$A13,Bookings!$K$5:$K$154,"<>Canceled") | F13: =Assumptions!$F$17 | G13: =COUNTIFS(Bookings!$A$5:$A$154,"<>",Bookings!$K$5:$K$154,$F13)
A14: =Assumptions!$A$9 | B14: =COUNTIFS(Bookings!$A$5:$A$154,"<>",Bookings!$H$5:$H$154,$A14,Bookings!$K$5:$K$154,"<>Canceled") | C14: =SUMIFS(Bookings!$I$5:$I$154,Bookings!$A$5:$A$154,"<>",Bookings!$H$5:$H$154,$A14,Bookings!$K$5:$K$154,"<>Canceled") | D14: =SUMIFS(Bookings!$M$5:$M$154,Bookings!$A$5:$A$154,"<>",Bookings!$H$5:$H$154,$A14,Bookings!$K$5:$K$154,"<>Canceled")

Sheet Bookings
A1: Fictional Paws & Paths — Master Bookings
A2: Enter or revise yellow cells. Rate, amount, and schedule check columns calculate automatically.
A4: Booking ID | B4: Start Date | C4: Start Time | D4: End Date | E4: End Time | F4: Client | G4: Pet | H4: Service | I4: Quantity | J4: Assigned To | K4: Status | L4: Unit Rate | M4: Estimated Amount | N4: Schedule Check | O4: Owner-Supplied Care Notes
A5: FB-1001 | B5: 46276 | C5: 0.375 | D5: 46276 | E5: 0.45833333 | F5: Fictional Client 01 | G5: Fictional Pet Maple | H5: Grooming | I5: 1 | J5: Fictional Staff - Rowan | K5: Confirmed | L5: =IF($H5="","",IFERROR(VLOOKUP($H5,Assumptions!$A$5:$D$9,3,FALSE),"")) | M5: =IF(OR(NOT(ISNUMBER($I5)),NOT(ISNUMBER($L5))),"",IFERROR($I5*$L5,"")) | N5: =IF($A5="","",IF(COUNTIF($A$5:$A$154,$A5)>1,"Review duplicate ID",IF(OR(NOT(ISNUMBER($B5)),NOT(ISNUMBER($C5)),NOT(ISNUMBER($D5)),NOT(ISNUMBER($E5))),"Review dates/times",IF(IFERROR($D5+$E5,0)<=IFERROR($B5+$C5,0),"Review end time",IF(AND($K5="Confirmed",$J5=""),"Assign staff",IF(AND($H5<>"",$B5<>"",COUNTIFS($H$5:$H$154,$H5,$B$5:$B$154,$B5,$K$5:$K$154,"<>Canceled")>IFERROR(VLOOKUP($H5,Assumptions!$A$5:$D$9,4,FALSE),999999)),"Review start capacity",IF(AND($J5<>"",$K5<>"Canceled",SUMPRODUCT(($J$5:$J$154=$J5)*($K$5:$K$154<>"Canceled")*(ROW($A$5:$A$154)<>ROW())*(IFERROR($B$5:$B$154+$C$5:$C$154,0)<IFERROR($D5+$E5,0))*(IFERROR($D$5:$D$154+$E$5:$E$154,0)>IFERROR($B5+$C5,0)))>0),"Review assignment overlap","OK"))))))) | O5: Owner note: use the labeled blue leash.
A6: FB-1002 | B6: 46277 | C6: 0.33333333 | D6: 46277 | E6: 0.70833333 | F6: Fictional Client 02 | G6: Fictional Pet Comet | H6: Daycare | I6: 1 | J6: Fictional Staff - Casey | K6: Confirmed | L6: =IF($H6="","",IFERROR(VLOOKUP($H6,Assumptions!$A$5:$D$9,3,FALSE),"")) | M6: =IF(OR(NOT(ISNUMBER($I6)),NOT(ISNUMBER($L6))),"",IFERROR($I6*$L6,"")) | N6: =IF($A6="","",IF(COUNTIF($A$5:$A$154,$A6)>1,"Review duplicate ID",IF(OR(NOT(ISNUMBER($B6)),NOT(ISNUMBER($C6)),NOT(ISNUMBER($D6)),NOT(ISNUMBER($E6))),"Review dates/times",IF(IFERROR($D6+$E6,0)<=IFERROR($B6+$C6,0),"Review end time",IF(AND($K6="Confirmed",$J6=""),"Assign staff",IF(AND($H6<>"",$B6<>"",COUNTIFS($H$5:$H$154,$H6,$B$5:$B$154,$B6,$K$5:$K$154,"<>Canceled")>IFERROR(VLOOKUP($H6,Assumptions!$A$5:$D$9,4,FALSE),999999)),"Review start capacity",IF(AND($J6<>"",$K6<>"Canceled",SUMPRODUCT(($J$5:$J$154=$J6)*($K$5:$K$154<>"Canceled")*(ROW($A$5:$A$154)<>ROW())*(IFERROR($B$5:$B$154+$C$5:$C$154,0)<IFERROR($D6+$E6,0))*(IFERROR($D$5:$D$154+$E$5:$E$154,0)>IFERROR($B6+$C6,0)))>0),"Review assignment overlap","OK"))))))) | O6: Owner note: meal bag is labeled with the pet name.
A7: FB-1003 | B7: 46277 | C7: 0.34375 | D7: 46277 | E7: 0.6875 | F7: Fictional Client 03 | G7: Fictional Pet Juniper | H7: Daycare | I7: 1 | J7: Fictional Staff - Morgan | K7: Confirmed | L7: =IF($H7="","",IFERROR(VLOOKUP($H7,Assumptions!$A$5:$D$9,3,FALSE),"")) | M7: =IF(OR(NOT(ISNUMBER($I7)),NOT(ISNUMBER($L7))),"",IFERROR($I7*$L7,"")) | N7: =IF($A7="","",IF(COUNTIF($A$5:$A$154,$A7)>1,"Review duplicate ID",IF(OR(NOT(ISNUMBER($B7)),NOT(ISNUMBER($C7)),NOT(ISNUMBER($D7)),NOT(ISNUMBER($E7))),"Review dates/times",IF(IFERROR($D7+$E7,0)<=IFERROR($B7+$C7,0),"Review end time",IF(AND($K7="Confirmed",$J7=""),"Assign staff",IF(AND($H7<>"",$B7<>"",COUNTIFS($H$5:$H$154,$H7,$B$5:$B$154,$B7,$K$5:$K$154,"<>Canceled")>IFERROR(VLOOKUP($H7,Assumptions!$A$5:$D$9,4,FALSE),999999)),"Review start capacity",IF(AND($J7<>"",$K7<>"Canceled",SUMPRODUCT(($J$5:$J$154=$J7)*($K$5:$K$154<>"Canceled")*(ROW($A$5:$A$154)<>ROW())*(IFERROR($B$5:$B$154+$C$5:$C$154,0)<IFERROR($D7+$E7,0))*(IFERROR($D$5:$D$154+$E$5:$E$154,0)>IFERROR($B7+$C7,0)))>0),"Review assignment overlap","OK"))))))) | O7: Owner note: return the green tote at pickup.
A8: FB-1004 | B8: 46277 | C8: 0.375 | D8: 46277 | E8: 0.70833333 | F8: Fictional Client 04 | G8: Fictional Pet Orbit | H8: Daycare | I8: 1 | J8: Fictional Staff - Jules | K8: Pending | L8: =IF($H8="","",IFERROR(VLOOKUP($H8,Assumptions!$A$5:$D$9,3,FALSE),"")) | M8: =IF(OR(NOT(ISNUMBER($I8)),NOT(ISNUMBER($L8))),"",IFERROR($I8*$L8,"")) | N8: =IF($A8="","",IF(COUNTIF($A$5:$A$154,$A8)>1,"Review duplicate ID",IF(OR(NOT(ISNUMBER($B8)),NOT(ISNUMBER($C8)),NOT(ISNUMBER($D8)),NOT(ISNUMBER($E8))),"Review dates/times",IF(IFERROR($D8+$E8,0)<=IFERROR($B8+$C8,0),"Review end time",IF(AND($K8="Confirmed",$J8=""),"Assign staff",IF(AND($H8<>"",$B8<>"",COUNTIFS($H$5:$H$154,$H8,$B$5:$B$154,$B8,$K$5:$K$154,"<>Canceled")>IFERROR(VLOOKUP($H8,Assumptions!$A$5:$D$9,4,FALSE),999999)),"Review start capacity",IF(AND($J8<>"",$K8<>"Canceled",SUMPRODUCT(($J$5:$J$154=$J8)*($K$5:$K$154<>"Canceled")*(ROW($A$5:$A$154)<>ROW())*(IFERROR($B$5:$B$154+$C$5:$C$154,0)<IFERROR($D8+$E8,0))*(IFERROR($D$5:$D$154+$E$5:$E$154,0)>IFERROR($B8+$C8,0)))>0),"Review assignment overlap","OK"))))))) | O8: Owner note: pickup contact details are on the intake card.
A9: FB-1005 | B9: 46278 | C9: 0.625 | D9: 46280 | E9: 0.41666667 | F9: Fictional Client 05 | G9: Fictional Pet Pebble | H9: Boarding | I9: 2 | J9: Fictional Staff - Morgan | K9: Confirmed | L9: =IF($H9="","",IFERROR(VLOOKUP($H9,Assumptions!$A$5:$D$9,3,FALSE),"")) | M9: =IF(OR(NOT(ISNUMBER($I9)),NOT(ISNUMBER($L9))),"",IFERROR($I9*$L9,"")) | N9: =IF($A9="","",IF(COUNTIF($A$5:$A$154,$A9)>1,"Review duplicate ID",IF(OR(NOT(ISNUMBER($B9)),NOT(ISNUMBER($C9)),NOT(ISNUMBER($D9)),NOT(ISNUMBER($E9))),"Review dates/times",IF(IFERROR($D9+$E9,0)<=IFERROR($B9+$C9,0),"Review end time",IF(AND($K9="Confirmed",$J9=""),"Assign staff",IF(AND($H9<>"",$B9<>"",COUNTIFS($H$5:$H$154,$H9,$B$5:$B$154,$B9,$K$5:$K$154,"<>Canceled")>IFERROR(VLOOKUP($H9,Assumptions!$A$5:$D$9,4,FALSE),999999)),"Review start capacity",IF(AND($J9<>"",$K9<>"Canceled",SUMPRODUCT(($J$5:$J$154=$J9)*($K$5:$K$154<>"Canceled")*(ROW($A$5:$A$154)<>ROW())*(IFERROR($B$5:$B$154+$C$5:$C$154,0)<IFERROR($D9+$E9,0))*(IFERROR($D$5:$D$154+$E$5:$E$154,0)>IFERROR($B9+$C9,0)))>0),"Review assignment overlap","OK"))))))) | O9: Owner note: two labeled meal containers were supplied.
A10: FB-1006 | B10: 46279 | C10: 0.41666667 | D10: 46279 | E10: 0.44791667 | F10: Fictional Client 06 | G10: Fictional Pet Sprout | H10: Dog Walking | I10: 1 | J10: Fictional Staff - Rowan | K10: Confirmed | L10: =IF($H10="","",IFERROR(VLOOKUP($H10,Assumptions!$A$5:$D$9,3,FALSE),"")) | M10: =IF(OR(NOT(ISNUMBER($I10)),NOT(ISNUMBER($L10))),"",IFERROR($I10*$L10,"")) | N10: =IF($A10="","",IF(COUNTIF($A$5:$A$154,$A10)>1,"Review duplicate ID",IF(OR(NOT(ISNUMBER($B10)),NOT(ISNUMBER($C10)),NOT(ISNUMBER($D10)),NOT(ISNUMBER($E10))),"Review dates/times",IF(IFERROR($D10+$E10,0)<=IFERROR($B10+$C10,0),"Review end time",IF(AND($K10="Confirmed",$J10=""),"Assign staff",IF(AND($H10<>"",$B10<>"",COUNTIFS($H$5:$H$154,$H10,$B$5:$B$154,$B10,$K$5:$K$154,"<>Canceled")>IFERROR(VLOOKUP($H10,Assumptions!$A$5:$D$9,4,FALSE),999999)),"Review start capacity",IF(AND($J10<>"",$K10<>"Canceled",SUMPRODUCT(($J$5:$J$154=$J10)*($K$5:$K$154<>"Canceled")*(ROW($A$5:$A$154)<>ROW())*(IFERROR($B$5:$B$154+$C$5:$C$154,0)<IFERROR($D10+$E10,0))*(IFERROR($D$5:$D$154+$E$5:$E$154,0)>IFERROR($B10+$C10,0)))>0),"Review assignment overlap","OK"))))))) | O10: Owner note: use the front gate listed on the service card.
A11: FB-1007 | B11: 46279 | C11: 0.4375 | D11: 46279 | E11: 0.46875 | F11: Fictional Client 07 | G11: Fictional Pet Waffle | H11: Dog Walking | I11: 1 | J11: Fictional Staff - Rowan | K11: Confirmed | L11: =IF($H11="","",IFERROR(VLOOKUP($H11,Assumptions!$A$5:$D$9,3,FALSE),"")) | M11: =IF(OR(NOT(ISNUMBER($I11)),NOT(ISNUMBER($L11))),"",IFERROR($I11*$L11,"")) | N11: =IF($A11="","",IF(COUNTIF($A$5:$A$154,$A11)>1,"Review duplicate ID",IF(OR(NOT(ISNUMBER($B11)),NOT(ISNUMBER($C11)),NOT(ISNUMBER($D11)),NOT(ISNUMBER($E11))),"Review dates/times",IF(IFERROR($D11+$E11,0)<=IFERROR($B11+$C11,0),"Review end time",IF(AND($K11="Confirmed",$J11=""),"Assign staff",IF(AND($H11<>"",$B11<>"",COUNTIFS($H$5:$H$154,$H11,$B$5:$B$154,$B11,$K$5:$K$154,"<>Canceled")>IFERROR(VLOOKUP($H11,Assumptions!$A$5:$D$9,4,FALSE),999999)),"Review start capacity",IF(AND($J11<>"",$K11<>"Canceled",SUMPRODUCT(($J$5:$J$154=$J11)*($K$5:$K$154<>"Canceled")*(ROW($A$5:$A$154)<>ROW())*(IFERROR($B$5:$B$154+$C$5:$C$154,0)<IFERROR($D11+$E11,0))*(IFERROR($D$5:$D$154+$E$5:$E$154,0)>IFERROR($B11+$C11,0)))>0),"Review assignment overlap","OK"))))))) | O11: Owner note: leash is stored in the labeled entry bin.
A12: FB-1008 | B12: 46279 | C12: 0.5 | D12: 46279 | E12: 0.53125 | F12: Fictional Client 08 | G12: Fictional Pet Clover | H12: Dog Walking | I12: 1 | J12: Fictional Staff - Casey | K12: Confirmed | L12: =IF($H12="","",IFERROR(VLOOKUP($H12,Assumptions!$A$5:$D$9,3,FALSE),"")) | M12: =IF(OR(NOT(ISNUMBER($I12)),NOT(ISNUMBER($L12))),"",IFERROR($I12*$L12,"")) | N12: =IF($A12="","",IF(COUNTIF($A$5:$A$154,$A12)>1,"Review duplicate ID",IF(OR(NOT(ISNUMBER($B12)),NOT(ISNUMBER($C12)),NOT(ISNUMBER($D12)),NOT(ISNUMBER($E12))),"Review dates/times",IF(IFERROR($D12+$E12,0)<=IFERROR($B12+$C12,0),"Review end time",IF(AND($K12="Confirmed",$J12=""),"Assign staff",IF(AND($H12<>"",$B12<>"",COUNTIFS($H$5:$H$154,$H12,$B$5:$B$154,$B12,$K$5:$K$154,"<>Canceled")>IFERROR(VLOOKUP($H12,Assumptions!$A$5:$D$9,4,FALSE),999999)),"Review start capacity",IF(AND($J12<>"",$K12<>"Canceled",SUMPRODUCT(($J$5:$J$154=$J12)*($K$5:$K$154<>"Canceled")*(ROW($A$5:$A$154)<>ROW())*(IFERROR($B$5:$B$154+$C$5:$C$154,0)<IFERROR($D12+$E12,0))*(IFERROR($D$5:$D$154+$E$5:$E$154,0)>IFERROR($B12+$C12,0)))>0),"Review assignment overlap","OK"))))))) | O12: Owner note: follow the route written on the owner card.
A13: FB-1009 | B13: 46280 | C13: 0.75 | D13: 46280 | E13: 0.79166667 | F13: Fictional Client 09 | G13: Fictional Pet Nova | H13: Pet Sitting | I13: 1 | J13: Fictional Staff - Jules | K13: Confirmed | L13: =IF($H13="","",IFERROR(VLOOKUP($H13,Assumptions!$A$5:$D$9,3,FALSE),"")) | M13: =IF(OR(NOT(ISNUMBER($I13)),NOT(ISNUMBER($L13))),"",IFERROR($I13*$L13,"")) | N13: =IF($A13="","",IF(COUNTIF($A$5:$A$154,$A13)>1,"Review duplicate ID",IF(OR(NOT(ISNUMBER($B13)),NOT(ISNUMBER($C13)),NOT(ISNUMBER($D13)),NOT(ISNUMBER($E13))),"Review dates/times",IF(IFERROR($D13+$E13,0)<=IFERROR($B13+$C13,0),"Review end time",IF(AND($K13="Confirmed",$J13=""),"Assign staff",IF(AND($H13<>"",$B13<>"",COUNTIFS($H$5:$H$154,$H13,$B$5:$B$154,$B13,$K$5:$K$154,"<>Canceled")>IFERROR(VLOOKUP($H13,Assumptions!$A$5:$D$9,4,FALSE),999999)),"Review start capacity",IF(AND($J13<>"",$K13<>"Canceled",SUMPRODUCT(($J$5:$J$154=$J13)*($K$5:$K$154<>"Canceled")*(ROW($A$5:$A$154)<>ROW())*(IFERROR($B$5:$B$154+$C$5:$C$154,0)<IFERROR($D13+$E13,0))*(IFERROR($D$5:$D$154+$E$5:$E$154,0)>IFERROR($B13+$C13,0)))>0),"Review assignment overlap","OK"))))))) | O13: Owner note: supplies are in the labeled kitchen basket.
A14: FB-1010 | B14: 46267 | C14: 0.375 | D14: 46267 | E14: 0.45833333 | F14: Fictional Client 10 | G14: Fictional Pet Biscuit | H14: Grooming | I14: 1 | J14: Fictional Staff - Rowan | K14: Completed | L14: =IF($H14="","",IFERROR(VLOOKUP($H14,Assumptions!$A$5:$D$9,3,FALSE),"")) | M14: =IF(OR(NOT(ISNUMBER($I14)),NOT(ISNUMBER($L14))),"",IFERROR($I14*$L14,"")) | N14: =IF($A14="","",IF(COUNTIF($A$5:$A$154,$A14)>1,"Review duplicate ID",IF(OR(NOT(ISNUMBER($B14)),NOT(ISNUMBER($C14)),NOT(ISNUMBER($D14)),NOT(ISNUMBER($E14))),"Review dates/times",IF(IFERROR($D14+$E14,0)<=IFERROR($B14+$C14,0),"Review end time",IF(AND($K14="Confirmed",$J14=""),"Assign staff",IF(AND($H14<>"",$B14<>"",COUNTIFS($H$5:$H$154,$H14,$B$5:$B$154,$B14,$K$5:$K$154,"<>Canceled")>IFERROR(VLOOKUP($H14,Assumptions!$A$5:$D$9,4,FALSE),999999)),"Review start capacity",IF(AND($J14<>"",$K14<>"Canceled",SUMPRODUCT(($J$5:$J$154=$J14)*($K$5:$K$154<>"Canceled")*(ROW($A$5:$A$154)<>ROW())*(IFERROR($B$5:$B$154+$C$5:$C$154,0)<IFERROR($D14+$E14,0))*(IFERROR($D$5:$D$154+$E$5:$E$154,0)>IFERROR($B14+$C14,0)))>0),"Review assignment overlap","OK"))))))) | O14: Owner note: return the patterned collar with the pet.
A15: FB-1011 | B15: 46284 | C15: 0.625 | D15: 46286 | E15: 0.41666667 | F15: Fictional Client 11 | G15: Fictional Pet Lantern | H15: Boarding | I15: 2 | J15: Fictional Staff - Morgan | K15: Canceled | L15: =IF($H15="","",IFERROR(VLOOKUP($H15,Assumptions!$A$5:$D$9,3,FALSE),"")) | M15: =IF(OR(NOT(ISNUMBER($I15)),NOT(ISNUMBER($L15))),"",IFERROR($I15*$L15,"")) | N15: =IF($A15="","",IF(COUNTIF($A$5:$A$154,$A15)>1,"Review duplicate ID",IF(OR(NOT(ISNUMBER($B15)),NOT(ISNUMBER($C15)),NOT(ISNUMBER($D15)),NOT(ISNUMBER($E15))),"Review dates/times",IF(IFERROR($D15+$E15,0)<=IFERROR($B15+$C15,0),"Review end time",IF(AND($K15="Confirmed",$J15=""),"Assign staff",IF(AND($H15<>"",$B15<>"",COUNTIFS($H$5:$H$154,$H15,$B$5:$B$154,$B15,$K$5:$K$154,"<>Canceled")>IFERROR(VLOOKUP($H15,Assumptions!$A$5:$D$9,4,FALSE),999999)),"Review start capacity",IF(AND($J15<>"",$K15<>"Canceled",SUMPRODUCT(($J$5:$J$154=$J15)*($K$5:$K$154<>"Canceled")*(ROW($A$5:$A$154)<>ROW())*(IFERROR($B$5:$B$154+$C$5:$C$154,0)<IFERROR($D15+$E15,0))*(IFERROR($D$5:$D$154+$E$5:$E$154,0)>IFERROR($B15+$C15,0)))>0),"Review assignment overlap","OK"))))))) | O15: Owner note: canceled sample retained for schedule testing.
A16: FB-1012 | B16: 46281 | C16: 0.54166667 | D16: 46281 | E16: 0.625 | F16: Fictional Client 12 | G16: Fictional Pet Thimble | H16: Grooming | I16: 1 | K16: Confirmed | L16: =IF($H16="","",IFERROR(VLOOKUP($H16,Assumptions!$A$5:$D$9,3,FALSE),"")) | M16: =IF(OR(NOT(ISNUMBER($I16)),NOT(ISNUMBER($L16))),"",IFERROR($I16*$L16,"")) | N16: =IF($A16="","",IF(COUNTIF($A$5:$A$154,$A16)>1,"Review duplicate ID",IF(OR(NOT(ISNUMBER($B16)),NOT(ISNUMBER($C16)),NOT(ISNUMBER($D16)),NOT(ISNUMBER($E16))),"Review dates/times",IF(IFERROR($D16+$E16,0)<=IFERROR($B16+$C16,0),"Review end time",IF(AND($K16="Confirmed",$J16=""),"Assign staff",IF(AND($H16<>"",$B16<>"",COUNTIFS($H$5:$H$154,$H16,$B$5:$B$154,$B16,$K$5:$K$154,"<>Canceled")>IFERROR(VLOOKUP($H16,Assumptions!$A$5:$D$9,4,FALSE),999999)),"Review start capacity",IF(AND($J16<>"",$K16<>"Canceled",SUMPRODUCT(($J$5:$J$154=$J16)*($K$5:$K$154<>"Canceled")*(ROW($A$5:$A$154)<>ROW())*(IFERROR($B$5:$B$154+$C$5:$C$154,0)<IFERROR($D16+$E16,0))*(IFERROR($D$5:$D$154+$E$5:$E$154,0)>IFERROR($B16+$C16,0)))>0),"Review assignment overlap","OK"))))))) | O16: Owner note: use the labeled orange lead.
L17: =IF($H17="","",IFERROR(VLOOKUP($H17,Assumptions!$A$5:$D$9,3,FALSE),"")) | M17: =IF(OR(NOT(ISNUMBER($I17)),NOT(ISNUMBER($L17))),"",IFERROR($I17*$L17,"")) | N17: =IF($A17="","",IF(COUNTIF($A$5:$A$154,$A17)>1,"Review duplicate ID",IF(OR(NOT(ISNUMBER($B17)),NOT(ISNUMBER($C17)),NOT(ISNUMBER($D17)),NOT(ISNUMBER($E17))),"Review dates/times",IF(IFERROR($D17+$E17,0)<=IFERROR($B17+$C17,0),"Review end time",IF(AND($K17="Confirmed",$J17=""),"Assign staff",IF(AND($H17<>"",$B17<>"",COUNTIFS($H$5:$H$154,$H17,$B$5:$B$154,$B17,$K$5:$K$154,"<>Canceled")>IFERROR(VLOOKUP($H17,Assumptions!$A$5:$D$9,4,FALSE),999999)),"Review start capacity",IF(AND($J17<>"",$K17<>"Canceled",SUMPRODUCT(($J$5:$J$154=$J17)*($K$5:$K$154<>"Canceled")*(ROW($A$5:$A$154)<>ROW())*(IFERROR($B$5:$B$154+$C$5:$C$154,0)<IFERROR($D17+$E17,0))*(IFERROR($D$5:$D$154+$E$5:$E$154,0)>IFERROR($B17+$C17,0)))>0),"Review assignment overlap","OK")))))))
L18: =IF($H18="","",IFERROR(VLOOKUP($H18,Assumptions!$A$5:$D$9,3,FALSE),"")) | M18: =IF(OR(NOT(ISNUMBER($I18)),NOT(ISNUMBER($L18))),"",IFERROR($I18*$L18,"")) | N18: =IF($A18="","",IF(COUNTIF($A$5:$A$154,$A18)>1,"Review duplicate ID",IF(OR(NOT(ISNUMBER($B18)),NOT(ISNUMBER($C18)),NOT(ISNUMBER($D18)),NOT(ISNUMBER($E18))),"Review dates/times",IF(IFERROR($D18+$E18,0)<=IFERROR($B18+$C18,0),"Review end time",IF(AND($K18="Confirmed",$J18=""),"Assign staff",IF(AND($H18<>"",$B18<>"",COUNTIFS($H$5:$H$154,$H18,$B$5:$B$154,$B18,$K$5:$K$154,"<>Canceled")>IFERROR(VLOOKUP($H18,Assumptions!$A$5:$D$9,4,FALSE),999999)),"Review start capacity",IF(AND($J18<>"",$K18<>"Canceled",SUMPRODUCT(($J$5:$J$154=$J18)*($K$5:$K$154<>"Canceled")*(ROW($A$5:$A$154)<>ROW())*(IFERROR($B$5:$B$154+$C$5:$C$154,0)<IFERROR($D18+$E18,0))*(IFERROR($D$5:$D$154+$E$5:$E$154,0)>IFERROR($B18+$C18,0)))>0),"Review assignment overlap","OK")))))))
L19: =IF($H19="","",IFERROR(VLOOKUP($H19,Assumptions!$A$5:$D$9,3,FALSE),"")) | M19: =IF(OR(NOT(ISNUMBER($I19)),NOT(ISNUMBER($L19))),"",IFERROR($I19*$L19,"")) | N19: =IF($A19="","",IF(COUNTIF($A$5:$A$154,$A19)>1,"Review duplicate ID",IF(OR(NOT(ISNUMBER($B19)),NOT(ISNUMBER($C19)),NOT(ISNUMBER($D19)),NOT(ISNUMBER($E19))),"Review dates/times",IF(IFERROR($D19+$E19,0)<=IFERROR($B19+$C19,0),"Review end time",IF(AND($K19="Confirmed",$J19=""),"Assign staff",IF(AND($H19<>"",$B19<>"",COUNTIFS($H$5:$H$154,$H19,$B$5:$B$154,$B19,$K$5:$K$154,"<>Canceled")>IFERROR(VLOOKUP($H19,Assumptions!$A$5:$D$9,4,FALSE),999999)),"Review start capacity",IF(AND($J19<>"",$K19<>"Canceled",SUMPRODUCT(($J$5:$J$154=$J19)*($K$5:$K$154<>"Canceled")*(ROW($A$5:$A$154)<>ROW())*(IFERROR($B$5:$B$154+$C$5:$C$154,0)<IFERROR($D19+$E19,0))*(IFERROR($D$5:$D$154+$E$5:$E$154,0)>IFERROR($B19+$C19,0)))>0),"Review assignment overlap","OK")))))))
L20: =IF($H20="","",IFERROR(VLOOKUP($H20,Assumptions!$A$5:$D$9,3,FALSE),"")) | M20: =IF(OR(NOT(ISNUMBER($I20)),NOT(ISNUMBER($L20))),"",IFERROR($I20*$L20,"")) | N20: =IF($A20="","",IF(COUNTIF($A$5:$A$154,$A20)>1,"Review duplicate ID",IF(OR(NOT(ISNUMBER($B20)),NOT(ISNUMBER($C20)),NOT(ISNUMBER($D20)),NOT(ISNUMBER($E20))),"Review dates/times",IF(IFERROR($D20+$E20,0)<=IFERROR($B20+$C20,0),"Review end time",IF(AND($K20="Confirmed",$J20=""),"Assign staff",IF(AND($H20<>"",$B20<>"",COUNTIFS($H$5:$H$154,$H20,$B$5:$B$154,$B20,$K$5:$K$154,"<>Canceled")>IFERROR(VLOOKUP($H20,Assumptions!$A$5:$D$9,4,FALSE),999999)),"Review start capacity",IF(AND($J20<>"",$K20<>"Canceled",SUMPRODUCT(($J$5:$J$154=$J20)*($K$5:$K$154<>"Canceled")*(ROW($A$5:$A$154)<>ROW())*(IFERROR($B$5:$B$154+$C$5:$C$154,0)<IFERROR($D20+$E20,0))*(IFERROR($D$5:$D$154+$E$5:$E$154,0)>IFERROR($B20+$C20,0)))>0),"Review assignment overlap","OK")))))))
L21: =IF($H21="","",IFERROR(VLOOKUP($H21,Assumptions!$A$5:$D$9,3,FALSE),"")) | M21: =IF(OR(NOT(ISNUMBER($I21)),NOT(ISNUMBER($L21))),"",IFERROR($I21*$L21,"")) | N21: =IF($A21="","",IF(COUNTIF($A$5:$A$154,$A21)>1,"Review duplicate ID",IF(OR(NOT(ISNUMBER($B21)),NOT(ISNUMBER($C21)),NOT(ISNUMBER($D21)),NOT(ISNUMBER($E21))),"Review dates/times",IF(IFERROR($D21+$E21,0)<=IFERROR($B21+$C21,0),"Review end time",IF(AND($K21="Confirmed",$J21=""),"Assign staff",IF(AND($H21<>"",$B21<>"",COUNTIFS($H$5:$H$154,$H21,$B$5:$B$154,$B21,$K$5:$K$154,"<>Canceled")>IFERROR(VLOOKUP($H21,Assumptions!$A$5:$D$9,4,FALSE),999999)),"Review start capacity",IF(AND($J21<>"",$K21<>"Canceled",SUMPRODUCT(($J$5:$J$154=$J21)*($K$5:$K$154<>"Canceled")*(ROW($A$5:$A$154)<>ROW())*(IFERROR($B$5:$B$154+$C$5:$C$154,0)<IFERROR($D21+$E21,0))*(IFERROR($D$5:$D$154+$E$5:$E$154,0)>IFERROR($B21+$C21,0)))>0),"Review assignment overlap","OK")))))))
L22: =IF($H22="","",IFERROR(VLOOKUP($H22,Assumptions!$A$5:$D$9,3,FALSE),"")) | M22: =IF(OR(NOT(ISNUMBER($I22)),NOT(ISNUMBER($L22))),"",IFERROR($I22*$L22,"")) | N22: =IF($A22="","",IF(COUNTIF($A$5:$A$154,$A22)>1,"Review duplicate ID",IF(OR(NOT(ISNUMBER($B22)),NOT(ISNUMBER($C22)),NOT(ISNUMBER($D22)),NOT(ISNUMBER($E22))),"Review dates/times",IF(IFERROR($D22+$E22,0)<=IFERROR($B22+$C22,0),"Review end time",IF(AND($K22="Confirmed",$J22=""),"Assign staff",IF(AND($H22<>"",$B22<>"",COUNTIFS($H$5:$H$154,$H22,$B$5:$B$154,$B22,$K$5:$K$154,"<>Canceled")>IFERROR(VLOOKUP($H22,Assumptions!$A$5:$D$9,4,FALSE),999999)),"Review start capacity",IF(AND($J22<>"",$K22<>"Canceled",SUMPRODUCT(($J$5:$J$154=$J22)*($K$5:$K$154<>"Canceled")*(ROW($A$5:$A$154)<>ROW())*(IFERROR($B$5:$B$154+$C$5:$C$154,0)<IFERROR($D22+$E22,0))*(IFERROR($D$5:$D$154+$E$5:$E$154,0)>IFERROR($B22+$C22,0)))>0),"Review assignment overlap","OK")))))))
L23: =IF($H23="","",IFERROR(VLOOKUP($H23,Assumptions!$A$5:$D$9,3,FALSE),"")) | M23: =IF(OR(NOT(ISNUMBER($I23)),NOT(ISNUMBER($L23))),"",IFERROR($I23*$L23,"")) | N23: =IF($A23="","",IF(COUNTIF($A$5:$A$154,$A23)>1,"Review duplicate ID",IF(OR(NOT(ISNUMBER($B23)),NOT(ISNUMBER($C23)),NOT(ISNUMBER($D23)),NOT(ISNUMBER($E23))),"Review dates/times",IF(IFERROR($D23+$E23,0)<=IFERROR($B23+$C23,0),"Review end time",IF(AND($K23="Confirmed",$J23=""),"Assign staff",IF(AND($H23<>"",$B23<>"",COUNTIFS($H$5:$H$154,$H23,$B$5:$B$154,$B23,$K$5:$K$154,"<>Canceled")>IFERROR(VLOOKUP($H23,Assumptions!$A$5:$D$9,4,FALSE),999999)),"Review start capacity",IF(AND($J23<>"",$K23<>"Canceled",SUMPRODUCT(($J$5:$J$154=$J23)*($K$5:$K$154<>"Canceled")*(ROW($A$5:$A$154)<>ROW())*(IFERROR($B$5:$B$154+$C$5:$C$154,0)<IFERROR($D23+$E23,0))*(IFERROR($D$5:$D$154+$E$5:$E$154,0)>IFERROR($B23+$C23,0)))>0),"Review assignment overlap","OK")))))))
L24: =IF($H24="","",IFERROR(VLOOKUP($H24,Assumptions!$A$5:$D$9,3,FALSE),"")) | M24: =IF(OR(NOT(ISNUMBER($I24)),NOT(ISNUMBER($L24))),"",IFERROR($I24*$L24,"")) | N24: =IF($A24="","",IF(COUNTIF($A$5:$A$154,$A24)>1,"Review duplicate ID",IF(OR(NOT(ISNUMBER($B24)),NOT(ISNUMBER($C24)),NOT(ISNUMBER($D24)),NOT(ISNUMBER($E24))),"Review dates/times",IF(IFERROR($D24+$E24,0)<=IFERROR($B24+$C24,0),"Review end time",IF(AND($K24="Confirmed",$J24=""),"Assign staff",IF(AND($H24<>"",$B24<>"",COUNTIFS($H$5:$H$154,$H24,$B$5:$B$154,$B24,$K$5:$K$154,"<>Canceled")>IFERROR(VLOOKUP($H24,Assumptions!$A$5:$D$9,4,FALSE),999999)),"Review start capacity",IF(AND($J24<>"",$K24<>"Canceled",SUMPRODUCT(($J$5:$J$154=$J24)*($K$5:$K$154<>"Canceled")*(ROW($A$5:$A$154)<>ROW())*(IFERROR($B$5:$B$154+$C$5:$C$154,0)<IFERROR($D24+$E24,0))*(IFERROR($D$5:$D$154+$E$5:$E$154,0)>IFERROR($B24+$C24,0)))>0),"Review assignment overlap","OK")))))))
L25: =IF($H25="","",IFERROR(VLOOKUP($H25,Assumptions!$A$5:$D$9,3,FALSE),"")) | M25: =IF(OR(NOT(ISNUMBER($I25)),NOT(ISNUMBER($L25))),"",IFERROR($I25*$L25,"")) | N25: =IF($A25="","",IF(COUNTIF($A$5:$A$154,$A25)>1,"Review duplicate ID",IF(OR(NOT(ISNUMBER($B25)),NOT(ISNUMBER($C25)),NOT(ISNUMBER($D25)),NOT(ISNUMBER($E25))),"Review dates/times",IF(IFERROR($D25+$E25,0)<=IFERROR($B25+$C25,0),"Review end time",IF(AND($K25="Confirmed",$J25=""),"Assign staff",IF(AND($H25<>"",$B25<>"",COUNTIFS($H$5:$H$154,$H25,$B$5:$B$154,$B25,$K$5:$K$154,"<>Canceled")>IFERROR(VLOOKUP($H25,Assumptions!$A$5:$D$9,4,FALSE),999999)),"Review start capacity",IF(AND($J25<>"",$K25<>"Canceled",SUMPRODUCT(($J$5:$J$154=$J25)*($K$5:$K$154<>"Canceled")*(ROW($A$5:$A$154)<>ROW())*(IFERROR($B$5:$B$154+$C$5:$C$154,0)<IFERROR($D25+$E25,0))*(IFERROR($D$5:$D$154+$E$5:$E$154,0)>IFERROR($B25+$C25,0)))>0),"Review assignment overlap","OK")))))))
L26: =IF($H26="","",IFERROR(VLOOKUP($H26,Assumptions!$A$5:$D$9,3,FALSE),"")) | M26: =IF(OR(NOT(ISNUMBER($I26)),NOT(ISNUMBER($L26))),"",IFERROR($I26*$L26,"")) | N26: =IF($A26="","",IF(COUNTIF($A$5:$A$154,$A26)>1,"Review duplicate ID",IF(OR(NOT(ISNUMBER($B26)),NOT(ISNUMBER($C26)),NOT(ISNUMBER($D26)),NOT(ISNUMBER($E26))),"Review dates/times",IF(IFERROR($D26+$E26,0)<=IFERROR($B26+$C26,0),"Review end time",IF(AND($K26="Confirmed",$J26=""),"Assign staff",IF(AND($H26<>"",$B26<>"",COUNTIFS($H$5:$H$154,$H26,$B$5:$B$154,$B26,$K$5:$K$154,"<>Canceled")>IFERROR(VLOOKUP($H26,Assumptions!$A$5:$D$9,4,FALSE),999999)),"Review start capacity",IF(AND($J26<>"",$K26<>"Canceled",SUMPRODUCT(($J$5:$J$154=$J26)*($K$5:$K$154<>"Canceled")*(ROW($A$5:$A$154)<>ROW())*(IFERROR($B$5:$B$154+$C$5:$C$154,0)<IFERROR($D26+$E26,0))*(IFERROR($D$5:$D$154+$E$5:$E$154,0)>IFERROR($B26+$C26,0)))>0),"Review assignment overlap","OK")))))))
L27: =IF($H27="","",IFERROR(VLOOKUP($H27,Assumptions!$A$5:$D$9,3,FALSE),"")) | M27: =IF(OR(NOT(ISNUMBER($I27)),NOT(ISNUMBER($L27))),"",IFERROR($I27*$L27,"")) | N27: =IF($A27="","",IF(COUNTIF($A$5:$A$154,$A27)>1,"Review duplicate ID",IF(OR(NOT(ISNUMBER($B27)),NOT(ISNUMBER($C27)),NOT(ISNUMBER($D27)),NOT(ISNUMBER($E27))),"Review dates/times",IF(IFERROR($D27+$E27,0)<=IFERROR($B27+$C27,0),"Review end time",IF(AND($K27="Confirmed",$J27=""),"Assign staff",IF(AND($H27<>"",$B27<>"",COUNTIFS($H$5:$H$154,$H27,$B$5:$B$154,$B27,$K$5:$K$154,"<>Canceled")>IFERROR(VLOOKUP($H27,Assumptions!$A$5:$D$9,4,FALSE),999999)),"Review start capacity",IF(AND($J27<>"",$K27<>"Canceled",SUMPRODUCT(($J$5:$J$154=$J27)*($K$5:$K$154<>"Canceled")*(ROW($A$5:$A$154)<>ROW())*(IFERROR($B$5:$B$154+$C$5:$C$154,0)<IFERROR($D27+$E27,0))*(IFERROR($D$5:$D$154+$E$5:$E$154,0)>IFERROR($B27+$C27,0)))>0),"Review assignment overlap","OK")))))))
L28: =IF($H28="","",IFERROR(VLOOKUP($H28,Assumptions!$A$5:$D$9,3,FALSE),"")) | M28: =IF(OR(NOT(ISNUMBER($I28)),NOT(ISNUMBER($L28))),"",IFERROR($I28*$L28,"")) | N28: =IF($A28="","",IF(COUNTIF($A$5:$A$154,$A28)>1,"Review duplicate ID",IF(OR(NOT(ISNUMBER($B28)),NOT(ISNUMBER($C28)),NOT(ISNUMBER($D28)),NOT(ISNUMBER($E28))),"Review dates/times",IF(IFERROR($D28+$E28,0)<=IFERROR($B28+$C28,0),"Review end time",IF(AND($K28="Confirmed",$J28=""),"Assign staff",IF(AND($H28<>"",$B28<>"",COUNTIFS($H$5:$H$154,$H28,$B$5:$B$154,$B28,$K$5:$K$154,"<>Canceled")>IFERROR(VLOOKUP($H28,Assumptions!$A$5:$D$9,4,FALSE),999999)),"Review start capacity",IF(AND($J28<>"",$K28<>"Canceled",SUMPRODUCT(($J$5:$J$154=$J28)*($K$5:$K$154<>"Canceled")*(ROW($A$5:$A$154)<>ROW())*(IFERROR($B$5:$B$154+$C$5:$C$154,0)<IFERROR($D28+$E28,0))*(IFERROR($D$5:$D$154+$E$5:$E$154,0)>IFERROR($B28+$C28,0)))>0),"Review assignment overlap","OK")))))))
... L154: =IF($H154="","",IFERROR(VLOOKUP($H154,Assumptions!$A$5:$D$9,3,FALSE),"")) | M154: =IF(OR(NOT(ISNUMBER($I154)),NOT(ISNUMBER($L154))),"",IFERROR($I154*$L154,"")) | N154: =IF($A154="","",IF(COUNTIF($A$5:$A$154,$A154)>1,"Review duplicate ID",IF(OR(NOT(ISNUMBER($B154)),NOT(ISNUMBER($C154)),NOT(ISNUMBER($D154)),NOT(ISNUMBER($E154))),"Review dates/times",IF(IFERROR($D154+$E154,0)<=IFERROR($B154+$C154,0),"Review end time",IF(AND($K154="Confirmed",$J154=""),"Assign staff",IF(AND($H154<>"",$B154<>"",COUNTIFS($H$5:$H$154,$H154,$B$5:$B$154,$B154,$K$5:$K$154,"<>Canceled")>IFERROR(VLOOKUP($H154,Assumptions!$A$5:$D$9,4,FALSE),999999)),"Review start capacity",IF(AND($J154<>"",$K154<>"Canceled",SUMPRODUCT(($J$5:$J$154=$J154)*($K$5:$K$154<>"Canceled")*(ROW($A$5:$A$154)<>ROW())*(IFERROR($B$5:$B$154+$C$5:$C$154,0)<IFERROR($D154+$E154,0))*(IFERROR($D$5:$D$154+$E$5:$E$154,0)>IFERROR($B154+$C154,0)))>0),"Review assignment overlap","OK")))))))

Sheet Assumptions
A1: Fictional Paws & Paths — Booking Assumptions
A2: Yellow cells are editable planning choices. Rates and limits are estimates, not guarantees.
A4: Service | B4: Billing Unit | C4: Default Rate | D4: Daily Start Limit | G4: Date Entry Window | H4: Editable Date
A5: Grooming | B5: Appointment | C5: 72 | D5: 4 | G5: Earliest service date | H5: 45909
A6: Boarding | B6: Night | C6: 58 | D6: 3 | G6: Latest service date | H6: 47004
A7: Daycare | B7: Day | C7: 34 | D7: 2
A8: Dog Walking | B8: Visit | C8: 24 | D8: 3
A9: Pet Sitting | B9: Visit | C9: 31 | D9: 4 | G9: Planning Notes
G10: Daily start limits count noncanceled booking starts by service and start date.
G11: Owner-supplied care notes are administrative inputs only.
A12: Assignment choices | F12: Status choices
A13: Assignment | F13: Status
A14: Fictional Staff - Rowan | F14: Confirmed
A15: Fictional Staff - Casey | F15: Pending
A16: Fictional Staff - Morgan | F16: Completed
A17: Fictional Staff - Jules | F17: Canceled
