Workbook

Sheet Summary
A1: Cedar Paws Fictional Studio — Pet Service No Show Dashboard
A2: Indicators use entered appointment records; cancellations are shown separately from no shows.
A4: Recorded appointments | B4: =IF(OR(Assumptions!$B$3="",Assumptions!$B$4="",Assumptions!$B$3>Assumptions!$B$4),"",COUNTIFS(Appointments!$A$4:$A$103,"<>",Appointments!$B$4:$B$103,">="&Assumptions!$B$3,Appointments!$B$4:$B$103,"<="&Assumptions!$B$4)) | C4: Completed | D4: =IF(OR(Assumptions!$B$3="",Assumptions!$B$4="",Assumptions!$B$3>Assumptions!$B$4),"",COUNTIFS(Appointments!$B$4:$B$103,">="&Assumptions!$B$3,Appointments!$B$4:$B$103,"<="&Assumptions!$B$4,Appointments!$H$4:$H$103,"Completed")) | E4: No shows | F4: =IF(OR(Assumptions!$B$3="",Assumptions!$B$4="",Assumptions!$B$3>Assumptions!$B$4),"",COUNTIFS(Appointments!$B$4:$B$103,">="&Assumptions!$B$3,Appointments!$B$4:$B$103,"<="&Assumptions!$B$4,Appointments!$H$4:$H$103,"No Show")) | G4: Cancellations | H4: =IF(OR(Assumptions!$B$3="",Assumptions!$B$4="",Assumptions!$B$3>Assumptions!$B$4),"",COUNTIFS(Appointments!$B$4:$B$103,">="&Assumptions!$B$3,Appointments!$B$4:$B$103,"<="&Assumptions!$B$4,Appointments!$H$4:$H$103,"Canceled")) | I4: Reporting start | J4: =IF(Assumptions!$B$3="","",Assumptions!$B$3) | K4: Reporting end | L4: =IF(Assumptions!$B$4="","",Assumptions!$B$4) | M4: Review threshold | N4: =IF(Assumptions!$B$5="","",Assumptions!$B$5)
A6: No-show rate | B6: =IFERROR(F4/(D4+F4),"") | C6: No-show scheduled amount | D6: =IF(OR(Assumptions!$B$3="",Assumptions!$B$4="",Assumptions!$B$3>Assumptions!$B$4),"",SUMIFS(Appointments!$I$4:$I$103,Appointments!$B$4:$B$103,">="&Assumptions!$B$3,Appointments!$B$4:$B$103,"<="&Assumptions!$B$4,Appointments!$H$4:$H$103,"No Show")) | E6: Clients to review | F6: =IF(OR(Assumptions!$B$3="",Assumptions!$B$4="",Assumptions!$B$3>Assumptions!$B$4),"",COUNTIF($N$26:$N$55,"Review")) | G6: Average no-show amount | H6: =IFERROR(D6/F4,"")
A9: Service | B9: Completed | C9: No Shows | D9: Canceled | E9: No-show Rate | F9: No-show Scheduled Amount
A10: =IF(Assumptions!$F$3="","",Assumptions!$F$3) | B10: =IF($A10="","",COUNTIFS(Appointments!$F$4:$F$103,$A10,Appointments!$B$4:$B$103,">="&Assumptions!$B$3,Appointments!$B$4:$B$103,"<="&Assumptions!$B$4,Appointments!$H$4:$H$103,"Completed")) | C10: =IF($A10="","",COUNTIFS(Appointments!$F$4:$F$103,$A10,Appointments!$B$4:$B$103,">="&Assumptions!$B$3,Appointments!$B$4:$B$103,"<="&Assumptions!$B$4,Appointments!$H$4:$H$103,"No Show")) | D10: =IF($A10="","",COUNTIFS(Appointments!$F$4:$F$103,$A10,Appointments!$B$4:$B$103,">="&Assumptions!$B$3,Appointments!$B$4:$B$103,"<="&Assumptions!$B$4,Appointments!$H$4:$H$103,"Canceled")) | E10: =IFERROR(C10/(B10+C10),"") | F10: =IF($A10="","",SUMIFS(Appointments!$I$4:$I$103,Appointments!$F$4:$F$103,$A10,Appointments!$B$4:$B$103,">="&Assumptions!$B$3,Appointments!$B$4:$B$103,"<="&Assumptions!$B$4,Appointments!$H$4:$H$103,"No Show"))
A11: =IF(Assumptions!$F$4="","",Assumptions!$F$4) | B11: =IF($A11="","",COUNTIFS(Appointments!$F$4:$F$103,$A11,Appointments!$B$4:$B$103,">="&Assumptions!$B$3,Appointments!$B$4:$B$103,"<="&Assumptions!$B$4,Appointments!$H$4:$H$103,"Completed")) | C11: =IF($A11="","",COUNTIFS(Appointments!$F$4:$F$103,$A11,Appointments!$B$4:$B$103,">="&Assumptions!$B$3,Appointments!$B$4:$B$103,"<="&Assumptions!$B$4,Appointments!$H$4:$H$103,"No Show")) | D11: =IF($A11="","",COUNTIFS(Appointments!$F$4:$F$103,$A11,Appointments!$B$4:$B$103,">="&Assumptions!$B$3,Appointments!$B$4:$B$103,"<="&Assumptions!$B$4,Appointments!$H$4:$H$103,"Canceled")) | E11: =IFERROR(C11/(B11+C11),"") | F11: =IF($A11="","",SUMIFS(Appointments!$I$4:$I$103,Appointments!$F$4:$F$103,$A11,Appointments!$B$4:$B$103,">="&Assumptions!$B$3,Appointments!$B$4:$B$103,"<="&Assumptions!$B$4,Appointments!$H$4:$H$103,"No Show"))
A12: =IF(Assumptions!$F$5="","",Assumptions!$F$5) | B12: =IF($A12="","",COUNTIFS(Appointments!$F$4:$F$103,$A12,Appointments!$B$4:$B$103,">="&Assumptions!$B$3,Appointments!$B$4:$B$103,"<="&Assumptions!$B$4,Appointments!$H$4:$H$103,"Completed")) | C12: =IF($A12="","",COUNTIFS(Appointments!$F$4:$F$103,$A12,Appointments!$B$4:$B$103,">="&Assumptions!$B$3,Appointments!$B$4:$B$103,"<="&Assumptions!$B$4,Appointments!$H$4:$H$103,"No Show")) | D12: =IF($A12="","",COUNTIFS(Appointments!$F$4:$F$103,$A12,Appointments!$B$4:$B$103,">="&Assumptions!$B$3,Appointments!$B$4:$B$103,"<="&Assumptions!$B$4,Appointments!$H$4:$H$103,"Canceled")) | E12: =IFERROR(C12/(B12+C12),"") | F12: =IF($A12="","",SUMIFS(Appointments!$I$4:$I$103,Appointments!$F$4:$F$103,$A12,Appointments!$B$4:$B$103,">="&Assumptions!$B$3,Appointments!$B$4:$B$103,"<="&Assumptions!$B$4,Appointments!$H$4:$H$103,"No Show"))
A13: =IF(Assumptions!$F$6="","",Assumptions!$F$6) | B13: =IF($A13="","",COUNTIFS(Appointments!$F$4:$F$103,$A13,Appointments!$B$4:$B$103,">="&Assumptions!$B$3,Appointments!$B$4:$B$103,"<="&Assumptions!$B$4,Appointments!$H$4:$H$103,"Completed")) | C13: =IF($A13="","",COUNTIFS(Appointments!$F$4:$F$103,$A13,Appointments!$B$4:$B$103,">="&Assumptions!$B$3,Appointments!$B$4:$B$103,"<="&Assumptions!$B$4,Appointments!$H$4:$H$103,"No Show")) | D13: =IF($A13="","",COUNTIFS(Appointments!$F$4:$F$103,$A13,Appointments!$B$4:$B$103,">="&Assumptions!$B$3,Appointments!$B$4:$B$103,"<="&Assumptions!$B$4,Appointments!$H$4:$H$103,"Canceled")) | E13: =IFERROR(C13/(B13+C13),"") | F13: =IF($A13="","",SUMIFS(Appointments!$I$4:$I$103,Appointments!$F$4:$F$103,$A13,Appointments!$B$4:$B$103,">="&Assumptions!$B$3,Appointments!$B$4:$B$103,"<="&Assumptions!$B$4,Appointments!$H$4:$H$103,"No Show"))
A14: =IF(Assumptions!$F$7="","",Assumptions!$F$7) | B14: =IF($A14="","",COUNTIFS(Appointments!$F$4:$F$103,$A14,Appointments!$B$4:$B$103,">="&Assumptions!$B$3,Appointments!$B$4:$B$103,"<="&Assumptions!$B$4,Appointments!$H$4:$H$103,"Completed")) | C14: =IF($A14="","",COUNTIFS(Appointments!$F$4:$F$103,$A14,Appointments!$B$4:$B$103,">="&Assumptions!$B$3,Appointments!$B$4:$B$103,"<="&Assumptions!$B$4,Appointments!$H$4:$H$103,"No Show")) | D14: =IF($A14="","",COUNTIFS(Appointments!$F$4:$F$103,$A14,Appointments!$B$4:$B$103,">="&Assumptions!$B$3,Appointments!$B$4:$B$103,"<="&Assumptions!$B$4,Appointments!$H$4:$H$103,"Canceled")) | E14: =IFERROR(C14/(B14+C14),"") | F14: =IF($A14="","",SUMIFS(Appointments!$I$4:$I$103,Appointments!$F$4:$F$103,$A14,Appointments!$B$4:$B$103,">="&Assumptions!$B$3,Appointments!$B$4:$B$103,"<="&Assumptions!$B$4,Appointments!$H$4:$H$103,"No Show"))
A15: =IF(Assumptions!$F$8="","",Assumptions!$F$8) | B15: =IF($A15="","",COUNTIFS(Appointments!$F$4:$F$103,$A15,Appointments!$B$4:$B$103,">="&Assumptions!$B$3,Appointments!$B$4:$B$103,"<="&Assumptions!$B$4,Appointments!$H$4:$H$103,"Completed")) | C15: =IF($A15="","",COUNTIFS(Appointments!$F$4:$F$103,$A15,Appointments!$B$4:$B$103,">="&Assumptions!$B$3,Appointments!$B$4:$B$103,"<="&Assumptions!$B$4,Appointments!$H$4:$H$103,"No Show")) | D15: =IF($A15="","",COUNTIFS(Appointments!$F$4:$F$103,$A15,Appointments!$B$4:$B$103,">="&Assumptions!$B$3,Appointments!$B$4:$B$103,"<="&Assumptions!$B$4,Appointments!$H$4:$H$103,"Canceled")) | E15: =IFERROR(C15/(B15+C15),"") | F15: =IF($A15="","",SUMIFS(Appointments!$I$4:$I$103,Appointments!$F$4:$F$103,$A15,Appointments!$B$4:$B$103,">="&Assumptions!$B$3,Appointments!$B$4:$B$103,"<="&Assumptions!$B$4,Appointments!$H$4:$H$103,"No Show"))
A19: Month | B19: Completed | C19: No Shows | D19: Canceled | E19: No-show Rate | F19: No-show Scheduled Amount
A20: =IF(OR(Assumptions!$B$3="",Assumptions!$B$4="",Assumptions!$B$3>Assumptions!$B$4),"",DATE(YEAR(Assumptions!$B$4),MONTH(Assumptions!$B$4)-5,1)) | B20: =IF($A20="","",COUNTIFS(Appointments!$B$4:$B$103,">="&MAX($A20,Assumptions!$B$3),Appointments!$B$4:$B$103,"<"&MIN(DATE(YEAR($A20),MONTH($A20)+1,1),Assumptions!$B$4+1),Appointments!$H$4:$H$103,"Completed")) | C20: =IF($A20="","",COUNTIFS(Appointments!$B$4:$B$103,">="&MAX($A20,Assumptions!$B$3),Appointments!$B$4:$B$103,"<"&MIN(DATE(YEAR($A20),MONTH($A20)+1,1),Assumptions!$B$4+1),Appointments!$H$4:$H$103,"No Show")) | D20: =IF($A20="","",COUNTIFS(Appointments!$B$4:$B$103,">="&MAX($A20,Assumptions!$B$3),Appointments!$B$4:$B$103,"<"&MIN(DATE(YEAR($A20),MONTH($A20)+1,1),Assumptions!$B$4+1),Appointments!$H$4:$H$103,"Canceled")) | E20: =IFERROR(C20/(B20+C20),"") | F20: =IF($A20="","",SUMIFS(Appointments!$I$4:$I$103,Appointments!$B$4:$B$103,">="&MAX($A20,Assumptions!$B$3),Appointments!$B$4:$B$103,"<"&MIN(DATE(YEAR($A20),MONTH($A20)+1,1),Assumptions!$B$4+1),Appointments!$H$4:$H$103,"No Show"))
A21: =IF($A20="","",DATE(YEAR($A20),MONTH($A20)+1,1)) | B21: =IF($A21="","",COUNTIFS(Appointments!$B$4:$B$103,">="&MAX($A21,Assumptions!$B$3),Appointments!$B$4:$B$103,"<"&MIN(DATE(YEAR($A21),MONTH($A21)+1,1),Assumptions!$B$4+1),Appointments!$H$4:$H$103,"Completed")) | C21: =IF($A21="","",COUNTIFS(Appointments!$B$4:$B$103,">="&MAX($A21,Assumptions!$B$3),Appointments!$B$4:$B$103,"<"&MIN(DATE(YEAR($A21),MONTH($A21)+1,1),Assumptions!$B$4+1),Appointments!$H$4:$H$103,"No Show")) | D21: =IF($A21="","",COUNTIFS(Appointments!$B$4:$B$103,">="&MAX($A21,Assumptions!$B$3),Appointments!$B$4:$B$103,"<"&MIN(DATE(YEAR($A21),MONTH($A21)+1,1),Assumptions!$B$4+1),Appointments!$H$4:$H$103,"Canceled")) | E21: =IFERROR(C21/(B21+C21),"") | F21: =IF($A21="","",SUMIFS(Appointments!$I$4:$I$103,Appointments!$B$4:$B$103,">="&MAX($A21,Assumptions!$B$3),Appointments!$B$4:$B$103,"<"&MIN(DATE(YEAR($A21),MONTH($A21)+1,1),Assumptions!$B$4+1),Appointments!$H$4:$H$103,"No Show"))
A22: =IF($A21="","",DATE(YEAR($A21),MONTH($A21)+1,1)) | B22: =IF($A22="","",COUNTIFS(Appointments!$B$4:$B$103,">="&MAX($A22,Assumptions!$B$3),Appointments!$B$4:$B$103,"<"&MIN(DATE(YEAR($A22),MONTH($A22)+1,1),Assumptions!$B$4+1),Appointments!$H$4:$H$103,"Completed")) | C22: =IF($A22="","",COUNTIFS(Appointments!$B$4:$B$103,">="&MAX($A22,Assumptions!$B$3),Appointments!$B$4:$B$103,"<"&MIN(DATE(YEAR($A22),MONTH($A22)+1,1),Assumptions!$B$4+1),Appointments!$H$4:$H$103,"No Show")) | D22: =IF($A22="","",COUNTIFS(Appointments!$B$4:$B$103,">="&MAX($A22,Assumptions!$B$3),Appointments!$B$4:$B$103,"<"&MIN(DATE(YEAR($A22),MONTH($A22)+1,1),Assumptions!$B$4+1),Appointments!$H$4:$H$103,"Canceled")) | E22: =IFERROR(C22/(B22+C22),"") | F22: =IF($A22="","",SUMIFS(Appointments!$I$4:$I$103,Appointments!$B$4:$B$103,">="&MAX($A22,Assumptions!$B$3),Appointments!$B$4:$B$103,"<"&MIN(DATE(YEAR($A22),MONTH($A22)+1,1),Assumptions!$B$4+1),Appointments!$H$4:$H$103,"No Show"))
A23: =IF($A22="","",DATE(YEAR($A22),MONTH($A22)+1,1)) | B23: =IF($A23="","",COUNTIFS(Appointments!$B$4:$B$103,">="&MAX($A23,Assumptions!$B$3),Appointments!$B$4:$B$103,"<"&MIN(DATE(YEAR($A23),MONTH($A23)+1,1),Assumptions!$B$4+1),Appointments!$H$4:$H$103,"Completed")) | C23: =IF($A23="","",COUNTIFS(Appointments!$B$4:$B$103,">="&MAX($A23,Assumptions!$B$3),Appointments!$B$4:$B$103,"<"&MIN(DATE(YEAR($A23),MONTH($A23)+1,1),Assumptions!$B$4+1),Appointments!$H$4:$H$103,"No Show")) | D23: =IF($A23="","",COUNTIFS(Appointments!$B$4:$B$103,">="&MAX($A23,Assumptions!$B$3),Appointments!$B$4:$B$103,"<"&MIN(DATE(YEAR($A23),MONTH($A23)+1,1),Assumptions!$B$4+1),Appointments!$H$4:$H$103,"Canceled")) | E23: =IFERROR(C23/(B23+C23),"") | F23: =IF($A23="","",SUMIFS(Appointments!$I$4:$I$103,Appointments!$B$4:$B$103,">="&MAX($A23,Assumptions!$B$3),Appointments!$B$4:$B$103,"<"&MIN(DATE(YEAR($A23),MONTH($A23)+1,1),Assumptions!$B$4+1),Appointments!$H$4:$H$103,"No Show"))
A24: =IF($A23="","",DATE(YEAR($A23),MONTH($A23)+1,1)) | B24: =IF($A24="","",COUNTIFS(Appointments!$B$4:$B$103,">="&MAX($A24,Assumptions!$B$3),Appointments!$B$4:$B$103,"<"&MIN(DATE(YEAR($A24),MONTH($A24)+1,1),Assumptions!$B$4+1),Appointments!$H$4:$H$103,"Completed")) | C24: =IF($A24="","",COUNTIFS(Appointments!$B$4:$B$103,">="&MAX($A24,Assumptions!$B$3),Appointments!$B$4:$B$103,"<"&MIN(DATE(YEAR($A24),MONTH($A24)+1,1),Assumptions!$B$4+1),Appointments!$H$4:$H$103,"No Show")) | D24: =IF($A24="","",COUNTIFS(Appointments!$B$4:$B$103,">="&MAX($A24,Assumptions!$B$3),Appointments!$B$4:$B$103,"<"&MIN(DATE(YEAR($A24),MONTH($A24)+1,1),Assumptions!$B$4+1),Appointments!$H$4:$H$103,"Canceled")) | E24: =IFERROR(C24/(B24+C24),"") | F24: =IF($A24="","",SUMIFS(Appointments!$I$4:$I$103,Appointments!$B$4:$B$103,">="&MAX($A24,Assumptions!$B$3),Appointments!$B$4:$B$103,"<"&MIN(DATE(YEAR($A24),MONTH($A24)+1,1),Assumptions!$B$4+1),Appointments!$H$4:$H$103,"No Show"))
A25: =IF($A24="","",DATE(YEAR($A24),MONTH($A24)+1,1)) | B25: =IF($A25="","",COUNTIFS(Appointments!$B$4:$B$103,">="&MAX($A25,Assumptions!$B$3),Appointments!$B$4:$B$103,"<"&MIN(DATE(YEAR($A25),MONTH($A25)+1,1),Assumptions!$B$4+1),Appointments!$H$4:$H$103,"Completed")) | C25: =IF($A25="","",COUNTIFS(Appointments!$B$4:$B$103,">="&MAX($A25,Assumptions!$B$3),Appointments!$B$4:$B$103,"<"&MIN(DATE(YEAR($A25),MONTH($A25)+1,1),Assumptions!$B$4+1),Appointments!$H$4:$H$103,"No Show")) | D25: =IF($A25="","",COUNTIFS(Appointments!$B$4:$B$103,">="&MAX($A25,Assumptions!$B$3),Appointments!$B$4:$B$103,"<"&MIN(DATE(YEAR($A25),MONTH($A25)+1,1),Assumptions!$B$4+1),Appointments!$H$4:$H$103,"Canceled")) | E25: =IFERROR(C25/(B25+C25),"") | F25: =IF($A25="","",SUMIFS(Appointments!$I$4:$I$103,Appointments!$B$4:$B$103,">="&MAX($A25,Assumptions!$B$3),Appointments!$B$4:$B$103,"<"&MIN(DATE(YEAR($A25),MONTH($A25)+1,1),Assumptions!$B$4+1),Appointments!$H$4:$H$103,"No Show")) | H25: Client | I25: Completed | J25: No Shows | K25: Canceled | L25: No-show Rate | M25: No-show Scheduled Amount | N25: Human Check
H26: =IF(Assumptions!$D$3="","",Assumptions!$D$3) | I26: =IF($H26="","",COUNTIFS(Appointments!$D$4:$D$103,$H26,Appointments!$B$4:$B$103,">="&Assumptions!$B$3,Appointments!$B$4:$B$103,"<="&Assumptions!$B$4,Appointments!$H$4:$H$103,"Completed")) | J26: =IF($H26="","",COUNTIFS(Appointments!$D$4:$D$103,$H26,Appointments!$B$4:$B$103,">="&Assumptions!$B$3,Appointments!$B$4:$B$103,"<="&Assumptions!$B$4,Appointments!$H$4:$H$103,"No Show")) | K26: =IF($H26="","",COUNTIFS(Appointments!$D$4:$D$103,$H26,Appointments!$B$4:$B$103,">="&Assumptions!$B$3,Appointments!$B$4:$B$103,"<="&Assumptions!$B$4,Appointments!$H$4:$H$103,"Canceled")) | L26: =IFERROR(J26/(I26+J26),"") | M26: =IF($H26="","",SUMIFS(Appointments!$I$4:$I$103,Appointments!$D$4:$D$103,$H26,Appointments!$B$4:$B$103,">="&Assumptions!$B$3,Appointments!$B$4:$B$103,"<="&Assumptions!$B$4,Appointments!$H$4:$H$103,"No Show")) | N26: =IF($H26="","",IF(J26>=Assumptions!$B$5,"Review",""))
H27: =IF(Assumptions!$D$4="","",Assumptions!$D$4) | I27: =IF($H27="","",COUNTIFS(Appointments!$D$4:$D$103,$H27,Appointments!$B$4:$B$103,">="&Assumptions!$B$3,Appointments!$B$4:$B$103,"<="&Assumptions!$B$4,Appointments!$H$4:$H$103,"Completed")) | J27: =IF($H27="","",COUNTIFS(Appointments!$D$4:$D$103,$H27,Appointments!$B$4:$B$103,">="&Assumptions!$B$3,Appointments!$B$4:$B$103,"<="&Assumptions!$B$4,Appointments!$H$4:$H$103,"No Show")) | K27: =IF($H27="","",COUNTIFS(Appointments!$D$4:$D$103,$H27,Appointments!$B$4:$B$103,">="&Assumptions!$B$3,Appointments!$B$4:$B$103,"<="&Assumptions!$B$4,Appointments!$H$4:$H$103,"Canceled")) | L27: =IFERROR(J27/(I27+J27),"") | M27: =IF($H27="","",SUMIFS(Appointments!$I$4:$I$103,Appointments!$D$4:$D$103,$H27,Appointments!$B$4:$B$103,">="&Assumptions!$B$3,Appointments!$B$4:$B$103,"<="&Assumptions!$B$4,Appointments!$H$4:$H$103,"No Show")) | N27: =IF($H27="","",IF(J27>=Assumptions!$B$5,"Review",""))
H28: =IF(Assumptions!$D$5="","",Assumptions!$D$5) | I28: =IF($H28="","",COUNTIFS(Appointments!$D$4:$D$103,$H28,Appointments!$B$4:$B$103,">="&Assumptions!$B$3,Appointments!$B$4:$B$103,"<="&Assumptions!$B$4,Appointments!$H$4:$H$103,"Completed")) | J28: =IF($H28="","",COUNTIFS(Appointments!$D$4:$D$103,$H28,Appointments!$B$4:$B$103,">="&Assumptions!$B$3,Appointments!$B$4:$B$103,"<="&Assumptions!$B$4,Appointments!$H$4:$H$103,"No Show")) | K28: =IF($H28="","",COUNTIFS(Appointments!$D$4:$D$103,$H28,Appointments!$B$4:$B$103,">="&Assumptions!$B$3,Appointments!$B$4:$B$103,"<="&Assumptions!$B$4,Appointments!$H$4:$H$103,"Canceled")) | L28: =IFERROR(J28/(I28+J28),"") | M28: =IF($H28="","",SUMIFS(Appointments!$I$4:$I$103,Appointments!$D$4:$D$103,$H28,Appointments!$B$4:$B$103,">="&Assumptions!$B$3,Appointments!$B$4:$B$103,"<="&Assumptions!$B$4,Appointments!$H$4:$H$103,"No Show")) | N28: =IF($H28="","",IF(J28>=Assumptions!$B$5,"Review",""))
H29: =IF(Assumptions!$D$6="","",Assumptions!$D$6) | I29: =IF($H29="","",COUNTIFS(Appointments!$D$4:$D$103,$H29,Appointments!$B$4:$B$103,">="&Assumptions!$B$3,Appointments!$B$4:$B$103,"<="&Assumptions!$B$4,Appointments!$H$4:$H$103,"Completed")) | J29: =IF($H29="","",COUNTIFS(Appointments!$D$4:$D$103,$H29,Appointments!$B$4:$B$103,">="&Assumptions!$B$3,Appointments!$B$4:$B$103,"<="&Assumptions!$B$4,Appointments!$H$4:$H$103,"No Show")) | K29: =IF($H29="","",COUNTIFS(Appointments!$D$4:$D$103,$H29,Appointments!$B$4:$B$103,">="&Assumptions!$B$3,Appointments!$B$4:$B$103,"<="&Assumptions!$B$4,Appointments!$H$4:$H$103,"Canceled")) | L29: =IFERROR(J29/(I29+J29),"") | M29: =IF($H29="","",SUMIFS(Appointments!$I$4:$I$103,Appointments!$D$4:$D$103,$H29,Appointments!$B$4:$B$103,">="&Assumptions!$B$3,Appointments!$B$4:$B$103,"<="&Assumptions!$B$4,Appointments!$H$4:$H$103,"No Show")) | N29: =IF($H29="","",IF(J29>=Assumptions!$B$5,"Review",""))
H30: =IF(Assumptions!$D$7="","",Assumptions!$D$7) | I30: =IF($H30="","",COUNTIFS(Appointments!$D$4:$D$103,$H30,Appointments!$B$4:$B$103,">="&Assumptions!$B$3,Appointments!$B$4:$B$103,"<="&Assumptions!$B$4,Appointments!$H$4:$H$103,"Completed")) | J30: =IF($H30="","",COUNTIFS(Appointments!$D$4:$D$103,$H30,Appointments!$B$4:$B$103,">="&Assumptions!$B$3,Appointments!$B$4:$B$103,"<="&Assumptions!$B$4,Appointments!$H$4:$H$103,"No Show")) | K30: =IF($H30="","",COUNTIFS(Appointments!$D$4:$D$103,$H30,Appointments!$B$4:$B$103,">="&Assumptions!$B$3,Appointments!$B$4:$B$103,"<="&Assumptions!$B$4,Appointments!$H$4:$H$103,"Canceled")) | L30: =IFERROR(J30/(I30+J30),"") | M30: =IF($H30="","",SUMIFS(Appointments!$I$4:$I$103,Appointments!$D$4:$D$103,$H30,Appointments!$B$4:$B$103,">="&Assumptions!$B$3,Appointments!$B$4:$B$103,"<="&Assumptions!$B$4,Appointments!$H$4:$H$103,"No Show")) | N30: =IF($H30="","",IF(J30>=Assumptions!$B$5,"Review",""))
H31: =IF(Assumptions!$D$8="","",Assumptions!$D$8) | I31: =IF($H31="","",COUNTIFS(Appointments!$D$4:$D$103,$H31,Appointments!$B$4:$B$103,">="&Assumptions!$B$3,Appointments!$B$4:$B$103,"<="&Assumptions!$B$4,Appointments!$H$4:$H$103,"Completed")) | J31: =IF($H31="","",COUNTIFS(Appointments!$D$4:$D$103,$H31,Appointments!$B$4:$B$103,">="&Assumptions!$B$3,Appointments!$B$4:$B$103,"<="&Assumptions!$B$4,Appointments!$H$4:$H$103,"No Show")) | K31: =IF($H31="","",COUNTIFS(Appointments!$D$4:$D$103,$H31,Appointments!$B$4:$B$103,">="&Assumptions!$B$3,Appointments!$B$4:$B$103,"<="&Assumptions!$B$4,Appointments!$H$4:$H$103,"Canceled")) | L31: =IFERROR(J31/(I31+J31),"") | M31: =IF($H31="","",SUMIFS(Appointments!$I$4:$I$103,Appointments!$D$4:$D$103,$H31,Appointments!$B$4:$B$103,">="&Assumptions!$B$3,Appointments!$B$4:$B$103,"<="&Assumptions!$B$4,Appointments!$H$4:$H$103,"No Show")) | N31: =IF($H31="","",IF(J31>=Assumptions!$B$5,"Review",""))
H32: =IF(Assumptions!$D$9="","",Assumptions!$D$9) | I32: =IF($H32="","",COUNTIFS(Appointments!$D$4:$D$103,$H32,Appointments!$B$4:$B$103,">="&Assumptions!$B$3,Appointments!$B$4:$B$103,"<="&Assumptions!$B$4,Appointments!$H$4:$H$103,"Completed")) | J32: =IF($H32="","",COUNTIFS(Appointments!$D$4:$D$103,$H32,Appointments!$B$4:$B$103,">="&Assumptions!$B$3,Appointments!$B$4:$B$103,"<="&Assumptions!$B$4,Appointments!$H$4:$H$103,"No Show")) | K32: =IF($H32="","",COUNTIFS(Appointments!$D$4:$D$103,$H32,Appointments!$B$4:$B$103,">="&Assumptions!$B$3,Appointments!$B$4:$B$103,"<="&Assumptions!$B$4,Appointments!$H$4:$H$103,"Canceled")) | L32: =IFERROR(J32/(I32+J32),"") | M32: =IF($H32="","",SUMIFS(Appointments!$I$4:$I$103,Appointments!$D$4:$D$103,$H32,Appointments!$B$4:$B$103,">="&Assumptions!$B$3,Appointments!$B$4:$B$103,"<="&Assumptions!$B$4,Appointments!$H$4:$H$103,"No Show")) | N32: =IF($H32="","",IF(J32>=Assumptions!$B$5,"Review",""))
H33: =IF(Assumptions!$D$10="","",Assumptions!$D$10) | I33: =IF($H33="","",COUNTIFS(Appointments!$D$4:$D$103,$H33,Appointments!$B$4:$B$103,">="&Assumptions!$B$3,Appointments!$B$4:$B$103,"<="&Assumptions!$B$4,Appointments!$H$4:$H$103,"Completed")) | J33: =IF($H33="","",COUNTIFS(Appointments!$D$4:$D$103,$H33,Appointments!$B$4:$B$103,">="&Assumptions!$B$3,Appointments!$B$4:$B$103,"<="&Assumptions!$B$4,Appointments!$H$4:$H$103,"No Show")) | K33: =IF($H33="","",COUNTIFS(Appointments!$D$4:$D$103,$H33,Appointments!$B$4:$B$103,">="&Assumptions!$B$3,Appointments!$B$4:$B$103,"<="&Assumptions!$B$4,Appointments!$H$4:$H$103,"Canceled")) | L33: =IFERROR(J33/(I33+J33),"") | M33: =IF($H33="","",SUMIFS(Appointments!$I$4:$I$103,Appointments!$D$4:$D$103,$H33,Appointments!$B$4:$B$103,">="&Assumptions!$B$3,Appointments!$B$4:$B$103,"<="&Assumptions!$B$4,Appointments!$H$4:$H$103,"No Show")) | N33: =IF($H33="","",IF(J33>=Assumptions!$B$5,"Review",""))
H34: =IF(Assumptions!$D$11="","",Assumptions!$D$11) | I34: =IF($H34="","",COUNTIFS(Appointments!$D$4:$D$103,$H34,Appointments!$B$4:$B$103,">="&Assumptions!$B$3,Appointments!$B$4:$B$103,"<="&Assumptions!$B$4,Appointments!$H$4:$H$103,"Completed")) | J34: =IF($H34="","",COUNTIFS(Appointments!$D$4:$D$103,$H34,Appointments!$B$4:$B$103,">="&Assumptions!$B$3,Appointments!$B$4:$B$103,"<="&Assumptions!$B$4,Appointments!$H$4:$H$103,"No Show")) | K34: =IF($H34="","",COUNTIFS(Appointments!$D$4:$D$103,$H34,Appointments!$B$4:$B$103,">="&Assumptions!$B$3,Appointments!$B$4:$B$103,"<="&Assumptions!$B$4,Appointments!$H$4:$H$103,"Canceled")) | L34: =IFERROR(J34/(I34+J34),"") | M34: =IF($H34="","",SUMIFS(Appointments!$I$4:$I$103,Appointments!$D$4:$D$103,$H34,Appointments!$B$4:$B$103,">="&Assumptions!$B$3,Appointments!$B$4:$B$103,"<="&Assumptions!$B$4,Appointments!$H$4:$H$103,"No Show")) | N34: =IF($H34="","",IF(J34>=Assumptions!$B$5,"Review",""))
H35: =IF(Assumptions!$D$12="","",Assumptions!$D$12) | I35: =IF($H35="","",COUNTIFS(Appointments!$D$4:$D$103,$H35,Appointments!$B$4:$B$103,">="&Assumptions!$B$3,Appointments!$B$4:$B$103,"<="&Assumptions!$B$4,Appointments!$H$4:$H$103,"Completed")) | J35: =IF($H35="","",COUNTIFS(Appointments!$D$4:$D$103,$H35,Appointments!$B$4:$B$103,">="&Assumptions!$B$3,Appointments!$B$4:$B$103,"<="&Assumptions!$B$4,Appointments!$H$4:$H$103,"No Show")) | K35: =IF($H35="","",COUNTIFS(Appointments!$D$4:$D$103,$H35,Appointments!$B$4:$B$103,">="&Assumptions!$B$3,Appointments!$B$4:$B$103,"<="&Assumptions!$B$4,Appointments!$H$4:$H$103,"Canceled")) | L35: =IFERROR(J35/(I35+J35),"") | M35: =IF($H35="","",SUMIFS(Appointments!$I$4:$I$103,Appointments!$D$4:$D$103,$H35,Appointments!$B$4:$B$103,">="&Assumptions!$B$3,Appointments!$B$4:$B$103,"<="&Assumptions!$B$4,Appointments!$H$4:$H$103,"No Show")) | N35: =IF($H35="","",IF(J35>=Assumptions!$B$5,"Review",""))
H36: =IF(Assumptions!$D$13="","",Assumptions!$D$13) | I36: =IF($H36="","",COUNTIFS(Appointments!$D$4:$D$103,$H36,Appointments!$B$4:$B$103,">="&Assumptions!$B$3,Appointments!$B$4:$B$103,"<="&Assumptions!$B$4,Appointments!$H$4:$H$103,"Completed")) | J36: =IF($H36="","",COUNTIFS(Appointments!$D$4:$D$103,$H36,Appointments!$B$4:$B$103,">="&Assumptions!$B$3,Appointments!$B$4:$B$103,"<="&Assumptions!$B$4,Appointments!$H$4:$H$103,"No Show")) | K36: =IF($H36="","",COUNTIFS(Appointments!$D$4:$D$103,$H36,Appointments!$B$4:$B$103,">="&Assumptions!$B$3,Appointments!$B$4:$B$103,"<="&Assumptions!$B$4,Appointments!$H$4:$H$103,"Canceled")) | L36: =IFERROR(J36/(I36+J36),"") | M36: =IF($H36="","",SUMIFS(Appointments!$I$4:$I$103,Appointments!$D$4:$D$103,$H36,Appointments!$B$4:$B$103,">="&Assumptions!$B$3,Appointments!$B$4:$B$103,"<="&Assumptions!$B$4,Appointments!$H$4:$H$103,"No Show")) | N36: =IF($H36="","",IF(J36>=Assumptions!$B$5,"Review",""))
H37: =IF(Assumptions!$D$14="","",Assumptions!$D$14) | I37: =IF($H37="","",COUNTIFS(Appointments!$D$4:$D$103,$H37,Appointments!$B$4:$B$103,">="&Assumptions!$B$3,Appointments!$B$4:$B$103,"<="&Assumptions!$B$4,Appointments!$H$4:$H$103,"Completed")) | J37: =IF($H37="","",COUNTIFS(Appointments!$D$4:$D$103,$H37,Appointments!$B$4:$B$103,">="&Assumptions!$B$3,Appointments!$B$4:$B$103,"<="&Assumptions!$B$4,Appointments!$H$4:$H$103,"No Show")) | K37: =IF($H37="","",COUNTIFS(Appointments!$D$4:$D$103,$H37,Appointments!$B$4:$B$103,">="&Assumptions!$B$3,Appointments!$B$4:$B$103,"<="&Assumptions!$B$4,Appointments!$H$4:$H$103,"Canceled")) | L37: =IFERROR(J37/(I37+J37),"") | M37: =IF($H37="","",SUMIFS(Appointments!$I$4:$I$103,Appointments!$D$4:$D$103,$H37,Appointments!$B$4:$B$103,">="&Assumptions!$B$3,Appointments!$B$4:$B$103,"<="&Assumptions!$B$4,Appointments!$H$4:$H$103,"No Show")) | N37: =IF($H37="","",IF(J37>=Assumptions!$B$5,"Review",""))
H38: =IF(Assumptions!$D$15="","",Assumptions!$D$15) | I38: =IF($H38="","",COUNTIFS(Appointments!$D$4:$D$103,$H38,Appointments!$B$4:$B$103,">="&Assumptions!$B$3,Appointments!$B$4:$B$103,"<="&Assumptions!$B$4,Appointments!$H$4:$H$103,"Completed")) | J38: =IF($H38="","",COUNTIFS(Appointments!$D$4:$D$103,$H38,Appointments!$B$4:$B$103,">="&Assumptions!$B$3,Appointments!$B$4:$B$103,"<="&Assumptions!$B$4,Appointments!$H$4:$H$103,"No Show")) | K38: =IF($H38="","",COUNTIFS(Appointments!$D$4:$D$103,$H38,Appointments!$B$4:$B$103,">="&Assumptions!$B$3,Appointments!$B$4:$B$103,"<="&Assumptions!$B$4,Appointments!$H$4:$H$103,"Canceled")) | L38: =IFERROR(J38/(I38+J38),"") | M38: =IF($H38="","",SUMIFS(Appointments!$I$4:$I$103,Appointments!$D$4:$D$103,$H38,Appointments!$B$4:$B$103,">="&Assumptions!$B$3,Appointments!$B$4:$B$103,"<="&Assumptions!$B$4,Appointments!$H$4:$H$103,"No Show")) | N38: =IF($H38="","",IF(J38>=Assumptions!$B$5,"Review",""))
H39: =IF(Assumptions!$D$16="","",Assumptions!$D$16) | I39: =IF($H39="","",COUNTIFS(Appointments!$D$4:$D$103,$H39,Appointments!$B$4:$B$103,">="&Assumptions!$B$3,Appointments!$B$4:$B$103,"<="&Assumptions!$B$4,Appointments!$H$4:$H$103,"Completed")) | J39: =IF($H39="","",COUNTIFS(Appointments!$D$4:$D$103,$H39,Appointments!$B$4:$B$103,">="&Assumptions!$B$3,Appointments!$B$4:$B$103,"<="&Assumptions!$B$4,Appointments!$H$4:$H$103,"No Show")) | K39: =IF($H39="","",COUNTIFS(Appointments!$D$4:$D$103,$H39,Appointments!$B$4:$B$103,">="&Assumptions!$B$3,Appointments!$B$4:$B$103,"<="&Assumptions!$B$4,Appointments!$H$4:$H$103,"Canceled")) | L39: =IFERROR(J39/(I39+J39),"") | M39: =IF($H39="","",SUMIFS(Appointments!$I$4:$I$103,Appointments!$D$4:$D$103,$H39,Appointments!$B$4:$B$103,">="&Assumptions!$B$3,Appointments!$B$4:$B$103,"<="&Assumptions!$B$4,Appointments!$H$4:$H$103,"No Show")) | N39: =IF($H39="","",IF(J39>=Assumptions!$B$5,"Review",""))
H40: =IF(Assumptions!$D$17="","",Assumptions!$D$17) | I40: =IF($H40="","",COUNTIFS(Appointments!$D$4:$D$103,$H40,Appointments!$B$4:$B$103,">="&Assumptions!$B$3,Appointments!$B$4:$B$103,"<="&Assumptions!$B$4,Appointments!$H$4:$H$103,"Completed")) | J40: =IF($H40="","",COUNTIFS(Appointments!$D$4:$D$103,$H40,Appointments!$B$4:$B$103,">="&Assumptions!$B$3,Appointments!$B$4:$B$103,"<="&Assumptions!$B$4,Appointments!$H$4:$H$103,"No Show")) | K40: =IF($H40="","",COUNTIFS(Appointments!$D$4:$D$103,$H40,Appointments!$B$4:$B$103,">="&Assumptions!$B$3,Appointments!$B$4:$B$103,"<="&Assumptions!$B$4,Appointments!$H$4:$H$103,"Canceled")) | L40: =IFERROR(J40/(I40+J40),"") | M40: =IF($H40="","",SUMIFS(Appointments!$I$4:$I$103,Appointments!$D$4:$D$103,$H40,Appointments!$B$4:$B$103,">="&Assumptions!$B$3,Appointments!$B$4:$B$103,"<="&Assumptions!$B$4,Appointments!$H$4:$H$103,"No Show")) | N40: =IF($H40="","",IF(J40>=Assumptions!$B$5,"Review",""))
H41: =IF(Assumptions!$D$18="","",Assumptions!$D$18) | I41: =IF($H41="","",COUNTIFS(Appointments!$D$4:$D$103,$H41,Appointments!$B$4:$B$103,">="&Assumptions!$B$3,Appointments!$B$4:$B$103,"<="&Assumptions!$B$4,Appointments!$H$4:$H$103,"Completed")) | J41: =IF($H41="","",COUNTIFS(Appointments!$D$4:$D$103,$H41,Appointments!$B$4:$B$103,">="&Assumptions!$B$3,Appointments!$B$4:$B$103,"<="&Assumptions!$B$4,Appointments!$H$4:$H$103,"No Show")) | K41: =IF($H41="","",COUNTIFS(Appointments!$D$4:$D$103,$H41,Appointments!$B$4:$B$103,">="&Assumptions!$B$3,Appointments!$B$4:$B$103,"<="&Assumptions!$B$4,Appointments!$H$4:$H$103,"Canceled")) | L41: =IFERROR(J41/(I41+J41),"") | M41: =IF($H41="","",SUMIFS(Appointments!$I$4:$I$103,Appointments!$D$4:$D$103,$H41,Appointments!$B$4:$B$103,">="&Assumptions!$B$3,Appointments!$B$4:$B$103,"<="&Assumptions!$B$4,Appointments!$H$4:$H$103,"No Show")) | N41: =IF($H41="","",IF(J41>=Assumptions!$B$5,"Review",""))
H42: =IF(Assumptions!$D$19="","",Assumptions!$D$19) | I42: =IF($H42="","",COUNTIFS(Appointments!$D$4:$D$103,$H42,Appointments!$B$4:$B$103,">="&Assumptions!$B$3,Appointments!$B$4:$B$103,"<="&Assumptions!$B$4,Appointments!$H$4:$H$103,"Completed")) | J42: =IF($H42="","",COUNTIFS(Appointments!$D$4:$D$103,$H42,Appointments!$B$4:$B$103,">="&Assumptions!$B$3,Appointments!$B$4:$B$103,"<="&Assumptions!$B$4,Appointments!$H$4:$H$103,"No Show")) | K42: =IF($H42="","",COUNTIFS(Appointments!$D$4:$D$103,$H42,Appointments!$B$4:$B$103,">="&Assumptions!$B$3,Appointments!$B$4:$B$103,"<="&Assumptions!$B$4,Appointments!$H$4:$H$103,"Canceled")) | L42: =IFERROR(J42/(I42+J42),"") | M42: =IF($H42="","",SUMIFS(Appointments!$I$4:$I$103,Appointments!$D$4:$D$103,$H42,Appointments!$B$4:$B$103,">="&Assumptions!$B$3,Appointments!$B$4:$B$103,"<="&Assumptions!$B$4,Appointments!$H$4:$H$103,"No Show")) | N42: =IF($H42="","",IF(J42>=Assumptions!$B$5,"Review",""))
H43: =IF(Assumptions!$D$20="","",Assumptions!$D$20) | I43: =IF($H43="","",COUNTIFS(Appointments!$D$4:$D$103,$H43,Appointments!$B$4:$B$103,">="&Assumptions!$B$3,Appointments!$B$4:$B$103,"<="&Assumptions!$B$4,Appointments!$H$4:$H$103,"Completed")) | J43: =IF($H43="","",COUNTIFS(Appointments!$D$4:$D$103,$H43,Appointments!$B$4:$B$103,">="&Assumptions!$B$3,Appointments!$B$4:$B$103,"<="&Assumptions!$B$4,Appointments!$H$4:$H$103,"No Show")) | K43: =IF($H43="","",COUNTIFS(Appointments!$D$4:$D$103,$H43,Appointments!$B$4:$B$103,">="&Assumptions!$B$3,Appointments!$B$4:$B$103,"<="&Assumptions!$B$4,Appointments!$H$4:$H$103,"Canceled")) | L43: =IFERROR(J43/(I43+J43),"") | M43: =IF($H43="","",SUMIFS(Appointments!$I$4:$I$103,Appointments!$D$4:$D$103,$H43,Appointments!$B$4:$B$103,">="&Assumptions!$B$3,Appointments!$B$4:$B$103,"<="&Assumptions!$B$4,Appointments!$H$4:$H$103,"No Show")) | N43: =IF($H43="","",IF(J43>=Assumptions!$B$5,"Review",""))
H44: =IF(Assumptions!$D$21="","",Assumptions!$D$21) | I44: =IF($H44="","",COUNTIFS(Appointments!$D$4:$D$103,$H44,Appointments!$B$4:$B$103,">="&Assumptions!$B$3,Appointments!$B$4:$B$103,"<="&Assumptions!$B$4,Appointments!$H$4:$H$103,"Completed")) | J44: =IF($H44="","",COUNTIFS(Appointments!$D$4:$D$103,$H44,Appointments!$B$4:$B$103,">="&Assumptions!$B$3,Appointments!$B$4:$B$103,"<="&Assumptions!$B$4,Appointments!$H$4:$H$103,"No Show")) | K44: =IF($H44="","",COUNTIFS(Appointments!$D$4:$D$103,$H44,Appointments!$B$4:$B$103,">="&Assumptions!$B$3,Appointments!$B$4:$B$103,"<="&Assumptions!$B$4,Appointments!$H$4:$H$103,"Canceled")) | L44: =IFERROR(J44/(I44+J44),"") | M44: =IF($H44="","",SUMIFS(Appointments!$I$4:$I$103,Appointments!$D$4:$D$103,$H44,Appointments!$B$4:$B$103,">="&Assumptions!$B$3,Appointments!$B$4:$B$103,"<="&Assumptions!$B$4,Appointments!$H$4:$H$103,"No Show")) | N44: =IF($H44="","",IF(J44>=Assumptions!$B$5,"Review",""))
H45: =IF(Assumptions!$D$22="","",Assumptions!$D$22) | I45: =IF($H45="","",COUNTIFS(Appointments!$D$4:$D$103,$H45,Appointments!$B$4:$B$103,">="&Assumptions!$B$3,Appointments!$B$4:$B$103,"<="&Assumptions!$B$4,Appointments!$H$4:$H$103,"Completed")) | J45: =IF($H45="","",COUNTIFS(Appointments!$D$4:$D$103,$H45,Appointments!$B$4:$B$103,">="&Assumptions!$B$3,Appointments!$B$4:$B$103,"<="&Assumptions!$B$4,Appointments!$H$4:$H$103,"No Show")) | K45: =IF($H45="","",COUNTIFS(Appointments!$D$4:$D$103,$H45,Appointments!$B$4:$B$103,">="&Assumptions!$B$3,Appointments!$B$4:$B$103,"<="&Assumptions!$B$4,Appointments!$H$4:$H$103,"Canceled")) | L45: =IFERROR(J45/(I45+J45),"") | M45: =IF($H45="","",SUMIFS(Appointments!$I$4:$I$103,Appointments!$D$4:$D$103,$H45,Appointments!$B$4:$B$103,">="&Assumptions!$B$3,Appointments!$B$4:$B$103,"<="&Assumptions!$B$4,Appointments!$H$4:$H$103,"No Show")) | N45: =IF($H45="","",IF(J45>=Assumptions!$B$5,"Review",""))
H46: =IF(Assumptions!$D$23="","",Assumptions!$D$23) | I46: =IF($H46="","",COUNTIFS(Appointments!$D$4:$D$103,$H46,Appointments!$B$4:$B$103,">="&Assumptions!$B$3,Appointments!$B$4:$B$103,"<="&Assumptions!$B$4,Appointments!$H$4:$H$103,"Completed")) | J46: =IF($H46="","",COUNTIFS(Appointments!$D$4:$D$103,$H46,Appointments!$B$4:$B$103,">="&Assumptions!$B$3,Appointments!$B$4:$B$103,"<="&Assumptions!$B$4,Appointments!$H$4:$H$103,"No Show")) | K46: =IF($H46="","",COUNTIFS(Appointments!$D$4:$D$103,$H46,Appointments!$B$4:$B$103,">="&Assumptions!$B$3,Appointments!$B$4:$B$103,"<="&Assumptions!$B$4,Appointments!$H$4:$H$103,"Canceled")) | L46: =IFERROR(J46/(I46+J46),"") | M46: =IF($H46="","",SUMIFS(Appointments!$I$4:$I$103,Appointments!$D$4:$D$103,$H46,Appointments!$B$4:$B$103,">="&Assumptions!$B$3,Appointments!$B$4:$B$103,"<="&Assumptions!$B$4,Appointments!$H$4:$H$103,"No Show")) | N46: =IF($H46="","",IF(J46>=Assumptions!$B$5,"Review",""))
H47: =IF(Assumptions!$D$24="","",Assumptions!$D$24) | I47: =IF($H47="","",COUNTIFS(Appointments!$D$4:$D$103,$H47,Appointments!$B$4:$B$103,">="&Assumptions!$B$3,Appointments!$B$4:$B$103,"<="&Assumptions!$B$4,Appointments!$H$4:$H$103,"Completed")) | J47: =IF($H47="","",COUNTIFS(Appointments!$D$4:$D$103,$H47,Appointments!$B$4:$B$103,">="&Assumptions!$B$3,Appointments!$B$4:$B$103,"<="&Assumptions!$B$4,Appointments!$H$4:$H$103,"No Show")) | K47: =IF($H47="","",COUNTIFS(Appointments!$D$4:$D$103,$H47,Appointments!$B$4:$B$103,">="&Assumptions!$B$3,Appointments!$B$4:$B$103,"<="&Assumptions!$B$4,Appointments!$H$4:$H$103,"Canceled")) | L47: =IFERROR(J47/(I47+J47),"") | M47: =IF($H47="","",SUMIFS(Appointments!$I$4:$I$103,Appointments!$D$4:$D$103,$H47,Appointments!$B$4:$B$103,">="&Assumptions!$B$3,Appointments!$B$4:$B$103,"<="&Assumptions!$B$4,Appointments!$H$4:$H$103,"No Show")) | N47: =IF($H47="","",IF(J47>=Assumptions!$B$5,"Review",""))
...

Sheet Appointments
A1: Appointment Records
A2: Yellow cells are editable. "Check status" is a prompt for human review.
A3: Appointment ID | B3: Service Date | C3: Start Time | D3: Client | E3: Pet | F3: Service | G3: Assigned To | H3: Status | I3: Scheduled Amount | J3: Booked Hours | K3: Month | L3: No Show Flag | M3: Canceled Flag | N3: Check
A4: DEMO-001 | B4: 46115 | C4: 0.375 | D4: Taylor Sample | E4: Biscuit Demo | F4: Bath & Brush | G4: Riley Demo | H4: Completed | I4: 55 | J4: 1 | K4: =IF(B4="","",TEXT(B4,"mmm yyyy")) | L4: =IF(OR(A4="",H4=""),"",IF(H4="No Show",1,0)) | M4: =IF(OR(A4="",H4=""),"",IF(H4="Canceled",1,0)) | N4: =IF(A4="","",IF(AND(B4<>"",B4<TODAY(),H4="Scheduled"),"Check status",""))
A5: DEMO-002 | B5: 46130 | C5: 0.33333333 | D5: Morgan Example | E5: Pixel Sample | F5: Dog Daycare | G5: Jamie Sample | H5: No Show | I5: 38 | J5: 8 | K5: =IF(B5="","",TEXT(B5,"mmm yyyy")) | L5: =IF(OR(A5="",H5=""),"",IF(H5="No Show",1,0)) | M5: =IF(OR(A5="",H5=""),"",IF(H5="Canceled",1,0)) | N5: =IF(A5="","",IF(AND(B5<>"",B5<TODAY(),H5="Scheduled"),"Check status",""))
A6: DEMO-003 | B6: 46145 | C6: 0.625 | D6: Casey Fictional | E6: Comet Demo | F6: Pet Boarding | G6: Rowan Example | H6: Canceled | I6: 240 | J6: 24 | K6: =IF(B6="","",TEXT(B6,"mmm yyyy")) | L6: =IF(OR(A6="",H6=""),"",IF(H6="No Show",1,0)) | M6: =IF(OR(A6="",H6=""),"",IF(H6="Canceled",1,0)) | N6: =IF(A6="","",IF(AND(B6<>"",B6<TODAY(),H6="Scheduled"),"Check status",""))
A7: DEMO-004 | B7: 46153 | C7: 0.52083333 | D7: Avery Sample | E7: Waffles Demo | F7: Dog Walking | G7: Quinn Fictional | H7: Completed | I7: 30 | J7: 0.5 | K7: =IF(B7="","",TEXT(B7,"mmm yyyy")) | L7: =IF(OR(A7="",H7=""),"",IF(H7="No Show",1,0)) | M7: =IF(OR(A7="",H7=""),"",IF(H7="Canceled",1,0)) | N7: =IF(A7="","",IF(AND(B7<>"",B7<TODAY(),H7="Scheduled"),"Check status",""))
A8: DEMO-005 | B8: 46193 | C8: 0.41666667 | D8: Morgan Example | E8: Pixel Sample | F8: Full Groom | G8: Riley Demo | H8: No Show | I8: 90 | J8: 2 | K8: =IF(B8="","",TEXT(B8,"mmm yyyy")) | L8: =IF(OR(A8="",H8=""),"",IF(H8="No Show",1,0)) | M8: =IF(OR(A8="",H8=""),"",IF(H8="Canceled",1,0)) | N8: =IF(A8="","",IF(AND(B8<>"",B8<TODAY(),H8="Scheduled"),"Check status",""))
A9: DEMO-006 | B9: 46209 | C9: 0.75 | D9: Jordan Demo | E9: Clover Sample | F9: Pet Sitting | G9: Jamie Sample | H9: Completed | I9: 120 | J9: 3 | K9: =IF(B9="","",TEXT(B9,"mmm yyyy")) | L9: =IF(OR(A9="",H9=""),"",IF(H9="No Show",1,0)) | M9: =IF(OR(A9="",H9=""),"",IF(H9="Canceled",1,0)) | N9: =IF(A9="","",IF(AND(B9<>"",B9<TODAY(),H9="Scheduled"),"Check status",""))
A10: DEMO-007 | B10: 46218 | C10: 0.5625 | D10: Taylor Sample | E10: Biscuit Demo | F10: Bath & Brush | G10: Riley Demo | H10: Canceled | I10: 55 | J10: 1 | K10: =IF(B10="","",TEXT(B10,"mmm yyyy")) | L10: =IF(OR(A10="",H10=""),"",IF(H10="No Show",1,0)) | M10: =IF(OR(A10="",H10=""),"",IF(H10="Canceled",1,0)) | N10: =IF(A10="","",IF(AND(B10<>"",B10<TODAY(),H10="Scheduled"),"Check status",""))
A11: DEMO-008 | B11: 46243 | C11: 0.66666667 | D11: Avery Sample | E11: Waffles Demo | F11: Pet Boarding | G11: Rowan Example | H11: No Show | I11: 210 | J11: 24 | K11: =IF(B11="","",TEXT(B11,"mmm yyyy")) | L11: =IF(OR(A11="",H11=""),"",IF(H11="No Show",1,0)) | M11: =IF(OR(A11="",H11=""),"",IF(H11="Canceled",1,0)) | N11: =IF(A11="","",IF(AND(B11<>"",B11<TODAY(),H11="Scheduled"),"Check status",""))
A12: DEMO-009 | B12: 46267 | C12: 0.3125 | D12: Casey Fictional | E12: Comet Demo | F12: Dog Daycare | G12: Jamie Sample | H12: Completed | I12: 42 | J12: 8 | K12: =IF(B12="","",TEXT(B12,"mmm yyyy")) | L12: =IF(OR(A12="",H12=""),"",IF(H12="No Show",1,0)) | M12: =IF(OR(A12="",H12=""),"",IF(H12="Canceled",1,0)) | N12: =IF(A12="","",IF(AND(B12<>"",B12<TODAY(),H12="Scheduled"),"Check status",""))
A13: DEMO-010 | B13: 46280 | C13: 0.45833333 | D13: Jordan Demo | E13: Clover Sample | F13: Dog Walking | G13: Quinn Fictional | H13: Scheduled | I13: 32 | J13: 0.5 | K13: =IF(B13="","",TEXT(B13,"mmm yyyy")) | L13: =IF(OR(A13="",H13=""),"",IF(H13="No Show",1,0)) | M13: =IF(OR(A13="",H13=""),"",IF(H13="Canceled",1,0)) | N13: =IF(A13="","",IF(AND(B13<>"",B13<TODAY(),H13="Scheduled"),"Check status",""))
K14: =IF(B14="","",TEXT(B14,"mmm yyyy")) | L14: =IF(OR(A14="",H14=""),"",IF(H14="No Show",1,0)) | M14: =IF(OR(A14="",H14=""),"",IF(H14="Canceled",1,0)) | N14: =IF(A14="","",IF(AND(B14<>"",B14<TODAY(),H14="Scheduled"),"Check status",""))
K15: =IF(B15="","",TEXT(B15,"mmm yyyy")) | L15: =IF(OR(A15="",H15=""),"",IF(H15="No Show",1,0)) | M15: =IF(OR(A15="",H15=""),"",IF(H15="Canceled",1,0)) | N15: =IF(A15="","",IF(AND(B15<>"",B15<TODAY(),H15="Scheduled"),"Check status",""))
K16: =IF(B16="","",TEXT(B16,"mmm yyyy")) | L16: =IF(OR(A16="",H16=""),"",IF(H16="No Show",1,0)) | M16: =IF(OR(A16="",H16=""),"",IF(H16="Canceled",1,0)) | N16: =IF(A16="","",IF(AND(B16<>"",B16<TODAY(),H16="Scheduled"),"Check status",""))
K17: =IF(B17="","",TEXT(B17,"mmm yyyy")) | L17: =IF(OR(A17="",H17=""),"",IF(H17="No Show",1,0)) | M17: =IF(OR(A17="",H17=""),"",IF(H17="Canceled",1,0)) | N17: =IF(A17="","",IF(AND(B17<>"",B17<TODAY(),H17="Scheduled"),"Check status",""))
K18: =IF(B18="","",TEXT(B18,"mmm yyyy")) | L18: =IF(OR(A18="",H18=""),"",IF(H18="No Show",1,0)) | M18: =IF(OR(A18="",H18=""),"",IF(H18="Canceled",1,0)) | N18: =IF(A18="","",IF(AND(B18<>"",B18<TODAY(),H18="Scheduled"),"Check status",""))
K19: =IF(B19="","",TEXT(B19,"mmm yyyy")) | L19: =IF(OR(A19="",H19=""),"",IF(H19="No Show",1,0)) | M19: =IF(OR(A19="",H19=""),"",IF(H19="Canceled",1,0)) | N19: =IF(A19="","",IF(AND(B19<>"",B19<TODAY(),H19="Scheduled"),"Check status",""))
K20: =IF(B20="","",TEXT(B20,"mmm yyyy")) | L20: =IF(OR(A20="",H20=""),"",IF(H20="No Show",1,0)) | M20: =IF(OR(A20="",H20=""),"",IF(H20="Canceled",1,0)) | N20: =IF(A20="","",IF(AND(B20<>"",B20<TODAY(),H20="Scheduled"),"Check status",""))
K21: =IF(B21="","",TEXT(B21,"mmm yyyy")) | L21: =IF(OR(A21="",H21=""),"",IF(H21="No Show",1,0)) | M21: =IF(OR(A21="",H21=""),"",IF(H21="Canceled",1,0)) | N21: =IF(A21="","",IF(AND(B21<>"",B21<TODAY(),H21="Scheduled"),"Check status",""))
K22: =IF(B22="","",TEXT(B22,"mmm yyyy")) | L22: =IF(OR(A22="",H22=""),"",IF(H22="No Show",1,0)) | M22: =IF(OR(A22="",H22=""),"",IF(H22="Canceled",1,0)) | N22: =IF(A22="","",IF(AND(B22<>"",B22<TODAY(),H22="Scheduled"),"Check status",""))
K23: =IF(B23="","",TEXT(B23,"mmm yyyy")) | L23: =IF(OR(A23="",H23=""),"",IF(H23="No Show",1,0)) | M23: =IF(OR(A23="",H23=""),"",IF(H23="Canceled",1,0)) | N23: =IF(A23="","",IF(AND(B23<>"",B23<TODAY(),H23="Scheduled"),"Check status",""))
K24: =IF(B24="","",TEXT(B24,"mmm yyyy")) | L24: =IF(OR(A24="",H24=""),"",IF(H24="No Show",1,0)) | M24: =IF(OR(A24="",H24=""),"",IF(H24="Canceled",1,0)) | N24: =IF(A24="","",IF(AND(B24<>"",B24<TODAY(),H24="Scheduled"),"Check status",""))
K25: =IF(B25="","",TEXT(B25,"mmm yyyy")) | L25: =IF(OR(A25="",H25=""),"",IF(H25="No Show",1,0)) | M25: =IF(OR(A25="",H25=""),"",IF(H25="Canceled",1,0)) | N25: =IF(A25="","",IF(AND(B25<>"",B25<TODAY(),H25="Scheduled"),"Check status",""))
... K103: =IF(B103="","",TEXT(B103,"mmm yyyy")) | L103: =IF(OR(A103="",H103=""),"",IF(H103="No Show",1,0)) | M103: =IF(OR(A103="",H103=""),"",IF(H103="Canceled",1,0)) | N103: =IF(A103="","",IF(AND(B103<>"",B103<TODAY(),H103="Scheduled"),"Check status",""))

Sheet Assumptions
A1: Editable Assumptions and Lists
A2: Setting | B2: Value | D2: Client List | F2: Service List | H2: Team Member List | J2: Status List
A3: Reporting start | B3: 46113 | D3: Taylor Sample | F3: Full Groom | H3: Riley Demo | J3: Scheduled
A4: Reporting end | B4: 46295 | D4: Morgan Example | F4: Bath & Brush | H4: Jamie Sample | J4: Completed
A5: No-show review count | B5: 2 | D5: Casey Fictional | F5: Dog Daycare | H5: Rowan Example | J5: No Show
A6: Earliest allowed service date | B6: 45292 | D6: Avery Sample | F6: Pet Boarding | H6: Quinn Fictional | J6: Canceled
A7: Latest allowed service date | B7: 47848 | D7: Jordan Demo | F7: Dog Walking
A8: Maximum booked hours | B8: 24 | D8: Reese Example | F8: Pet Sitting
A9: Maximum scheduled amount | B9: 500
