Workbook

Sheet Summary
A1: Pet Service Staff Availability Planner — Summary
A2: Calculated indicators from fictional staff and availability records.
A3: Planning Window Starts | B3: =IF(Assumptions!$B$5="","",Assumptions!$B$5) | C3: Planning Window Ends | D3: =IF(OR(Assumptions!$B$5="",Assumptions!$B$6=""),"",Assumptions!$B$5+Assumptions!$B$6-1)
A5: Current Indicators
A6: Active staff | B6: =COUNTIF(Staff!$G$5:$G$104,Assumptions!$I$5)
A7: Available entries in window | B7: =IF(OR($B$3="",$D$3=""),"",COUNTIFS(Availability!$A$5:$A$104,"<>",Availability!$D$5:$D$104,">="&$B$3,Availability!$D$5:$D$104,"<="&$D$3,Availability!$G$5:$G$104,Assumptions!$E$5))
A8: Confirmed available hours | B8: =IF(OR($B$3="",$D$3=""),"",SUMIFS(Availability!$K$5:$K$104,Availability!$A$5:$A$104,"<>",Availability!$D$5:$D$104,">="&$B$3,Availability!$D$5:$D$104,"<="&$D$3,Availability!$G$5:$G$104,Assumptions!$E$5,Availability!$L$5:$L$104,Assumptions!$F$6))
A9: Tentative entries in window | B9: =IF(OR($B$3="",$D$3=""),"",COUNTIFS(Availability!$A$5:$A$104,"<>",Availability!$D$5:$D$104,">="&$B$3,Availability!$D$5:$D$104,"<="&$D$3,Availability!$G$5:$G$104,Assumptions!$E$6))
A10: Entries not confirmed | B10: =IF(OR($B$3="",$D$3=""),"",COUNTIFS(Availability!$A$5:$A$104,"<>",Availability!$D$5:$D$104,">="&$B$3,Availability!$D$5:$D$104,"<="&$D$3,Availability!$L$5:$L$104,"<>"&Assumptions!$F$6))
A11: Availability alerts to review | B11: =IF(OR($B$3="",$D$3=""),"",COUNTIFS(Availability!$A$5:$A$104,"<>",Availability!$D$5:$D$104,">="&$B$3,Availability!$D$5:$D$104,"<="&$D$3,Availability!$N$5:$N$104,"<>Ready for review"))
A12: Staff records to review | B12: =COUNTIFS(Staff!$A$5:$A$104,"<>",Staff!$I$5:$I$104,"<>Ready")
A14: Preferred Service | B14: Available Entries | C14: Confirmed Hours | D14: Tentative Entries
A15: =IF(Assumptions!$G$5="","",Assumptions!$G$5) | B15: =IF(OR($A15="",$B$3="",$D$3=""),"",COUNTIFS(Availability!$A$5:$A$104,"<>",Availability!$D$5:$D$104,">="&$B$3,Availability!$D$5:$D$104,"<="&$D$3,Availability!$G$5:$G$104,Assumptions!$E$5,Availability!$H$5:$H$104,$A15)) | C15: =IF(OR($A15="",$B$3="",$D$3=""),"",SUMIFS(Availability!$K$5:$K$104,Availability!$A$5:$A$104,"<>",Availability!$D$5:$D$104,">="&$B$3,Availability!$D$5:$D$104,"<="&$D$3,Availability!$G$5:$G$104,Assumptions!$E$5,Availability!$H$5:$H$104,$A15,Availability!$L$5:$L$104,Assumptions!$F$6)) | D15: =IF(OR($A15="",$B$3="",$D$3=""),"",COUNTIFS(Availability!$A$5:$A$104,"<>",Availability!$D$5:$D$104,">="&$B$3,Availability!$D$5:$D$104,"<="&$D$3,Availability!$G$5:$G$104,Assumptions!$E$6,Availability!$H$5:$H$104,$A15))
A16: =IF(Assumptions!$G$6="","",Assumptions!$G$6) | B16: =IF(OR($A16="",$B$3="",$D$3=""),"",COUNTIFS(Availability!$A$5:$A$104,"<>",Availability!$D$5:$D$104,">="&$B$3,Availability!$D$5:$D$104,"<="&$D$3,Availability!$G$5:$G$104,Assumptions!$E$5,Availability!$H$5:$H$104,$A16)) | C16: =IF(OR($A16="",$B$3="",$D$3=""),"",SUMIFS(Availability!$K$5:$K$104,Availability!$A$5:$A$104,"<>",Availability!$D$5:$D$104,">="&$B$3,Availability!$D$5:$D$104,"<="&$D$3,Availability!$G$5:$G$104,Assumptions!$E$5,Availability!$H$5:$H$104,$A16,Availability!$L$5:$L$104,Assumptions!$F$6)) | D16: =IF(OR($A16="",$B$3="",$D$3=""),"",COUNTIFS(Availability!$A$5:$A$104,"<>",Availability!$D$5:$D$104,">="&$B$3,Availability!$D$5:$D$104,"<="&$D$3,Availability!$G$5:$G$104,Assumptions!$E$6,Availability!$H$5:$H$104,$A16))
A17: =IF(Assumptions!$G$7="","",Assumptions!$G$7) | B17: =IF(OR($A17="",$B$3="",$D$3=""),"",COUNTIFS(Availability!$A$5:$A$104,"<>",Availability!$D$5:$D$104,">="&$B$3,Availability!$D$5:$D$104,"<="&$D$3,Availability!$G$5:$G$104,Assumptions!$E$5,Availability!$H$5:$H$104,$A17)) | C17: =IF(OR($A17="",$B$3="",$D$3=""),"",SUMIFS(Availability!$K$5:$K$104,Availability!$A$5:$A$104,"<>",Availability!$D$5:$D$104,">="&$B$3,Availability!$D$5:$D$104,"<="&$D$3,Availability!$G$5:$G$104,Assumptions!$E$5,Availability!$H$5:$H$104,$A17,Availability!$L$5:$L$104,Assumptions!$F$6)) | D17: =IF(OR($A17="",$B$3="",$D$3=""),"",COUNTIFS(Availability!$A$5:$A$104,"<>",Availability!$D$5:$D$104,">="&$B$3,Availability!$D$5:$D$104,"<="&$D$3,Availability!$G$5:$G$104,Assumptions!$E$6,Availability!$H$5:$H$104,$A17))
A18: =IF(Assumptions!$G$8="","",Assumptions!$G$8) | B18: =IF(OR($A18="",$B$3="",$D$3=""),"",COUNTIFS(Availability!$A$5:$A$104,"<>",Availability!$D$5:$D$104,">="&$B$3,Availability!$D$5:$D$104,"<="&$D$3,Availability!$G$5:$G$104,Assumptions!$E$5,Availability!$H$5:$H$104,$A18)) | C18: =IF(OR($A18="",$B$3="",$D$3=""),"",SUMIFS(Availability!$K$5:$K$104,Availability!$A$5:$A$104,"<>",Availability!$D$5:$D$104,">="&$B$3,Availability!$D$5:$D$104,"<="&$D$3,Availability!$G$5:$G$104,Assumptions!$E$5,Availability!$H$5:$H$104,$A18,Availability!$L$5:$L$104,Assumptions!$F$6)) | D18: =IF(OR($A18="",$B$3="",$D$3=""),"",COUNTIFS(Availability!$A$5:$A$104,"<>",Availability!$D$5:$D$104,">="&$B$3,Availability!$D$5:$D$104,"<="&$D$3,Availability!$G$5:$G$104,Assumptions!$E$6,Availability!$H$5:$H$104,$A18))
A19: =IF(Assumptions!$G$9="","",Assumptions!$G$9) | B19: =IF(OR($A19="",$B$3="",$D$3=""),"",COUNTIFS(Availability!$A$5:$A$104,"<>",Availability!$D$5:$D$104,">="&$B$3,Availability!$D$5:$D$104,"<="&$D$3,Availability!$G$5:$G$104,Assumptions!$E$5,Availability!$H$5:$H$104,$A19)) | C19: =IF(OR($A19="",$B$3="",$D$3=""),"",SUMIFS(Availability!$K$5:$K$104,Availability!$A$5:$A$104,"<>",Availability!$D$5:$D$104,">="&$B$3,Availability!$D$5:$D$104,"<="&$D$3,Availability!$G$5:$G$104,Assumptions!$E$5,Availability!$H$5:$H$104,$A19,Availability!$L$5:$L$104,Assumptions!$F$6)) | D19: =IF(OR($A19="",$B$3="",$D$3=""),"",COUNTIFS(Availability!$A$5:$A$104,"<>",Availability!$D$5:$D$104,">="&$B$3,Availability!$D$5:$D$104,"<="&$D$3,Availability!$G$5:$G$104,Assumptions!$E$6,Availability!$H$5:$H$104,$A19))
A20: =IF(Assumptions!$G$10="","",Assumptions!$G$10) | B20: =IF(OR($A20="",$B$3="",$D$3=""),"",COUNTIFS(Availability!$A$5:$A$104,"<>",Availability!$D$5:$D$104,">="&$B$3,Availability!$D$5:$D$104,"<="&$D$3,Availability!$G$5:$G$104,Assumptions!$E$5,Availability!$H$5:$H$104,$A20)) | C20: =IF(OR($A20="",$B$3="",$D$3=""),"",SUMIFS(Availability!$K$5:$K$104,Availability!$A$5:$A$104,"<>",Availability!$D$5:$D$104,">="&$B$3,Availability!$D$5:$D$104,"<="&$D$3,Availability!$G$5:$G$104,Assumptions!$E$5,Availability!$H$5:$H$104,$A20,Availability!$L$5:$L$104,Assumptions!$F$6)) | D20: =IF(OR($A20="",$B$3="",$D$3=""),"",COUNTIFS(Availability!$A$5:$A$104,"<>",Availability!$D$5:$D$104,">="&$B$3,Availability!$D$5:$D$104,"<="&$D$3,Availability!$G$5:$G$104,Assumptions!$E$6,Availability!$H$5:$H$104,$A20))

Sheet Availability
A1: Pet Service Staff Availability Planner — Availability
A2: Enter staff availability for human review before pet service bookings are assigned.
A4: Availability ID | B4: Staff ID | C4: Staff Name | D4: Availability Date | E4: Start Time | F4: End Time | G4: Availability | H4: Preferred Service | I4: Service Area | J4: Max Pets | K4: Window Hours | L4: Confirmation | M4: Scheduling Notes | N4: Review Alert
A5: AV-001 | B5: FX-001 | C5: =IF(B5="","",IFERROR(VLOOKUP(B5,Staff!$A$5:$I$104,2,FALSE),"Staff ID not found")) | D5: 46274 | E5: 0.33333333 | F5: 0.5 | G5: Available | H5: Grooming | I5: North Zone | J5: 4 | K5: =IF(OR(D5="",E5="",F5=""),"",IF(F5<=E5,"",IFERROR(ROUND((F5-E5)*24,2),""))) | L5: Confirmed | M5: Morning window. | N5: =IF(COUNTA(A5:B5,D5:J5,L5:M5)=0,"",IF(A5="","Complete entry",IF(COUNTIF($A$5:$A$104,A5)>1,"Check duplicate availability ID",IF(OR(B5="",D5="",E5="",F5="",G5="",H5="",I5="",J5="",L5=""),"Complete entry",IF(COUNTIF(Staff!$A$5:$A$104,B5)=0,"Check staff ID",IF(IFERROR(VLOOKUP(B5,Staff!$A$5:$I$104,7,FALSE),"")<>'Assumptions'!$I$5,"Check staff status",IF(F5<=E5,"Check time order",IF(OR('Assumptions'!$B$5="",'Assumptions'!$B$6="",'Assumptions'!$B$7="",'Assumptions'!$B$8=""),"Check assumptions",IF(OR(D5<'Assumptions'!$B$5,D5>'Assumptions'!$B$5+'Assumptions'!$B$6-1),"Check planning date",IF(OR(K5>'Assumptions'!$B$7,K5>IFERROR(VLOOKUP(B5,Staff!$A$5:$I$104,6,FALSE),'Assumptions'!$B$7)),"Check hours limit",IF(SUMPRODUCT(($B$5:$B$104=B5)*($D$5:$D$104=D5)*($A$5:$A$104<>A5)*($E$5:$E$104<F5)*($F$5:$F$104>E5))>0,"Check overlapping entry",IF(L5='Assumptions'!$F$7,"Confirmation needs review","Ready for review"))))))))))))
A6: AV-002 | B6: FX-002 | C6: =IF(B6="","",IFERROR(VLOOKUP(B6,Staff!$A$5:$I$104,2,FALSE),"Staff ID not found")) | D6: 46274 | E6: 0.375 | F6: 0.70833333 | G6: Available | H6: Boarding | I6: Central Zone | J6: 20 | K6: =IF(OR(D6="",E6="",F6=""),"",IF(F6<=E6,"",IFERROR(ROUND((F6-E6)*24,2),""))) | L6: Confirmed | M6: Capacity value tests the editable boundary. | N6: =IF(COUNTA(A6:B6,D6:J6,L6:M6)=0,"",IF(A6="","Complete entry",IF(COUNTIF($A$5:$A$104,A6)>1,"Check duplicate availability ID",IF(OR(B6="",D6="",E6="",F6="",G6="",H6="",I6="",J6="",L6=""),"Complete entry",IF(COUNTIF(Staff!$A$5:$A$104,B6)=0,"Check staff ID",IF(IFERROR(VLOOKUP(B6,Staff!$A$5:$I$104,7,FALSE),"")<>'Assumptions'!$I$5,"Check staff status",IF(F6<=E6,"Check time order",IF(OR('Assumptions'!$B$5="",'Assumptions'!$B$6="",'Assumptions'!$B$7="",'Assumptions'!$B$8=""),"Check assumptions",IF(OR(D6<'Assumptions'!$B$5,D6>'Assumptions'!$B$5+'Assumptions'!$B$6-1),"Check planning date",IF(OR(K6>'Assumptions'!$B$7,K6>IFERROR(VLOOKUP(B6,Staff!$A$5:$I$104,6,FALSE),'Assumptions'!$B$7)),"Check hours limit",IF(SUMPRODUCT(($B$5:$B$104=B6)*($D$5:$D$104=D6)*($A$5:$A$104<>A6)*($E$5:$E$104<F6)*($F$5:$F$104>E6))>0,"Check overlapping entry",IF(L6='Assumptions'!$F$7,"Confirmation needs review","Ready for review"))))))))))))
A7: AV-003 | B7: FX-003 | C7: =IF(B7="","",IFERROR(VLOOKUP(B7,Staff!$A$5:$I$104,2,FALSE),"Staff ID not found")) | D7: 46275 | E7: 0.29166667 | F7: 0.5 | G7: Tentative | H7: Daycare | I7: East Zone | J7: 10 | K7: =IF(OR(D7="",E7="",F7=""),"",IF(F7<=E7,"",IFERROR(ROUND((F7-E7)*24,2),""))) | L7: Draft | M7: Morning response pending human review. | N7: =IF(COUNTA(A7:B7,D7:J7,L7:M7)=0,"",IF(A7="","Complete entry",IF(COUNTIF($A$5:$A$104,A7)>1,"Check duplicate availability ID",IF(OR(B7="",D7="",E7="",F7="",G7="",H7="",I7="",J7="",L7=""),"Complete entry",IF(COUNTIF(Staff!$A$5:$A$104,B7)=0,"Check staff ID",IF(IFERROR(VLOOKUP(B7,Staff!$A$5:$I$104,7,FALSE),"")<>'Assumptions'!$I$5,"Check staff status",IF(F7<=E7,"Check time order",IF(OR('Assumptions'!$B$5="",'Assumptions'!$B$6="",'Assumptions'!$B$7="",'Assumptions'!$B$8=""),"Check assumptions",IF(OR(D7<'Assumptions'!$B$5,D7>'Assumptions'!$B$5+'Assumptions'!$B$6-1),"Check planning date",IF(OR(K7>'Assumptions'!$B$7,K7>IFERROR(VLOOKUP(B7,Staff!$A$5:$I$104,6,FALSE),'Assumptions'!$B$7)),"Check hours limit",IF(SUMPRODUCT(($B$5:$B$104=B7)*($D$5:$D$104=D7)*($A$5:$A$104<>A7)*($E$5:$E$104<F7)*($F$5:$F$104>E7))>0,"Check overlapping entry",IF(L7='Assumptions'!$F$7,"Confirmation needs review","Ready for review"))))))))))))
A8: AV-004 | B8: FX-004 | C8: =IF(B8="","",IFERROR(VLOOKUP(B8,Staff!$A$5:$I$104,2,FALSE),"Staff ID not found")) | D8: 46276 | E8: 0.41666667 | F8: 0.625 | G8: Available | H8: Pet Sitting | I8: South Zone | J8: 4 | K8: =IF(OR(D8="",E8="",F8=""),"",IF(F8<=E8,"",IFERROR(ROUND((F8-E8)*24,2),""))) | L8: Confirmed | M8: Service area is an administrative assignment area. | N8: =IF(COUNTA(A8:B8,D8:J8,L8:M8)=0,"",IF(A8="","Complete entry",IF(COUNTIF($A$5:$A$104,A8)>1,"Check duplicate availability ID",IF(OR(B8="",D8="",E8="",F8="",G8="",H8="",I8="",J8="",L8=""),"Complete entry",IF(COUNTIF(Staff!$A$5:$A$104,B8)=0,"Check staff ID",IF(IFERROR(VLOOKUP(B8,Staff!$A$5:$I$104,7,FALSE),"")<>'Assumptions'!$I$5,"Check staff status",IF(F8<=E8,"Check time order",IF(OR('Assumptions'!$B$5="",'Assumptions'!$B$6="",'Assumptions'!$B$7="",'Assumptions'!$B$8=""),"Check assumptions",IF(OR(D8<'Assumptions'!$B$5,D8>'Assumptions'!$B$5+'Assumptions'!$B$6-1),"Check planning date",IF(OR(K8>'Assumptions'!$B$7,K8>IFERROR(VLOOKUP(B8,Staff!$A$5:$I$104,6,FALSE),'Assumptions'!$B$7)),"Check hours limit",IF(SUMPRODUCT(($B$5:$B$104=B8)*($D$5:$D$104=D8)*($A$5:$A$104<>A8)*($E$5:$E$104<F8)*($F$5:$F$104>E8))>0,"Check overlapping entry",IF(L8='Assumptions'!$F$7,"Confirmation needs review","Ready for review"))))))))))))
A9: AV-005 | B9: FX-005 | C9: =IF(B9="","",IFERROR(VLOOKUP(B9,Staff!$A$5:$I$104,2,FALSE),"Staff ID not found")) | D9: 46277 | E9: 0.33333333 | F9: 0.54166667 | G9: Available | H9: Dog Walking | I9: North Zone | J9: 5 | K9: =IF(OR(D9="",E9="",F9=""),"",IF(F9<=E9,"",IFERROR(ROUND((F9-E9)*24,2),""))) | L9: Confirmed | M9: Morning and early afternoon window. | N9: =IF(COUNTA(A9:B9,D9:J9,L9:M9)=0,"",IF(A9="","Complete entry",IF(COUNTIF($A$5:$A$104,A9)>1,"Check duplicate availability ID",IF(OR(B9="",D9="",E9="",F9="",G9="",H9="",I9="",J9="",L9=""),"Complete entry",IF(COUNTIF(Staff!$A$5:$A$104,B9)=0,"Check staff ID",IF(IFERROR(VLOOKUP(B9,Staff!$A$5:$I$104,7,FALSE),"")<>'Assumptions'!$I$5,"Check staff status",IF(F9<=E9,"Check time order",IF(OR('Assumptions'!$B$5="",'Assumptions'!$B$6="",'Assumptions'!$B$7="",'Assumptions'!$B$8=""),"Check assumptions",IF(OR(D9<'Assumptions'!$B$5,D9>'Assumptions'!$B$5+'Assumptions'!$B$6-1),"Check planning date",IF(OR(K9>'Assumptions'!$B$7,K9>IFERROR(VLOOKUP(B9,Staff!$A$5:$I$104,6,FALSE),'Assumptions'!$B$7)),"Check hours limit",IF(SUMPRODUCT(($B$5:$B$104=B9)*($D$5:$D$104=D9)*($A$5:$A$104<>A9)*($E$5:$E$104<F9)*($F$5:$F$104>E9))>0,"Check overlapping entry",IF(L9='Assumptions'!$F$7,"Confirmation needs review","Ready for review"))))))))))))
A10: AV-006 | B10: FX-006 | C10: =IF(B10="","",IFERROR(VLOOKUP(B10,Staff!$A$5:$I$104,2,FALSE),"Staff ID not found")) | D10: 46278 | E10: 0.5 | F10: 0.875 | G10: Available | H10: Any service | I10: West Zone | J10: 8 | K10: =IF(OR(D10="",E10="",F10=""),"",IF(F10<=E10,"",IFERROR(ROUND((F10-E10)*24,2),""))) | L10: Draft | M10: Cross-trained availability. | N10: =IF(COUNTA(A10:B10,D10:J10,L10:M10)=0,"",IF(A10="","Complete entry",IF(COUNTIF($A$5:$A$104,A10)>1,"Check duplicate availability ID",IF(OR(B10="",D10="",E10="",F10="",G10="",H10="",I10="",J10="",L10=""),"Complete entry",IF(COUNTIF(Staff!$A$5:$A$104,B10)=0,"Check staff ID",IF(IFERROR(VLOOKUP(B10,Staff!$A$5:$I$104,7,FALSE),"")<>'Assumptions'!$I$5,"Check staff status",IF(F10<=E10,"Check time order",IF(OR('Assumptions'!$B$5="",'Assumptions'!$B$6="",'Assumptions'!$B$7="",'Assumptions'!$B$8=""),"Check assumptions",IF(OR(D10<'Assumptions'!$B$5,D10>'Assumptions'!$B$5+'Assumptions'!$B$6-1),"Check planning date",IF(OR(K10>'Assumptions'!$B$7,K10>IFERROR(VLOOKUP(B10,Staff!$A$5:$I$104,6,FALSE),'Assumptions'!$B$7)),"Check hours limit",IF(SUMPRODUCT(($B$5:$B$104=B10)*($D$5:$D$104=D10)*($A$5:$A$104<>A10)*($E$5:$E$104<F10)*($F$5:$F$104>E10))>0,"Check overlapping entry",IF(L10='Assumptions'!$F$7,"Confirmation needs review","Ready for review"))))))))))))
A11: AV-007 | B11: FX-007 | C11: =IF(B11="","",IFERROR(VLOOKUP(B11,Staff!$A$5:$I$104,2,FALSE),"Staff ID not found")) | D11: 46279 | E11: 0.375 | F11: 0.70833333 | G11: Unavailable | H11: Boarding | I11: Central Zone | J11: 0 | K11: =IF(OR(D11="",E11="",F11=""),"",IF(F11<=E11,"",IFERROR(ROUND((F11-E11)*24,2),""))) | L11: Confirmed | M11: Leave status provides a review test. | N11: =IF(COUNTA(A11:B11,D11:J11,L11:M11)=0,"",IF(A11="","Complete entry",IF(COUNTIF($A$5:$A$104,A11)>1,"Check duplicate availability ID",IF(OR(B11="",D11="",E11="",F11="",G11="",H11="",I11="",J11="",L11=""),"Complete entry",IF(COUNTIF(Staff!$A$5:$A$104,B11)=0,"Check staff ID",IF(IFERROR(VLOOKUP(B11,Staff!$A$5:$I$104,7,FALSE),"")<>'Assumptions'!$I$5,"Check staff status",IF(F11<=E11,"Check time order",IF(OR('Assumptions'!$B$5="",'Assumptions'!$B$6="",'Assumptions'!$B$7="",'Assumptions'!$B$8=""),"Check assumptions",IF(OR(D11<'Assumptions'!$B$5,D11>'Assumptions'!$B$5+'Assumptions'!$B$6-1),"Check planning date",IF(OR(K11>'Assumptions'!$B$7,K11>IFERROR(VLOOKUP(B11,Staff!$A$5:$I$104,6,FALSE),'Assumptions'!$B$7)),"Check hours limit",IF(SUMPRODUCT(($B$5:$B$104=B11)*($D$5:$D$104=D11)*($A$5:$A$104<>A11)*($E$5:$E$104<F11)*($F$5:$F$104>E11))>0,"Check overlapping entry",IF(L11='Assumptions'!$F$7,"Confirmation needs review","Ready for review"))))))))))))
A12: AV-008 | B12: FX-008 | C12: =IF(B12="","",IFERROR(VLOOKUP(B12,Staff!$A$5:$I$104,2,FALSE),"Staff ID not found")) | D12: 46280 | E12: 0.375 | F12: 0.54166667 | G12: Available | H12: Dog Walking | I12: East Zone | J12: 4 | K12: =IF(OR(D12="",E12="",F12=""),"",IF(F12<=E12,"",IFERROR(ROUND((F12-E12)*24,2),""))) | L12: Confirmed | M12: Inactive status provides a review test. | N12: =IF(COUNTA(A12:B12,D12:J12,L12:M12)=0,"",IF(A12="","Complete entry",IF(COUNTIF($A$5:$A$104,A12)>1,"Check duplicate availability ID",IF(OR(B12="",D12="",E12="",F12="",G12="",H12="",I12="",J12="",L12=""),"Complete entry",IF(COUNTIF(Staff!$A$5:$A$104,B12)=0,"Check staff ID",IF(IFERROR(VLOOKUP(B12,Staff!$A$5:$I$104,7,FALSE),"")<>'Assumptions'!$I$5,"Check staff status",IF(F12<=E12,"Check time order",IF(OR('Assumptions'!$B$5="",'Assumptions'!$B$6="",'Assumptions'!$B$7="",'Assumptions'!$B$8=""),"Check assumptions",IF(OR(D12<'Assumptions'!$B$5,D12>'Assumptions'!$B$5+'Assumptions'!$B$6-1),"Check planning date",IF(OR(K12>'Assumptions'!$B$7,K12>IFERROR(VLOOKUP(B12,Staff!$A$5:$I$104,6,FALSE),'Assumptions'!$B$7)),"Check hours limit",IF(SUMPRODUCT(($B$5:$B$104=B12)*($D$5:$D$104=D12)*($A$5:$A$104<>A12)*($E$5:$E$104<F12)*($F$5:$F$104>E12))>0,"Check overlapping entry",IF(L12='Assumptions'!$F$7,"Confirmation needs review","Ready for review"))))))))))))
A13: AV-009 | B13: FX-001 | C13: =IF(B13="","",IFERROR(VLOOKUP(B13,Staff!$A$5:$I$104,2,FALSE),"Staff ID not found")) | D13: 46274 | E13: 0.45833333 | F13: 0.58333333 | G13: Available | H13: Grooming | I13: North Zone | J13: 3 | K13: =IF(OR(D13="",E13="",F13=""),"",IF(F13<=E13,"",IFERROR(ROUND((F13-E13)*24,2),""))) | L13: Draft | M13: Overlaps the first fictional availability window. | N13: =IF(COUNTA(A13:B13,D13:J13,L13:M13)=0,"",IF(A13="","Complete entry",IF(COUNTIF($A$5:$A$104,A13)>1,"Check duplicate availability ID",IF(OR(B13="",D13="",E13="",F13="",G13="",H13="",I13="",J13="",L13=""),"Complete entry",IF(COUNTIF(Staff!$A$5:$A$104,B13)=0,"Check staff ID",IF(IFERROR(VLOOKUP(B13,Staff!$A$5:$I$104,7,FALSE),"")<>'Assumptions'!$I$5,"Check staff status",IF(F13<=E13,"Check time order",IF(OR('Assumptions'!$B$5="",'Assumptions'!$B$6="",'Assumptions'!$B$7="",'Assumptions'!$B$8=""),"Check assumptions",IF(OR(D13<'Assumptions'!$B$5,D13>'Assumptions'!$B$5+'Assumptions'!$B$6-1),"Check planning date",IF(OR(K13>'Assumptions'!$B$7,K13>IFERROR(VLOOKUP(B13,Staff!$A$5:$I$104,6,FALSE),'Assumptions'!$B$7)),"Check hours limit",IF(SUMPRODUCT(($B$5:$B$104=B13)*($D$5:$D$104=D13)*($A$5:$A$104<>A13)*($E$5:$E$104<F13)*($F$5:$F$104>E13))>0,"Check overlapping entry",IF(L13='Assumptions'!$F$7,"Confirmation needs review","Ready for review"))))))))))))
A14: AV-010 | B14: FX-003 | C14: =IF(B14="","",IFERROR(VLOOKUP(B14,Staff!$A$5:$I$104,2,FALSE),"Staff ID not found")) | D14: 46287 | E14: 0.33333333 | F14: 0.66666667 | G14: Available | H14: Daycare | I14: East Zone | J14: 12 | K14: =IF(OR(D14="",E14="",F14=""),"",IF(F14<=E14,"",IFERROR(ROUND((F14-E14)*24,2),""))) | L14: Needs Review | M14: Tests the final date and daily hour boundary. | N14: =IF(COUNTA(A14:B14,D14:J14,L14:M14)=0,"",IF(A14="","Complete entry",IF(COUNTIF($A$5:$A$104,A14)>1,"Check duplicate availability ID",IF(OR(B14="",D14="",E14="",F14="",G14="",H14="",I14="",J14="",L14=""),"Complete entry",IF(COUNTIF(Staff!$A$5:$A$104,B14)=0,"Check staff ID",IF(IFERROR(VLOOKUP(B14,Staff!$A$5:$I$104,7,FALSE),"")<>'Assumptions'!$I$5,"Check staff status",IF(F14<=E14,"Check time order",IF(OR('Assumptions'!$B$5="",'Assumptions'!$B$6="",'Assumptions'!$B$7="",'Assumptions'!$B$8=""),"Check assumptions",IF(OR(D14<'Assumptions'!$B$5,D14>'Assumptions'!$B$5+'Assumptions'!$B$6-1),"Check planning date",IF(OR(K14>'Assumptions'!$B$7,K14>IFERROR(VLOOKUP(B14,Staff!$A$5:$I$104,6,FALSE),'Assumptions'!$B$7)),"Check hours limit",IF(SUMPRODUCT(($B$5:$B$104=B14)*($D$5:$D$104=D14)*($A$5:$A$104<>A14)*($E$5:$E$104<F14)*($F$5:$F$104>E14))>0,"Check overlapping entry",IF(L14='Assumptions'!$F$7,"Confirmation needs review","Ready for review"))))))))))))
C15: =IF(B15="","",IFERROR(VLOOKUP(B15,Staff!$A$5:$I$104,2,FALSE),"Staff ID not found")) | K15: =IF(OR(D15="",E15="",F15=""),"",IF(F15<=E15,"",IFERROR(ROUND((F15-E15)*24,2),""))) | N15: =IF(COUNTA(A15:B15,D15:J15,L15:M15)=0,"",IF(A15="","Complete entry",IF(COUNTIF($A$5:$A$104,A15)>1,"Check duplicate availability ID",IF(OR(B15="",D15="",E15="",F15="",G15="",H15="",I15="",J15="",L15=""),"Complete entry",IF(COUNTIF(Staff!$A$5:$A$104,B15)=0,"Check staff ID",IF(IFERROR(VLOOKUP(B15,Staff!$A$5:$I$104,7,FALSE),"")<>'Assumptions'!$I$5,"Check staff status",IF(F15<=E15,"Check time order",IF(OR('Assumptions'!$B$5="",'Assumptions'!$B$6="",'Assumptions'!$B$7="",'Assumptions'!$B$8=""),"Check assumptions",IF(OR(D15<'Assumptions'!$B$5,D15>'Assumptions'!$B$5+'Assumptions'!$B$6-1),"Check planning date",IF(OR(K15>'Assumptions'!$B$7,K15>IFERROR(VLOOKUP(B15,Staff!$A$5:$I$104,6,FALSE),'Assumptions'!$B$7)),"Check hours limit",IF(SUMPRODUCT(($B$5:$B$104=B15)*($D$5:$D$104=D15)*($A$5:$A$104<>A15)*($E$5:$E$104<F15)*($F$5:$F$104>E15))>0,"Check overlapping entry",IF(L15='Assumptions'!$F$7,"Confirmation needs review","Ready for review"))))))))))))
C16: =IF(B16="","",IFERROR(VLOOKUP(B16,Staff!$A$5:$I$104,2,FALSE),"Staff ID not found")) | K16: =IF(OR(D16="",E16="",F16=""),"",IF(F16<=E16,"",IFERROR(ROUND((F16-E16)*24,2),""))) | N16: =IF(COUNTA(A16:B16,D16:J16,L16:M16)=0,"",IF(A16="","Complete entry",IF(COUNTIF($A$5:$A$104,A16)>1,"Check duplicate availability ID",IF(OR(B16="",D16="",E16="",F16="",G16="",H16="",I16="",J16="",L16=""),"Complete entry",IF(COUNTIF(Staff!$A$5:$A$104,B16)=0,"Check staff ID",IF(IFERROR(VLOOKUP(B16,Staff!$A$5:$I$104,7,FALSE),"")<>'Assumptions'!$I$5,"Check staff status",IF(F16<=E16,"Check time order",IF(OR('Assumptions'!$B$5="",'Assumptions'!$B$6="",'Assumptions'!$B$7="",'Assumptions'!$B$8=""),"Check assumptions",IF(OR(D16<'Assumptions'!$B$5,D16>'Assumptions'!$B$5+'Assumptions'!$B$6-1),"Check planning date",IF(OR(K16>'Assumptions'!$B$7,K16>IFERROR(VLOOKUP(B16,Staff!$A$5:$I$104,6,FALSE),'Assumptions'!$B$7)),"Check hours limit",IF(SUMPRODUCT(($B$5:$B$104=B16)*($D$5:$D$104=D16)*($A$5:$A$104<>A16)*($E$5:$E$104<F16)*($F$5:$F$104>E16))>0,"Check overlapping entry",IF(L16='Assumptions'!$F$7,"Confirmation needs review","Ready for review"))))))))))))
C17: =IF(B17="","",IFERROR(VLOOKUP(B17,Staff!$A$5:$I$104,2,FALSE),"Staff ID not found")) | K17: =IF(OR(D17="",E17="",F17=""),"",IF(F17<=E17,"",IFERROR(ROUND((F17-E17)*24,2),""))) | N17: =IF(COUNTA(A17:B17,D17:J17,L17:M17)=0,"",IF(A17="","Complete entry",IF(COUNTIF($A$5:$A$104,A17)>1,"Check duplicate availability ID",IF(OR(B17="",D17="",E17="",F17="",G17="",H17="",I17="",J17="",L17=""),"Complete entry",IF(COUNTIF(Staff!$A$5:$A$104,B17)=0,"Check staff ID",IF(IFERROR(VLOOKUP(B17,Staff!$A$5:$I$104,7,FALSE),"")<>'Assumptions'!$I$5,"Check staff status",IF(F17<=E17,"Check time order",IF(OR('Assumptions'!$B$5="",'Assumptions'!$B$6="",'Assumptions'!$B$7="",'Assumptions'!$B$8=""),"Check assumptions",IF(OR(D17<'Assumptions'!$B$5,D17>'Assumptions'!$B$5+'Assumptions'!$B$6-1),"Check planning date",IF(OR(K17>'Assumptions'!$B$7,K17>IFERROR(VLOOKUP(B17,Staff!$A$5:$I$104,6,FALSE),'Assumptions'!$B$7)),"Check hours limit",IF(SUMPRODUCT(($B$5:$B$104=B17)*($D$5:$D$104=D17)*($A$5:$A$104<>A17)*($E$5:$E$104<F17)*($F$5:$F$104>E17))>0,"Check overlapping entry",IF(L17='Assumptions'!$F$7,"Confirmation needs review","Ready for review"))))))))))))
C18: =IF(B18="","",IFERROR(VLOOKUP(B18,Staff!$A$5:$I$104,2,FALSE),"Staff ID not found")) | K18: =IF(OR(D18="",E18="",F18=""),"",IF(F18<=E18,"",IFERROR(ROUND((F18-E18)*24,2),""))) | N18: =IF(COUNTA(A18:B18,D18:J18,L18:M18)=0,"",IF(A18="","Complete entry",IF(COUNTIF($A$5:$A$104,A18)>1,"Check duplicate availability ID",IF(OR(B18="",D18="",E18="",F18="",G18="",H18="",I18="",J18="",L18=""),"Complete entry",IF(COUNTIF(Staff!$A$5:$A$104,B18)=0,"Check staff ID",IF(IFERROR(VLOOKUP(B18,Staff!$A$5:$I$104,7,FALSE),"")<>'Assumptions'!$I$5,"Check staff status",IF(F18<=E18,"Check time order",IF(OR('Assumptions'!$B$5="",'Assumptions'!$B$6="",'Assumptions'!$B$7="",'Assumptions'!$B$8=""),"Check assumptions",IF(OR(D18<'Assumptions'!$B$5,D18>'Assumptions'!$B$5+'Assumptions'!$B$6-1),"Check planning date",IF(OR(K18>'Assumptions'!$B$7,K18>IFERROR(VLOOKUP(B18,Staff!$A$5:$I$104,6,FALSE),'Assumptions'!$B$7)),"Check hours limit",IF(SUMPRODUCT(($B$5:$B$104=B18)*($D$5:$D$104=D18)*($A$5:$A$104<>A18)*($E$5:$E$104<F18)*($F$5:$F$104>E18))>0,"Check overlapping entry",IF(L18='Assumptions'!$F$7,"Confirmation needs review","Ready for review"))))))))))))
C19: =IF(B19="","",IFERROR(VLOOKUP(B19,Staff!$A$5:$I$104,2,FALSE),"Staff ID not found")) | K19: =IF(OR(D19="",E19="",F19=""),"",IF(F19<=E19,"",IFERROR(ROUND((F19-E19)*24,2),""))) | N19: =IF(COUNTA(A19:B19,D19:J19,L19:M19)=0,"",IF(A19="","Complete entry",IF(COUNTIF($A$5:$A$104,A19)>1,"Check duplicate availability ID",IF(OR(B19="",D19="",E19="",F19="",G19="",H19="",I19="",J19="",L19=""),"Complete entry",IF(COUNTIF(Staff!$A$5:$A$104,B19)=0,"Check staff ID",IF(IFERROR(VLOOKUP(B19,Staff!$A$5:$I$104,7,FALSE),"")<>'Assumptions'!$I$5,"Check staff status",IF(F19<=E19,"Check time order",IF(OR('Assumptions'!$B$5="",'Assumptions'!$B$6="",'Assumptions'!$B$7="",'Assumptions'!$B$8=""),"Check assumptions",IF(OR(D19<'Assumptions'!$B$5,D19>'Assumptions'!$B$5+'Assumptions'!$B$6-1),"Check planning date",IF(OR(K19>'Assumptions'!$B$7,K19>IFERROR(VLOOKUP(B19,Staff!$A$5:$I$104,6,FALSE),'Assumptions'!$B$7)),"Check hours limit",IF(SUMPRODUCT(($B$5:$B$104=B19)*($D$5:$D$104=D19)*($A$5:$A$104<>A19)*($E$5:$E$104<F19)*($F$5:$F$104>E19))>0,"Check overlapping entry",IF(L19='Assumptions'!$F$7,"Confirmation needs review","Ready for review"))))))))))))
C20: =IF(B20="","",IFERROR(VLOOKUP(B20,Staff!$A$5:$I$104,2,FALSE),"Staff ID not found")) | K20: =IF(OR(D20="",E20="",F20=""),"",IF(F20<=E20,"",IFERROR(ROUND((F20-E20)*24,2),""))) | N20: =IF(COUNTA(A20:B20,D20:J20,L20:M20)=0,"",IF(A20="","Complete entry",IF(COUNTIF($A$5:$A$104,A20)>1,"Check duplicate availability ID",IF(OR(B20="",D20="",E20="",F20="",G20="",H20="",I20="",J20="",L20=""),"Complete entry",IF(COUNTIF(Staff!$A$5:$A$104,B20)=0,"Check staff ID",IF(IFERROR(VLOOKUP(B20,Staff!$A$5:$I$104,7,FALSE),"")<>'Assumptions'!$I$5,"Check staff status",IF(F20<=E20,"Check time order",IF(OR('Assumptions'!$B$5="",'Assumptions'!$B$6="",'Assumptions'!$B$7="",'Assumptions'!$B$8=""),"Check assumptions",IF(OR(D20<'Assumptions'!$B$5,D20>'Assumptions'!$B$5+'Assumptions'!$B$6-1),"Check planning date",IF(OR(K20>'Assumptions'!$B$7,K20>IFERROR(VLOOKUP(B20,Staff!$A$5:$I$104,6,FALSE),'Assumptions'!$B$7)),"Check hours limit",IF(SUMPRODUCT(($B$5:$B$104=B20)*($D$5:$D$104=D20)*($A$5:$A$104<>A20)*($E$5:$E$104<F20)*($F$5:$F$104>E20))>0,"Check overlapping entry",IF(L20='Assumptions'!$F$7,"Confirmation needs review","Ready for review"))))))))))))
C21: =IF(B21="","",IFERROR(VLOOKUP(B21,Staff!$A$5:$I$104,2,FALSE),"Staff ID not found")) | K21: =IF(OR(D21="",E21="",F21=""),"",IF(F21<=E21,"",IFERROR(ROUND((F21-E21)*24,2),""))) | N21: =IF(COUNTA(A21:B21,D21:J21,L21:M21)=0,"",IF(A21="","Complete entry",IF(COUNTIF($A$5:$A$104,A21)>1,"Check duplicate availability ID",IF(OR(B21="",D21="",E21="",F21="",G21="",H21="",I21="",J21="",L21=""),"Complete entry",IF(COUNTIF(Staff!$A$5:$A$104,B21)=0,"Check staff ID",IF(IFERROR(VLOOKUP(B21,Staff!$A$5:$I$104,7,FALSE),"")<>'Assumptions'!$I$5,"Check staff status",IF(F21<=E21,"Check time order",IF(OR('Assumptions'!$B$5="",'Assumptions'!$B$6="",'Assumptions'!$B$7="",'Assumptions'!$B$8=""),"Check assumptions",IF(OR(D21<'Assumptions'!$B$5,D21>'Assumptions'!$B$5+'Assumptions'!$B$6-1),"Check planning date",IF(OR(K21>'Assumptions'!$B$7,K21>IFERROR(VLOOKUP(B21,Staff!$A$5:$I$104,6,FALSE),'Assumptions'!$B$7)),"Check hours limit",IF(SUMPRODUCT(($B$5:$B$104=B21)*($D$5:$D$104=D21)*($A$5:$A$104<>A21)*($E$5:$E$104<F21)*($F$5:$F$104>E21))>0,"Check overlapping entry",IF(L21='Assumptions'!$F$7,"Confirmation needs review","Ready for review"))))))))))))
C22: =IF(B22="","",IFERROR(VLOOKUP(B22,Staff!$A$5:$I$104,2,FALSE),"Staff ID not found")) | K22: =IF(OR(D22="",E22="",F22=""),"",IF(F22<=E22,"",IFERROR(ROUND((F22-E22)*24,2),""))) | N22: =IF(COUNTA(A22:B22,D22:J22,L22:M22)=0,"",IF(A22="","Complete entry",IF(COUNTIF($A$5:$A$104,A22)>1,"Check duplicate availability ID",IF(OR(B22="",D22="",E22="",F22="",G22="",H22="",I22="",J22="",L22=""),"Complete entry",IF(COUNTIF(Staff!$A$5:$A$104,B22)=0,"Check staff ID",IF(IFERROR(VLOOKUP(B22,Staff!$A$5:$I$104,7,FALSE),"")<>'Assumptions'!$I$5,"Check staff status",IF(F22<=E22,"Check time order",IF(OR('Assumptions'!$B$5="",'Assumptions'!$B$6="",'Assumptions'!$B$7="",'Assumptions'!$B$8=""),"Check assumptions",IF(OR(D22<'Assumptions'!$B$5,D22>'Assumptions'!$B$5+'Assumptions'!$B$6-1),"Check planning date",IF(OR(K22>'Assumptions'!$B$7,K22>IFERROR(VLOOKUP(B22,Staff!$A$5:$I$104,6,FALSE),'Assumptions'!$B$7)),"Check hours limit",IF(SUMPRODUCT(($B$5:$B$104=B22)*($D$5:$D$104=D22)*($A$5:$A$104<>A22)*($E$5:$E$104<F22)*($F$5:$F$104>E22))>0,"Check overlapping entry",IF(L22='Assumptions'!$F$7,"Confirmation needs review","Ready for review"))))))))))))
C23: =IF(B23="","",IFERROR(VLOOKUP(B23,Staff!$A$5:$I$104,2,FALSE),"Staff ID not found")) | K23: =IF(OR(D23="",E23="",F23=""),"",IF(F23<=E23,"",IFERROR(ROUND((F23-E23)*24,2),""))) | N23: =IF(COUNTA(A23:B23,D23:J23,L23:M23)=0,"",IF(A23="","Complete entry",IF(COUNTIF($A$5:$A$104,A23)>1,"Check duplicate availability ID",IF(OR(B23="",D23="",E23="",F23="",G23="",H23="",I23="",J23="",L23=""),"Complete entry",IF(COUNTIF(Staff!$A$5:$A$104,B23)=0,"Check staff ID",IF(IFERROR(VLOOKUP(B23,Staff!$A$5:$I$104,7,FALSE),"")<>'Assumptions'!$I$5,"Check staff status",IF(F23<=E23,"Check time order",IF(OR('Assumptions'!$B$5="",'Assumptions'!$B$6="",'Assumptions'!$B$7="",'Assumptions'!$B$8=""),"Check assumptions",IF(OR(D23<'Assumptions'!$B$5,D23>'Assumptions'!$B$5+'Assumptions'!$B$6-1),"Check planning date",IF(OR(K23>'Assumptions'!$B$7,K23>IFERROR(VLOOKUP(B23,Staff!$A$5:$I$104,6,FALSE),'Assumptions'!$B$7)),"Check hours limit",IF(SUMPRODUCT(($B$5:$B$104=B23)*($D$5:$D$104=D23)*($A$5:$A$104<>A23)*($E$5:$E$104<F23)*($F$5:$F$104>E23))>0,"Check overlapping entry",IF(L23='Assumptions'!$F$7,"Confirmation needs review","Ready for review"))))))))))))
C24: =IF(B24="","",IFERROR(VLOOKUP(B24,Staff!$A$5:$I$104,2,FALSE),"Staff ID not found")) | K24: =IF(OR(D24="",E24="",F24=""),"",IF(F24<=E24,"",IFERROR(ROUND((F24-E24)*24,2),""))) | N24: =IF(COUNTA(A24:B24,D24:J24,L24:M24)=0,"",IF(A24="","Complete entry",IF(COUNTIF($A$5:$A$104,A24)>1,"Check duplicate availability ID",IF(OR(B24="",D24="",E24="",F24="",G24="",H24="",I24="",J24="",L24=""),"Complete entry",IF(COUNTIF(Staff!$A$5:$A$104,B24)=0,"Check staff ID",IF(IFERROR(VLOOKUP(B24,Staff!$A$5:$I$104,7,FALSE),"")<>'Assumptions'!$I$5,"Check staff status",IF(F24<=E24,"Check time order",IF(OR('Assumptions'!$B$5="",'Assumptions'!$B$6="",'Assumptions'!$B$7="",'Assumptions'!$B$8=""),"Check assumptions",IF(OR(D24<'Assumptions'!$B$5,D24>'Assumptions'!$B$5+'Assumptions'!$B$6-1),"Check planning date",IF(OR(K24>'Assumptions'!$B$7,K24>IFERROR(VLOOKUP(B24,Staff!$A$5:$I$104,6,FALSE),'Assumptions'!$B$7)),"Check hours limit",IF(SUMPRODUCT(($B$5:$B$104=B24)*($D$5:$D$104=D24)*($A$5:$A$104<>A24)*($E$5:$E$104<F24)*($F$5:$F$104>E24))>0,"Check overlapping entry",IF(L24='Assumptions'!$F$7,"Confirmation needs review","Ready for review"))))))))))))
C25: =IF(B25="","",IFERROR(VLOOKUP(B25,Staff!$A$5:$I$104,2,FALSE),"Staff ID not found")) | K25: =IF(OR(D25="",E25="",F25=""),"",IF(F25<=E25,"",IFERROR(ROUND((F25-E25)*24,2),""))) | N25: =IF(COUNTA(A25:B25,D25:J25,L25:M25)=0,"",IF(A25="","Complete entry",IF(COUNTIF($A$5:$A$104,A25)>1,"Check duplicate availability ID",IF(OR(B25="",D25="",E25="",F25="",G25="",H25="",I25="",J25="",L25=""),"Complete entry",IF(COUNTIF(Staff!$A$5:$A$104,B25)=0,"Check staff ID",IF(IFERROR(VLOOKUP(B25,Staff!$A$5:$I$104,7,FALSE),"")<>'Assumptions'!$I$5,"Check staff status",IF(F25<=E25,"Check time order",IF(OR('Assumptions'!$B$5="",'Assumptions'!$B$6="",'Assumptions'!$B$7="",'Assumptions'!$B$8=""),"Check assumptions",IF(OR(D25<'Assumptions'!$B$5,D25>'Assumptions'!$B$5+'Assumptions'!$B$6-1),"Check planning date",IF(OR(K25>'Assumptions'!$B$7,K25>IFERROR(VLOOKUP(B25,Staff!$A$5:$I$104,6,FALSE),'Assumptions'!$B$7)),"Check hours limit",IF(SUMPRODUCT(($B$5:$B$104=B25)*($D$5:$D$104=D25)*($A$5:$A$104<>A25)*($E$5:$E$104<F25)*($F$5:$F$104>E25))>0,"Check overlapping entry",IF(L25='Assumptions'!$F$7,"Confirmation needs review","Ready for review"))))))))))))
C26: =IF(B26="","",IFERROR(VLOOKUP(B26,Staff!$A$5:$I$104,2,FALSE),"Staff ID not found")) | K26: =IF(OR(D26="",E26="",F26=""),"",IF(F26<=E26,"",IFERROR(ROUND((F26-E26)*24,2),""))) | N26: =IF(COUNTA(A26:B26,D26:J26,L26:M26)=0,"",IF(A26="","Complete entry",IF(COUNTIF($A$5:$A$104,A26)>1,"Check duplicate availability ID",IF(OR(B26="",D26="",E26="",F26="",G26="",H26="",I26="",J26="",L26=""),"Complete entry",IF(COUNTIF(Staff!$A$5:$A$104,B26)=0,"Check staff ID",IF(IFERROR(VLOOKUP(B26,Staff!$A$5:$I$104,7,FALSE),"")<>'Assumptions'!$I$5,"Check staff status",IF(F26<=E26,"Check time order",IF(OR('Assumptions'!$B$5="",'Assumptions'!$B$6="",'Assumptions'!$B$7="",'Assumptions'!$B$8=""),"Check assumptions",IF(OR(D26<'Assumptions'!$B$5,D26>'Assumptions'!$B$5+'Assumptions'!$B$6-1),"Check planning date",IF(OR(K26>'Assumptions'!$B$7,K26>IFERROR(VLOOKUP(B26,Staff!$A$5:$I$104,6,FALSE),'Assumptions'!$B$7)),"Check hours limit",IF(SUMPRODUCT(($B$5:$B$104=B26)*($D$5:$D$104=D26)*($A$5:$A$104<>A26)*($E$5:$E$104<F26)*($F$5:$F$104>E26))>0,"Check overlapping entry",IF(L26='Assumptions'!$F$7,"Confirmation needs review","Ready for review"))))))))))))
... C104: =IF(B104="","",IFERROR(VLOOKUP(B104,Staff!$A$5:$I$104,2,FALSE),"Staff ID not found")) | K104: =IF(OR(D104="",E104="",F104=""),"",IF(F104<=E104,"",IFERROR(ROUND((F104-E104)*24,2),""))) | N104: =IF(COUNTA(A104:B104,D104:J104,L104:M104)=0,"",IF(A104="","Complete entry",IF(COUNTIF($A$5:$A$104,A104)>1,"Check duplicate availability ID",IF(OR(B104="",D104="",E104="",F104="",G104="",H104="",I104="",J104="",L104=""),"Complete entry",IF(COUNTIF(Staff!$A$5:$A$104,B104)=0,"Check staff ID",IF(IFERROR(VLOOKUP(B104,Staff!$A$5:$I$104,7,FALSE),"")<>'Assumptions'!$I$5,"Check staff status",IF(F104<=E104,"Check time order",IF(OR('Assumptions'!$B$5="",'Assumptions'!$B$6="",'Assumptions'!$B$7="",'Assumptions'!$B$8=""),"Check assumptions",IF(OR(D104<'Assumptions'!$B$5,D104>'Assumptions'!$B$5+'Assumptions'!$B$6-1),"Check planning date",IF(OR(K104>'Assumptions'!$B$7,K104>IFERROR(VLOOKUP(B104,Staff!$A$5:$I$104,6,FALSE),'Assumptions'!$B$7)),"Check hours limit",IF(SUMPRODUCT(($B$5:$B$104=B104)*($D$5:$D$104=D104)*($A$5:$A$104<>A104)*($E$5:$E$104<F104)*($F$5:$F$104>E104))>0,"Check overlapping entry",IF(L104='Assumptions'!$F$7,"Confirmation needs review","Ready for review"))))))))))))

Sheet Staff
A1: Pet Service Staff Availability Planner — Staff
A2: Maintain staff identifiers and scheduling limits before entering availability.
A4: Staff ID | B4: Display Name | C4: Role | D4: Primary Service | E4: Home Area | F4: Daily Hour Limit | G4: Staff Status | H4: Scheduling Notes | I4: Record Check
A5: FX-001 | B5: Fable Quill (fictional) | C5: Groomer | D5: Grooming | E5: North Zone | F5: 8 | G5: Active | H5: Prefers morning availability. | I5: =IF(COUNTA(A5:H5)=0,"",IF(A5="","Complete record",IF(COUNTIF($A$5:$A$104,A5)>1,"Duplicate staff ID",IF(OR(B5="",C5="",D5="",F5="",G5=""),"Complete record",IF('Assumptions'!$B$7="","Check assumptions",IF(F5>'Assumptions'!$B$7,"Check hours limit","Ready"))))))
A6: FX-002 | B6: Juniper Mirth (fictional) | C6: Boarding Attendant | D6: Boarding | E6: Central Zone | F6: 10 | G6: Active | H6: Available for opening or midday windows. | I6: =IF(COUNTA(A6:H6)=0,"",IF(A6="","Complete record",IF(COUNTIF($A$5:$A$104,A6)>1,"Duplicate staff ID",IF(OR(B6="",C6="",D6="",F6="",G6=""),"Complete record",IF('Assumptions'!$B$7="","Check assumptions",IF(F6>'Assumptions'!$B$7,"Check hours limit","Ready"))))))
A7: FX-003 | B7: Rowan Noodle (fictional) | C7: Daycare Attendant | D7: Daycare | E7: East Zone | F7: 8 | G7: Active | H7: Prefers daytime windows. | I7: =IF(COUNTA(A7:H7)=0,"",IF(A7="","Complete record",IF(COUNTIF($A$5:$A$104,A7)>1,"Duplicate staff ID",IF(OR(B7="",C7="",D7="",F7="",G7=""),"Complete record",IF('Assumptions'!$B$7="","Check assumptions",IF(F7>'Assumptions'!$B$7,"Check hours limit","Ready"))))))
A8: FX-004 | B8: Casey Comet (fictional) | C8: Pet Sitter | D8: Pet Sitting | E8: South Zone | F8: 8 | G8: Active | H8: Uses service area entered on each availability row. | I8: =IF(COUNTA(A8:H8)=0,"",IF(A8="","Complete record",IF(COUNTIF($A$5:$A$104,A8)>1,"Duplicate staff ID",IF(OR(B8="",C8="",D8="",F8="",G8=""),"Complete record",IF('Assumptions'!$B$7="","Check assumptions",IF(F8>'Assumptions'!$B$7,"Check hours limit","Ready"))))))
A9: FX-005 | B9: Morgan Moonpaw (fictional) | C9: Dog Walker | D9: Dog Walking | E9: North Zone | F9: 6 | G9: Active | H9: Prefers morning and early afternoon windows. | I9: =IF(COUNTA(A9:H9)=0,"",IF(A9="","Complete record",IF(COUNTIF($A$5:$A$104,A9)>1,"Duplicate staff ID",IF(OR(B9="",C9="",D9="",F9="",G9=""),"Complete record",IF('Assumptions'!$B$7="","Check assumptions",IF(F9>'Assumptions'!$B$7,"Check hours limit","Ready"))))))
A10: FX-006 | B10: Taylor Tumble (fictional) | C10: Cross-trained Attendant | D10: Any service | E10: West Zone | F10: 9 | G10: Active | H10: Cross-trained for boarding and daycare support. | I10: =IF(COUNTA(A10:H10)=0,"",IF(A10="","Complete record",IF(COUNTIF($A$5:$A$104,A10)>1,"Duplicate staff ID",IF(OR(B10="",C10="",D10="",F10="",G10=""),"Complete record",IF('Assumptions'!$B$7="","Check assumptions",IF(F10>'Assumptions'!$B$7,"Check hours limit","Ready"))))))
A11: FX-007 | B11: Sky Lantern (fictional) | C11: Boarding Attendant | D11: Boarding | E11: Central Zone | F11: 8 | G11: On Leave | H11: Status should be reviewed before booking assignment. | I11: =IF(COUNTA(A11:H11)=0,"",IF(A11="","Complete record",IF(COUNTIF($A$5:$A$104,A11)>1,"Duplicate staff ID",IF(OR(B11="",C11="",D11="",F11="",G11=""),"Complete record",IF('Assumptions'!$B$7="","Check assumptions",IF(F11>'Assumptions'!$B$7,"Check hours limit","Ready"))))))
A12: FX-008 | B12: Devon Doodle (fictional) | C12: Dog Walker | D12: Dog Walking | E12: East Zone | F12: 8 | G12: Inactive | H12: Retained as a fictional historical planning example. | I12: =IF(COUNTA(A12:H12)=0,"",IF(A12="","Complete record",IF(COUNTIF($A$5:$A$104,A12)>1,"Duplicate staff ID",IF(OR(B12="",C12="",D12="",F12="",G12=""),"Complete record",IF('Assumptions'!$B$7="","Check assumptions",IF(F12>'Assumptions'!$B$7,"Check hours limit","Ready"))))))
I13: =IF(COUNTA(A13:H13)=0,"",IF(A13="","Complete record",IF(COUNTIF($A$5:$A$104,A13)>1,"Duplicate staff ID",IF(OR(B13="",C13="",D13="",F13="",G13=""),"Complete record",IF('Assumptions'!$B$7="","Check assumptions",IF(F13>'Assumptions'!$B$7,"Check hours limit","Ready"))))))
I14: =IF(COUNTA(A14:H14)=0,"",IF(A14="","Complete record",IF(COUNTIF($A$5:$A$104,A14)>1,"Duplicate staff ID",IF(OR(B14="",C14="",D14="",F14="",G14=""),"Complete record",IF('Assumptions'!$B$7="","Check assumptions",IF(F14>'Assumptions'!$B$7,"Check hours limit","Ready"))))))
I15: =IF(COUNTA(A15:H15)=0,"",IF(A15="","Complete record",IF(COUNTIF($A$5:$A$104,A15)>1,"Duplicate staff ID",IF(OR(B15="",C15="",D15="",F15="",G15=""),"Complete record",IF('Assumptions'!$B$7="","Check assumptions",IF(F15>'Assumptions'!$B$7,"Check hours limit","Ready"))))))
I16: =IF(COUNTA(A16:H16)=0,"",IF(A16="","Complete record",IF(COUNTIF($A$5:$A$104,A16)>1,"Duplicate staff ID",IF(OR(B16="",C16="",D16="",F16="",G16=""),"Complete record",IF('Assumptions'!$B$7="","Check assumptions",IF(F16>'Assumptions'!$B$7,"Check hours limit","Ready"))))))
I17: =IF(COUNTA(A17:H17)=0,"",IF(A17="","Complete record",IF(COUNTIF($A$5:$A$104,A17)>1,"Duplicate staff ID",IF(OR(B17="",C17="",D17="",F17="",G17=""),"Complete record",IF('Assumptions'!$B$7="","Check assumptions",IF(F17>'Assumptions'!$B$7,"Check hours limit","Ready"))))))
I18: =IF(COUNTA(A18:H18)=0,"",IF(A18="","Complete record",IF(COUNTIF($A$5:$A$104,A18)>1,"Duplicate staff ID",IF(OR(B18="",C18="",D18="",F18="",G18=""),"Complete record",IF('Assumptions'!$B$7="","Check assumptions",IF(F18>'Assumptions'!$B$7,"Check hours limit","Ready"))))))
I19: =IF(COUNTA(A19:H19)=0,"",IF(A19="","Complete record",IF(COUNTIF($A$5:$A$104,A19)>1,"Duplicate staff ID",IF(OR(B19="",C19="",D19="",F19="",G19=""),"Complete record",IF('Assumptions'!$B$7="","Check assumptions",IF(F19>'Assumptions'!$B$7,"Check hours limit","Ready"))))))
I20: =IF(COUNTA(A20:H20)=0,"",IF(A20="","Complete record",IF(COUNTIF($A$5:$A$104,A20)>1,"Duplicate staff ID",IF(OR(B20="",C20="",D20="",F20="",G20=""),"Complete record",IF('Assumptions'!$B$7="","Check assumptions",IF(F20>'Assumptions'!$B$7,"Check hours limit","Ready"))))))
I21: =IF(COUNTA(A21:H21)=0,"",IF(A21="","Complete record",IF(COUNTIF($A$5:$A$104,A21)>1,"Duplicate staff ID",IF(OR(B21="",C21="",D21="",F21="",G21=""),"Complete record",IF('Assumptions'!$B$7="","Check assumptions",IF(F21>'Assumptions'!$B$7,"Check hours limit","Ready"))))))
I22: =IF(COUNTA(A22:H22)=0,"",IF(A22="","Complete record",IF(COUNTIF($A$5:$A$104,A22)>1,"Duplicate staff ID",IF(OR(B22="",C22="",D22="",F22="",G22=""),"Complete record",IF('Assumptions'!$B$7="","Check assumptions",IF(F22>'Assumptions'!$B$7,"Check hours limit","Ready"))))))
I23: =IF(COUNTA(A23:H23)=0,"",IF(A23="","Complete record",IF(COUNTIF($A$5:$A$104,A23)>1,"Duplicate staff ID",IF(OR(B23="",C23="",D23="",F23="",G23=""),"Complete record",IF('Assumptions'!$B$7="","Check assumptions",IF(F23>'Assumptions'!$B$7,"Check hours limit","Ready"))))))
I24: =IF(COUNTA(A24:H24)=0,"",IF(A24="","Complete record",IF(COUNTIF($A$5:$A$104,A24)>1,"Duplicate staff ID",IF(OR(B24="",C24="",D24="",F24="",G24=""),"Complete record",IF('Assumptions'!$B$7="","Check assumptions",IF(F24>'Assumptions'!$B$7,"Check hours limit","Ready"))))))
... I104: =IF(COUNTA(A104:H104)=0,"",IF(A104="","Complete record",IF(COUNTIF($A$5:$A$104,A104)>1,"Duplicate staff ID",IF(OR(B104="",C104="",D104="",F104="",G104=""),"Complete record",IF('Assumptions'!$B$7="","Check assumptions",IF(F104>'Assumptions'!$B$7,"Check hours limit","Ready"))))))

Sheet Assumptions
A1: Pet Service Staff Availability Planner — Assumptions
A2: Editable planning limits and stable choices for Fictional Lantern Tail Pet Care.
A4: Setting | B4: Editable Value | C4: Purpose | E4: Availability | F4: Confirmation | G4: Service | H4: Role | I4: Staff Status
A5: Planning start date | B5: 46274 | C5: First date included in the planning window. | E5: Available | F5: Draft | G5: Any service | H5: Groomer | I5: Active
A6: Planning horizon days | B6: 14 | C6: Number of calendar days included, from 1 through 31. | E6: Tentative | F6: Confirmed | G6: Grooming | H6: Boarding Attendant | I6: Inactive
A7: Daily availability hours limit | B7: 10 | C7: General review threshold; individual staff limits may be lower. | E7: Unavailable | F7: Needs Review | G7: Boarding | H7: Daycare Attendant | I7: On Leave
A8: Pets per window limit | B8: 20 | C8: Maximum entry value used for administrative capacity review. | G8: Daycare | H8: Pet Sitter
G9: Pet Sitting | H9: Dog Walker
G10: Dog Walking | H10: Cross-trained Attendant
A12: Human review note
A13: Review alerts are prompts for a person to check schedule details. They do not assign bookings or confirm outside records.
