Workbook

Sheet Summary
A1: Recurring Pet Appointment Calendar Summary
A2: Indicators recalculate from the recurring plans, generated dates, and entered exceptions.
A3: Calendar as of | B3: ='Assumptions'!$B$4
A4: Indicator | B4: Value | D4: Week Starting | E4: Scheduled | F4: Checks
A5: Active recurring plans | B5: =COUNTIF('Recurring Plans'!$K$5:$K$104,'Assumptions'!$E$9) | D5: =$B$3-WEEKDAY($B$3,2)+1 | E5: =IF(ROW()-4>'Assumptions'!$B$5,"",COUNTIFS('Calendar'!$G$5:$G$1204,">="&$D5,'Calendar'!$G$5:$G$1204,"<"&$D5+7,'Calendar'!$L$5:$L$1204,'Assumptions'!$E$14)) | F5: =IF(ROW()-4>'Assumptions'!$B$5,"",COUNTIFS('Calendar'!$G$5:$G$1204,">="&$D5,'Calendar'!$G$5:$G$1204,"<"&$D5+7,'Calendar'!$N$5:$N$1204,"*check*"))
A6: Paused recurring plans | B6: =COUNTIF('Recurring Plans'!$K$5:$K$104,'Assumptions'!$E$10) | D6: =D5+7 | E6: =IF(ROW()-4>'Assumptions'!$B$5,"",COUNTIFS('Calendar'!$G$5:$G$1204,">="&$D6,'Calendar'!$G$5:$G$1204,"<"&$D6+7,'Calendar'!$L$5:$L$1204,'Assumptions'!$E$14)) | F6: =IF(ROW()-4>'Assumptions'!$B$5,"",COUNTIFS('Calendar'!$G$5:$G$1204,">="&$D6,'Calendar'!$G$5:$G$1204,"<"&$D6+7,'Calendar'!$N$5:$N$1204,"*check*"))
A7: Plan checks | B7: =COUNTIF('Recurring Plans'!$M$5:$M$104,"*check*") | D7: =D6+7 | E7: =IF(ROW()-4>'Assumptions'!$B$5,"",COUNTIFS('Calendar'!$G$5:$G$1204,">="&$D7,'Calendar'!$G$5:$G$1204,"<"&$D7+7,'Calendar'!$L$5:$L$1204,'Assumptions'!$E$14)) | F7: =IF(ROW()-4>'Assumptions'!$B$5,"",COUNTIFS('Calendar'!$G$5:$G$1204,">="&$D7,'Calendar'!$G$5:$G$1204,"<"&$D7+7,'Calendar'!$N$5:$N$1204,"*check*"))
A8: Generated appointment dates | B8: =COUNT('Calendar'!$G$5:$G$1204) | D8: =D7+7 | E8: =IF(ROW()-4>'Assumptions'!$B$5,"",COUNTIFS('Calendar'!$G$5:$G$1204,">="&$D8,'Calendar'!$G$5:$G$1204,"<"&$D8+7,'Calendar'!$L$5:$L$1204,'Assumptions'!$E$14)) | F8: =IF(ROW()-4>'Assumptions'!$B$5,"",COUNTIFS('Calendar'!$G$5:$G$1204,">="&$D8,'Calendar'!$G$5:$G$1204,"<"&$D8+7,'Calendar'!$N$5:$N$1204,"*check*"))
A9: Scheduled in next 30 days | B9: =COUNTIFS('Calendar'!$G$5:$G$1204,">="&$B$3,'Calendar'!$G$5:$G$1204,"<="&$B$3+30,'Calendar'!$L$5:$L$1204,'Assumptions'!$E$14) | D9: =D8+7 | E9: =IF(ROW()-4>'Assumptions'!$B$5,"",COUNTIFS('Calendar'!$G$5:$G$1204,">="&$D9,'Calendar'!$G$5:$G$1204,"<"&$D9+7,'Calendar'!$L$5:$L$1204,'Assumptions'!$E$14)) | F9: =IF(ROW()-4>'Assumptions'!$B$5,"",COUNTIFS('Calendar'!$G$5:$G$1204,">="&$D9,'Calendar'!$G$5:$G$1204,"<"&$D9+7,'Calendar'!$N$5:$N$1204,"*check*"))
A10: Appointment checks | B10: =COUNTIF('Calendar'!$N$5:$N$1204,"*check*") | D10: =D9+7 | E10: =IF(ROW()-4>'Assumptions'!$B$5,"",COUNTIFS('Calendar'!$G$5:$G$1204,">="&$D10,'Calendar'!$G$5:$G$1204,"<"&$D10+7,'Calendar'!$L$5:$L$1204,'Assumptions'!$E$14)) | F10: =IF(ROW()-4>'Assumptions'!$B$5,"",COUNTIFS('Calendar'!$G$5:$G$1204,">="&$D10,'Calendar'!$G$5:$G$1204,"<"&$D10+7,'Calendar'!$N$5:$N$1204,"*check*"))
A11: Date overrides | B11: =COUNT('Calendar'!$F$5:$F$1204) | D11: =D10+7 | E11: =IF(ROW()-4>'Assumptions'!$B$5,"",COUNTIFS('Calendar'!$G$5:$G$1204,">="&$D11,'Calendar'!$G$5:$G$1204,"<"&$D11+7,'Calendar'!$L$5:$L$1204,'Assumptions'!$E$14)) | F11: =IF(ROW()-4>'Assumptions'!$B$5,"",COUNTIFS('Calendar'!$G$5:$G$1204,">="&$D11,'Calendar'!$G$5:$G$1204,"<"&$D11+7,'Calendar'!$N$5:$N$1204,"*check*"))
A12: Completed appointments | B12: =COUNTIF('Calendar'!$L$5:$L$1204,'Assumptions'!$E$15) | D12: =D11+7 | E12: =IF(ROW()-4>'Assumptions'!$B$5,"",COUNTIFS('Calendar'!$G$5:$G$1204,">="&$D12,'Calendar'!$G$5:$G$1204,"<"&$D12+7,'Calendar'!$L$5:$L$1204,'Assumptions'!$E$14)) | F12: =IF(ROW()-4>'Assumptions'!$B$5,"",COUNTIFS('Calendar'!$G$5:$G$1204,">="&$D12,'Calendar'!$G$5:$G$1204,"<"&$D12+7,'Calendar'!$N$5:$N$1204,"*check*"))
A13: Canceled appointments | B13: =COUNTIF('Calendar'!$L$5:$L$1204,'Assumptions'!$E$16)

Sheet Recurring Plans
A1: Recurring Pet Appointment Plans
A2: Enter one plan per row. All sample clients, pets, staff labels, and appointments are fictional.
A4: Plan ID | B4: Pet Name | C4: Client Label | D4: Service | E4: Start Date | F4: Every | G4: Unit | H4: Occurrences | I4: Preferred Time | J4: Default Staff | K4: Plan Status | L4: Series End Date | M4: Plan Review
A5: RPA-001 | B5: Biscuit | C5: Sample Client 01 | D5: Bath and brush | E5: 46260 | F5: 1 | G5: Weeks | H5: 8 | I5: 0.375 | J5: Staff A | K5: Active | L5: =IF(OR($A5="",$E5="",$F5="",$G5="",$H5=""),"",IFERROR(IF($G5='Assumptions'!$E$4,$E5+($H5-1)*$F5,IF($G5='Assumptions'!$E$5,$E5+($H5-1)*$F5*7,IF($G5='Assumptions'!$E$6,EDATE($E5,($H5-1)*$F5),""))),"")) | M5: =IF($A5="","",IF(OR($B5="",$C5="",$D5="",$E5="",$F5="",$G5="",$H5="",$K5=""),"Complete inputs - check",IF(COUNTIF($A$5:$A$104,$A5)>1,"Duplicate ID - check",IF($H5>'Assumptions'!$B$6,"Occurrence limit - check",IF(AND($K5='Assumptions'!$E$9,$L5<'Assumptions'!$B$4),"Past series - check","")))))
A6: RPA-002 | B6: Clover | C6: Sample Client 02 | D6: Nail trim | E6: 46276 | F6: 2 | G6: Weeks | H6: 6 | I6: 0.4375 | J6: Staff B | K6: Active | L6: =IF(OR($A6="",$E6="",$F6="",$G6="",$H6=""),"",IFERROR(IF($G6='Assumptions'!$E$4,$E6+($H6-1)*$F6,IF($G6='Assumptions'!$E$5,$E6+($H6-1)*$F6*7,IF($G6='Assumptions'!$E$6,EDATE($E6,($H6-1)*$F6),""))),"")) | M6: =IF($A6="","",IF(OR($B6="",$C6="",$D6="",$E6="",$F6="",$G6="",$H6="",$K6=""),"Complete inputs - check",IF(COUNTIF($A$5:$A$104,$A6)>1,"Duplicate ID - check",IF($H6>'Assumptions'!$B$6,"Occurrence limit - check",IF(AND($K6='Assumptions'!$E$9,$L6<'Assumptions'!$B$4),"Past series - check","")))))
A7: RPA-003 | B7: Juniper | C7: Sample Client 03 | D7: Deshedding service | E7: 46239 | F7: 1 | G7: Months | H7: 5 | I7: 0.54166667 | J7: Staff A | K7: Active | L7: =IF(OR($A7="",$E7="",$F7="",$G7="",$H7=""),"",IFERROR(IF($G7='Assumptions'!$E$4,$E7+($H7-1)*$F7,IF($G7='Assumptions'!$E$5,$E7+($H7-1)*$F7*7,IF($G7='Assumptions'!$E$6,EDATE($E7,($H7-1)*$F7),""))),"")) | M7: =IF($A7="","",IF(OR($B7="",$C7="",$D7="",$E7="",$F7="",$G7="",$H7="",$K7=""),"Complete inputs - check",IF(COUNTIF($A$5:$A$104,$A7)>1,"Duplicate ID - check",IF($H7>'Assumptions'!$B$6,"Occurrence limit - check",IF(AND($K7='Assumptions'!$E$9,$L7<'Assumptions'!$B$4),"Past series - check","")))))
A8: RPA-004 | B8: Orbit | C8: Sample Client 04 | D8: Daycare visit | E8: 46275 | F8: 10 | G8: Days | H8: 12 | I8: 0.33333333 | J8: Staff C | K8: Active | L8: =IF(OR($A8="",$E8="",$F8="",$G8="",$H8=""),"",IFERROR(IF($G8='Assumptions'!$E$4,$E8+($H8-1)*$F8,IF($G8='Assumptions'!$E$5,$E8+($H8-1)*$F8*7,IF($G8='Assumptions'!$E$6,EDATE($E8,($H8-1)*$F8),""))),"")) | M8: =IF($A8="","",IF(OR($B8="",$C8="",$D8="",$E8="",$F8="",$G8="",$H8="",$K8=""),"Complete inputs - check",IF(COUNTIF($A$5:$A$104,$A8)>1,"Duplicate ID - check",IF($H8>'Assumptions'!$B$6,"Occurrence limit - check",IF(AND($K8='Assumptions'!$E$9,$L8<'Assumptions'!$B$4),"Past series - check","")))))
A9: RPA-005 | B9: Maple | C9: Sample Client 05 | D9: Full groom | E9: 46279 | F9: 1 | G9: Months | H9: 4 | I9: 0.45833333 | J9: Staff B | K9: Paused | L9: =IF(OR($A9="",$E9="",$F9="",$G9="",$H9=""),"",IFERROR(IF($G9='Assumptions'!$E$4,$E9+($H9-1)*$F9,IF($G9='Assumptions'!$E$5,$E9+($H9-1)*$F9*7,IF($G9='Assumptions'!$E$6,EDATE($E9,($H9-1)*$F9),""))),"")) | M9: =IF($A9="","",IF(OR($B9="",$C9="",$D9="",$E9="",$F9="",$G9="",$H9="",$K9=""),"Complete inputs - check",IF(COUNTIF($A$5:$A$104,$A9)>1,"Duplicate ID - check",IF($H9>'Assumptions'!$B$6,"Occurrence limit - check",IF(AND($K9='Assumptions'!$E$9,$L9<'Assumptions'!$B$4),"Past series - check","")))))
A10: RPA-006 | B10: Pippin | C10: Sample Client 06 | D10: Dog walk | E10: 46267 | F10: 3 | G10: Weeks | H10: 6 | I10: 0.64583333 | J10: Staff C | K10: Active | L10: =IF(OR($A10="",$E10="",$F10="",$G10="",$H10=""),"",IFERROR(IF($G10='Assumptions'!$E$4,$E10+($H10-1)*$F10,IF($G10='Assumptions'!$E$5,$E10+($H10-1)*$F10*7,IF($G10='Assumptions'!$E$6,EDATE($E10,($H10-1)*$F10),""))),"")) | M10: =IF($A10="","",IF(OR($B10="",$C10="",$D10="",$E10="",$F10="",$G10="",$H10="",$K10=""),"Complete inputs - check",IF(COUNTIF($A$5:$A$104,$A10)>1,"Duplicate ID - check",IF($H10>'Assumptions'!$B$6,"Occurrence limit - check",IF(AND($K10='Assumptions'!$E$9,$L10<'Assumptions'!$B$4),"Past series - check","")))))
A11: RPA-007 | B11: Sable | C11: Sample Client 07 | D11: Bath service | E11: 46184 | F11: 1 | G11: Months | H11: 3 | I11: 0.58333333 | J11: Staff A | K11: Ended | L11: =IF(OR($A11="",$E11="",$F11="",$G11="",$H11=""),"",IFERROR(IF($G11='Assumptions'!$E$4,$E11+($H11-1)*$F11,IF($G11='Assumptions'!$E$5,$E11+($H11-1)*$F11*7,IF($G11='Assumptions'!$E$6,EDATE($E11,($H11-1)*$F11),""))),"")) | M11: =IF($A11="","",IF(OR($B11="",$C11="",$D11="",$E11="",$F11="",$G11="",$H11="",$K11=""),"Complete inputs - check",IF(COUNTIF($A$5:$A$104,$A11)>1,"Duplicate ID - check",IF($H11>'Assumptions'!$B$6,"Occurrence limit - check",IF(AND($K11='Assumptions'!$E$9,$L11<'Assumptions'!$B$4),"Past series - check","")))))
A12: RPA-008 | B12: Waffles | C12: Sample Client 08 | D12: Brush-out | E12: 46281 | F12: 2 | G12: Months | H12: 4 | I12: 0.52083333 | J12: Staff B | K12: Active | L12: =IF(OR($A12="",$E12="",$F12="",$G12="",$H12=""),"",IFERROR(IF($G12='Assumptions'!$E$4,$E12+($H12-1)*$F12,IF($G12='Assumptions'!$E$5,$E12+($H12-1)*$F12*7,IF($G12='Assumptions'!$E$6,EDATE($E12,($H12-1)*$F12),""))),"")) | M12: =IF($A12="","",IF(OR($B12="",$C12="",$D12="",$E12="",$F12="",$G12="",$H12="",$K12=""),"Complete inputs - check",IF(COUNTIF($A$5:$A$104,$A12)>1,"Duplicate ID - check",IF($H12>'Assumptions'!$B$6,"Occurrence limit - check",IF(AND($K12='Assumptions'!$E$9,$L12<'Assumptions'!$B$4),"Past series - check","")))))
A13: RPA-009 | B13: Tinker | C13: Sample Client 09 | D13: Nail trim | E13: 46269 | F13: 5 | G13: Days | H13: 12 | I13: 0.66666667 | J13: Staff C | K13: Active | L13: =IF(OR($A13="",$E13="",$F13="",$G13="",$H13=""),"",IFERROR(IF($G13='Assumptions'!$E$4,$E13+($H13-1)*$F13,IF($G13='Assumptions'!$E$5,$E13+($H13-1)*$F13*7,IF($G13='Assumptions'!$E$6,EDATE($E13,($H13-1)*$F13),""))),"")) | M13: =IF($A13="","",IF(OR($B13="",$C13="",$D13="",$E13="",$F13="",$G13="",$H13="",$K13=""),"Complete inputs - check",IF(COUNTIF($A$5:$A$104,$A13)>1,"Duplicate ID - check",IF($H13>'Assumptions'!$B$6,"Occurrence limit - check",IF(AND($K13='Assumptions'!$E$9,$L13<'Assumptions'!$B$4),"Past series - check","")))))
A14: RPA-010 | B14: Zephyr | C14: Sample Client 10 | D14: Pet sitting check-in | E14: 46304 | F14: 1 | G14: Weeks | H14: 1 | I14: 0.75 | J14: Staff A | K14: Active | L14: =IF(OR($A14="",$E14="",$F14="",$G14="",$H14=""),"",IFERROR(IF($G14='Assumptions'!$E$4,$E14+($H14-1)*$F14,IF($G14='Assumptions'!$E$5,$E14+($H14-1)*$F14*7,IF($G14='Assumptions'!$E$6,EDATE($E14,($H14-1)*$F14),""))),"")) | M14: =IF($A14="","",IF(OR($B14="",$C14="",$D14="",$E14="",$F14="",$G14="",$H14="",$K14=""),"Complete inputs - check",IF(COUNTIF($A$5:$A$104,$A14)>1,"Duplicate ID - check",IF($H14>'Assumptions'!$B$6,"Occurrence limit - check",IF(AND($K14='Assumptions'!$E$9,$L14<'Assumptions'!$B$4),"Past series - check","")))))
L15: =IF(OR($A15="",$E15="",$F15="",$G15="",$H15=""),"",IFERROR(IF($G15='Assumptions'!$E$4,$E15+($H15-1)*$F15,IF($G15='Assumptions'!$E$5,$E15+($H15-1)*$F15*7,IF($G15='Assumptions'!$E$6,EDATE($E15,($H15-1)*$F15),""))),"")) | M15: =IF($A15="","",IF(OR($B15="",$C15="",$D15="",$E15="",$F15="",$G15="",$H15="",$K15=""),"Complete inputs - check",IF(COUNTIF($A$5:$A$104,$A15)>1,"Duplicate ID - check",IF($H15>'Assumptions'!$B$6,"Occurrence limit - check",IF(AND($K15='Assumptions'!$E$9,$L15<'Assumptions'!$B$4),"Past series - check","")))))
L16: =IF(OR($A16="",$E16="",$F16="",$G16="",$H16=""),"",IFERROR(IF($G16='Assumptions'!$E$4,$E16+($H16-1)*$F16,IF($G16='Assumptions'!$E$5,$E16+($H16-1)*$F16*7,IF($G16='Assumptions'!$E$6,EDATE($E16,($H16-1)*$F16),""))),"")) | M16: =IF($A16="","",IF(OR($B16="",$C16="",$D16="",$E16="",$F16="",$G16="",$H16="",$K16=""),"Complete inputs - check",IF(COUNTIF($A$5:$A$104,$A16)>1,"Duplicate ID - check",IF($H16>'Assumptions'!$B$6,"Occurrence limit - check",IF(AND($K16='Assumptions'!$E$9,$L16<'Assumptions'!$B$4),"Past series - check","")))))
L17: =IF(OR($A17="",$E17="",$F17="",$G17="",$H17=""),"",IFERROR(IF($G17='Assumptions'!$E$4,$E17+($H17-1)*$F17,IF($G17='Assumptions'!$E$5,$E17+($H17-1)*$F17*7,IF($G17='Assumptions'!$E$6,EDATE($E17,($H17-1)*$F17),""))),"")) | M17: =IF($A17="","",IF(OR($B17="",$C17="",$D17="",$E17="",$F17="",$G17="",$H17="",$K17=""),"Complete inputs - check",IF(COUNTIF($A$5:$A$104,$A17)>1,"Duplicate ID - check",IF($H17>'Assumptions'!$B$6,"Occurrence limit - check",IF(AND($K17='Assumptions'!$E$9,$L17<'Assumptions'!$B$4),"Past series - check","")))))
L18: =IF(OR($A18="",$E18="",$F18="",$G18="",$H18=""),"",IFERROR(IF($G18='Assumptions'!$E$4,$E18+($H18-1)*$F18,IF($G18='Assumptions'!$E$5,$E18+($H18-1)*$F18*7,IF($G18='Assumptions'!$E$6,EDATE($E18,($H18-1)*$F18),""))),"")) | M18: =IF($A18="","",IF(OR($B18="",$C18="",$D18="",$E18="",$F18="",$G18="",$H18="",$K18=""),"Complete inputs - check",IF(COUNTIF($A$5:$A$104,$A18)>1,"Duplicate ID - check",IF($H18>'Assumptions'!$B$6,"Occurrence limit - check",IF(AND($K18='Assumptions'!$E$9,$L18<'Assumptions'!$B$4),"Past series - check","")))))
L19: =IF(OR($A19="",$E19="",$F19="",$G19="",$H19=""),"",IFERROR(IF($G19='Assumptions'!$E$4,$E19+($H19-1)*$F19,IF($G19='Assumptions'!$E$5,$E19+($H19-1)*$F19*7,IF($G19='Assumptions'!$E$6,EDATE($E19,($H19-1)*$F19),""))),"")) | M19: =IF($A19="","",IF(OR($B19="",$C19="",$D19="",$E19="",$F19="",$G19="",$H19="",$K19=""),"Complete inputs - check",IF(COUNTIF($A$5:$A$104,$A19)>1,"Duplicate ID - check",IF($H19>'Assumptions'!$B$6,"Occurrence limit - check",IF(AND($K19='Assumptions'!$E$9,$L19<'Assumptions'!$B$4),"Past series - check","")))))
L20: =IF(OR($A20="",$E20="",$F20="",$G20="",$H20=""),"",IFERROR(IF($G20='Assumptions'!$E$4,$E20+($H20-1)*$F20,IF($G20='Assumptions'!$E$5,$E20+($H20-1)*$F20*7,IF($G20='Assumptions'!$E$6,EDATE($E20,($H20-1)*$F20),""))),"")) | M20: =IF($A20="","",IF(OR($B20="",$C20="",$D20="",$E20="",$F20="",$G20="",$H20="",$K20=""),"Complete inputs - check",IF(COUNTIF($A$5:$A$104,$A20)>1,"Duplicate ID - check",IF($H20>'Assumptions'!$B$6,"Occurrence limit - check",IF(AND($K20='Assumptions'!$E$9,$L20<'Assumptions'!$B$4),"Past series - check","")))))
L21: =IF(OR($A21="",$E21="",$F21="",$G21="",$H21=""),"",IFERROR(IF($G21='Assumptions'!$E$4,$E21+($H21-1)*$F21,IF($G21='Assumptions'!$E$5,$E21+($H21-1)*$F21*7,IF($G21='Assumptions'!$E$6,EDATE($E21,($H21-1)*$F21),""))),"")) | M21: =IF($A21="","",IF(OR($B21="",$C21="",$D21="",$E21="",$F21="",$G21="",$H21="",$K21=""),"Complete inputs - check",IF(COUNTIF($A$5:$A$104,$A21)>1,"Duplicate ID - check",IF($H21>'Assumptions'!$B$6,"Occurrence limit - check",IF(AND($K21='Assumptions'!$E$9,$L21<'Assumptions'!$B$4),"Past series - check","")))))
L22: =IF(OR($A22="",$E22="",$F22="",$G22="",$H22=""),"",IFERROR(IF($G22='Assumptions'!$E$4,$E22+($H22-1)*$F22,IF($G22='Assumptions'!$E$5,$E22+($H22-1)*$F22*7,IF($G22='Assumptions'!$E$6,EDATE($E22,($H22-1)*$F22),""))),"")) | M22: =IF($A22="","",IF(OR($B22="",$C22="",$D22="",$E22="",$F22="",$G22="",$H22="",$K22=""),"Complete inputs - check",IF(COUNTIF($A$5:$A$104,$A22)>1,"Duplicate ID - check",IF($H22>'Assumptions'!$B$6,"Occurrence limit - check",IF(AND($K22='Assumptions'!$E$9,$L22<'Assumptions'!$B$4),"Past series - check","")))))
L23: =IF(OR($A23="",$E23="",$F23="",$G23="",$H23=""),"",IFERROR(IF($G23='Assumptions'!$E$4,$E23+($H23-1)*$F23,IF($G23='Assumptions'!$E$5,$E23+($H23-1)*$F23*7,IF($G23='Assumptions'!$E$6,EDATE($E23,($H23-1)*$F23),""))),"")) | M23: =IF($A23="","",IF(OR($B23="",$C23="",$D23="",$E23="",$F23="",$G23="",$H23="",$K23=""),"Complete inputs - check",IF(COUNTIF($A$5:$A$104,$A23)>1,"Duplicate ID - check",IF($H23>'Assumptions'!$B$6,"Occurrence limit - check",IF(AND($K23='Assumptions'!$E$9,$L23<'Assumptions'!$B$4),"Past series - check","")))))
L24: =IF(OR($A24="",$E24="",$F24="",$G24="",$H24=""),"",IFERROR(IF($G24='Assumptions'!$E$4,$E24+($H24-1)*$F24,IF($G24='Assumptions'!$E$5,$E24+($H24-1)*$F24*7,IF($G24='Assumptions'!$E$6,EDATE($E24,($H24-1)*$F24),""))),"")) | M24: =IF($A24="","",IF(OR($B24="",$C24="",$D24="",$E24="",$F24="",$G24="",$H24="",$K24=""),"Complete inputs - check",IF(COUNTIF($A$5:$A$104,$A24)>1,"Duplicate ID - check",IF($H24>'Assumptions'!$B$6,"Occurrence limit - check",IF(AND($K24='Assumptions'!$E$9,$L24<'Assumptions'!$B$4),"Past series - check","")))))
L25: =IF(OR($A25="",$E25="",$F25="",$G25="",$H25=""),"",IFERROR(IF($G25='Assumptions'!$E$4,$E25+($H25-1)*$F25,IF($G25='Assumptions'!$E$5,$E25+($H25-1)*$F25*7,IF($G25='Assumptions'!$E$6,EDATE($E25,($H25-1)*$F25),""))),"")) | M25: =IF($A25="","",IF(OR($B25="",$C25="",$D25="",$E25="",$F25="",$G25="",$H25="",$K25=""),"Complete inputs - check",IF(COUNTIF($A$5:$A$104,$A25)>1,"Duplicate ID - check",IF($H25>'Assumptions'!$B$6,"Occurrence limit - check",IF(AND($K25='Assumptions'!$E$9,$L25<'Assumptions'!$B$4),"Past series - check","")))))
L26: =IF(OR($A26="",$E26="",$F26="",$G26="",$H26=""),"",IFERROR(IF($G26='Assumptions'!$E$4,$E26+($H26-1)*$F26,IF($G26='Assumptions'!$E$5,$E26+($H26-1)*$F26*7,IF($G26='Assumptions'!$E$6,EDATE($E26,($H26-1)*$F26),""))),"")) | M26: =IF($A26="","",IF(OR($B26="",$C26="",$D26="",$E26="",$F26="",$G26="",$H26="",$K26=""),"Complete inputs - check",IF(COUNTIF($A$5:$A$104,$A26)>1,"Duplicate ID - check",IF($H26>'Assumptions'!$B$6,"Occurrence limit - check",IF(AND($K26='Assumptions'!$E$9,$L26<'Assumptions'!$B$4),"Past series - check","")))))
... L104: =IF(OR($A104="",$E104="",$F104="",$G104="",$H104=""),"",IFERROR(IF($G104='Assumptions'!$E$4,$E104+($H104-1)*$F104,IF($G104='Assumptions'!$E$5,$E104+($H104-1)*$F104*7,IF($G104='Assumptions'!$E$6,EDATE($E104,($H104-1)*$F104),""))),"")) | M104: =IF($A104="","",IF(OR($B104="",$C104="",$D104="",$E104="",$F104="",$G104="",$H104="",$K104=""),"Complete inputs - check",IF(COUNTIF($A$5:$A$104,$A104)>1,"Duplicate ID - check",IF($H104>'Assumptions'!$B$6,"Occurrence limit - check",IF(AND($K104='Assumptions'!$E$9,$L104<'Assumptions'!$B$4),"Past series - check","")))))

Sheet Calendar
A1: Generated Recurring Appointment Calendar
A2: Active plans generate up to 12 occurrences. Yellow cells accept date, staff, status, or note exceptions. All examples are fictional.
A4: Plan ID | B4: Occurrence | C4: Pet Name | D4: Service | E4: Planned Date | F4: Date Override | G4: Appointment Date | H4: Preferred Time | I4: Staff Override | J4: Assigned To | K4: Status Override | L4: Appointment Status | M4: Exception Note | N4: Review Flag
A5: =IFERROR(IF(INDEX('Recurring Plans'!$A$5:$A$104,INT((ROW()-5)/12)+1)="","",INDEX('Recurring Plans'!$A$5:$A$104,INT((ROW()-5)/12)+1)),"") | B5: =IF($A5="","",MOD(ROW()-5,12)+1) | C5: =IF($A5="","",IFERROR(VLOOKUP($A5,'Recurring Plans'!$A$5:$M$104,2,FALSE),"")) | D5: =IF($A5="","",IFERROR(VLOOKUP($A5,'Recurring Plans'!$A$5:$M$104,4,FALSE),"")) | E5: =IF(OR($A5="",$B5>IFERROR(VLOOKUP($A5,'Recurring Plans'!$A$5:$M$104,8,FALSE),0),IFERROR(VLOOKUP($A5,'Recurring Plans'!$A$5:$M$104,11,FALSE),"")<>'Assumptions'!$E$9),"",IFERROR(IF(VLOOKUP($A5,'Recurring Plans'!$A$5:$M$104,7,FALSE)='Assumptions'!$E$4,VLOOKUP($A5,'Recurring Plans'!$A$5:$M$104,5,FALSE)+($B5-1)*VLOOKUP($A5,'Recurring Plans'!$A$5:$M$104,6,FALSE),IF(VLOOKUP($A5,'Recurring Plans'!$A$5:$M$104,7,FALSE)='Assumptions'!$E$5,VLOOKUP($A5,'Recurring Plans'!$A$5:$M$104,5,FALSE)+($B5-1)*VLOOKUP($A5,'Recurring Plans'!$A$5:$M$104,6,FALSE)*7,IF(VLOOKUP($A5,'Recurring Plans'!$A$5:$M$104,7,FALSE)='Assumptions'!$E$6,EDATE(VLOOKUP($A5,'Recurring Plans'!$A$5:$M$104,5,FALSE),($B5-1)*VLOOKUP($A5,'Recurring Plans'!$A$5:$M$104,6,FALSE)),""))),"")) | G5: =IF($E5="","",IF($F5<>"",$F5,$E5)) | H5: =IF($E5="","",IFERROR(VLOOKUP($A5,'Recurring Plans'!$A$5:$M$104,9,FALSE),"")) | J5: =IF($E5="","",IF($I5<>"",$I5,IFERROR(VLOOKUP($A5,'Recurring Plans'!$A$5:$M$104,10,FALSE),""))) | K5: Completed | L5: =IF($G5="","",IF($K5<>"",$K5,'Assumptions'!$E$14)) | N5: =IF($G5="","",IF(OR($F5<>"",$I5<>"",$M5<>"",$K5='Assumptions'!$E$16,$K5='Assumptions'!$E$17),"Exception - check",IF(AND($L5='Assumptions'!$E$14,$G5<'Assumptions'!$B$4),"Past date - check","")))
A6: =IFERROR(IF(INDEX('Recurring Plans'!$A$5:$A$104,INT((ROW()-5)/12)+1)="","",INDEX('Recurring Plans'!$A$5:$A$104,INT((ROW()-5)/12)+1)),"") | B6: =IF($A6="","",MOD(ROW()-5,12)+1) | C6: =IF($A6="","",IFERROR(VLOOKUP($A6,'Recurring Plans'!$A$5:$M$104,2,FALSE),"")) | D6: =IF($A6="","",IFERROR(VLOOKUP($A6,'Recurring Plans'!$A$5:$M$104,4,FALSE),"")) | E6: =IF(OR($A6="",$B6>IFERROR(VLOOKUP($A6,'Recurring Plans'!$A$5:$M$104,8,FALSE),0),IFERROR(VLOOKUP($A6,'Recurring Plans'!$A$5:$M$104,11,FALSE),"")<>'Assumptions'!$E$9),"",IFERROR(IF(VLOOKUP($A6,'Recurring Plans'!$A$5:$M$104,7,FALSE)='Assumptions'!$E$4,VLOOKUP($A6,'Recurring Plans'!$A$5:$M$104,5,FALSE)+($B6-1)*VLOOKUP($A6,'Recurring Plans'!$A$5:$M$104,6,FALSE),IF(VLOOKUP($A6,'Recurring Plans'!$A$5:$M$104,7,FALSE)='Assumptions'!$E$5,VLOOKUP($A6,'Recurring Plans'!$A$5:$M$104,5,FALSE)+($B6-1)*VLOOKUP($A6,'Recurring Plans'!$A$5:$M$104,6,FALSE)*7,IF(VLOOKUP($A6,'Recurring Plans'!$A$5:$M$104,7,FALSE)='Assumptions'!$E$6,EDATE(VLOOKUP($A6,'Recurring Plans'!$A$5:$M$104,5,FALSE),($B6-1)*VLOOKUP($A6,'Recurring Plans'!$A$5:$M$104,6,FALSE)),""))),"")) | G6: =IF($E6="","",IF($F6<>"",$F6,$E6)) | H6: =IF($E6="","",IFERROR(VLOOKUP($A6,'Recurring Plans'!$A$5:$M$104,9,FALSE),"")) | J6: =IF($E6="","",IF($I6<>"",$I6,IFERROR(VLOOKUP($A6,'Recurring Plans'!$A$5:$M$104,10,FALSE),""))) | K6: Completed | L6: =IF($G6="","",IF($K6<>"",$K6,'Assumptions'!$E$14)) | N6: =IF($G6="","",IF(OR($F6<>"",$I6<>"",$M6<>"",$K6='Assumptions'!$E$16,$K6='Assumptions'!$E$17),"Exception - check",IF(AND($L6='Assumptions'!$E$14,$G6<'Assumptions'!$B$4),"Past date - check","")))
A7: =IFERROR(IF(INDEX('Recurring Plans'!$A$5:$A$104,INT((ROW()-5)/12)+1)="","",INDEX('Recurring Plans'!$A$5:$A$104,INT((ROW()-5)/12)+1)),"") | B7: =IF($A7="","",MOD(ROW()-5,12)+1) | C7: =IF($A7="","",IFERROR(VLOOKUP($A7,'Recurring Plans'!$A$5:$M$104,2,FALSE),"")) | D7: =IF($A7="","",IFERROR(VLOOKUP($A7,'Recurring Plans'!$A$5:$M$104,4,FALSE),"")) | E7: =IF(OR($A7="",$B7>IFERROR(VLOOKUP($A7,'Recurring Plans'!$A$5:$M$104,8,FALSE),0),IFERROR(VLOOKUP($A7,'Recurring Plans'!$A$5:$M$104,11,FALSE),"")<>'Assumptions'!$E$9),"",IFERROR(IF(VLOOKUP($A7,'Recurring Plans'!$A$5:$M$104,7,FALSE)='Assumptions'!$E$4,VLOOKUP($A7,'Recurring Plans'!$A$5:$M$104,5,FALSE)+($B7-1)*VLOOKUP($A7,'Recurring Plans'!$A$5:$M$104,6,FALSE),IF(VLOOKUP($A7,'Recurring Plans'!$A$5:$M$104,7,FALSE)='Assumptions'!$E$5,VLOOKUP($A7,'Recurring Plans'!$A$5:$M$104,5,FALSE)+($B7-1)*VLOOKUP($A7,'Recurring Plans'!$A$5:$M$104,6,FALSE)*7,IF(VLOOKUP($A7,'Recurring Plans'!$A$5:$M$104,7,FALSE)='Assumptions'!$E$6,EDATE(VLOOKUP($A7,'Recurring Plans'!$A$5:$M$104,5,FALSE),($B7-1)*VLOOKUP($A7,'Recurring Plans'!$A$5:$M$104,6,FALSE)),""))),"")) | F7: 46275 | G7: =IF($E7="","",IF($F7<>"",$F7,$E7)) | H7: =IF($E7="","",IFERROR(VLOOKUP($A7,'Recurring Plans'!$A$5:$M$104,9,FALSE),"")) | J7: =IF($E7="","",IF($I7<>"",$I7,IFERROR(VLOOKUP($A7,'Recurring Plans'!$A$5:$M$104,10,FALSE),""))) | K7: Scheduled | L7: =IF($G7="","",IF($K7<>"",$K7,'Assumptions'!$E$14)) | M7: Owner requested a later day. | N7: =IF($G7="","",IF(OR($F7<>"",$I7<>"",$M7<>"",$K7='Assumptions'!$E$16,$K7='Assumptions'!$E$17),"Exception - check",IF(AND($L7='Assumptions'!$E$14,$G7<'Assumptions'!$B$4),"Past date - check","")))
A8: =IFERROR(IF(INDEX('Recurring Plans'!$A$5:$A$104,INT((ROW()-5)/12)+1)="","",INDEX('Recurring Plans'!$A$5:$A$104,INT((ROW()-5)/12)+1)),"") | B8: =IF($A8="","",MOD(ROW()-5,12)+1) | C8: =IF($A8="","",IFERROR(VLOOKUP($A8,'Recurring Plans'!$A$5:$M$104,2,FALSE),"")) | D8: =IF($A8="","",IFERROR(VLOOKUP($A8,'Recurring Plans'!$A$5:$M$104,4,FALSE),"")) | E8: =IF(OR($A8="",$B8>IFERROR(VLOOKUP($A8,'Recurring Plans'!$A$5:$M$104,8,FALSE),0),IFERROR(VLOOKUP($A8,'Recurring Plans'!$A$5:$M$104,11,FALSE),"")<>'Assumptions'!$E$9),"",IFERROR(IF(VLOOKUP($A8,'Recurring Plans'!$A$5:$M$104,7,FALSE)='Assumptions'!$E$4,VLOOKUP($A8,'Recurring Plans'!$A$5:$M$104,5,FALSE)+($B8-1)*VLOOKUP($A8,'Recurring Plans'!$A$5:$M$104,6,FALSE),IF(VLOOKUP($A8,'Recurring Plans'!$A$5:$M$104,7,FALSE)='Assumptions'!$E$5,VLOOKUP($A8,'Recurring Plans'!$A$5:$M$104,5,FALSE)+($B8-1)*VLOOKUP($A8,'Recurring Plans'!$A$5:$M$104,6,FALSE)*7,IF(VLOOKUP($A8,'Recurring Plans'!$A$5:$M$104,7,FALSE)='Assumptions'!$E$6,EDATE(VLOOKUP($A8,'Recurring Plans'!$A$5:$M$104,5,FALSE),($B8-1)*VLOOKUP($A8,'Recurring Plans'!$A$5:$M$104,6,FALSE)),""))),"")) | G8: =IF($E8="","",IF($F8<>"",$F8,$E8)) | H8: =IF($E8="","",IFERROR(VLOOKUP($A8,'Recurring Plans'!$A$5:$M$104,9,FALSE),"")) | J8: =IF($E8="","",IF($I8<>"",$I8,IFERROR(VLOOKUP($A8,'Recurring Plans'!$A$5:$M$104,10,FALSE),""))) | L8: =IF($G8="","",IF($K8<>"",$K8,'Assumptions'!$E$14)) | N8: =IF($G8="","",IF(OR($F8<>"",$I8<>"",$M8<>"",$K8='Assumptions'!$E$16,$K8='Assumptions'!$E$17),"Exception - check",IF(AND($L8='Assumptions'!$E$14,$G8<'Assumptions'!$B$4),"Past date - check","")))
A9: =IFERROR(IF(INDEX('Recurring Plans'!$A$5:$A$104,INT((ROW()-5)/12)+1)="","",INDEX('Recurring Plans'!$A$5:$A$104,INT((ROW()-5)/12)+1)),"") | B9: =IF($A9="","",MOD(ROW()-5,12)+1) | C9: =IF($A9="","",IFERROR(VLOOKUP($A9,'Recurring Plans'!$A$5:$M$104,2,FALSE),"")) | D9: =IF($A9="","",IFERROR(VLOOKUP($A9,'Recurring Plans'!$A$5:$M$104,4,FALSE),"")) | E9: =IF(OR($A9="",$B9>IFERROR(VLOOKUP($A9,'Recurring Plans'!$A$5:$M$104,8,FALSE),0),IFERROR(VLOOKUP($A9,'Recurring Plans'!$A$5:$M$104,11,FALSE),"")<>'Assumptions'!$E$9),"",IFERROR(IF(VLOOKUP($A9,'Recurring Plans'!$A$5:$M$104,7,FALSE)='Assumptions'!$E$4,VLOOKUP($A9,'Recurring Plans'!$A$5:$M$104,5,FALSE)+($B9-1)*VLOOKUP($A9,'Recurring Plans'!$A$5:$M$104,6,FALSE),IF(VLOOKUP($A9,'Recurring Plans'!$A$5:$M$104,7,FALSE)='Assumptions'!$E$5,VLOOKUP($A9,'Recurring Plans'!$A$5:$M$104,5,FALSE)+($B9-1)*VLOOKUP($A9,'Recurring Plans'!$A$5:$M$104,6,FALSE)*7,IF(VLOOKUP($A9,'Recurring Plans'!$A$5:$M$104,7,FALSE)='Assumptions'!$E$6,EDATE(VLOOKUP($A9,'Recurring Plans'!$A$5:$M$104,5,FALSE),($B9-1)*VLOOKUP($A9,'Recurring Plans'!$A$5:$M$104,6,FALSE)),""))),"")) | G9: =IF($E9="","",IF($F9<>"",$F9,$E9)) | H9: =IF($E9="","",IFERROR(VLOOKUP($A9,'Recurring Plans'!$A$5:$M$104,9,FALSE),"")) | J9: =IF($E9="","",IF($I9<>"",$I9,IFERROR(VLOOKUP($A9,'Recurring Plans'!$A$5:$M$104,10,FALSE),""))) | L9: =IF($G9="","",IF($K9<>"",$K9,'Assumptions'!$E$14)) | N9: =IF($G9="","",IF(OR($F9<>"",$I9<>"",$M9<>"",$K9='Assumptions'!$E$16,$K9='Assumptions'!$E$17),"Exception - check",IF(AND($L9='Assumptions'!$E$14,$G9<'Assumptions'!$B$4),"Past date - check","")))
A10: =IFERROR(IF(INDEX('Recurring Plans'!$A$5:$A$104,INT((ROW()-5)/12)+1)="","",INDEX('Recurring Plans'!$A$5:$A$104,INT((ROW()-5)/12)+1)),"") | B10: =IF($A10="","",MOD(ROW()-5,12)+1) | C10: =IF($A10="","",IFERROR(VLOOKUP($A10,'Recurring Plans'!$A$5:$M$104,2,FALSE),"")) | D10: =IF($A10="","",IFERROR(VLOOKUP($A10,'Recurring Plans'!$A$5:$M$104,4,FALSE),"")) | E10: =IF(OR($A10="",$B10>IFERROR(VLOOKUP($A10,'Recurring Plans'!$A$5:$M$104,8,FALSE),0),IFERROR(VLOOKUP($A10,'Recurring Plans'!$A$5:$M$104,11,FALSE),"")<>'Assumptions'!$E$9),"",IFERROR(IF(VLOOKUP($A10,'Recurring Plans'!$A$5:$M$104,7,FALSE)='Assumptions'!$E$4,VLOOKUP($A10,'Recurring Plans'!$A$5:$M$104,5,FALSE)+($B10-1)*VLOOKUP($A10,'Recurring Plans'!$A$5:$M$104,6,FALSE),IF(VLOOKUP($A10,'Recurring Plans'!$A$5:$M$104,7,FALSE)='Assumptions'!$E$5,VLOOKUP($A10,'Recurring Plans'!$A$5:$M$104,5,FALSE)+($B10-1)*VLOOKUP($A10,'Recurring Plans'!$A$5:$M$104,6,FALSE)*7,IF(VLOOKUP($A10,'Recurring Plans'!$A$5:$M$104,7,FALSE)='Assumptions'!$E$6,EDATE(VLOOKUP($A10,'Recurring Plans'!$A$5:$M$104,5,FALSE),($B10-1)*VLOOKUP($A10,'Recurring Plans'!$A$5:$M$104,6,FALSE)),""))),"")) | G10: =IF($E10="","",IF($F10<>"",$F10,$E10)) | H10: =IF($E10="","",IFERROR(VLOOKUP($A10,'Recurring Plans'!$A$5:$M$104,9,FALSE),"")) | J10: =IF($E10="","",IF($I10<>"",$I10,IFERROR(VLOOKUP($A10,'Recurring Plans'!$A$5:$M$104,10,FALSE),""))) | L10: =IF($G10="","",IF($K10<>"",$K10,'Assumptions'!$E$14)) | N10: =IF($G10="","",IF(OR($F10<>"",$I10<>"",$M10<>"",$K10='Assumptions'!$E$16,$K10='Assumptions'!$E$17),"Exception - check",IF(AND($L10='Assumptions'!$E$14,$G10<'Assumptions'!$B$4),"Past date - check","")))
A11: =IFERROR(IF(INDEX('Recurring Plans'!$A$5:$A$104,INT((ROW()-5)/12)+1)="","",INDEX('Recurring Plans'!$A$5:$A$104,INT((ROW()-5)/12)+1)),"") | B11: =IF($A11="","",MOD(ROW()-5,12)+1) | C11: =IF($A11="","",IFERROR(VLOOKUP($A11,'Recurring Plans'!$A$5:$M$104,2,FALSE),"")) | D11: =IF($A11="","",IFERROR(VLOOKUP($A11,'Recurring Plans'!$A$5:$M$104,4,FALSE),"")) | E11: =IF(OR($A11="",$B11>IFERROR(VLOOKUP($A11,'Recurring Plans'!$A$5:$M$104,8,FALSE),0),IFERROR(VLOOKUP($A11,'Recurring Plans'!$A$5:$M$104,11,FALSE),"")<>'Assumptions'!$E$9),"",IFERROR(IF(VLOOKUP($A11,'Recurring Plans'!$A$5:$M$104,7,FALSE)='Assumptions'!$E$4,VLOOKUP($A11,'Recurring Plans'!$A$5:$M$104,5,FALSE)+($B11-1)*VLOOKUP($A11,'Recurring Plans'!$A$5:$M$104,6,FALSE),IF(VLOOKUP($A11,'Recurring Plans'!$A$5:$M$104,7,FALSE)='Assumptions'!$E$5,VLOOKUP($A11,'Recurring Plans'!$A$5:$M$104,5,FALSE)+($B11-1)*VLOOKUP($A11,'Recurring Plans'!$A$5:$M$104,6,FALSE)*7,IF(VLOOKUP($A11,'Recurring Plans'!$A$5:$M$104,7,FALSE)='Assumptions'!$E$6,EDATE(VLOOKUP($A11,'Recurring Plans'!$A$5:$M$104,5,FALSE),($B11-1)*VLOOKUP($A11,'Recurring Plans'!$A$5:$M$104,6,FALSE)),""))),"")) | G11: =IF($E11="","",IF($F11<>"",$F11,$E11)) | H11: =IF($E11="","",IFERROR(VLOOKUP($A11,'Recurring Plans'!$A$5:$M$104,9,FALSE),"")) | J11: =IF($E11="","",IF($I11<>"",$I11,IFERROR(VLOOKUP($A11,'Recurring Plans'!$A$5:$M$104,10,FALSE),""))) | L11: =IF($G11="","",IF($K11<>"",$K11,'Assumptions'!$E$14)) | N11: =IF($G11="","",IF(OR($F11<>"",$I11<>"",$M11<>"",$K11='Assumptions'!$E$16,$K11='Assumptions'!$E$17),"Exception - check",IF(AND($L11='Assumptions'!$E$14,$G11<'Assumptions'!$B$4),"Past date - check","")))
A12: =IFERROR(IF(INDEX('Recurring Plans'!$A$5:$A$104,INT((ROW()-5)/12)+1)="","",INDEX('Recurring Plans'!$A$5:$A$104,INT((ROW()-5)/12)+1)),"") | B12: =IF($A12="","",MOD(ROW()-5,12)+1) | C12: =IF($A12="","",IFERROR(VLOOKUP($A12,'Recurring Plans'!$A$5:$M$104,2,FALSE),"")) | D12: =IF($A12="","",IFERROR(VLOOKUP($A12,'Recurring Plans'!$A$5:$M$104,4,FALSE),"")) | E12: =IF(OR($A12="",$B12>IFERROR(VLOOKUP($A12,'Recurring Plans'!$A$5:$M$104,8,FALSE),0),IFERROR(VLOOKUP($A12,'Recurring Plans'!$A$5:$M$104,11,FALSE),"")<>'Assumptions'!$E$9),"",IFERROR(IF(VLOOKUP($A12,'Recurring Plans'!$A$5:$M$104,7,FALSE)='Assumptions'!$E$4,VLOOKUP($A12,'Recurring Plans'!$A$5:$M$104,5,FALSE)+($B12-1)*VLOOKUP($A12,'Recurring Plans'!$A$5:$M$104,6,FALSE),IF(VLOOKUP($A12,'Recurring Plans'!$A$5:$M$104,7,FALSE)='Assumptions'!$E$5,VLOOKUP($A12,'Recurring Plans'!$A$5:$M$104,5,FALSE)+($B12-1)*VLOOKUP($A12,'Recurring Plans'!$A$5:$M$104,6,FALSE)*7,IF(VLOOKUP($A12,'Recurring Plans'!$A$5:$M$104,7,FALSE)='Assumptions'!$E$6,EDATE(VLOOKUP($A12,'Recurring Plans'!$A$5:$M$104,5,FALSE),($B12-1)*VLOOKUP($A12,'Recurring Plans'!$A$5:$M$104,6,FALSE)),""))),"")) | G12: =IF($E12="","",IF($F12<>"",$F12,$E12)) | H12: =IF($E12="","",IFERROR(VLOOKUP($A12,'Recurring Plans'!$A$5:$M$104,9,FALSE),"")) | J12: =IF($E12="","",IF($I12<>"",$I12,IFERROR(VLOOKUP($A12,'Recurring Plans'!$A$5:$M$104,10,FALSE),""))) | L12: =IF($G12="","",IF($K12<>"",$K12,'Assumptions'!$E$14)) | N12: =IF($G12="","",IF(OR($F12<>"",$I12<>"",$M12<>"",$K12='Assumptions'!$E$16,$K12='Assumptions'!$E$17),"Exception - check",IF(AND($L12='Assumptions'!$E$14,$G12<'Assumptions'!$B$4),"Past date - check","")))
A13: =IFERROR(IF(INDEX('Recurring Plans'!$A$5:$A$104,INT((ROW()-5)/12)+1)="","",INDEX('Recurring Plans'!$A$5:$A$104,INT((ROW()-5)/12)+1)),"") | B13: =IF($A13="","",MOD(ROW()-5,12)+1) | C13: =IF($A13="","",IFERROR(VLOOKUP($A13,'Recurring Plans'!$A$5:$M$104,2,FALSE),"")) | D13: =IF($A13="","",IFERROR(VLOOKUP($A13,'Recurring Plans'!$A$5:$M$104,4,FALSE),"")) | E13: =IF(OR($A13="",$B13>IFERROR(VLOOKUP($A13,'Recurring Plans'!$A$5:$M$104,8,FALSE),0),IFERROR(VLOOKUP($A13,'Recurring Plans'!$A$5:$M$104,11,FALSE),"")<>'Assumptions'!$E$9),"",IFERROR(IF(VLOOKUP($A13,'Recurring Plans'!$A$5:$M$104,7,FALSE)='Assumptions'!$E$4,VLOOKUP($A13,'Recurring Plans'!$A$5:$M$104,5,FALSE)+($B13-1)*VLOOKUP($A13,'Recurring Plans'!$A$5:$M$104,6,FALSE),IF(VLOOKUP($A13,'Recurring Plans'!$A$5:$M$104,7,FALSE)='Assumptions'!$E$5,VLOOKUP($A13,'Recurring Plans'!$A$5:$M$104,5,FALSE)+($B13-1)*VLOOKUP($A13,'Recurring Plans'!$A$5:$M$104,6,FALSE)*7,IF(VLOOKUP($A13,'Recurring Plans'!$A$5:$M$104,7,FALSE)='Assumptions'!$E$6,EDATE(VLOOKUP($A13,'Recurring Plans'!$A$5:$M$104,5,FALSE),($B13-1)*VLOOKUP($A13,'Recurring Plans'!$A$5:$M$104,6,FALSE)),""))),"")) | G13: =IF($E13="","",IF($F13<>"",$F13,$E13)) | H13: =IF($E13="","",IFERROR(VLOOKUP($A13,'Recurring Plans'!$A$5:$M$104,9,FALSE),"")) | J13: =IF($E13="","",IF($I13<>"",$I13,IFERROR(VLOOKUP($A13,'Recurring Plans'!$A$5:$M$104,10,FALSE),""))) | L13: =IF($G13="","",IF($K13<>"",$K13,'Assumptions'!$E$14)) | N13: =IF($G13="","",IF(OR($F13<>"",$I13<>"",$M13<>"",$K13='Assumptions'!$E$16,$K13='Assumptions'!$E$17),"Exception - check",IF(AND($L13='Assumptions'!$E$14,$G13<'Assumptions'!$B$4),"Past date - check","")))
A14: =IFERROR(IF(INDEX('Recurring Plans'!$A$5:$A$104,INT((ROW()-5)/12)+1)="","",INDEX('Recurring Plans'!$A$5:$A$104,INT((ROW()-5)/12)+1)),"") | B14: =IF($A14="","",MOD(ROW()-5,12)+1) | C14: =IF($A14="","",IFERROR(VLOOKUP($A14,'Recurring Plans'!$A$5:$M$104,2,FALSE),"")) | D14: =IF($A14="","",IFERROR(VLOOKUP($A14,'Recurring Plans'!$A$5:$M$104,4,FALSE),"")) | E14: =IF(OR($A14="",$B14>IFERROR(VLOOKUP($A14,'Recurring Plans'!$A$5:$M$104,8,FALSE),0),IFERROR(VLOOKUP($A14,'Recurring Plans'!$A$5:$M$104,11,FALSE),"")<>'Assumptions'!$E$9),"",IFERROR(IF(VLOOKUP($A14,'Recurring Plans'!$A$5:$M$104,7,FALSE)='Assumptions'!$E$4,VLOOKUP($A14,'Recurring Plans'!$A$5:$M$104,5,FALSE)+($B14-1)*VLOOKUP($A14,'Recurring Plans'!$A$5:$M$104,6,FALSE),IF(VLOOKUP($A14,'Recurring Plans'!$A$5:$M$104,7,FALSE)='Assumptions'!$E$5,VLOOKUP($A14,'Recurring Plans'!$A$5:$M$104,5,FALSE)+($B14-1)*VLOOKUP($A14,'Recurring Plans'!$A$5:$M$104,6,FALSE)*7,IF(VLOOKUP($A14,'Recurring Plans'!$A$5:$M$104,7,FALSE)='Assumptions'!$E$6,EDATE(VLOOKUP($A14,'Recurring Plans'!$A$5:$M$104,5,FALSE),($B14-1)*VLOOKUP($A14,'Recurring Plans'!$A$5:$M$104,6,FALSE)),""))),"")) | G14: =IF($E14="","",IF($F14<>"",$F14,$E14)) | H14: =IF($E14="","",IFERROR(VLOOKUP($A14,'Recurring Plans'!$A$5:$M$104,9,FALSE),"")) | J14: =IF($E14="","",IF($I14<>"",$I14,IFERROR(VLOOKUP($A14,'Recurring Plans'!$A$5:$M$104,10,FALSE),""))) | L14: =IF($G14="","",IF($K14<>"",$K14,'Assumptions'!$E$14)) | N14: =IF($G14="","",IF(OR($F14<>"",$I14<>"",$M14<>"",$K14='Assumptions'!$E$16,$K14='Assumptions'!$E$17),"Exception - check",IF(AND($L14='Assumptions'!$E$14,$G14<'Assumptions'!$B$4),"Past date - check","")))
A15: =IFERROR(IF(INDEX('Recurring Plans'!$A$5:$A$104,INT((ROW()-5)/12)+1)="","",INDEX('Recurring Plans'!$A$5:$A$104,INT((ROW()-5)/12)+1)),"") | B15: =IF($A15="","",MOD(ROW()-5,12)+1) | C15: =IF($A15="","",IFERROR(VLOOKUP($A15,'Recurring Plans'!$A$5:$M$104,2,FALSE),"")) | D15: =IF($A15="","",IFERROR(VLOOKUP($A15,'Recurring Plans'!$A$5:$M$104,4,FALSE),"")) | E15: =IF(OR($A15="",$B15>IFERROR(VLOOKUP($A15,'Recurring Plans'!$A$5:$M$104,8,FALSE),0),IFERROR(VLOOKUP($A15,'Recurring Plans'!$A$5:$M$104,11,FALSE),"")<>'Assumptions'!$E$9),"",IFERROR(IF(VLOOKUP($A15,'Recurring Plans'!$A$5:$M$104,7,FALSE)='Assumptions'!$E$4,VLOOKUP($A15,'Recurring Plans'!$A$5:$M$104,5,FALSE)+($B15-1)*VLOOKUP($A15,'Recurring Plans'!$A$5:$M$104,6,FALSE),IF(VLOOKUP($A15,'Recurring Plans'!$A$5:$M$104,7,FALSE)='Assumptions'!$E$5,VLOOKUP($A15,'Recurring Plans'!$A$5:$M$104,5,FALSE)+($B15-1)*VLOOKUP($A15,'Recurring Plans'!$A$5:$M$104,6,FALSE)*7,IF(VLOOKUP($A15,'Recurring Plans'!$A$5:$M$104,7,FALSE)='Assumptions'!$E$6,EDATE(VLOOKUP($A15,'Recurring Plans'!$A$5:$M$104,5,FALSE),($B15-1)*VLOOKUP($A15,'Recurring Plans'!$A$5:$M$104,6,FALSE)),""))),"")) | G15: =IF($E15="","",IF($F15<>"",$F15,$E15)) | H15: =IF($E15="","",IFERROR(VLOOKUP($A15,'Recurring Plans'!$A$5:$M$104,9,FALSE),"")) | J15: =IF($E15="","",IF($I15<>"",$I15,IFERROR(VLOOKUP($A15,'Recurring Plans'!$A$5:$M$104,10,FALSE),""))) | L15: =IF($G15="","",IF($K15<>"",$K15,'Assumptions'!$E$14)) | N15: =IF($G15="","",IF(OR($F15<>"",$I15<>"",$M15<>"",$K15='Assumptions'!$E$16,$K15='Assumptions'!$E$17),"Exception - check",IF(AND($L15='Assumptions'!$E$14,$G15<'Assumptions'!$B$4),"Past date - check","")))
A16: =IFERROR(IF(INDEX('Recurring Plans'!$A$5:$A$104,INT((ROW()-5)/12)+1)="","",INDEX('Recurring Plans'!$A$5:$A$104,INT((ROW()-5)/12)+1)),"") | B16: =IF($A16="","",MOD(ROW()-5,12)+1) | C16: =IF($A16="","",IFERROR(VLOOKUP($A16,'Recurring Plans'!$A$5:$M$104,2,FALSE),"")) | D16: =IF($A16="","",IFERROR(VLOOKUP($A16,'Recurring Plans'!$A$5:$M$104,4,FALSE),"")) | E16: =IF(OR($A16="",$B16>IFERROR(VLOOKUP($A16,'Recurring Plans'!$A$5:$M$104,8,FALSE),0),IFERROR(VLOOKUP($A16,'Recurring Plans'!$A$5:$M$104,11,FALSE),"")<>'Assumptions'!$E$9),"",IFERROR(IF(VLOOKUP($A16,'Recurring Plans'!$A$5:$M$104,7,FALSE)='Assumptions'!$E$4,VLOOKUP($A16,'Recurring Plans'!$A$5:$M$104,5,FALSE)+($B16-1)*VLOOKUP($A16,'Recurring Plans'!$A$5:$M$104,6,FALSE),IF(VLOOKUP($A16,'Recurring Plans'!$A$5:$M$104,7,FALSE)='Assumptions'!$E$5,VLOOKUP($A16,'Recurring Plans'!$A$5:$M$104,5,FALSE)+($B16-1)*VLOOKUP($A16,'Recurring Plans'!$A$5:$M$104,6,FALSE)*7,IF(VLOOKUP($A16,'Recurring Plans'!$A$5:$M$104,7,FALSE)='Assumptions'!$E$6,EDATE(VLOOKUP($A16,'Recurring Plans'!$A$5:$M$104,5,FALSE),($B16-1)*VLOOKUP($A16,'Recurring Plans'!$A$5:$M$104,6,FALSE)),""))),"")) | G16: =IF($E16="","",IF($F16<>"",$F16,$E16)) | H16: =IF($E16="","",IFERROR(VLOOKUP($A16,'Recurring Plans'!$A$5:$M$104,9,FALSE),"")) | J16: =IF($E16="","",IF($I16<>"",$I16,IFERROR(VLOOKUP($A16,'Recurring Plans'!$A$5:$M$104,10,FALSE),""))) | L16: =IF($G16="","",IF($K16<>"",$K16,'Assumptions'!$E$14)) | N16: =IF($G16="","",IF(OR($F16<>"",$I16<>"",$M16<>"",$K16='Assumptions'!$E$16,$K16='Assumptions'!$E$17),"Exception - check",IF(AND($L16='Assumptions'!$E$14,$G16<'Assumptions'!$B$4),"Past date - check","")))
A17: =IFERROR(IF(INDEX('Recurring Plans'!$A$5:$A$104,INT((ROW()-5)/12)+1)="","",INDEX('Recurring Plans'!$A$5:$A$104,INT((ROW()-5)/12)+1)),"") | B17: =IF($A17="","",MOD(ROW()-5,12)+1) | C17: =IF($A17="","",IFERROR(VLOOKUP($A17,'Recurring Plans'!$A$5:$M$104,2,FALSE),"")) | D17: =IF($A17="","",IFERROR(VLOOKUP($A17,'Recurring Plans'!$A$5:$M$104,4,FALSE),"")) | E17: =IF(OR($A17="",$B17>IFERROR(VLOOKUP($A17,'Recurring Plans'!$A$5:$M$104,8,FALSE),0),IFERROR(VLOOKUP($A17,'Recurring Plans'!$A$5:$M$104,11,FALSE),"")<>'Assumptions'!$E$9),"",IFERROR(IF(VLOOKUP($A17,'Recurring Plans'!$A$5:$M$104,7,FALSE)='Assumptions'!$E$4,VLOOKUP($A17,'Recurring Plans'!$A$5:$M$104,5,FALSE)+($B17-1)*VLOOKUP($A17,'Recurring Plans'!$A$5:$M$104,6,FALSE),IF(VLOOKUP($A17,'Recurring Plans'!$A$5:$M$104,7,FALSE)='Assumptions'!$E$5,VLOOKUP($A17,'Recurring Plans'!$A$5:$M$104,5,FALSE)+($B17-1)*VLOOKUP($A17,'Recurring Plans'!$A$5:$M$104,6,FALSE)*7,IF(VLOOKUP($A17,'Recurring Plans'!$A$5:$M$104,7,FALSE)='Assumptions'!$E$6,EDATE(VLOOKUP($A17,'Recurring Plans'!$A$5:$M$104,5,FALSE),($B17-1)*VLOOKUP($A17,'Recurring Plans'!$A$5:$M$104,6,FALSE)),""))),"")) | G17: =IF($E17="","",IF($F17<>"",$F17,$E17)) | H17: =IF($E17="","",IFERROR(VLOOKUP($A17,'Recurring Plans'!$A$5:$M$104,9,FALSE),"")) | J17: =IF($E17="","",IF($I17<>"",$I17,IFERROR(VLOOKUP($A17,'Recurring Plans'!$A$5:$M$104,10,FALSE),""))) | K17: Scheduled | L17: =IF($G17="","",IF($K17<>"",$K17,'Assumptions'!$E$14)) | N17: =IF($G17="","",IF(OR($F17<>"",$I17<>"",$M17<>"",$K17='Assumptions'!$E$16,$K17='Assumptions'!$E$17),"Exception - check",IF(AND($L17='Assumptions'!$E$14,$G17<'Assumptions'!$B$4),"Past date - check","")))
A18: =IFERROR(IF(INDEX('Recurring Plans'!$A$5:$A$104,INT((ROW()-5)/12)+1)="","",INDEX('Recurring Plans'!$A$5:$A$104,INT((ROW()-5)/12)+1)),"") | B18: =IF($A18="","",MOD(ROW()-5,12)+1) | C18: =IF($A18="","",IFERROR(VLOOKUP($A18,'Recurring Plans'!$A$5:$M$104,2,FALSE),"")) | D18: =IF($A18="","",IFERROR(VLOOKUP($A18,'Recurring Plans'!$A$5:$M$104,4,FALSE),"")) | E18: =IF(OR($A18="",$B18>IFERROR(VLOOKUP($A18,'Recurring Plans'!$A$5:$M$104,8,FALSE),0),IFERROR(VLOOKUP($A18,'Recurring Plans'!$A$5:$M$104,11,FALSE),"")<>'Assumptions'!$E$9),"",IFERROR(IF(VLOOKUP($A18,'Recurring Plans'!$A$5:$M$104,7,FALSE)='Assumptions'!$E$4,VLOOKUP($A18,'Recurring Plans'!$A$5:$M$104,5,FALSE)+($B18-1)*VLOOKUP($A18,'Recurring Plans'!$A$5:$M$104,6,FALSE),IF(VLOOKUP($A18,'Recurring Plans'!$A$5:$M$104,7,FALSE)='Assumptions'!$E$5,VLOOKUP($A18,'Recurring Plans'!$A$5:$M$104,5,FALSE)+($B18-1)*VLOOKUP($A18,'Recurring Plans'!$A$5:$M$104,6,FALSE)*7,IF(VLOOKUP($A18,'Recurring Plans'!$A$5:$M$104,7,FALSE)='Assumptions'!$E$6,EDATE(VLOOKUP($A18,'Recurring Plans'!$A$5:$M$104,5,FALSE),($B18-1)*VLOOKUP($A18,'Recurring Plans'!$A$5:$M$104,6,FALSE)),""))),"")) | G18: =IF($E18="","",IF($F18<>"",$F18,$E18)) | H18: =IF($E18="","",IFERROR(VLOOKUP($A18,'Recurring Plans'!$A$5:$M$104,9,FALSE),"")) | J18: =IF($E18="","",IF($I18<>"",$I18,IFERROR(VLOOKUP($A18,'Recurring Plans'!$A$5:$M$104,10,FALSE),""))) | L18: =IF($G18="","",IF($K18<>"",$K18,'Assumptions'!$E$14)) | N18: =IF($G18="","",IF(OR($F18<>"",$I18<>"",$M18<>"",$K18='Assumptions'!$E$16,$K18='Assumptions'!$E$17),"Exception - check",IF(AND($L18='Assumptions'!$E$14,$G18<'Assumptions'!$B$4),"Past date - check","")))
A19: =IFERROR(IF(INDEX('Recurring Plans'!$A$5:$A$104,INT((ROW()-5)/12)+1)="","",INDEX('Recurring Plans'!$A$5:$A$104,INT((ROW()-5)/12)+1)),"") | B19: =IF($A19="","",MOD(ROW()-5,12)+1) | C19: =IF($A19="","",IFERROR(VLOOKUP($A19,'Recurring Plans'!$A$5:$M$104,2,FALSE),"")) | D19: =IF($A19="","",IFERROR(VLOOKUP($A19,'Recurring Plans'!$A$5:$M$104,4,FALSE),"")) | E19: =IF(OR($A19="",$B19>IFERROR(VLOOKUP($A19,'Recurring Plans'!$A$5:$M$104,8,FALSE),0),IFERROR(VLOOKUP($A19,'Recurring Plans'!$A$5:$M$104,11,FALSE),"")<>'Assumptions'!$E$9),"",IFERROR(IF(VLOOKUP($A19,'Recurring Plans'!$A$5:$M$104,7,FALSE)='Assumptions'!$E$4,VLOOKUP($A19,'Recurring Plans'!$A$5:$M$104,5,FALSE)+($B19-1)*VLOOKUP($A19,'Recurring Plans'!$A$5:$M$104,6,FALSE),IF(VLOOKUP($A19,'Recurring Plans'!$A$5:$M$104,7,FALSE)='Assumptions'!$E$5,VLOOKUP($A19,'Recurring Plans'!$A$5:$M$104,5,FALSE)+($B19-1)*VLOOKUP($A19,'Recurring Plans'!$A$5:$M$104,6,FALSE)*7,IF(VLOOKUP($A19,'Recurring Plans'!$A$5:$M$104,7,FALSE)='Assumptions'!$E$6,EDATE(VLOOKUP($A19,'Recurring Plans'!$A$5:$M$104,5,FALSE),($B19-1)*VLOOKUP($A19,'Recurring Plans'!$A$5:$M$104,6,FALSE)),""))),"")) | G19: =IF($E19="","",IF($F19<>"",$F19,$E19)) | H19: =IF($E19="","",IFERROR(VLOOKUP($A19,'Recurring Plans'!$A$5:$M$104,9,FALSE),"")) | J19: =IF($E19="","",IF($I19<>"",$I19,IFERROR(VLOOKUP($A19,'Recurring Plans'!$A$5:$M$104,10,FALSE),""))) | L19: =IF($G19="","",IF($K19<>"",$K19,'Assumptions'!$E$14)) | N19: =IF($G19="","",IF(OR($F19<>"",$I19<>"",$M19<>"",$K19='Assumptions'!$E$16,$K19='Assumptions'!$E$17),"Exception - check",IF(AND($L19='Assumptions'!$E$14,$G19<'Assumptions'!$B$4),"Past date - check","")))
A20: =IFERROR(IF(INDEX('Recurring Plans'!$A$5:$A$104,INT((ROW()-5)/12)+1)="","",INDEX('Recurring Plans'!$A$5:$A$104,INT((ROW()-5)/12)+1)),"") | B20: =IF($A20="","",MOD(ROW()-5,12)+1) | C20: =IF($A20="","",IFERROR(VLOOKUP($A20,'Recurring Plans'!$A$5:$M$104,2,FALSE),"")) | D20: =IF($A20="","",IFERROR(VLOOKUP($A20,'Recurring Plans'!$A$5:$M$104,4,FALSE),"")) | E20: =IF(OR($A20="",$B20>IFERROR(VLOOKUP($A20,'Recurring Plans'!$A$5:$M$104,8,FALSE),0),IFERROR(VLOOKUP($A20,'Recurring Plans'!$A$5:$M$104,11,FALSE),"")<>'Assumptions'!$E$9),"",IFERROR(IF(VLOOKUP($A20,'Recurring Plans'!$A$5:$M$104,7,FALSE)='Assumptions'!$E$4,VLOOKUP($A20,'Recurring Plans'!$A$5:$M$104,5,FALSE)+($B20-1)*VLOOKUP($A20,'Recurring Plans'!$A$5:$M$104,6,FALSE),IF(VLOOKUP($A20,'Recurring Plans'!$A$5:$M$104,7,FALSE)='Assumptions'!$E$5,VLOOKUP($A20,'Recurring Plans'!$A$5:$M$104,5,FALSE)+($B20-1)*VLOOKUP($A20,'Recurring Plans'!$A$5:$M$104,6,FALSE)*7,IF(VLOOKUP($A20,'Recurring Plans'!$A$5:$M$104,7,FALSE)='Assumptions'!$E$6,EDATE(VLOOKUP($A20,'Recurring Plans'!$A$5:$M$104,5,FALSE),($B20-1)*VLOOKUP($A20,'Recurring Plans'!$A$5:$M$104,6,FALSE)),""))),"")) | G20: =IF($E20="","",IF($F20<>"",$F20,$E20)) | H20: =IF($E20="","",IFERROR(VLOOKUP($A20,'Recurring Plans'!$A$5:$M$104,9,FALSE),"")) | J20: =IF($E20="","",IF($I20<>"",$I20,IFERROR(VLOOKUP($A20,'Recurring Plans'!$A$5:$M$104,10,FALSE),""))) | L20: =IF($G20="","",IF($K20<>"",$K20,'Assumptions'!$E$14)) | N20: =IF($G20="","",IF(OR($F20<>"",$I20<>"",$M20<>"",$K20='Assumptions'!$E$16,$K20='Assumptions'!$E$17),"Exception - check",IF(AND($L20='Assumptions'!$E$14,$G20<'Assumptions'!$B$4),"Past date - check","")))
A21: =IFERROR(IF(INDEX('Recurring Plans'!$A$5:$A$104,INT((ROW()-5)/12)+1)="","",INDEX('Recurring Plans'!$A$5:$A$104,INT((ROW()-5)/12)+1)),"") | B21: =IF($A21="","",MOD(ROW()-5,12)+1) | C21: =IF($A21="","",IFERROR(VLOOKUP($A21,'Recurring Plans'!$A$5:$M$104,2,FALSE),"")) | D21: =IF($A21="","",IFERROR(VLOOKUP($A21,'Recurring Plans'!$A$5:$M$104,4,FALSE),"")) | E21: =IF(OR($A21="",$B21>IFERROR(VLOOKUP($A21,'Recurring Plans'!$A$5:$M$104,8,FALSE),0),IFERROR(VLOOKUP($A21,'Recurring Plans'!$A$5:$M$104,11,FALSE),"")<>'Assumptions'!$E$9),"",IFERROR(IF(VLOOKUP($A21,'Recurring Plans'!$A$5:$M$104,7,FALSE)='Assumptions'!$E$4,VLOOKUP($A21,'Recurring Plans'!$A$5:$M$104,5,FALSE)+($B21-1)*VLOOKUP($A21,'Recurring Plans'!$A$5:$M$104,6,FALSE),IF(VLOOKUP($A21,'Recurring Plans'!$A$5:$M$104,7,FALSE)='Assumptions'!$E$5,VLOOKUP($A21,'Recurring Plans'!$A$5:$M$104,5,FALSE)+($B21-1)*VLOOKUP($A21,'Recurring Plans'!$A$5:$M$104,6,FALSE)*7,IF(VLOOKUP($A21,'Recurring Plans'!$A$5:$M$104,7,FALSE)='Assumptions'!$E$6,EDATE(VLOOKUP($A21,'Recurring Plans'!$A$5:$M$104,5,FALSE),($B21-1)*VLOOKUP($A21,'Recurring Plans'!$A$5:$M$104,6,FALSE)),""))),"")) | G21: =IF($E21="","",IF($F21<>"",$F21,$E21)) | H21: =IF($E21="","",IFERROR(VLOOKUP($A21,'Recurring Plans'!$A$5:$M$104,9,FALSE),"")) | J21: =IF($E21="","",IF($I21<>"",$I21,IFERROR(VLOOKUP($A21,'Recurring Plans'!$A$5:$M$104,10,FALSE),""))) | L21: =IF($G21="","",IF($K21<>"",$K21,'Assumptions'!$E$14)) | N21: =IF($G21="","",IF(OR($F21<>"",$I21<>"",$M21<>"",$K21='Assumptions'!$E$16,$K21='Assumptions'!$E$17),"Exception - check",IF(AND($L21='Assumptions'!$E$14,$G21<'Assumptions'!$B$4),"Past date - check","")))
A22: =IFERROR(IF(INDEX('Recurring Plans'!$A$5:$A$104,INT((ROW()-5)/12)+1)="","",INDEX('Recurring Plans'!$A$5:$A$104,INT((ROW()-5)/12)+1)),"") | B22: =IF($A22="","",MOD(ROW()-5,12)+1) | C22: =IF($A22="","",IFERROR(VLOOKUP($A22,'Recurring Plans'!$A$5:$M$104,2,FALSE),"")) | D22: =IF($A22="","",IFERROR(VLOOKUP($A22,'Recurring Plans'!$A$5:$M$104,4,FALSE),"")) | E22: =IF(OR($A22="",$B22>IFERROR(VLOOKUP($A22,'Recurring Plans'!$A$5:$M$104,8,FALSE),0),IFERROR(VLOOKUP($A22,'Recurring Plans'!$A$5:$M$104,11,FALSE),"")<>'Assumptions'!$E$9),"",IFERROR(IF(VLOOKUP($A22,'Recurring Plans'!$A$5:$M$104,7,FALSE)='Assumptions'!$E$4,VLOOKUP($A22,'Recurring Plans'!$A$5:$M$104,5,FALSE)+($B22-1)*VLOOKUP($A22,'Recurring Plans'!$A$5:$M$104,6,FALSE),IF(VLOOKUP($A22,'Recurring Plans'!$A$5:$M$104,7,FALSE)='Assumptions'!$E$5,VLOOKUP($A22,'Recurring Plans'!$A$5:$M$104,5,FALSE)+($B22-1)*VLOOKUP($A22,'Recurring Plans'!$A$5:$M$104,6,FALSE)*7,IF(VLOOKUP($A22,'Recurring Plans'!$A$5:$M$104,7,FALSE)='Assumptions'!$E$6,EDATE(VLOOKUP($A22,'Recurring Plans'!$A$5:$M$104,5,FALSE),($B22-1)*VLOOKUP($A22,'Recurring Plans'!$A$5:$M$104,6,FALSE)),""))),"")) | G22: =IF($E22="","",IF($F22<>"",$F22,$E22)) | H22: =IF($E22="","",IFERROR(VLOOKUP($A22,'Recurring Plans'!$A$5:$M$104,9,FALSE),"")) | J22: =IF($E22="","",IF($I22<>"",$I22,IFERROR(VLOOKUP($A22,'Recurring Plans'!$A$5:$M$104,10,FALSE),""))) | L22: =IF($G22="","",IF($K22<>"",$K22,'Assumptions'!$E$14)) | N22: =IF($G22="","",IF(OR($F22<>"",$I22<>"",$M22<>"",$K22='Assumptions'!$E$16,$K22='Assumptions'!$E$17),"Exception - check",IF(AND($L22='Assumptions'!$E$14,$G22<'Assumptions'!$B$4),"Past date - check","")))
A23: =IFERROR(IF(INDEX('Recurring Plans'!$A$5:$A$104,INT((ROW()-5)/12)+1)="","",INDEX('Recurring Plans'!$A$5:$A$104,INT((ROW()-5)/12)+1)),"") | B23: =IF($A23="","",MOD(ROW()-5,12)+1) | C23: =IF($A23="","",IFERROR(VLOOKUP($A23,'Recurring Plans'!$A$5:$M$104,2,FALSE),"")) | D23: =IF($A23="","",IFERROR(VLOOKUP($A23,'Recurring Plans'!$A$5:$M$104,4,FALSE),"")) | E23: =IF(OR($A23="",$B23>IFERROR(VLOOKUP($A23,'Recurring Plans'!$A$5:$M$104,8,FALSE),0),IFERROR(VLOOKUP($A23,'Recurring Plans'!$A$5:$M$104,11,FALSE),"")<>'Assumptions'!$E$9),"",IFERROR(IF(VLOOKUP($A23,'Recurring Plans'!$A$5:$M$104,7,FALSE)='Assumptions'!$E$4,VLOOKUP($A23,'Recurring Plans'!$A$5:$M$104,5,FALSE)+($B23-1)*VLOOKUP($A23,'Recurring Plans'!$A$5:$M$104,6,FALSE),IF(VLOOKUP($A23,'Recurring Plans'!$A$5:$M$104,7,FALSE)='Assumptions'!$E$5,VLOOKUP($A23,'Recurring Plans'!$A$5:$M$104,5,FALSE)+($B23-1)*VLOOKUP($A23,'Recurring Plans'!$A$5:$M$104,6,FALSE)*7,IF(VLOOKUP($A23,'Recurring Plans'!$A$5:$M$104,7,FALSE)='Assumptions'!$E$6,EDATE(VLOOKUP($A23,'Recurring Plans'!$A$5:$M$104,5,FALSE),($B23-1)*VLOOKUP($A23,'Recurring Plans'!$A$5:$M$104,6,FALSE)),""))),"")) | G23: =IF($E23="","",IF($F23<>"",$F23,$E23)) | H23: =IF($E23="","",IFERROR(VLOOKUP($A23,'Recurring Plans'!$A$5:$M$104,9,FALSE),"")) | J23: =IF($E23="","",IF($I23<>"",$I23,IFERROR(VLOOKUP($A23,'Recurring Plans'!$A$5:$M$104,10,FALSE),""))) | L23: =IF($G23="","",IF($K23<>"",$K23,'Assumptions'!$E$14)) | N23: =IF($G23="","",IF(OR($F23<>"",$I23<>"",$M23<>"",$K23='Assumptions'!$E$16,$K23='Assumptions'!$E$17),"Exception - check",IF(AND($L23='Assumptions'!$E$14,$G23<'Assumptions'!$B$4),"Past date - check","")))
A24: =IFERROR(IF(INDEX('Recurring Plans'!$A$5:$A$104,INT((ROW()-5)/12)+1)="","",INDEX('Recurring Plans'!$A$5:$A$104,INT((ROW()-5)/12)+1)),"") | B24: =IF($A24="","",MOD(ROW()-5,12)+1) | C24: =IF($A24="","",IFERROR(VLOOKUP($A24,'Recurring Plans'!$A$5:$M$104,2,FALSE),"")) | D24: =IF($A24="","",IFERROR(VLOOKUP($A24,'Recurring Plans'!$A$5:$M$104,4,FALSE),"")) | E24: =IF(OR($A24="",$B24>IFERROR(VLOOKUP($A24,'Recurring Plans'!$A$5:$M$104,8,FALSE),0),IFERROR(VLOOKUP($A24,'Recurring Plans'!$A$5:$M$104,11,FALSE),"")<>'Assumptions'!$E$9),"",IFERROR(IF(VLOOKUP($A24,'Recurring Plans'!$A$5:$M$104,7,FALSE)='Assumptions'!$E$4,VLOOKUP($A24,'Recurring Plans'!$A$5:$M$104,5,FALSE)+($B24-1)*VLOOKUP($A24,'Recurring Plans'!$A$5:$M$104,6,FALSE),IF(VLOOKUP($A24,'Recurring Plans'!$A$5:$M$104,7,FALSE)='Assumptions'!$E$5,VLOOKUP($A24,'Recurring Plans'!$A$5:$M$104,5,FALSE)+($B24-1)*VLOOKUP($A24,'Recurring Plans'!$A$5:$M$104,6,FALSE)*7,IF(VLOOKUP($A24,'Recurring Plans'!$A$5:$M$104,7,FALSE)='Assumptions'!$E$6,EDATE(VLOOKUP($A24,'Recurring Plans'!$A$5:$M$104,5,FALSE),($B24-1)*VLOOKUP($A24,'Recurring Plans'!$A$5:$M$104,6,FALSE)),""))),"")) | G24: =IF($E24="","",IF($F24<>"",$F24,$E24)) | H24: =IF($E24="","",IFERROR(VLOOKUP($A24,'Recurring Plans'!$A$5:$M$104,9,FALSE),"")) | J24: =IF($E24="","",IF($I24<>"",$I24,IFERROR(VLOOKUP($A24,'Recurring Plans'!$A$5:$M$104,10,FALSE),""))) | L24: =IF($G24="","",IF($K24<>"",$K24,'Assumptions'!$E$14)) | N24: =IF($G24="","",IF(OR($F24<>"",$I24<>"",$M24<>"",$K24='Assumptions'!$E$16,$K24='Assumptions'!$E$17),"Exception - check",IF(AND($L24='Assumptions'!$E$14,$G24<'Assumptions'!$B$4),"Past date - check","")))
A25: =IFERROR(IF(INDEX('Recurring Plans'!$A$5:$A$104,INT((ROW()-5)/12)+1)="","",INDEX('Recurring Plans'!$A$5:$A$104,INT((ROW()-5)/12)+1)),"") | B25: =IF($A25="","",MOD(ROW()-5,12)+1) | C25: =IF($A25="","",IFERROR(VLOOKUP($A25,'Recurring Plans'!$A$5:$M$104,2,FALSE),"")) | D25: =IF($A25="","",IFERROR(VLOOKUP($A25,'Recurring Plans'!$A$5:$M$104,4,FALSE),"")) | E25: =IF(OR($A25="",$B25>IFERROR(VLOOKUP($A25,'Recurring Plans'!$A$5:$M$104,8,FALSE),0),IFERROR(VLOOKUP($A25,'Recurring Plans'!$A$5:$M$104,11,FALSE),"")<>'Assumptions'!$E$9),"",IFERROR(IF(VLOOKUP($A25,'Recurring Plans'!$A$5:$M$104,7,FALSE)='Assumptions'!$E$4,VLOOKUP($A25,'Recurring Plans'!$A$5:$M$104,5,FALSE)+($B25-1)*VLOOKUP($A25,'Recurring Plans'!$A$5:$M$104,6,FALSE),IF(VLOOKUP($A25,'Recurring Plans'!$A$5:$M$104,7,FALSE)='Assumptions'!$E$5,VLOOKUP($A25,'Recurring Plans'!$A$5:$M$104,5,FALSE)+($B25-1)*VLOOKUP($A25,'Recurring Plans'!$A$5:$M$104,6,FALSE)*7,IF(VLOOKUP($A25,'Recurring Plans'!$A$5:$M$104,7,FALSE)='Assumptions'!$E$6,EDATE(VLOOKUP($A25,'Recurring Plans'!$A$5:$M$104,5,FALSE),($B25-1)*VLOOKUP($A25,'Recurring Plans'!$A$5:$M$104,6,FALSE)),""))),"")) | G25: =IF($E25="","",IF($F25<>"",$F25,$E25)) | H25: =IF($E25="","",IFERROR(VLOOKUP($A25,'Recurring Plans'!$A$5:$M$104,9,FALSE),"")) | J25: =IF($E25="","",IF($I25<>"",$I25,IFERROR(VLOOKUP($A25,'Recurring Plans'!$A$5:$M$104,10,FALSE),""))) | L25: =IF($G25="","",IF($K25<>"",$K25,'Assumptions'!$E$14)) | N25: =IF($G25="","",IF(OR($F25<>"",$I25<>"",$M25<>"",$K25='Assumptions'!$E$16,$K25='Assumptions'!$E$17),"Exception - check",IF(AND($L25='Assumptions'!$E$14,$G25<'Assumptions'!$B$4),"Past date - check","")))
A26: =IFERROR(IF(INDEX('Recurring Plans'!$A$5:$A$104,INT((ROW()-5)/12)+1)="","",INDEX('Recurring Plans'!$A$5:$A$104,INT((ROW()-5)/12)+1)),"") | B26: =IF($A26="","",MOD(ROW()-5,12)+1) | C26: =IF($A26="","",IFERROR(VLOOKUP($A26,'Recurring Plans'!$A$5:$M$104,2,FALSE),"")) | D26: =IF($A26="","",IFERROR(VLOOKUP($A26,'Recurring Plans'!$A$5:$M$104,4,FALSE),"")) | E26: =IF(OR($A26="",$B26>IFERROR(VLOOKUP($A26,'Recurring Plans'!$A$5:$M$104,8,FALSE),0),IFERROR(VLOOKUP($A26,'Recurring Plans'!$A$5:$M$104,11,FALSE),"")<>'Assumptions'!$E$9),"",IFERROR(IF(VLOOKUP($A26,'Recurring Plans'!$A$5:$M$104,7,FALSE)='Assumptions'!$E$4,VLOOKUP($A26,'Recurring Plans'!$A$5:$M$104,5,FALSE)+($B26-1)*VLOOKUP($A26,'Recurring Plans'!$A$5:$M$104,6,FALSE),IF(VLOOKUP($A26,'Recurring Plans'!$A$5:$M$104,7,FALSE)='Assumptions'!$E$5,VLOOKUP($A26,'Recurring Plans'!$A$5:$M$104,5,FALSE)+($B26-1)*VLOOKUP($A26,'Recurring Plans'!$A$5:$M$104,6,FALSE)*7,IF(VLOOKUP($A26,'Recurring Plans'!$A$5:$M$104,7,FALSE)='Assumptions'!$E$6,EDATE(VLOOKUP($A26,'Recurring Plans'!$A$5:$M$104,5,FALSE),($B26-1)*VLOOKUP($A26,'Recurring Plans'!$A$5:$M$104,6,FALSE)),""))),"")) | G26: =IF($E26="","",IF($F26<>"",$F26,$E26)) | H26: =IF($E26="","",IFERROR(VLOOKUP($A26,'Recurring Plans'!$A$5:$M$104,9,FALSE),"")) | J26: =IF($E26="","",IF($I26<>"",$I26,IFERROR(VLOOKUP($A26,'Recurring Plans'!$A$5:$M$104,10,FALSE),""))) | L26: =IF($G26="","",IF($K26<>"",$K26,'Assumptions'!$E$14)) | N26: =IF($G26="","",IF(OR($F26<>"",$I26<>"",$M26<>"",$K26='Assumptions'!$E$16,$K26='Assumptions'!$E$17),"Exception - check",IF(AND($L26='Assumptions'!$E$14,$G26<'Assumptions'!$B$4),"Past date - check","")))
A27: =IFERROR(IF(INDEX('Recurring Plans'!$A$5:$A$104,INT((ROW()-5)/12)+1)="","",INDEX('Recurring Plans'!$A$5:$A$104,INT((ROW()-5)/12)+1)),"") | B27: =IF($A27="","",MOD(ROW()-5,12)+1) | C27: =IF($A27="","",IFERROR(VLOOKUP($A27,'Recurring Plans'!$A$5:$M$104,2,FALSE),"")) | D27: =IF($A27="","",IFERROR(VLOOKUP($A27,'Recurring Plans'!$A$5:$M$104,4,FALSE),"")) | E27: =IF(OR($A27="",$B27>IFERROR(VLOOKUP($A27,'Recurring Plans'!$A$5:$M$104,8,FALSE),0),IFERROR(VLOOKUP($A27,'Recurring Plans'!$A$5:$M$104,11,FALSE),"")<>'Assumptions'!$E$9),"",IFERROR(IF(VLOOKUP($A27,'Recurring Plans'!$A$5:$M$104,7,FALSE)='Assumptions'!$E$4,VLOOKUP($A27,'Recurring Plans'!$A$5:$M$104,5,FALSE)+($B27-1)*VLOOKUP($A27,'Recurring Plans'!$A$5:$M$104,6,FALSE),IF(VLOOKUP($A27,'Recurring Plans'!$A$5:$M$104,7,FALSE)='Assumptions'!$E$5,VLOOKUP($A27,'Recurring Plans'!$A$5:$M$104,5,FALSE)+($B27-1)*VLOOKUP($A27,'Recurring Plans'!$A$5:$M$104,6,FALSE)*7,IF(VLOOKUP($A27,'Recurring Plans'!$A$5:$M$104,7,FALSE)='Assumptions'!$E$6,EDATE(VLOOKUP($A27,'Recurring Plans'!$A$5:$M$104,5,FALSE),($B27-1)*VLOOKUP($A27,'Recurring Plans'!$A$5:$M$104,6,FALSE)),""))),"")) | G27: =IF($E27="","",IF($F27<>"",$F27,$E27)) | H27: =IF($E27="","",IFERROR(VLOOKUP($A27,'Recurring Plans'!$A$5:$M$104,9,FALSE),"")) | J27: =IF($E27="","",IF($I27<>"",$I27,IFERROR(VLOOKUP($A27,'Recurring Plans'!$A$5:$M$104,10,FALSE),""))) | L27: =IF($G27="","",IF($K27<>"",$K27,'Assumptions'!$E$14)) | N27: =IF($G27="","",IF(OR($F27<>"",$I27<>"",$M27<>"",$K27='Assumptions'!$E$16,$K27='Assumptions'!$E$17),"Exception - check",IF(AND($L27='Assumptions'!$E$14,$G27<'Assumptions'!$B$4),"Past date - check","")))
A28: =IFERROR(IF(INDEX('Recurring Plans'!$A$5:$A$104,INT((ROW()-5)/12)+1)="","",INDEX('Recurring Plans'!$A$5:$A$104,INT((ROW()-5)/12)+1)),"") | B28: =IF($A28="","",MOD(ROW()-5,12)+1) | C28: =IF($A28="","",IFERROR(VLOOKUP($A28,'Recurring Plans'!$A$5:$M$104,2,FALSE),"")) | D28: =IF($A28="","",IFERROR(VLOOKUP($A28,'Recurring Plans'!$A$5:$M$104,4,FALSE),"")) | E28: =IF(OR($A28="",$B28>IFERROR(VLOOKUP($A28,'Recurring Plans'!$A$5:$M$104,8,FALSE),0),IFERROR(VLOOKUP($A28,'Recurring Plans'!$A$5:$M$104,11,FALSE),"")<>'Assumptions'!$E$9),"",IFERROR(IF(VLOOKUP($A28,'Recurring Plans'!$A$5:$M$104,7,FALSE)='Assumptions'!$E$4,VLOOKUP($A28,'Recurring Plans'!$A$5:$M$104,5,FALSE)+($B28-1)*VLOOKUP($A28,'Recurring Plans'!$A$5:$M$104,6,FALSE),IF(VLOOKUP($A28,'Recurring Plans'!$A$5:$M$104,7,FALSE)='Assumptions'!$E$5,VLOOKUP($A28,'Recurring Plans'!$A$5:$M$104,5,FALSE)+($B28-1)*VLOOKUP($A28,'Recurring Plans'!$A$5:$M$104,6,FALSE)*7,IF(VLOOKUP($A28,'Recurring Plans'!$A$5:$M$104,7,FALSE)='Assumptions'!$E$6,EDATE(VLOOKUP($A28,'Recurring Plans'!$A$5:$M$104,5,FALSE),($B28-1)*VLOOKUP($A28,'Recurring Plans'!$A$5:$M$104,6,FALSE)),""))),"")) | G28: =IF($E28="","",IF($F28<>"",$F28,$E28)) | H28: =IF($E28="","",IFERROR(VLOOKUP($A28,'Recurring Plans'!$A$5:$M$104,9,FALSE),"")) | J28: =IF($E28="","",IF($I28<>"",$I28,IFERROR(VLOOKUP($A28,'Recurring Plans'!$A$5:$M$104,10,FALSE),""))) | L28: =IF($G28="","",IF($K28<>"",$K28,'Assumptions'!$E$14)) | N28: =IF($G28="","",IF(OR($F28<>"",$I28<>"",$M28<>"",$K28='Assumptions'!$E$16,$K28='Assumptions'!$E$17),"Exception - check",IF(AND($L28='Assumptions'!$E$14,$G28<'Assumptions'!$B$4),"Past date - check","")))
A29: =IFERROR(IF(INDEX('Recurring Plans'!$A$5:$A$104,INT((ROW()-5)/12)+1)="","",INDEX('Recurring Plans'!$A$5:$A$104,INT((ROW()-5)/12)+1)),"") | B29: =IF($A29="","",MOD(ROW()-5,12)+1) | C29: =IF($A29="","",IFERROR(VLOOKUP($A29,'Recurring Plans'!$A$5:$M$104,2,FALSE),"")) | D29: =IF($A29="","",IFERROR(VLOOKUP($A29,'Recurring Plans'!$A$5:$M$104,4,FALSE),"")) | E29: =IF(OR($A29="",$B29>IFERROR(VLOOKUP($A29,'Recurring Plans'!$A$5:$M$104,8,FALSE),0),IFERROR(VLOOKUP($A29,'Recurring Plans'!$A$5:$M$104,11,FALSE),"")<>'Assumptions'!$E$9),"",IFERROR(IF(VLOOKUP($A29,'Recurring Plans'!$A$5:$M$104,7,FALSE)='Assumptions'!$E$4,VLOOKUP($A29,'Recurring Plans'!$A$5:$M$104,5,FALSE)+($B29-1)*VLOOKUP($A29,'Recurring Plans'!$A$5:$M$104,6,FALSE),IF(VLOOKUP($A29,'Recurring Plans'!$A$5:$M$104,7,FALSE)='Assumptions'!$E$5,VLOOKUP($A29,'Recurring Plans'!$A$5:$M$104,5,FALSE)+($B29-1)*VLOOKUP($A29,'Recurring Plans'!$A$5:$M$104,6,FALSE)*7,IF(VLOOKUP($A29,'Recurring Plans'!$A$5:$M$104,7,FALSE)='Assumptions'!$E$6,EDATE(VLOOKUP($A29,'Recurring Plans'!$A$5:$M$104,5,FALSE),($B29-1)*VLOOKUP($A29,'Recurring Plans'!$A$5:$M$104,6,FALSE)),""))),"")) | G29: =IF($E29="","",IF($F29<>"",$F29,$E29)) | H29: =IF($E29="","",IFERROR(VLOOKUP($A29,'Recurring Plans'!$A$5:$M$104,9,FALSE),"")) | J29: =IF($E29="","",IF($I29<>"",$I29,IFERROR(VLOOKUP($A29,'Recurring Plans'!$A$5:$M$104,10,FALSE),""))) | K29: Completed | L29: =IF($G29="","",IF($K29<>"",$K29,'Assumptions'!$E$14)) | N29: =IF($G29="","",IF(OR($F29<>"",$I29<>"",$M29<>"",$K29='Assumptions'!$E$16,$K29='Assumptions'!$E$17),"Exception - check",IF(AND($L29='Assumptions'!$E$14,$G29<'Assumptions'!$B$4),"Past date - check","")))
