Workbook

Sheet Summary
A1: Recurring Pet Appointment Calendar Summary
A2: Indicators recalculate from the recurring plans, generated dates, and entered exceptions.
A3: Calendar as of | B3: ='Assumptions'!$B$4
A4: Indicator | B4: Value | D4: Week Starting | E4: Scheduled | F4: Checks
A5: Active recurring plans | B5: =COUNTIF('Recurring Plans'!$K$5:$K$104,'Assumptions'!$E$9) | D5: =$B$3-WEEKDAY($B$3,2)+1 | E5: =IF(ROW()-4>'Assumptions'!$B$5,"",COUNTIFS('Calendar'!$G$5:$G$1204,">="&$D5,'Calendar'!$G$5:$G$1204,"<"&$D5+7,'Calendar'!$L$5:$L$1204,'Assumptions'!$E$14)) | F5: =IF(ROW()-4>'Assumptions'!$B$5,"",COUNTIFS('Calendar'!$G$5:$G$1204,">="&$D5,'Calendar'!$G$5:$G$1204,"<"&$D5+7,'Calendar'!$N$5:$N$1204,"*check*"))
A6: Paused recurring plans | B6: =COUNTIF('Recurring Plans'!$K$5:$K$104,'Assumptions'!$E$10) | D6: =D5+7 | E6: =IF(ROW()-4>'Assumptions'!$B$5,"",COUNTIFS('Calendar'!$G$5:$G$1204,">="&$D6,'Calendar'!$G$5:$G$1204,"<"&$D6+7,'Calendar'!$L$5:$L$1204,'Assumptions'!$E$14)) | F6: =IF(ROW()-4>'Assumptions'!$B$5,"",COUNTIFS('Calendar'!$G$5:$G$1204,">="&$D6,'Calendar'!$G$5:$G$1204,"<"&$D6+7,'Calendar'!$N$5:$N$1204,"*check*"))
A7: Plan checks | B7: =COUNTIF('Recurring Plans'!$M$5:$M$104,"*check*") | D7: =D6+7 | E7: =IF(ROW()-4>'Assumptions'!$B$5,"",COUNTIFS('Calendar'!$G$5:$G$1204,">="&$D7,'Calendar'!$G$5:$G$1204,"<"&$D7+7,'Calendar'!$L$5:$L$1204,'Assumptions'!$E$14)) | F7: =IF(ROW()-4>'Assumptions'!$B$5,"",COUNTIFS('Calendar'!$G$5:$G$1204,">="&$D7,'Calendar'!$G$5:$G$1204,"<"&$D7+7,'Calendar'!$N$5:$N$1204,"*check*"))
A8: Generated appointment dates | B8: =COUNT('Calendar'!$G$5:$G$1204) | D8: =D7+7 | E8: =IF(ROW()-4>'Assumptions'!$B$5,"",COUNTIFS('Calendar'!$G$5:$G$1204,">="&$D8,'Calendar'!$G$5:$G$1204,"<"&$D8+7,'Calendar'!$L$5:$L$1204,'Assumptions'!$E$14)) | F8: =IF(ROW()-4>'Assumptions'!$B$5,"",COUNTIFS('Calendar'!$G$5:$G$1204,">="&$D8,'Calendar'!$G$5:$G$1204,"<"&$D8+7,'Calendar'!$N$5:$N$1204,"*check*"))
A9: Scheduled in next 30 days | B9: =COUNTIFS('Calendar'!$G$5:$G$1204,">="&$B$3,'Calendar'!$G$5:$G$1204,"<="&$B$3+30,'Calendar'!$L$5:$L$1204,'Assumptions'!$E$14) | D9: =D8+7 | E9: =IF(ROW()-4>'Assumptions'!$B$5,"",COUNTIFS('Calendar'!$G$5:$G$1204,">="&$D9,'Calendar'!$G$5:$G$1204,"<"&$D9+7,'Calendar'!$L$5:$L$1204,'Assumptions'!$E$14)) | F9: =IF(ROW()-4>'Assumptions'!$B$5,"",COUNTIFS('Calendar'!$G$5:$G$1204,">="&$D9,'Calendar'!$G$5:$G$1204,"<"&$D9+7,'Calendar'!$N$5:$N$1204,"*check*"))
A10: Appointment checks | B10: =COUNTIF('Calendar'!$N$5:$N$1204,"*check*") | D10: =D9+7 | E10: =IF(ROW()-4>'Assumptions'!$B$5,"",COUNTIFS('Calendar'!$G$5:$G$1204,">="&$D10,'Calendar'!$G$5:$G$1204,"<"&$D10+7,'Calendar'!$L$5:$L$1204,'Assumptions'!$E$14)) | F10: =IF(ROW()-4>'Assumptions'!$B$5,"",COUNTIFS('Calendar'!$G$5:$G$1204,">="&$D10,'Calendar'!$G$5:$G$1204,"<"&$D10+7,'Calendar'!$N$5:$N$1204,"*check*"))
A11: Date overrides | B11: =COUNT('Calendar'!$F$5:$F$1204) | D11: =D10+7 | E11: =IF(ROW()-4>'Assumptions'!$B$5,"",COUNTIFS('Calendar'!$G$5:$G$1204,">="&$D11,'Calendar'!$G$5:$G$1204,"<"&$D11+7,'Calendar'!$L$5:$L$1204,'Assumptions'!$E$14)) | F11: =IF(ROW()-4>'Assumptions'!$B$5,"",COUNTIFS('Calendar'!$G$5:$G$1204,">="&$D11,'Calendar'!$G$5:$G$1204,"<"&$D11+7,'Calendar'!$N$5:$N$1204,"*check*"))
A12: Completed appointments | B12: =COUNTIF('Calendar'!$L$5:$L$1204,'Assumptions'!$E$15) | D12: =D11+7 | E12: =IF(ROW()-4>'Assumptions'!$B$5,"",COUNTIFS('Calendar'!$G$5:$G$1204,">="&$D12,'Calendar'!$G$5:$G$1204,"<"&$D12+7,'Calendar'!$L$5:$L$1204,'Assumptions'!$E$14)) | F12: =IF(ROW()-4>'Assumptions'!$B$5,"",COUNTIFS('Calendar'!$G$5:$G$1204,">="&$D12,'Calendar'!$G$5:$G$1204,"<"&$D12+7,'Calendar'!$N$5:$N$1204,"*check*"))
A13: Canceled appointments | B13: =COUNTIF('Calendar'!$L$5:$L$1204,'Assumptions'!$E$16)

Sheet Recurring Plans
A1: Recurring Pet Appointment Plans
A2: Enter one plan per row. All sample clients, pets, staff labels, and appointments are fictional.
A4: Plan ID | B4: Pet Name | C4: Client Label | D4: Service | E4: Start Date | F4: Every | G4: Unit | H4: Occurrences | I4: Preferred Time | J4: Default Staff | K4: Plan Status | L4: Series End Date | M4: Plan Review
A5: RPA-001 | B5: Biscuit | C5: Sample Client 01 | D5: Bath and brush | E5: 46260 | F5: 1 | G5: Weeks | H5: 8 | I5: 0.375 | J5: Staff A | K5: Active | L5: =IF(OR($A5="",$E5="",$F5="",$G5="",$H5=""),"",IFERROR(IF($G5='Assumptions'!$E$4,$E5+($H5-1)*$F5,IF($G5='Assumptions'!$E$5,$E5+($H5-1)*$F5*7,IF($G5='Assumptions'!$E$6,EDATE($E5,($H5-1)*$F5),""))),"")) | M5: =IF($A5="","",IF(OR($B5="",$C5="",$D5="",$E5="",$F5="",$G5="",$H5="",$K5=""),"Complete inputs - check",IF(COUNTIF($A$5:$A$104,$A5)>1,"Duplicate ID - check",IF($H5>'Assumptions'!$B$6,"Occurrence limit - check",IF(AND($K5='Assumptions'!$E$9,$L5<'Assumptions'!$B$4),"Past series - check","")))))
A6: RPA-002 | B6: Clover | C6: Sample Client 02 | D6: Nail trim | E6: 46276 | F6: 2 | G6: Weeks | H6: 6 | I6: 0.4375 | J6: Staff B | K6: Active | L6: =IF(OR($A6="",$E6="",$F6="",$G6="",$H6=""),"",IFERROR(IF($G6='Assumptions'!$E$4,$E6+($H6-1)*$F6,IF($G6='Assumptions'!$E$5,$E6+($H6-1)*$F6*7,IF($G6='Assumptions'!$E$6,EDATE($E6,($H6-1)*$F6),""))),"")) | M6: =IF($A6="","",IF(OR($B6="",$C6="",$D6="",$E6="",$F6="",$G6="",$H6="",$K6=""),"Complete inputs - check",IF(COUNTIF($A$5:$A$104,$A6)>1,"Duplicate ID - check",IF($H6>'Assumptions'!$B$6,"Occurrence limit - check",IF(AND($K6='Assumptions'!$E$9,$L6<'Assumptions'!$B$4),"Past series - check","")))))
A7: RPA-003 | B7: Juniper | C7: Sample Client 03 | D7: Deshedding service | E7: 46239 | F7: 1 | G7: Months | H7: 5 | I7: 0.54166667 | J7: Staff A | K7: Active | L7: =IF(OR($A7="",$E7="",$F7="",$G7="",$H7=""),"",IFERROR(IF($G7='Assumptions'!$E$4,$E7+($H7-1)*$F7,IF($G7='Assumptions'!$E$5,$E7+($H7-1)*$F7*7,IF($G7='Assumptions'!$E$6,EDATE($E7,($H7-1)*$F7),""))),"")) | M7: =IF($A7="","",IF(OR($B7="",$C7="",$D7="",$E7="",$F7="",$G7="",$H7="",$K7=""),"Complete inputs - check",IF(COUNTIF($A$5:$A$104,$A7)>1,"Duplicate ID - check",IF($H7>'Assumptions'!$B$6,"Occurrence limit - check",IF(AND($K7='Assumptions'!$E$9,$L7<'Assumptions'!$B$4),"Past series - check","")))))
A8: RPA-004 | B8: Orbit | C8: Sample Client 04 | D8: Daycare visit | E8: 46275 | F8: 10 | G8: Days | H8: 12 | I8: 0.33333333 | J8: Staff C | K8: Active | L8: =IF(OR($A8="",$E8="",$F8="",$G8="",$H8=""),"",IFERROR(IF($G8='Assumptions'!$E$4,$E8+($H8-1)*$F8,IF($G8='Assumptions'!$E$5,$E8+($H8-1)*$F8*7,IF($G8='Assumptions'!$E$6,EDATE($E8,($H8-1)*$F8),""))),"")) | M8: =IF($A8="","",IF(OR($B8="",$C8="",$D8="",$E8="",$F8="",$G8="",$H8="",$K8=""),"Complete inputs - check",IF(COUNTIF($A$5:$A$104,$A8)>1,"Duplicate ID - check",IF($H8>'Assumptions'!$B$6,"Occurrence limit - check",IF(AND($K8='Assumptions'!$E$9,$L8<'Assumptions'!$B$4),"Past series - check","")))))
A9: RPA-005 | B9: Maple | C9: Sample Client 05 | D9: Full groom | E9: 46279 | F9: 1 | G9: Months | H9: 4 | I9: 0.45833333 | J9: Staff B | K9: Paused | L9: =IF(OR($A9="",$E9="",$F9="",$G9="",$H9=""),"",IFERROR(IF($G9='Assumptions'!$E$4,$E9+($H9-1)*$F9,IF($G9='Assumptions'!$E$5,$E9+($H9-1)*$F9*7,IF($G9='Assumptions'!$E$6,EDATE($E9,($H9-1)*$F9),""))),"")) | M9: =IF($A9="","",IF(OR($B9="",$C9="",$D9="",$E9="",$F9="",$G9="",$H9="",$K9=""),"Complete inputs - check",IF(COUNTIF($A$5:$A$104,$A9)>1,"Duplicate ID - check",IF($H9>'Assumptions'!$B$6,"Occurrence limit - check",IF(AND($K9='Assumptions'!$E$9,$L9<'Assumptions'!$B$4),"Past series - check","")))))
A10: RPA-006 | B10: Pippin | C10: Sample Client 06 | D10: Dog walk | E10: 46267 | F10: 3 | G10: Weeks | H10: 6 | I10: 0.64583333 | J10: Staff C | K10: Active | L10: =IF(OR($A10="",$E10="",$F10="",$G10="",$H10=""),"",IFERROR(IF($G10='Assumptions'!$E$4,$E10+($H10-1)*$F10,IF($G10='Assumptions'!$E$5,$E10+($H10-1)*$F10*7,IF($G10='Assumptions'!$E$6,EDATE($E10,($H10-1)*$F10),""))),"")) | M10: =IF($A10="","",IF(OR($B10="",$C10="",$D10="",$E10="",$F10="",$G10="",$H10="",$K10=""),"Complete inputs - check",IF(COUNTIF($A$5:$A$104,$A10)>1,"Duplicate ID - check",IF($H10>'Assumptions'!$B$6,"Occurrence limit - check",IF(AND($K10='Assumptions'!$E$9,$L10<'Assumptions'!$B$4),"Past series - check","")))))
A11: RPA-007 | B11: Sable | C11: Sample Client 07 | D11: Bath service | E11: 46184 | F11: 1 | G11: Months | H11: 3 | I11: 0.58333333 | J11: Staff A | K11: Ended | L11: =IF(OR($A11="",$E11="",$F11="",$G11="",$H11=""),"",IFERROR(IF($G11='Assumptions'!$E$4,$E11+($H11-1)*$F11,IF($G11='Assumptions'!$E$5,$E11+($H11-1)*$F11*7,IF($G11='Assumptions'!$E$6,EDATE($E11,($H11-1)*$F11),""))),"")) | M11: =IF($A11="","",IF(OR($B11="",$C11="",$D11="",$E11="",$F11="",$G11="",$H11="",$K11=""),"Complete inputs - check",IF(COUNTIF($A$5:$A$104,$A11)>1,"Duplicate ID - check",IF($H11>'Assumptions'!$B$6,"Occurrence limit - check",IF(AND($K11='Assumptions'!$E$9,$L11<'Assumptions'!$B$4),"Past series - check","")))))
A12: RPA-008 | B12: Waffles | C12: Sample Client 08 | D12: Brush-out | E12: 46281 | F12: 2 | G12: Months | H12: 4 | I12: 0.52083333 | J12: Staff B | K12: Active | L12: =IF(OR($A12="",$E12="",$F12="",$G12="",$H12=""),"",IFERROR(IF($G12='Assumptions'!$E$4,$E12+($H12-1)*$F12,IF($G12='Assumptions'!$E$5,$E12+($H12-1)*$F12*7,IF($G12='Assumptions'!$E$6,EDATE($E12,($H12-1)*$F12),""))),"")) | M12: =IF($A12="","",IF(OR($B12="",$C12="",$D12="",$E12="",$F12="",$G12="",$H12="",$K12=""),"Complete inputs - check",IF(COUNTIF($A$5:$A$104,$A12)>1,"Duplicate ID - check",IF($H12>'Assumptions'!$B$6,"Occurrence limit - check",IF(AND($K12='Assumptions'!$E$9,$L12<'Assumptions'!$B$4),"Past series - check","")))))
A13: RPA-009 | B13: Tinker | C13: Sample Client 09 | D13: Nail trim | E13: 46269 | F13: 5 | G13: Days | H13: 12 | I13: 0.66666667 | J13: Staff C | K13: Active | L13: =IF(OR($A13="",$E13="",$F13="",$G13="",$H13=""),"",IFERROR(IF($G13='Assumptions'!$E$4,$E13+($H13-1)*$F13,IF($G13='Assumptions'!$E$5,$E13+($H13-1)*$F13*7,IF($G13='Assumptions'!$E$6,EDATE($E13,($H13-1)*$F13),""))),"")) | M13: =IF($A13="","",IF(OR($B13="",$C13="",$D13="",$E13="",$F13="",$G13="",$H13="",$K13=""),"Complete inputs - check",IF(COUNTIF($A$5:$A$104,$A13)>1,"Duplicate ID - check",IF($H13>'Assumptions'!$B$6,"Occurrence limit - check",IF(AND($K13='Assumptions'!$E$9,$L13<'Assumptions'!$B$4),"Past series - check","")))))
A14: RPA-010 | B14: Zephyr | C14: Sample Client 10 | D14: Pet sitting check-in | E14: 46304 | F14: 1 | G14: Weeks | H14: 1 | I14: 0.75 | J14: Staff A | K14: Active | L14: =IF(OR($A14="",$E14="",$F14="",$G14="",$H14=""),"",IFERROR(IF($G14='Assumptions'!$E$4,$E14+($H14-1)*$F14,IF($G14='Assumptions'!$E$5,$E14+($H14-1)*$F14*7,IF($G14='Assumptions'!$E$6,EDATE($E14,($H14-1)*$F14),""))),"")) | M14: =IF($A14="","",IF(OR($B14="",$C14="",$D14="",$E14="",$F14="",$G14="",$H14="",$K14=""),"Complete inputs - check",IF(COUNTIF($A$5:$A$104,$A14)>1,"Duplicate ID - check",IF($H14>'Assumptions'!$B$6,"Occurrence limit - check",IF(AND($K14='Assumptions'!$E$9,$L14<'Assumptions'!$B$4),"Past series - check","")))))
L15: =IF(OR($A15="",$E15="",$F15="",$G15="",$H15=""),"",IFERROR(IF($G15='Assumptions'!$E$4,$E15+($H15-1)*$F15,IF($G15='Assumptions'!$E$5,$E15+($H15-1)*$F15*7,IF($G15='Assumptions'!$E$6,EDATE($E15,($H15-1)*$F15),""))),"")) | M15: =IF($A15="","",IF(OR($B15="",$C15="",$D15="",$E15="",$F15="",$G15="",$H15="",$K15=""),"Complete inputs - check",IF(COUNTIF($A$5:$A$104,$A15)>1,"Duplicate ID - check",IF($H15>'Assumptions'!$B$6,"Occurrence limit - check",IF(AND($K15='Assumptions'!$E$9,$L15<'Assumptions'!$B$4),"Past series - check","")))))
L16: =IF(OR($A16="",$E16="",$F16="",$G16="",$H16=""),"",IFERROR(IF($G16='Assumptions'!$E$4,$E16+($H16-1)*$F16,IF($G16='Assumptions'!$E$5,$E16+($H16-1)*$F16*7,IF($G16='Assumptions'!$E$6,EDATE($E16,($H16-1)*$F16),""))),"")) | M16: =IF($A16="","",IF(OR($B16="",$C16="",$D16="",$E16="",$F16="",$G16="",$H16="",$K16=""),"Complete inputs - check",IF(COUNTIF($A$5:$A$104,$A16)>1,"Duplicate ID - check",IF($H16>'Assumptions'!$B$6,"Occurrence limit - check",IF(AND($K16='Assumptions'!$E$9,$L16<'Assumptions'!$B$4),"Past series - check","")))))
L17: =IF(OR($A17="",$E17="",$F17="",$G17="",$H17=""),"",IFERROR(IF($G17='Assumptions'!$E$4,$E17+($H17-1)*$F17,IF($G17='Assumptions'!$E$5,$E17+($H17-1)*$F17*7,IF($G17='Assumptions'!$E$6,EDATE($E17,($H17-1)*$F17),""))),"")) | M17: =IF($A17="","",IF(OR($B17="",$C17="",$D17="",$E17="",$F17="",$G17="",$H17="",$K17=""),"Complete inputs - check",IF(COUNTIF($A$5:$A$104,$A17)>1,"Duplicate ID - check",IF($H17>'Assumptions'!$B$6,"Occurrence limit - check",IF(AND($K17='Assumptions'!$E$9,$L17<'Assumptions'!$B$4),"Past series - check","")))))
L18: =IF(OR($A18="",$E18="",$F18="",$G18="",$H18=""),"",IFERROR(IF($G18='Assumptions'!$E$4,$E18+($H18-1)*$F18,IF($G18='Assumptions'!$E$5,$E18+($H18-1)*$F18*7,IF($G18='Assumptions'!$E$6,EDATE($E18,($H18-1)*$F18),""))),"")) | M18: =IF($A18="","",IF(OR($B18="",$C18="",$D18="",$E18="",$F18="",$G18="",$H18="",$K18=""),"Complete inputs - check",IF(COUNTIF($A$5:$A$104,$A18)>1,"Duplicate ID - check",IF($H18>'Assumptions'!$B$6,"Occurrence limit - check",IF(AND($K18='Assumptions'!$E$9,$L18<'Assumptions'!$B$4),"Past series - check","")))))
L19: =IF(OR($A19="",$E19="",$F19="",$G19="",$H19=""),"",IFERROR(IF($G19='Assumptions'!$E$4,$E19+($H19-1)*$F19,IF($G19='Assumptions'!$E$5,$E19+($H19-1)*$F19*7,IF($G19='Assumptions'!$E$6,EDATE($E19,($H19-1)*$F19),""))),"")) | M19: =IF($A19="","",IF(OR($B19="",$C19="",$D19="",$E19="",$F19="",$G19="",$H19="",$K19=""),"Complete inputs - check",IF(COUNTIF($A$5:$A$104,$A19)>1,"Duplicate ID - check",IF($H19>'Assumptions'!$B$6,"Occurrence limit - check",IF(AND($K19='Assumptions'!$E$9,$L19<'Assumptions'!$B$4),"Past series - check","")))))
L20: =IF(OR($A20="",$E20="",$F20="",$G20="",$H20=""),"",IFERROR(IF($G20='Assumptions'!$E$4,$E20+($H20-1)*$F20,IF($G20='Assumptions'!$E$5,$E20+($H20-1)*$F20*7,IF($G20='Assumptions'!$E$6,EDATE($E20,($H20-1)*$F20),""))),"")) | M20: =IF($A20="","",IF(OR($B20="",$C20="",$D20="",$E20="",$F20="",$G20="",$H20="",$K20=""),"Complete inputs - check",IF(COUNTIF($A$5:$A$104,$A20)>1,"Duplicate ID - check",IF($H20>'Assumptions'!$B$6,"Occurrence limit - check",IF(AND($K20='Assumptions'!$E$9,$L20<'Assumptions'!$B$4),"Past series - check","")))))
L21: =IF(OR($A21="",$E21="",$F21="",$G21="",$H21=""),"",IFERROR(IF($G21='Assumptions'!$E$4,$E21+($H21-1)*$F21,IF($G21='Assumptions'!$E$5,$E21+($H21-1)*$F21*7,IF($G21='Assumptions'!$E$6,EDATE($E21,($H21-1)*$F21),""))),"")) | M21: =IF($A21="","",IF(OR($B21="",$C21="",$D21="",$E21="",$F21="",$G21="",$H21="",$K21=""),"Complete inputs - check",IF(COUNTIF($A$5:$A$104,$A21)>1,"Duplicate ID - check",IF($H21>'Assumptions'!$B$6,"Occurrence limit - check",IF(AND($K21='Assumptions'!$E$9,$L21<'Assumptions'!$B$4),"Past series - check","")))))
L22: =IF(OR($A22="",$E22="",$F22="",$G22="",$H22=""),"",IFERROR(IF($G22='Assumptions'!$E$4,$E22+($H22-1)*$F22,IF($G22='Assumptions'!$E$5,$E22+($H22-1)*$F22*7,IF($G22='Assumptions'!$E$6,EDATE($E22,($H22-1)*$F22),""))),"")) | M22: =IF($A22="","",IF(OR($B22="",$C22="",$D22="",$E22="",$F22="",$G22="",$H22="",$K22=""),"Complete inputs - check",IF(COUNTIF($A$5:$A$104,$A22)>1,"Duplicate ID - check",IF($H22>'Assumptions'!$B$6,"Occurrence limit - check",IF(AND($K22='Assumptions'!$E$9,$L22<'Assumptions'!$B$4),"Past series - check","")))))
L23: =IF(OR($A23="",$E23="",$F23="",$G23="",$H23=""),"",IFERROR(IF($G23='Assumptions'!$E$4,$E23+($H23-1)*$F23,IF($G23='Assumptions'!$E$5,$E23+($H23-1)*$F23*7,IF($G23='Assumptions'!$E$6,EDATE($E23,($H23-1)*$F23),""))),"")) | M23: =IF($A23="","",IF(OR($B23="",$C23="",$D23="",$E23="",$F23="",$G23="",$H23="",$K23=""),"Complete inputs - check",IF(COUNTIF($A$5:$A$104,$A23)>1,"Duplicate ID - check",IF($H23>'Assumptions'!$B$6,"Occurrence limit - check",IF(AND($K23='Assumptions'!$E$9,$L23<'Assumptions'!$B$4),"Past series - check","")))))
L24: =IF(OR($A24="",$E24="",$F24="",$G24="",$H24=""),"",IFERROR(IF($G24='Assumptions'!$E$4,$E24+($H24-1)*$F24,IF($G24='Assumptions'!$E$5,$E24+($H24-1)*$F24*7,IF($G24='Assumptions'!$E$6,EDATE($E24,($H24-1)*$F24),""))),"")) | M24: =IF($A24="","",IF(OR($B24="",$C24="",$D24="",$E24="",$F24="",$G24="",$H24="",$K24=""),"Complete inputs - check",IF(COUNTIF($A$5:$A$104,$A24)>1,"Duplicate ID - check",IF($H24>'Assumptions'!$B$6,"Occurrence limit - check",IF(AND($K24='Assumptions'!$E$9,$L24<'Assumptions'!$B$4),"Past series - check","")))))
L25: =IF(OR($A25="",$E25="",$F25="",$G25="",$H25=""),"",IFERROR(IF($G25='Assumptions'!$E$4,$E25+($H25-1)*$F25,IF($G25='Assumptions'!$E$5,$E25+($H25-1)*$F25*7,IF($G25='Assumptions'!$E$6,EDATE($E25,($H25-1)*$F25),""))),"")) | M25: =IF($A25="","",IF(OR($B25="",$C25="",$D25="",$E25="",$F25="",$G25="",$H25="",$K25=""),"Complete inputs - check",IF(COUNTIF($A$5:$A$104,$A25)>1,"Duplicate ID - check",IF($H25>'Assumptions'!$B$6,"Occurrence limit - check",IF(AND($K25='Assumptions'!$E$9,$L25<'Assumptions'!$B$4),"Past series - check","")))))
L26: =IF(OR($A26="",$E26="",$F26="",$G26="",$H26=""),"",IFERROR(IF($G26='Assumptions'!$E$4,$E26+($H26-1)*$F26,IF($G26='Assumptions'!$E$5,$E26+($H26-1)*$F26*7,IF($G26='Assumptions'!$E$6,EDATE($E26,($H26-1)*$F26),""))),"")) | M26: =IF($A26="","",IF(OR($B26="",$C26="",$D26="",$E26="",$F26="",$G26="",$H26="",$K26=""),"Complete inputs - check",IF(COUNTIF($A$5:$A$104,$A26)>1,"Duplicate ID - check",IF($H26>'Assumptions'!$B$6,"Occurrence limit - check",IF(AND($K26='Assumptions'!$E$9,$L26<'Assumptions'!$B$4),"Past series - check","")))))
... L104: =IF(OR($A104="",$E104="",$F104="",$G104="",$H104=""),"",IFERROR(IF($G104='Assumptions'!$E$4,$E104+($H104-1)*$F104,IF($G104='Assumptions'!$E$5,$E104+($H104-1)*$F104*7,IF($G104='Assumptions'!$E$6,EDATE($E104,($H104-1)*$F104),""))),"")) | M104: =IF($A104="","",IF(OR($B104="",$C104="",$D104="",$E104="",$F104="",$G104="",$H104="",$K104=""),"Complete inputs - check",IF(COUNTIF($A$5:$A$104,$A104)>1,"Duplicate ID - check",IF($H104>'Assumptions'!$B$6,"Occurrence limit - check",IF(AND($K104='Assumptions'!$E$9,$L104<'Assumptions'!$B$4),"Past series - check","")))))

Sheet Calendar
A1: Generated Recurring Appointment Calendar
A2: Active plans generate up to 12 occurrences. Yellow cells accept date, staff, status, or note exceptions. All examples are fictional.
A4: Plan ID | B4: Occurrence | C4: Pet Name | D4: Service | E4: Planned Date | F4: Date Override | G4: Appointment Date | H4: Preferred Time | I4: Staff Override | J4: Assigned To | K4: Status Override | L4: Appointment Status | M4: Exception Note | N4: Review Flag
A5: =IFERROR(IF(INDEX('Recurring Plans'!$A$5:$A$104,INT((ROW()-5)/12)+1)="","",INDEX('Recurring Plans'!$A$5:$A$104,INT((ROW()-5)/12)+1)),"") | B5: =IF($A5="","",MOD(ROW()-5,12)+1) | C5: =IF($A5="","",IFERROR(VLOOKUP($A5,'Recurring Plans'!$A$5:$M$104,2,FALSE),"")) | D5: =IF($A5="","",IFERROR(VLOOKUP($A5,'Recurring Plans'!$A$5:$M$104,4,FALSE),"")) | E5: =IF(OR($A5="",$B5>IFERROR(VLOOKUP($A5,'Recurring Plans'!$A$5:$M$104,8,FALSE),0),IFERROR(VLOOKUP($A5,'Recurring Plans'!$A$5:$M$104,11,FALSE),"")<>'Assumptions'!$E$9),"",IFERROR(IF(VLOOKUP($A5,'Recurring Plans'!$A$5:$M$104,7,FALSE)='Assumptions'!$E$4,VLOOKUP($A5,'Recurring Plans'!$A$5:$M$104,5,FALSE)+($B5-1)*VLOOKUP($A5,'Recurring Plans'!$A$5:$M$104,6,FALSE),IF(VLOOKUP($A5,'Recurring Plans'!$A$5:$M$104,7,FALSE)='Assumptions'!$E$5,VLOOKUP($A5,'Recurring Plans'!$A$5:$M$104,5,FALSE)+($B5-1)*VLOOKUP($A5,'Recurring Plans'!$A$5:$M$104,6,FALSE)*7,IF(VLOOKUP($A5,'Recurring Plans'!$A$5:$M$104,7,FALSE)='Assumptions'!$E$6,EDATE(VLOOKUP($A5,'Recurring Plans'!$A$5:$M$104,5,FALSE),($B5-1)*VLOOKUP($A5,'Recurring Plans'!$A$5:$M$104,6,FALSE)),""))),"")) | G5: =IF($E5="","",IF($F5<>"",$F5,$E5)) | H5: =IF($E5="","",IFERROR(VLOOKUP($A5,'Recurring Plans'!$A$5:$M$104,9,FALSE),"")) | J5: =IF($E5="","",IF($I5<>"",$I5,IFERROR(VLOOKUP($A5,'Recurring Plans'!$A$5:$M$104,10,FALSE),""))) | K5: Completed | L5: =IF($G5="","",IF($K5<>"",$K5,'Assumptions'!$E$14)) | N5: =IF($G5="","",IF(OR($F5<>"",$I5<>"",$M5<>"",$K5='Assumptions'!$E$16,$K5='Assumptions'!$E$17),"Exception - check",IF(AND($L5='Assumptions'!$E$14,$G5<'Assumptions'!$B$4),"Past date - check","")))
A6: =IFERROR(IF(INDEX('Recurring Plans'!$A$5:$A$104,INT((ROW()-5)/12)+1)="","",INDEX('Recurring Plans'!$A$5:$A$104,INT((ROW()-5)/12)+1)),"") | B6: =IF($A6="","",MOD(ROW()-5,12)+1) | C6: =IF($A6="","",IFERROR(VLOOKUP($A6,'Recurring Plans'!$A$5:$M$104,2,FALSE),"")) | D6: =IF($A6="","",IFERROR(VLOOKUP($A6,'Recurring Plans'!$A$5:$M$104,4,FALSE),"")) | E6: =IF(OR($A6="",$B6>IFERROR(VLOOKUP($A6,'Recurring Plans'!$A$5:$M$104,8,FALSE),0),IFERROR(VLOOKUP($A6,'Recurring Plans'!$A$5:$M$104,11,FALSE),"")<>'Assumptions'!$E$9),"",IFERROR(IF(VLOOKUP($A6,'Recurring Plans'!$A$5:$M$104,7,FALSE)='Assumptions'!$E$4,VLOOKUP($A6,'Recurring Plans'!$A$5:$M$104,5,FALSE)+($B6-1)*VLOOKUP($A6,'Recurring Plans'!$A$5:$M$104,6,FALSE),IF(VLOOKUP($A6,'Recurring Plans'!$A$5:$M$104,7,FALSE)='Assumptions'!$E$5,VLOOKUP($A6,'Recurring Plans'!$A$5:$M$104,5,FALSE)+($B6-1)*VLOOKUP($A6,'Recurring Plans'!$A$5:$M$104,6,FALSE)*7,IF(VLOOKUP($A6,'Recurring Plans'!$A$5:$M$104,7,FALSE)='Assumptions'!$E$6,EDATE(VLOOKUP($A6,'Recurring Plans'!$A$5:$M$104,5,FALSE),($B6-1)*VLOOKUP($A6,'Recurring Plans'!$A$5:$M$104,6,FALSE)),""))),"")) | G6: =IF($E6="","",IF($F6<>"",$F6,$E6)) | H6: =IF($E6="","",IFERROR(VLOOKUP($A6,'Recurring Plans'!$A$5:$M$104,9,FALSE),"")) | J6: =IF($E6="","",IF($I6<>"",$I6,IFERROR(VLOOKUP($A6,'Recurring Plans'!$A$5:$M$104,10,FALSE),""))) | K6: Completed | L6: =IF($G6="","",IF($K6<>"",$K6,'Assumptions'!$E$14)) | N6: =IF($G6="","",IF(OR($F6<>"",$I6<>"",$M6<>"",$K6='Assumptions'!$E$16,$K6='Assumptions'!$E$17),"Exception - check",IF(AND($L6='Assumptions'!$E$14,$G6<'Assumptions'!$B$4),"Past date - check","")))
A7: =IFERROR(IF(INDEX('Recurring Plans'!$A$5:$A$104,INT((ROW()-5)/12)+1)="","",INDEX('Recurring Plans'!$A$5:$A$104,INT((ROW()-5)/12)+1)),"") | B7: =IF($A7="","",MOD(ROW()-5,12)+1) | C7: =IF($A7="","",IFERROR(VLOOKUP($A7,'Recurring Plans'!$A$5:$M$104,2,FALSE),"")) | D7: =IF($A7="","",IFERROR(VLOOKUP($A7,'Recurring Plans'!$A$5:$M$104,4,FALSE),"")) | E7: =IF(OR($A7="",$B7>IFERROR(VLOOKUP($A7,'Recurring Plans'!$A$5:$M$104,8,FALSE),0),IFERROR(VLOOKUP($A7,'Recurring Plans'!$A$5:$M$104,11,FALSE),"")<>'Assumptions'!$E$9),"",IFERROR(IF(VLOOKUP($A7,'Recurring Plans'!$A$5:$M$104,7,FALSE)='Assumptions'!$E$4,VLOOKUP($A7,'Recurring Plans'!$A$5:$M$104,5,FALSE)+($B7-1)*VLOOKUP($A7,'Recurring Plans'!$A$5:$M$104,6,FALSE),IF(VLOOKUP($A7,'Recurring Plans'!$A$5:$M$104,7,FALSE)='Assumptions'!$E$5,VLOOKUP($A7,'Recurring Plans'!$A$5:$M$104,5,FALSE)+($B7-1)*VLOOKUP($A7,'Recurring Plans'!$A$5:$M$104,6,FALSE)*7,IF(VLOOKUP($A7,'Recurring Plans'!$A$5:$M$104,7,FALSE)='Assumptions'!$E$6,EDATE(VLOOKUP($A7,'Recurring Plans'!$A$5:$M$104,5,FALSE),($B7-1)*VLOOKUP($A7,'Recurring Plans'!$A$5:$M$104,6,FALSE)),""))),"")) | F7: 46275 | G7: =IF($E7="","",IF($F7<>"",$F7,$E7)) | H7: =IF($E7="","",IFERROR(VLOOKUP($A7,'Recurring Plans'!$A$5:$M$104,9,FALSE),"")) | J7: =IF($E7="","",IF($I7<>"",$I7,IFERROR(VLOOKUP($A7,'Recurring Plans'!$A$5:$M$104,10,FALSE),""))) | K7: Scheduled | L7: =IF($G7="","",IF($K7<>"",$K7,'Assumptions'!$E$14)) | M7: Owner requested a later day. | N7: =IF($G7="","",IF(OR($F7<>"",$I7<>"",$M7<>"",$K7='Assumptions'!$E$16,$K7='Assumptions'!$E$17),"Exception - check",IF(AND($L7='Assumptions'!$E$14,$G7<'Assumptions'!$B$4),"Past date - check","")))
A8: =IFERROR(IF(INDEX('Recurring Plans'!$A$5:$A$104,INT((ROW()-5)/12)+1)="","",INDEX('Recurring Plans'!$A$5:$A$104,INT((ROW()-5)/12)+1)),"") | B8: =IF($A8="","",MOD(ROW()-5,12)+1) | C8: =IF($A8="","",IFERROR(VLOOKUP($A8,'Recurring Plans'!$A$5:$M$104,2,FALSE),"")) | D8: =IF($A8="","",IFERROR(VLOOKUP($A8,'Recurring Plans'!$A$5:$M$104,4,FALSE),"")) | E8: =IF(OR($A8="",$B8>IFERROR(VLOOKUP($A8,'Recurring Plans'!$A$5:$M$104,8,FALSE),0),IFERROR(VLOOKUP($A8,'Recurring Plans'!$A$5:$M$104,11,FALSE),"")<>'Assumptions'!$E$9),"",IFERROR(IF(VLOOKUP($A8,'Recurring Plans'!$A$5:$M$104,7,FALSE)='Assumptions'!$E$4,VLOOKUP($A8,'Recurring Plans'!$A$5:$M$104,5,FALSE)+($B8-1)*VLOOKUP($A8,'Recurring Plans'!$A$5:$M$104,6,FALSE),IF(VLOOKUP($A8,'Recurring Plans'!$A$5:$M$104,7,FALSE)='Assumptions'!$E$5,VLOOKUP($A8,'Recurring Plans'!$A$5:$M$104,5,FALSE)+($B8-1)*VLOOKUP($A8,'Recurring Plans'!$A$5:$M$104,6,FALSE)*7,IF(VLOOKUP($A8,'Recurring Plans'!$A$5:$M$104,7,FALSE)='Assumptions'!$E$6,EDATE(VLOOKUP($A8,'Recurring Plans'!$A$5:$M$104,5,FALSE),($B8-1)*VLOOKUP($A8,'Recurring Plans'!$A$5:$M$104,6,FALSE)),""))),"")) | G8: =IF($E8="","",IF($F8<>"",$F8,$E8)) | H8: =IF($E8="","",IFERROR(VLOOKUP($A8,'Recurring Plans'!$A$5:$M$104,9,FALSE),"")) | J8: =IF($E8="","",IF($I8<>"",$I8,IFERROR(VLOOKUP($A8,'Recurring Plans'!$A$5:$M$104,10,FALSE),""))) | L8: =IF($G8="","",IF($K8<>"",$K8,'Assumptions'!$E$14)) | N8: =IF($G8="","",IF(OR($F8<>"",$I8<>"",$M8<>"",$K8='Assumptions'!$E$16,$K8='Assumptions'!$E$17),"Exception - check",IF(AND($L8='Assumptions'!$E$14,$G8<'Assumptions'!$B$4),"Past date - check","")))
A9: =IFERROR(IF(INDEX('Recurring Plans'!$A$5:$A$104,INT((ROW()-5)/12)+1)="","",INDEX('Recurring Plans'!$A$5:$A$104,INT((ROW()-5)/12)+1)),"") | B9: =IF($A9="","",MOD(ROW()-5,12)+1) | C9: =IF($A9="","",IFERROR(VLOOKUP($A9,'Recurring Plans'!$A$5:$M$104,2,FALSE),"")) | D9: =IF($A9="","",IFERROR(VLOOKUP($A9,'Recurring Plans'!$A$5:$M$104,4,FALSE),"")) | E9: =IF(OR($A9="",$B9>IFERROR(VLOOKUP($A9,'Recurring Plans'!$A$5:$M$104,8,FALSE),0),IFERROR(VLOOKUP($A9,'Recurring Plans'!$A$5:$M$104,11,FALSE),"")<>'Assumptions'!$E$9),"",IFERROR(IF(VLOOKUP($A9,'Recurring Plans'!$A$5:$M$104,7,FALSE)='Assumptions'!$E$4,VLOOKUP($A9,'Recurring Plans'!$A$5:$M$104,5,FALSE)+($B9-1)*VLOOKUP($A9,'Recurring Plans'!$A$5:$M$104,6,FALSE),IF(VLOOKUP($A9,'Recurring Plans'!$A$5:$M$104,7,FALSE)='Assumptions'!$E$5,VLOOKUP($A9,'Recurring Plans'!$A$5:$M$104,5,FALSE)+($B9-1)*VLOOKUP($A9,'Recurring Plans'!$A$5:$M$104,6,FALSE)*7,IF(VLOOKUP($A9,'Recurring Plans'!$A$5:$M$104,7,FALSE)='Assumptions'!$E$6,EDATE(VLOOKUP($A9,'Recurring Plans'!$A$5:$M$104,5,FALSE),($B9-1)*VLOOKUP($A9,'Recurring Plans'!$A$5:$M$104,6,FALSE)),""))),"")) | G9: =IF($E9="","",IF($F9<>"",$F9,$E9)) | H9: =IF($E9="","",IFERROR(VLOOKUP($A9,'Recurring Plans'!$A$5:$M$104,9,FALSE),"")) | J9: =IF($E9="","",IF($I9<>"",$I9,IFERROR(VLOOKUP($A9,'Recurring Plans'!$A$5:$M$104,10,FALSE),""))) | L9: =IF($G9="","",IF($K9<>"",$K9,'Assumptions'!$E$14)) | N9: =IF($G9="","",IF(OR($F9<>"",$I9<>"",$M9<>"",$K9='Assumptions'!$E$16,$K9='Assumptions'!$E$17),"Exception - check",IF(AND($L9='Assumptions'!$E$14,$G9<'Assumptions'!$B$4),"Past date - check","")))
A10: =IFERROR(IF(INDEX('Recurring Plans'!$A$5:$A$104,INT((ROW()-5)/12)+1)="","",INDEX('Recurring Plans'!$A$5:$A$104,INT((ROW()-5)/12)+1)),"") | B10: =IF($A10="","",MOD(ROW()-5,12)+1) | C10: =IF($A10="","",IFERROR(VLOOKUP($A10,'Recurring Plans'!$A$5:$M$104,2,FALSE),"")) | D10: =IF($A10="","",IFERROR(VLOOKUP($A10,'Recurring Plans'!$A$5:$M$104,4,FALSE),"")) | E10: =IF(OR($A10="",$B10>IFERROR(VLOOKUP($A10,'Recurring Plans'!$A$5:$M$104,8,FALSE),0),IFERROR(VLOOKUP($A10,'Recurring Plans'!$A$5:$M$104,11,FALSE),"")<>'Assumptions'!$E$9),"",IFERROR(IF(VLOOKUP($A10,'Recurring Plans'!$A$5:$M$104,7,FALSE)='Assumptions'!$E$4,VLOOKUP($A10,'Recurring Plans'!$A$5:$M$104,5,FALSE)+($B10-1)*VLOOKUP($A10,'Recurring Plans'!$A$5:$M$104,6,FALSE),IF(VLOOKUP($A10,'Recurring Plans'!$A$5:$M$104,7,FALSE)='Assumptions'!$E$5,VLOOKUP($A10,'Recurring Plans'!$A$5:$M$104,5,FALSE)+($B10-1)*VLOOKUP($A10,'Recurring Plans'!$A$5:$M$104,6,FALSE)*7,IF(VLOOKUP($A10,'Recurring Plans'!$A$5:$M$104,7,FALSE)='Assumptions'!$E$6,EDATE(VLOOKUP($A10,'Recurring Plans'!$A$5:$M$104,5,FALSE),($B10-1)*VLOOKUP($A10,'Recurring Plans'!$A$5:$M$104,6,FALSE)),""))),"")) | G10: =IF($E10="","",IF($F10<>"",$F10,$E10)) | H10: =IF($E10="","",IFERROR(VLOOKUP($A10,'Recurring Plans'!$A$5:$M$104,9,FALSE),"")) | J10: =IF($E10="","",IF($I10<>"",$I10,IFERROR(VLOOKUP($A10,'Recurring Plans'!$A$5:$M$104,10,FALSE),""))) | L10: =IF($G10="","",IF($K10<>"",$K10,'Assumptions'!$E$14)) | N10: =IF($G10="","",IF(OR($F10<>"",$I10<>"",$M10<>"",$K10='Assumptions'!$E$16,$K10='Assumptions'!$E$17),"Exception - check",IF(AND($L10='Assumptions'!$E$14,$G10<'Assumptions'!$B$4),"Past date - check","")))
A11: =IFERROR(IF(INDEX('Recurring Plans'!$A$5:$A$104,INT((ROW()-5)/12)+1)="","",INDEX('Recurring Plans'!$A$5:$A$104,INT((ROW()-5)/12)+1)),"") | B11: =IF($A11="","",MOD(ROW()-5,12)+1) | C11: =IF($A11="","",IFERROR(VLOOKUP($A11,'Recurring Plans'!$A$5:$M$104,2,FALSE),"")) | D11: =IF($A11="","",IFERROR(VLOOKUP($A11,'Recurring Plans'!$A$5:$M$104,4,FALSE),"")) | E11: =IF(OR($A11="",$B11>IFERROR(VLOOKUP($A11,'Recurring Plans'!$A$5:$M$104,8,FALSE),0),IFERROR(VLOOKUP($A11,'Recurring Plans'!$A$5:$M$104,11,FALSE),"")<>'Assumptions'!$E$9),"",IFERROR(IF(VLOOKUP($A11,'Recurring Plans'!$A$5:$M$104,7,FALSE)='Assumptions'!$E$4,VLOOKUP($A11,'Recurring Plans'!$A$5:$M$104,5,FALSE)+($B11-1)*VLOOKUP($A11,'Recurring Plans'!$A$5:$M$104,6,FALSE),IF(VLOOKUP($A11,'Recurring Plans'!$A$5:$M$104,7,FALSE)='Assumptions'!$E$5,VLOOKUP($A11,'Recurring Plans'!$A$5:$M$104,5,FALSE)+($B11-1)*VLOOKUP($A11,'Recurring Plans'!$A$5:$M$104,6,FALSE)*7,IF(VLOOKUP($A11,'Recurring Plans'!$A$5:$M$104,7,FALSE)='Assumptions'!$E$6,EDATE(VLOOKUP($A11,'Recurring Plans'!$A$5:$M$104,5,FALSE),($B11-1)*VLOOKUP($A11,'Recurring Plans'!$A$5:$M$104,6,FALSE)),""))),"")) | G11: =IF($E11="","",IF($F11<>"",$F11,$E11)) | H11: =IF($E11="","",IFERROR(VLOOKUP($A11,'Recurring Plans'!$A$5:$M$104,9,FALSE),"")) | J11: =IF($E11="","",IF($I11<>"",$I11,IFERROR(VLOOKUP($A11,'Recurring Plans'!$A$5:$M$104,10,FALSE),""))) | L11: =IF($G11="","",IF($K11<>"",$K11,'Assumptions'!$E$14)) | N11: =IF($G11="","",IF(OR($F11<>"",$I11<>"",$M11<>"",$K11='Assumptions'!$E$16,$K11='Assumptions'!$E$17),"Exception - check",IF(AND($L11='Assumptions'!$E$14,$G11<'Assumptions'!$B$4),"Past date - check","")))
A12: =IFERROR(IF(INDEX('Recurring Plans'!$A$5:$A$104,INT((ROW()-5)/12)+1)="","",INDEX('Recurring Plans'!$A$5:$A$104,INT((ROW()-5)/12)+1)),"") | B12: =IF($A12="","",MOD(ROW()-5,12)+1) | C12: =IF($A12="","",IFERROR(VLOOKUP($A12,'Recurring Plans'!$A$5:$M$104,2,FALSE),"")) | D12: =IF($A12="","",IFERROR(VLOOKUP($A12,'Recurring Plans'!$A$5:$M$104,4,FALSE),"")) | E12: =IF(OR($A12="",$B12>IFERROR(VLOOKUP($A12,'Recurring Plans'!$A$5:$M$104,8,FALSE),0),IFERROR(VLOOKUP($A12,'Recurring Plans'!$A$5:$M$104,11,FALSE),"")<>'Assumptions'!$E$9),"",IFERROR(IF(VLOOKUP($A12,'Recurring Plans'!$A$5:$M$104,7,FALSE)='Assumptions'!$E$4,VLOOKUP($A12,'Recurring Plans'!$A$5:$M$104,5,FALSE)+($B12-1)*VLOOKUP($A12,'Recurring Plans'!$A$5:$M$104,6,FALSE),IF(VLOOKUP($A12,'Recurring Plans'!$A$5:$M$104,7,FALSE)='Assumptions'!$E$5,VLOOKUP($A12,'Recurring Plans'!$A$5:$M$104,5,FALSE)+($B12-1)*VLOOKUP($A12,'Recurring Plans'!$A$5:$M$104,6,FALSE)*7,IF(VLOOKUP($A12,'Recurring Plans'!$A$5:$M$104,7,FALSE)='Assumptions'!$E$6,EDATE(VLOOKUP($A12,'Recurring Plans'!$A$5:$M$104,5,FALSE),($B12-1)*VLOOKUP($A12,'Recurring Plans'!$A$5:$M$104,6,FALSE)),""))),"")) | G12: =IF($E12="","",IF($F12<>"",$F12,$E12)) | H12: =IF($E12="","",IFERROR(VLOOKUP($A12,'Recurring Plans'!$A$5:$M$104,9,FALSE),"")) | J12: =IF($E12="","",IF($I12<>"",$I12,IFERROR(VLOOKUP($A12,'Recurring Plans'!$A$5:$M$104,10,FALSE),""))) | L12: =IF($G12="","",IF($K12<>"",$K12,'Assumptions'!$E$14)) | N12: =IF($G12="","",IF(OR($F12<>"",$I12<>"",$M12<>"",$K12='Assumptions'!$E$16,$K12='Assumptions'!$E$17),"Exception - check",IF(AND($L12='Assumptions'!$E$14,$G12<'Assumptions'!$B$4),"Past date - check","")))
A13: =IFERROR(IF(INDEX('Recurring Plans'!$A$5:$A$104,INT((ROW()-5)/12)+1)="","",INDEX('Recurring Plans'!$A$5:$A$104,INT((ROW()-5)/12)+1)),"") | B13: =IF($A13="","",MOD(ROW()-5,12)+1) | C13: =IF($A13="","",IFERROR(VLOOKUP($A13,'Recurring Plans'!$A$5:$M$104,2,FALSE),"")) | D13: =IF($A13="","",IFERROR(VLOOKUP($A13,'Recurring Plans'!$A$5:$M$104,4,FALSE),"")) | E13: =IF(OR($A13="",$B13>IFERROR(VLOOKUP($A13,'Recurring Plans'!$A$5:$M$104,8,FALSE),0),IFERROR(VLOOKUP($A13,'Recurring Plans'!$A$5:$M$104,11,FALSE),"")<>'Assumptions'!$E$9),"",IFERROR(IF(VLOOKUP($A13,'Recurring Plans'!$A$5:$M$104,7,FALSE)='Assumptions'!$E$4,VLOOKUP($A13,'Recurring Plans'!$A$5:$M$104,5,FALSE)+($B13-1)*VLOOKUP($A13,'Recurring Plans'!$A$5:$M$104,6,FALSE),IF(VLOOKUP($A13,'Recurring Plans'!$A$5:$M$104,7,FALSE)='Assumptions'!$E$5,VLOOKUP($A13,'Recurring Plans'!$A$5:$M$104,5,FALSE)+($B13-1)*VLOOKUP($A13,'Recurring Plans'!$A$5:$M$104,6,FALSE)*7,IF(VLOOKUP($A13,'Recurring Plans'!$A$5:$M$104,7,FALSE)='Assumptions'!$E$6,EDATE(VLOOKUP($A13,'Recurring Plans'!$A$5:$M$104,5,FALSE),($B13-1)*VLOOKUP($A13,'Recurring Plans'!$A$5:$M$104,6,FALSE)),""))),"")) | G13: =IF($E13="","",IF($F13<>"",$F13,$E13)) | H13: =IF($E13="","",IFERROR(VLOOKUP($A13,'Recurring Plans'!$A$5:$M$104,9,FALSE),"")) | J13: =IF($E13="","",IF($I13<>"",$I13,IFERROR(VLOOKUP($A13,'Recurring Plans'!$A$5:$M$104,10,FALSE),""))) | L13: =IF($G13="","",IF($K13<>"",$K13,'Assumptions'!$E$14)) | N13: =IF($G13="","",IF(OR($F13<>"",$I13<>"",$M13<>"",$K13='Assumptions'!$E$16,$K13='Assumptions'!$E$17),"Exception - check",IF(AND($L13='Assumptions'!$E$14,$G13<'Assumptions'!$B$4),"Past date - check","")))
A14: =IFERROR(IF(INDEX('Recurring Plans'!$A$5:$A$104,INT((ROW()-5)/12)+1)="","",INDEX('Recurring Plans'!$A$5:$A$104,INT((ROW()-5)/12)+1)),"") | B14: =IF($A14="","",MOD(ROW()-5,12)+1) | C14: =IF($A14="","",IFERROR(VLOOKUP($A14,'Recurring Plans'!$A$5:$M$104,2,FALSE),"")) | D14: =IF($A14="","",IFERROR(VLOOKUP($A14,'Recurring Plans'!$A$5:$M$104,4,FALSE),"")) | E14: =IF(OR($A14="",$B14>IFERROR(VLOOKUP($A14,'Recurring Plans'!$A$5:$M$104,8,FALSE),0),IFERROR(VLOOKUP($A14,'Recurring Plans'!$A$5:$M$104,11,FALSE),"")<>'Assumptions'!$E$9),"",IFERROR(IF(VLOOKUP($A14,'Recurring Plans'!$A$5:$M$104,7,FALSE)='Assumptions'!$E$4,VLOOKUP($A14,'Recurring Plans'!$A$5:$M$104,5,FALSE)+($B14-1)*VLOOKUP($A14,'Recurring Plans'!$A$5:$M$104,6,FALSE),IF(VLOOKUP($A14,'Recurring Plans'!$A$5:$M$104,7,FALSE)='Assumptions'!$E$5,VLOOKUP($A14,'Recurring Plans'!$A$5:$M$104,5,FALSE)+($B14-1)*VLOOKUP($A14,'Recurring Plans'!$A$5:$M$104,6,FALSE)*7,IF(VLOOKUP($A14,'Recurring Plans'!$A$5:$M$104,7,FALSE)='Assumptions'!$E$6,EDATE(VLOOKUP($A14,'Recurring Plans'!$A$5:$M$104,5,FALSE),($B14-1)*VLOOKUP($A14,'Recurring Plans'!$A$5:$M$104,6,FALSE)),""))),"")) | G14: =IF($E14="","",IF($F14<>"",$F14,$E14)) | H14: =IF($E14="","",IFERROR(VLOOKUP($A14,'Recurring Plans'!$A$5:$M$104,9,FALSE),"")) | J14: =IF($E14="","",IF($I14<>"",$I14,IFERROR(VLOOKUP($A14,'Recurring Plans'!$A$5:$M$104,10,FALSE),""))) | L14: =IF($G14="","",IF($K14<>"",$K14,'Assumptions'!$E$14)) | N14: =IF($G14="","",IF(OR($F14<>"",$I14<>"",$M14<>"",$K14='Assumptions'!$E$16,$K14='Assumptions'!$E$17),"Exception - check",IF(AND($L14='Assumptions'!$E$14,$G14<'Assumptions'!$B$4),"Past date - check","")))
A15: =IFERROR(IF(INDEX('Recurring Plans'!$A$5:$A$104,INT((ROW()-5)/12)+1)="","",INDEX('Recurring Plans'!$A$5:$A$104,INT((ROW()-5)/12)+1)),"") | B15: =IF($A15="","",MOD(ROW()-5,12)+1) | C15: =IF($A15="","",IFERROR(VLOOKUP($A15,'Recurring Plans'!$A$5:$M$104,2,FALSE),"")) | D15: =IF($A15="","",IFERROR(VLOOKUP($A15,'Recurring Plans'!$A$5:$M$104,4,FALSE),"")) | E15: =IF(OR($A15="",$B15>IFERROR(VLOOKUP($A15,'Recurring Plans'!$A$5:$M$104,8,FALSE),0),IFERROR(VLOOKUP($A15,'Recurring Plans'!$A$5:$M$104,11,FALSE),"")<>'Assumptions'!$E$9),"",IFERROR(IF(VLOOKUP($A15,'Recurring Plans'!$A$5:$M$104,7,FALSE)='Assumptions'!$E$4,VLOOKUP($A15,'Recurring Plans'!$A$5:$M$104,5,FALSE)+($B15-1)*VLOOKUP($A15,'Recurring Plans'!$A$5:$M$104,6,FALSE),IF(VLOOKUP($A15,'Recurring Plans'!$A$5:$M$104,7,FALSE)='Assumptions'!$E$5,VLOOKUP($A15,'Recurring Plans'!$A$5:$M$104,5,FALSE)+($B15-1)*VLOOKUP($A15,'Recurring Plans'!$A$5:$M$104,6,FALSE)*7,IF(VLOOKUP($A15,'Recurring Plans'!$A$5:$M$104,7,FALSE)='Assumptions'!$E$6,EDATE(VLOOKUP($A15,'Recurring Plans'!$A$5:$M$104,5,FALSE),($B15-1)*VLOOKUP($A15,'Recurring Plans'!$A$5:$M$104,6,FALSE)),""))),"")) | G15: =IF($E15="","",IF($F15<>"",$F15,$E15)) | H15: =IF($E15="","",IFERROR(VLOOKUP($A15,'Recurring Plans'!$A$5:$M$104,9,FALSE),"")) | J15: =IF($E15="","",IF($I15<>"",$I15,IFERROR(VLOOKUP($A15,'Recurring Plans'!$A$5:$M$104,10,FALSE),""))) | L15: =IF($G15="","",IF($K15<>"",$K15,'Assumptions'!$E$14)) | N15: =IF($G15="","",IF(OR($F15<>"",$I15<>"",$M15<>"",$K15='Assumptions'!$E$16,$K15='Assumptions'!$E$17),"Exception - check",IF(AND($L15='Assumptions'!$E$14,$G15<'Assumptions'!$B$4),"Past date - check","")))
A16: =IFERROR(IF(INDEX('Recurring Plans'!$A$5:$A$104,INT((ROW()-5)/12)+1)="","",INDEX('Recurring Plans'!$A$5:$A$104,INT((ROW()-5)/12)+1)),"") | B16: =IF($A16="","",MOD(ROW()-5,12)+1) | C16: =IF($A16="","",IFERROR(VLOOKUP($A16,'Recurring Plans'!$A$5:$M$104,2,FALSE),"")) | D16: =IF($A16="","",IFERROR(VLOOKUP($A16,'Recurring Plans'!$A$5:$M$104,4,FALSE),"")) | E16: =IF(OR($A16="",$B16>IFERROR(VLOOKUP($A16,'Recurring Plans'!$A$5:$M$104,8,FALSE),0),IFERROR(VLOOKUP($A16,'Recurring Plans'!$A$5:$M$104,11,FALSE),"")<>'Assumptions'!$E$9),"",IFERROR(IF(VLOOKUP($A16,'Recurring Plans'!$A$5:$M$104,7,FALSE)='Assumptions'!$E$4,VLOOKUP($A16,'Recurring Plans'!$A$5:$M$104,5,FALSE)+($B16-1)*VLOOKUP($A16,'Recurring Plans'!$A$5:$M$104,6,FALSE),IF(VLOOKUP($A16,'Recurring Plans'!$A$5:$M$104,7,FALSE)='Assumptions'!$E$5,VLOOKUP($A16,'Recurring Plans'!$A$5:$M$104,5,FALSE)+($B16-1)*VLOOKUP($A16,'Recurring Plans'!$A$5:$M$104,6,FALSE)*7,IF(VLOOKUP($A16,'Recurring Plans'!$A$5:$M$104,7,FALSE)='Assumptions'!$E$6,EDATE(VLOOKUP($A16,'Recurring Plans'!$A$5:$M$104,5,FALSE),($B16-1)*VLOOKUP($A16,'Recurring Plans'!$A$5:$M$104,6,FALSE)),""))),"")) | G16: =IF($E16="","",IF($F16<>"",$F16,$E16)) | H16: =IF($E16="","",IFERROR(VLOOKUP($A16,'Recurring Plans'!$A$5:$M$104,9,FALSE),"")) | J16: =IF($E16="","",IF($I16<>"",$I16,IFERROR(VLOOKUP($A16,'Recurring Plans'!$A$5:$M$104,10,FALSE),""))) | L16: =IF($G16="","",IF($K16<>"",$K16,'Assumptions'!$E$14)) | N16: =IF($G16="","",IF(OR($F16<>"",$I16<>"",$M16<>"",$K16='Assumptions'!$E$16,$K16='Assumptions'!$E$17),"Exception - check",IF(AND($L16='Assumptions'!$E$14,$G16<'Assumptions'!$B$4),"Past date - check","")))
A17: =IFERROR(IF(INDEX('Recurring Plans'!$A$5:$A$104,INT((ROW()-5)/12)+1)="","",INDEX('Recurring Plans'!$A$5:$A$104,INT((ROW()-5)/12)+1)),"") | B17: =IF($A17="","",MOD(ROW()-5,12)+1) | C17: =IF($A17="","",IFERROR(VLOOKUP($A17,'Recurring Plans'!$A$5:$M$104,2,FALSE),"")) | D17: =IF($A17="","",IFERROR(VLOOKUP($A17,'Recurring Plans'!$A$5:$M$104,4,FALSE),"")) | E17: =IF(OR($A17="",$B17>IFERROR(VLOOKUP($A17,'Recurring Plans'!$A$5:$M$104,8,FALSE),0),IFERROR(VLOOKUP($A17,'Recurring Plans'!$A$5:$M$104,11,FALSE),"")<>'Assumptions'!$E$9),"",IFERROR(IF(VLOOKUP($A17,'Recurring Plans'!$A$5:$M$104,7,FALSE)='Assumptions'!$E$4,VLOOKUP($A17,'Recurring Plans'!$A$5:$M$104,5,FALSE)+($B17-1)*VLOOKUP($A17,'Recurring Plans'!$A$5:$M$104,6,FALSE),IF(VLOOKUP($A17,'Recurring Plans'!$A$5:$M$104,7,FALSE)='Assumptions'!$E$5,VLOOKUP($A17,'Recurring Plans'!$A$5:$M$104,5,FALSE)+($B17-1)*VLOOKUP($A17,'Recurring Plans'!$A$5:$M$104,6,FALSE)*7,IF(VLOOKUP($A17,'Recurring Plans'!$A$5:$M$104,7,FALSE)='Assumptions'!$E$6,EDATE(VLOOKUP($A17,'Recurring Plans'!$A$5:$M$104,5,FALSE),($B17-1)*VLOOKUP($A17,'Recurring Plans'!$A$5:$M$104,6,FALSE)),""))),"")) | G17: =IF($E17="","",IF($F17<>"",$F17,$E17)) | H17: =IF($E17="","",IFERROR(VLOOKUP($A17,'Recurring Plans'!$A$5:$M$104,9,FALSE),"")) | J17: =IF($E17="","",IF($I17<>"",$I17,IFERROR(VLOOKUP($A17,'Recurring Plans'!$A$5:$M$104,10,FALSE),""))) | K17: Scheduled | L17: =IF($G17="","",IF($K17<>"",$K17,'Assumptions'!$E$14)) | N17: =IF($G17="","",IF(OR($F17<>"",$I17<>"",$M17<>"",$K17='Assumptions'!$E$16,$K17='Assumptions'!$E$17),"Exception - check",IF(AND($L17='Assumptions'!$E$14,$G17<'Assumptions'!$B$4),"Past date - check","")))
A18: =IFERROR(IF(INDEX('Recurring Plans'!$A$5:$A$104,INT((ROW()-5)/12)+1)="","",INDEX('Recurring Plans'!$A$5:$A$104,INT((ROW()-5)/12)+1)),"") | B18: =IF($A18="","",MOD(ROW()-5,12)+1) | C18: =IF($A18="","",IFERROR(VLOOKUP($A18,'Recurring Plans'!$A$5:$M$104,2,FALSE),"")) | D18: =IF($A18="","",IFERROR(VLOOKUP($A18,'Recurring Plans'!$A$5:$M$104,4,FALSE),"")) | E18: =IF(OR($A18="",$B18>IFERROR(VLOOKUP($A18,'Recurring Plans'!$A$5:$M$104,8,FALSE),0),IFERROR(VLOOKUP($A18,'Recurring Plans'!$A$5:$M$104,11,FALSE),"")<>'Assumptions'!$E$9),"",IFERROR(IF(VLOOKUP($A18,'Recurring Plans'!$A$5:$M$104,7,FALSE)='Assumptions'!$E$4,VLOOKUP($A18,'Recurring Plans'!$A$5:$M$104,5,FALSE)+($B18-1)*VLOOKUP($A18,'Recurring Plans'!$A$5:$M$104,6,FALSE),IF(VLOOKUP($A18,'Recurring Plans'!$A$5:$M$104,7,FALSE)='Assumptions'!$E$5,VLOOKUP($A18,'Recurring Plans'!$A$5:$M$104,5,FALSE)+($B18-1)*VLOOKUP($A18,'Recurring Plans'!$A$5:$M$104,6,FALSE)*7,IF(VLOOKUP($A18,'Recurring Plans'!$A$5:$M$104,7,FALSE)='Assumptions'!$E$6,EDATE(VLOOKUP($A18,'Recurring Plans'!$A$5:$M$104,5,FALSE),($B18-1)*VLOOKUP($A18,'Recurring Plans'!$A$5:$M$104,6,FALSE)),""))),"")) | G18: =IF($E18="","",IF($F18<>"",$F18,$E18)) | H18: =IF($E18="","",IFERROR(VLOOKUP($A18,'Recurring Plans'!$A$5:$M$104,9,FALSE),"")) | J18: =IF($E18="","",IF($I18<>"",$I18,IFERROR(VLOOKUP($A18,'Recurring Plans'!$A$5:$M$104,10,FALSE),""))) | L18: =IF($G18="","",IF($K18<>"",$K18,'Assumptions'!$E$14)) | N18: =IF($G18="","",IF(OR($F18<>"",$I18<>"",$M18<>"",$K18='Assumptions'!$E$16,$K18='Assumptions'!$E$17),"Exception - check",IF(AND($L18='Assumptions'!$E$14,$G18<'Assumptions'!$B$4),"Past date - check","")))
A19: =IFERROR(IF(INDEX('Recurring Plans'!$A$5:$A$104,INT((ROW()-5)/12)+1)="","",INDEX('Recurring Plans'!$A$5:$A$104,INT((ROW()-5)/12)+1)),"") | B19: =IF($A19="","",MOD(ROW()-5,12)+1) | C19: =IF($A19="","",IFERROR(VLOOKUP($A19,'Recurring Plans'!$A$5:$M$104,2,FALSE),"")) | D19: =IF($A19="","",IFERROR(VLOOKUP($A19,'Recurring Plans'!$A$5:$M$104,4,FALSE),"")) | E19: =IF(OR($A19="",$B19>IFERROR(VLOOKUP($A19,'Recurring Plans'!$A$5:$M$104,8,FALSE),0),IFERROR(VLOOKUP($A19,'Recurring Plans'!$A$5:$M$104,11,FALSE),"")<>'Assumptions'!$E$9),"",IFERROR(IF(VLOOKUP($A19,'Recurring Plans'!$A$5:$M$104,7,FALSE)='Assumptions'!$E$4,VLOOKUP($A19,'Recurring Plans'!$A$5:$M$104,5,FALSE)+($B19-1)*VLOOKUP($A19,'Recurring Plans'!$A$5:$M$104,6,FALSE),IF(VLOOKUP($A19,'Recurring Plans'!$A$5:$M$104,7,FALSE)='Assumptions'!$E$5,VLOOKUP($A19,'Recurring Plans'!$A$5:$M$104,5,FALSE)+($B19-1)*VLOOKUP($A19,'Recurring Plans'!$A$5:$M$104,6,FALSE)*7,IF(VLOOKUP($A19,'Recurring Plans'!$A$5:$M$104,7,FALSE)='Assumptions'!$E$6,EDATE(VLOOKUP($A19,'Recurring Plans'!$A$5:$M$104,5,FALSE),($B19-1)*VLOOKUP($A19,'Recurring Plans'!$A$5:$M$104,6,FALSE)),""))),"")) | G19: =IF($E19="","",IF($F19<>"",$F19,$E19)) | H19: =IF($E19="","",IFERROR(VLOOKUP($A19,'Recurring Plans'!$A$5:$M$104,9,FALSE),"")) | J19: =IF($E19="","",IF($I19<>"",$I19,IFERROR(VLOOKUP($A19,'Recurring Plans'!$A$5:$M$104,10,FALSE),""))) | L19: =IF($G19="","",IF($K19<>"",$K19,'Assumptions'!$E$14)) | N19: =IF($G19="","",IF(OR($F19<>"",$I19<>"",$M19<>"",$K19='Assumptions'!$E$16,$K19='Assumptions'!$E$17),"Exception - check",IF(AND($L19='Assumptions'!$E$14,$G19<'Assumptions'!$B$4),"Past date - check","")))
A20: =IFERROR(IF(INDEX('Recurring Plans'!$A$5:$A$104,INT((ROW()-5)/12)+1)="","",INDEX('Recurring Plans'!$A$5:$A$104,INT((ROW()-5)/12)+1)),"") | B20: =IF($A20="","",MOD(ROW()-5,12)+1) | C20: =IF($A20="","",IFERROR(VLOOKUP($A20,'Recurring Plans'!$A$5:$M$104,2,FALSE),"")) | D20: =IF($A20="","",IFERROR(VLOOKUP($A20,'Recurring Plans'!$A$5:$M$104,4,FALSE),"")) | E20: =IF(OR($A20="",$B20>IFERROR(VLOOKUP($A20,'Recurring Plans'!$A$5:$M$104,8,FALSE),0),IFERROR(VLOOKUP($A20,'Recurring Plans'!$A$5:$M$104,11,FALSE),"")<>'Assumptions'!$E$9),"",IFERROR(IF(VLOOKUP($A20,'Recurring Plans'!$A$5:$M$104,7,FALSE)='Assumptions'!$E$4,VLOOKUP($A20,'Recurring Plans'!$A$5:$M$104,5,FALSE)+($B20-1)*VLOOKUP($A20,'Recurring Plans'!$A$5:$M$104,6,FALSE),IF(VLOOKUP($A20,'Recurring Plans'!$A$5:$M$104,7,FALSE)='Assumptions'!$E$5,VLOOKUP($A20,'Recurring Plans'!$A$5:$M$104,5,FALSE)+($B20-1)*VLOOKUP($A20,'Recurring Plans'!$A$5:$M$104,6,FALSE)*7,IF(VLOOKUP($A20,'Recurring Plans'!$A$5:$M$104,7,FALSE)='Assumptions'!$E$6,EDATE(VLOOKUP($A20,'Recurring Plans'!$A$5:$M$104,5,FALSE),($B20-1)*VLOOKUP($A20,'Recurring Plans'!$A$5:$M$104,6,FALSE)),""))),"")) | G20: =IF($E20="","",IF($F20<>"",$F20,$E20)) | H20: =IF($E20="","",IFERROR(VLOOKUP($A20,'Recurring Plans'!$A$5:$M$104,9,FALSE),"")) | J20: =IF($E20="","",IF($I20<>"",$I20,IFERROR(VLOOKUP($A20,'Recurring Plans'!$A$5:$M$104,10,FALSE),""))) | L20: =IF($G20="","",IF($K20<>"",$K20,'Assumptions'!$E$14)) | N20: =IF($G20="","",IF(OR($F20<>"",$I20<>"",$M20<>"",$K20='Assumptions'!$E$16,$K20='Assumptions'!$E$17),"Exception - check",IF(AND($L20='Assumptions'!$E$14,$G20<'Assumptions'!$B$4),"Past date - check","")))
A21: =IFERROR(IF(INDEX('Recurring Plans'!$A$5:$A$104,INT((ROW()-5)/12)+1)="","",INDEX('Recurring Plans'!$A$5:$A$104,INT((ROW()-5)/12)+1)),"") | B21: =IF($A21="","",MOD(ROW()-5,12)+1) | C21: =IF($A21="","",IFERROR(VLOOKUP($A21,'Recurring Plans'!$A$5:$M$104,2,FALSE),"")) | D21: =IF($A21="","",IFERROR(VLOOKUP($A21,'Recurring Plans'!$A$5:$M$104,4,FALSE),"")) | E21: =IF(OR($A21="",$B21>IFERROR(VLOOKUP($A21,'Recurring Plans'!$A$5:$M$104,8,FALSE),0),IFERROR(VLOOKUP($A21,'Recurring Plans'!$A$5:$M$104,11,FALSE),"")<>'Assumptions'!$E$9),"",IFERROR(IF(VLOOKUP($A21,'Recurring Plans'!$A$5:$M$104,7,FALSE)='Assumptions'!$E$4,VLOOKUP($A21,'Recurring Plans'!$A$5:$M$104,5,FALSE)+($B21-1)*VLOOKUP($A21,'Recurring Plans'!$A$5:$M$104,6,FALSE),IF(VLOOKUP($A21,'Recurring Plans'!$A$5:$M$104,7,FALSE)='Assumptions'!$E$5,VLOOKUP($A21,'Recurring Plans'!$A$5:$M$104,5,FALSE)+($B21-1)*VLOOKUP($A21,'Recurring Plans'!$A$5:$M$104,6,FALSE)*7,IF(VLOOKUP($A21,'Recurring Plans'!$A$5:$M$104,7,FALSE)='Assumptions'!$E$6,EDATE(VLOOKUP($A21,'Recurring Plans'!$A$5:$M$104,5,FALSE),($B21-1)*VLOOKUP($A21,'Recurring Plans'!$A$5:$M$104,6,FALSE)),""))),"")) | G21: =IF($E21="","",IF($F21<>"",$F21,$E21)) | H21: =IF($E21="","",IFERROR(VLOOKUP($A21,'Recurring Plans'!$A$5:$M$104,9,FALSE),"")) | J21: =IF($E21="","",IF($I21<>"",$I21,IFERROR(VLOOKUP($A21,'Recurring Plans'!$A$5:$M$104,10,FALSE),""))) | L21: =IF($G21="","",IF($K21<>"",$K21,'Assumptions'!$E$14)) | N21: =IF($G21="","",IF(OR($F21<>"",$I21<>"",$M21<>"",$K21='Assumptions'!$E$16,$K21='Assumptions'!$E$17),"Exception - check",IF(AND($L21='Assumptions'!$E$14,$G21<'Assumptions'!$B$4),"Past date - check","")))
A22: =IFERROR(IF(INDEX('Recurring Plans'!$A$5:$A$104,INT((ROW()-5)/12)+1)="","",INDEX('Recurring Plans'!$A$5:$A$104,INT((ROW()-5)/12)+1)),"") | B22: =IF($A22="","",MOD(ROW()-5,12)+1) | C22: =IF($A22="","",IFERROR(VLOOKUP($A22,'Recurring Plans'!$A$5:$M$104,2,FALSE),"")) | D22: =IF($A22="","",IFERROR(VLOOKUP($A22,'Recurring Plans'!$A$5:$M$104,4,FALSE),"")) | E22: =IF(OR($A22="",$B22>IFERROR(VLOOKUP($A22,'Recurring Plans'!$A$5:$M$104,8,FALSE),0),IFERROR(VLOOKUP($A22,'Recurring Plans'!$A$5:$M$104,11,FALSE),"")<>'Assumptions'!$E$9),"",IFERROR(IF(VLOOKUP($A22,'Recurring Plans'!$A$5:$M$104,7,FALSE)='Assumptions'!$E$4,VLOOKUP($A22,'Recurring Plans'!$A$5:$M$104,5,FALSE)+($B22-1)*VLOOKUP($A22,'Recurring Plans'!$A$5:$M$104,6,FALSE),IF(VLOOKUP($A22,'Recurring Plans'!$A$5:$M$104,7,FALSE)='Assumptions'!$E$5,VLOOKUP($A22,'Recurring Plans'!$A$5:$M$104,5,FALSE)+($B22-1)*VLOOKUP($A22,'Recurring Plans'!$A$5:$M$104,6,FALSE)*7,IF(VLOOKUP($A22,'Recurring Plans'!$A$5:$M$104,7,FALSE)='Assumptions'!$E$6,EDATE(VLOOKUP($A22,'Recurring Plans'!$A$5:$M$104,5,FALSE),($B22-1)*VLOOKUP($A22,'Recurring Plans'!$A$5:$M$104,6,FALSE)),""))),"")) | G22: =IF($E22="","",IF($F22<>"",$F22,$E22)) | H22: =IF($E22="","",IFERROR(VLOOKUP($A22,'Recurring Plans'!$A$5:$M$104,9,FALSE),"")) | J22: =IF($E22="","",IF($I22<>"",$I22,IFERROR(VLOOKUP($A22,'Recurring Plans'!$A$5:$M$104,10,FALSE),""))) | L22: =IF($G22="","",IF($K22<>"",$K22,'Assumptions'!$E$14)) | N22: =IF($G22="","",IF(OR($F22<>"",$I22<>"",$M22<>"",$K22='Assumptions'!$E$16,$K22='Assumptions'!$E$17),"Exception - check",IF(AND($L22='Assumptions'!$E$14,$G22<'Assumptions'!$B$4),"Past date - check","")))
A23: =IFERROR(IF(INDEX('Recurring Plans'!$A$5:$A$104,INT((ROW()-5)/12)+1)="","",INDEX('Recurring Plans'!$A$5:$A$104,INT((ROW()-5)/12)+1)),"") | B23: =IF($A23="","",MOD(ROW()-5,12)+1) | C23: =IF($A23="","",IFERROR(VLOOKUP($A23,'Recurring Plans'!$A$5:$M$104,2,FALSE),"")) | D23: =IF($A23="","",IFERROR(VLOOKUP($A23,'Recurring Plans'!$A$5:$M$104,4,FALSE),"")) | E23: =IF(OR($A23="",$B23>IFERROR(VLOOKUP($A23,'Recurring Plans'!$A$5:$M$104,8,FALSE),0),IFERROR(VLOOKUP($A23,'Recurring Plans'!$A$5:$M$104,11,FALSE),"")<>'Assumptions'!$E$9),"",IFERROR(IF(VLOOKUP($A23,'Recurring Plans'!$A$5:$M$104,7,FALSE)='Assumptions'!$E$4,VLOOKUP($A23,'Recurring Plans'!$A$5:$M$104,5,FALSE)+($B23-1)*VLOOKUP($A23,'Recurring Plans'!$A$5:$M$104,6,FALSE),IF(VLOOKUP($A23,'Recurring Plans'!$A$5:$M$104,7,FALSE)='Assumptions'!$E$5,VLOOKUP($A23,'Recurring Plans'!$A$5:$M$104,5,FALSE)+($B23-1)*VLOOKUP($A23,'Recurring Plans'!$A$5:$M$104,6,FALSE)*7,IF(VLOOKUP($A23,'Recurring Plans'!$A$5:$M$104,7,FALSE)='Assumptions'!$E$6,EDATE(VLOOKUP($A23,'Recurring Plans'!$A$5:$M$104,5,FALSE),($B23-1)*VLOOKUP($A23,'Recurring Plans'!$A$5:$M$104,6,FALSE)),""))),"")) | G23: =IF($E23="","",IF($F23<>"",$F23,$E23)) | H23: =IF($E23="","",IFERROR(VLOOKUP($A23,'Recurring Plans'!$A$5:$M$104,9,FALSE),"")) | J23: =IF($E23="","",IF($I23<>"",$I23,IFERROR(VLOOKUP($A23,'Recurring Plans'!$A$5:$M$104,10,FALSE),""))) | L23: =IF($G23="","",IF($K23<>"",$K23,'Assumptions'!$E$14)) | N23: =IF($G23="","",IF(OR($F23<>"",$I23<>"",$M23<>"",$K23='Assumptions'!$E$16,$K23='Assumptions'!$E$17),"Exception - check",IF(AND($L23='Assumptions'!$E$14,$G23<'Assumptions'!$B$4),"Past date - check","")))
A24: =IFERROR(IF(INDEX('Recurring Plans'!$A$5:$A$104,INT((ROW()-5)/12)+1)="","",INDEX('Recurring Plans'!$A$5:$A$104,INT((ROW()-5)/12)+1)),"") | B24: =IF($A24="","",MOD(ROW()-5,12)+1) | C24: =IF($A24="","",IFERROR(VLOOKUP($A24,'Recurring Plans'!$A$5:$M$104,2,FALSE),"")) | D24: =IF($A24="","",IFERROR(VLOOKUP($A24,'Recurring Plans'!$A$5:$M$104,4,FALSE),"")) | E24: =IF(OR($A24="",$B24>IFERROR(VLOOKUP($A24,'Recurring Plans'!$A$5:$M$104,8,FALSE),0),IFERROR(VLOOKUP($A24,'Recurring Plans'!$A$5:$M$104,11,FALSE),"")<>'Assumptions'!$E$9),"",IFERROR(IF(VLOOKUP($A24,'Recurring Plans'!$A$5:$M$104,7,FALSE)='Assumptions'!$E$4,VLOOKUP($A24,'Recurring Plans'!$A$5:$M$104,5,FALSE)+($B24-1)*VLOOKUP($A24,'Recurring Plans'!$A$5:$M$104,6,FALSE),IF(VLOOKUP($A24,'Recurring Plans'!$A$5:$M$104,7,FALSE)='Assumptions'!$E$5,VLOOKUP($A24,'Recurring Plans'!$A$5:$M$104,5,FALSE)+($B24-1)*VLOOKUP($A24,'Recurring Plans'!$A$5:$M$104,6,FALSE)*7,IF(VLOOKUP($A24,'Recurring Plans'!$A$5:$M$104,7,FALSE)='Assumptions'!$E$6,EDATE(VLOOKUP($A24,'Recurring Plans'!$A$5:$M$104,5,FALSE),($B24-1)*VLOOKUP($A24,'Recurring Plans'!$A$5:$M$104,6,FALSE)),""))),"")) | G24: =IF($E24="","",IF($F24<>"",$F24,$E24)) | H24: =IF($E24="","",IFERROR(VLOOKUP($A24,'Recurring Plans'!$A$5:$M$104,9,FALSE),"")) | J24: =IF($E24="","",IF($I24<>"",$I24,IFERROR(VLOOKUP($A24,'Recurring Plans'!$A$5:$M$104,10,FALSE),""))) | L24: =IF($G24="","",IF($K24<>"",$K24,'Assumptions'!$E$14)) | N24: =IF($G24="","",IF(OR($F24<>"",$I24<>"",$M24<>"",$K24='Assumptions'!$E$16,$K24='Assumptions'!$E$17),"Exception - check",IF(AND($L24='Assumptions'!$E$14,$G24<'Assumptions'!$B$4),"Past date - check","")))
A25: =IFERROR(IF(INDEX('Recurring Plans'!$A$5:$A$104,INT((ROW()-5)/12)+1)="","",INDEX('Recurring Plans'!$A$5:$A$104,INT((ROW()-5)/12)+1)),"") | B25: =IF($A25="","",MOD(ROW()-5,12)+1) | C25: =IF($A25="","",IFERROR(VLOOKUP($A25,'Recurring Plans'!$A$5:$M$104,2,FALSE),"")) | D25: =IF($A25="","",IFERROR(VLOOKUP($A25,'Recurring Plans'!$A$5:$M$104,4,FALSE),"")) | E25: =IF(OR($A25="",$B25>IFERROR(VLOOKUP($A25,'Recurring Plans'!$A$5:$M$104,8,FALSE),0),IFERROR(VLOOKUP($A25,'Recurring Plans'!$A$5:$M$104,11,FALSE),"")<>'Assumptions'!$E$9),"",IFERROR(IF(VLOOKUP($A25,'Recurring Plans'!$A$5:$M$104,7,FALSE)='Assumptions'!$E$4,VLOOKUP($A25,'Recurring Plans'!$A$5:$M$104,5,FALSE)+($B25-1)*VLOOKUP($A25,'Recurring Plans'!$A$5:$M$104,6,FALSE),IF(VLOOKUP($A25,'Recurring Plans'!$A$5:$M$104,7,FALSE)='Assumptions'!$E$5,VLOOKUP($A25,'Recurring Plans'!$A$5:$M$104,5,FALSE)+($B25-1)*VLOOKUP($A25,'Recurring Plans'!$A$5:$M$104,6,FALSE)*7,IF(VLOOKUP($A25,'Recurring Plans'!$A$5:$M$104,7,FALSE)='Assumptions'!$E$6,EDATE(VLOOKUP($A25,'Recurring Plans'!$A$5:$M$104,5,FALSE),($B25-1)*VLOOKUP($A25,'Recurring Plans'!$A$5:$M$104,6,FALSE)),""))),"")) | G25: =IF($E25="","",IF($F25<>"",$F25,$E25)) | H25: =IF($E25="","",IFERROR(VLOOKUP($A25,'Recurring Plans'!$A$5:$M$104,9,FALSE),"")) | J25: =IF($E25="","",IF($I25<>"",$I25,IFERROR(VLOOKUP($A25,'Recurring Plans'!$A$5:$M$104,10,FALSE),""))) | L25: =IF($G25="","",IF($K25<>"",$K25,'Assumptions'!$E$14)) | N25: =IF($G25="","",IF(OR($F25<>"",$I25<>"",$M25<>"",$K25='Assumptions'!$E$16,$K25='Assumptions'!$E$17),"Exception - check",IF(AND($L25='Assumptions'!$E$14,$G25<'Assumptions'!$B$4),"Past date - check","")))
A26: =IFERROR(IF(INDEX('Recurring Plans'!$A$5:$A$104,INT((ROW()-5)/12)+1)="","",INDEX('Recurring Plans'!$A$5:$A$104,INT((ROW()-5)/12)+1)),"") | B26: =IF($A26="","",MOD(ROW()-5,12)+1) | C26: =IF($A26="","",IFERROR(VLOOKUP($A26,'Recurring Plans'!$A$5:$M$104,2,FALSE),"")) | D26: =IF($A26="","",IFERROR(VLOOKUP($A26,'Recurring Plans'!$A$5:$M$104,4,FALSE),"")) | E26: =IF(OR($A26="",$B26>IFERROR(VLOOKUP($A26,'Recurring Plans'!$A$5:$M$104,8,FALSE),0),IFERROR(VLOOKUP($A26,'Recurring Plans'!$A$5:$M$104,11,FALSE),"")<>'Assumptions'!$E$9),"",IFERROR(IF(VLOOKUP($A26,'Recurring Plans'!$A$5:$M$104,7,FALSE)='Assumptions'!$E$4,VLOOKUP($A26,'Recurring Plans'!$A$5:$M$104,5,FALSE)+($B26-1)*VLOOKUP($A26,'Recurring Plans'!$A$5:$M$104,6,FALSE),IF(VLOOKUP($A26,'Recurring Plans'!$A$5:$M$104,7,FALSE)='Assumptions'!$E$5,VLOOKUP($A26,'Recurring Plans'!$A$5:$M$104,5,FALSE)+($B26-1)*VLOOKUP($A26,'Recurring Plans'!$A$5:$M$104,6,FALSE)*7,IF(VLOOKUP($A26,'Recurring Plans'!$A$5:$M$104,7,FALSE)='Assumptions'!$E$6,EDATE(VLOOKUP($A26,'Recurring Plans'!$A$5:$M$104,5,FALSE),($B26-1)*VLOOKUP($A26,'Recurring Plans'!$A$5:$M$104,6,FALSE)),""))),"")) | G26: =IF($E26="","",IF($F26<>"",$F26,$E26)) | H26: =IF($E26="","",IFERROR(VLOOKUP($A26,'Recurring Plans'!$A$5:$M$104,9,FALSE),"")) | J26: =IF($E26="","",IF($I26<>"",$I26,IFERROR(VLOOKUP($A26,'Recurring Plans'!$A$5:$M$104,10,FALSE),""))) | L26: =IF($G26="","",IF($K26<>"",$K26,'Assumptions'!$E$14)) | N26: =IF($G26="","",IF(OR($F26<>"",$I26<>"",$M26<>"",$K26='Assumptions'!$E$16,$K26='Assumptions'!$E$17),"Exception - check",IF(AND($L26='Assumptions'!$E$14,$G26<'Assumptions'!$B$4),"Past date - check","")))
A27: =IFERROR(IF(INDEX('Recurring Plans'!$A$5:$A$104,INT((ROW()-5)/12)+1)="","",INDEX('Recurring Plans'!$A$5:$A$104,INT((ROW()-5)/12)+1)),"") | B27: =IF($A27="","",MOD(ROW()-5,12)+1) | C27: =IF($A27="","",IFERROR(VLOOKUP($A27,'Recurring Plans'!$A$5:$M$104,2,FALSE),"")) | D27: =IF($A27="","",IFERROR(VLOOKUP($A27,'Recurring Plans'!$A$5:$M$104,4,FALSE),"")) | E27: =IF(OR($A27="",$B27>IFERROR(VLOOKUP($A27,'Recurring Plans'!$A$5:$M$104,8,FALSE),0),IFERROR(VLOOKUP($A27,'Recurring Plans'!$A$5:$M$104,11,FALSE),"")<>'Assumptions'!$E$9),"",IFERROR(IF(VLOOKUP($A27,'Recurring Plans'!$A$5:$M$104,7,FALSE)='Assumptions'!$E$4,VLOOKUP($A27,'Recurring Plans'!$A$5:$M$104,5,FALSE)+($B27-1)*VLOOKUP($A27,'Recurring Plans'!$A$5:$M$104,6,FALSE),IF(VLOOKUP($A27,'Recurring Plans'!$A$5:$M$104,7,FALSE)='Assumptions'!$E$5,VLOOKUP($A27,'Recurring Plans'!$A$5:$M$104,5,FALSE)+($B27-1)*VLOOKUP($A27,'Recurring Plans'!$A$5:$M$104,6,FALSE)*7,IF(VLOOKUP($A27,'Recurring Plans'!$A$5:$M$104,7,FALSE)='Assumptions'!$E$6,EDATE(VLOOKUP($A27,'Recurring Plans'!$A$5:$M$104,5,FALSE),($B27-1)*VLOOKUP($A27,'Recurring Plans'!$A$5:$M$104,6,FALSE)),""))),"")) | G27: =IF($E27="","",IF($F27<>"",$F27,$E27)) | H27: =IF($E27="","",IFERROR(VLOOKUP($A27,'Recurring Plans'!$A$5:$M$104,9,FALSE),"")) | J27: =IF($E27="","",IF($I27<>"",$I27,IFERROR(VLOOKUP($A27,'Recurring Plans'!$A$5:$M$104,10,FALSE),""))) | L27: =IF($G27="","",IF($K27<>"",$K27,'Assumptions'!$E$14)) | N27: =IF($G27="","",IF(OR($F27<>"",$I27<>"",$M27<>"",$K27='Assumptions'!$E$16,$K27='Assumptions'!$E$17),"Exception - check",IF(AND($L27='Assumptions'!$E$14,$G27<'Assumptions'!$B$4),"Past date - check","")))
A28: =IFERROR(IF(INDEX('Recurring Plans'!$A$5:$A$104,INT((ROW()-5)/12)+1)="","",INDEX('Recurring Plans'!$A$5:$A$104,INT((ROW()-5)/12)+1)),"") | B28: =IF($A28="","",MOD(ROW()-5,12)+1) | C28: =IF($A28="","",IFERROR(VLOOKUP($A28,'Recurring Plans'!$A$5:$M$104,2,FALSE),"")) | D28: =IF($A28="","",IFERROR(VLOOKUP($A28,'Recurring Plans'!$A$5:$M$104,4,FALSE),"")) | E28: =IF(OR($A28="",$B28>IFERROR(VLOOKUP($A28,'Recurring Plans'!$A$5:$M$104,8,FALSE),0),IFERROR(VLOOKUP($A28,'Recurring Plans'!$A$5:$M$104,11,FALSE),"")<>'Assumptions'!$E$9),"",IFERROR(IF(VLOOKUP($A28,'Recurring Plans'!$A$5:$M$104,7,FALSE)='Assumptions'!$E$4,VLOOKUP($A28,'Recurring Plans'!$A$5:$M$104,5,FALSE)+($B28-1)*VLOOKUP($A28,'Recurring Plans'!$A$5:$M$104,6,FALSE),IF(VLOOKUP($A28,'Recurring Plans'!$A$5:$M$104,7,FALSE)='Assumptions'!$E$5,VLOOKUP($A28,'Recurring Plans'!$A$5:$M$104,5,FALSE)+($B28-1)*VLOOKUP($A28,'Recurring Plans'!$A$5:$M$104,6,FALSE)*7,IF(VLOOKUP($A28,'Recurring Plans'!$A$5:$M$104,7,FALSE)='Assumptions'!$E$6,EDATE(VLOOKUP($A28,'Recurring Plans'!$A$5:$M$104,5,FALSE),($B28-1)*VLOOKUP($A28,'Recurring Plans'!$A$5:$M$104,6,FALSE)),""))),"")) | G28: =IF($E28="","",IF($F28<>"",$F28,$E28)) | H28: =IF($E28="","",IFERROR(VLOOKUP($A28,'Recurring Plans'!$A$5:$M$104,9,FALSE),"")) | J28: =IF($E28="","",IF($I28<>"",$I28,IFERROR(VLOOKUP($A28,'Recurring Plans'!$A$5:$M$104,10,FALSE),""))) | L28: =IF($G28="","",IF($K28<>"",$K28,'Assumptions'!$E$14)) | N28: =IF($G28="","",IF(OR($F28<>"",$I28<>"",$M28<>"",$K28='Assumptions'!$E$16,$K28='Assumptions'!$E$17),"Exception - check",IF(AND($L28='Assumptions'!$E$14,$G28<'Assumptions'!$B$4),"Past date - check","")))
A29: =IFERROR(IF(INDEX('Recurring Plans'!$A$5:$A$104,INT((ROW()-5)/12)+1)="","",INDEX('Recurring Plans'!$A$5:$A$104,INT((ROW()-5)/12)+1)),"") | B29: =IF($A29="","",MOD(ROW()-5,12)+1) | C29: =IF($A29="","",IFERROR(VLOOKUP($A29,'Recurring Plans'!$A$5:$M$104,2,FALSE),"")) | D29: =IF($A29="","",IFERROR(VLOOKUP($A29,'Recurring Plans'!$A$5:$M$104,4,FALSE),"")) | E29: =IF(OR($A29="",$B29>IFERROR(VLOOKUP($A29,'Recurring Plans'!$A$5:$M$104,8,FALSE),0),IFERROR(VLOOKUP($A29,'Recurring Plans'!$A$5:$M$104,11,FALSE),"")<>'Assumptions'!$E$9),"",IFERROR(IF(VLOOKUP($A29,'Recurring Plans'!$A$5:$M$104,7,FALSE)='Assumptions'!$E$4,VLOOKUP($A29,'Recurring Plans'!$A$5:$M$104,5,FALSE)+($B29-1)*VLOOKUP($A29,'Recurring Plans'!$A$5:$M$104,6,FALSE),IF(VLOOKUP($A29,'Recurring Plans'!$A$5:$M$104,7,FALSE)='Assumptions'!$E$5,VLOOKUP($A29,'Recurring Plans'!$A$5:$M$104,5,FALSE)+($B29-1)*VLOOKUP($A29,'Recurring Plans'!$A$5:$M$104,6,FALSE)*7,IF(VLOOKUP($A29,'Recurring Plans'!$A$5:$M$104,7,FALSE)='Assumptions'!$E$6,EDATE(VLOOKUP($A29,'Recurring Plans'!$A$5:$M$104,5,FALSE),($B29-1)*VLOOKUP($A29,'Recurring Plans'!$A$5:$M$104,6,FALSE)),""))),"")) | G29: =IF($E29="","",IF($F29<>"",$F29,$E29)) | H29: =IF($E29="","",IFERROR(VLOOKUP($A29,'Recurring Plans'!$A$5:$M$104,9,FALSE),"")) | J29: =IF($E29="","",IF($I29<>"",$I29,IFERROR(VLOOKUP($A29,'Recurring Plans'!$A$5:$M$104,10,FALSE),""))) | K29: Completed | L29: =IF($G29="","",IF($K29<>"",$K29,'Assumptions'!$E$14)) | N29: =IF($G29="","",IF(OR($F29<>"",$I29<>"",$M29<>"",$K29='Assumptions'!$E$16,$K29='Assumptions'!$E$17),"Exception - check",IF(AND($L29='Assumptions'!$E$14,$G29<'Assumptions'!$B$4),"Past date - check","")))
A30: =IFERROR(IF(INDEX('Recurring Plans'!$A$5:$A$104,INT((ROW()-5)/12)+1)="","",INDEX('Recurring Plans'!$A$5:$A$104,INT((ROW()-5)/12)+1)),"") | B30: =IF($A30="","",MOD(ROW()-5,12)+1) | C30: =IF($A30="","",IFERROR(VLOOKUP($A30,'Recurring Plans'!$A$5:$M$104,2,FALSE),"")) | D30: =IF($A30="","",IFERROR(VLOOKUP($A30,'Recurring Plans'!$A$5:$M$104,4,FALSE),"")) | E30: =IF(OR($A30="",$B30>IFERROR(VLOOKUP($A30,'Recurring Plans'!$A$5:$M$104,8,FALSE),0),IFERROR(VLOOKUP($A30,'Recurring Plans'!$A$5:$M$104,11,FALSE),"")<>'Assumptions'!$E$9),"",IFERROR(IF(VLOOKUP($A30,'Recurring Plans'!$A$5:$M$104,7,FALSE)='Assumptions'!$E$4,VLOOKUP($A30,'Recurring Plans'!$A$5:$M$104,5,FALSE)+($B30-1)*VLOOKUP($A30,'Recurring Plans'!$A$5:$M$104,6,FALSE),IF(VLOOKUP($A30,'Recurring Plans'!$A$5:$M$104,7,FALSE)='Assumptions'!$E$5,VLOOKUP($A30,'Recurring Plans'!$A$5:$M$104,5,FALSE)+($B30-1)*VLOOKUP($A30,'Recurring Plans'!$A$5:$M$104,6,FALSE)*7,IF(VLOOKUP($A30,'Recurring Plans'!$A$5:$M$104,7,FALSE)='Assumptions'!$E$6,EDATE(VLOOKUP($A30,'Recurring Plans'!$A$5:$M$104,5,FALSE),($B30-1)*VLOOKUP($A30,'Recurring Plans'!$A$5:$M$104,6,FALSE)),""))),"")) | G30: =IF($E30="","",IF($F30<>"",$F30,$E30)) | H30: =IF($E30="","",IFERROR(VLOOKUP($A30,'Recurring Plans'!$A$5:$M$104,9,FALSE),"")) | J30: =IF($E30="","",IF($I30<>"",$I30,IFERROR(VLOOKUP($A30,'Recurring Plans'!$A$5:$M$104,10,FALSE),""))) | K30: Needs Review | L30: =IF($G30="","",IF($K30<>"",$K30,'Assumptions'!$E$14)) | M30: Confirm timing with the owner. | N30: =IF($G30="","",IF(OR($F30<>"",$I30<>"",$M30<>"",$K30='Assumptions'!$E$16,$K30='Assumptions'!$E$17),"Exception - check",IF(AND($L30='Assumptions'!$E$14,$G30<'Assumptions'!$B$4),"Past date - check","")))
A31: =IFERROR(IF(INDEX('Recurring Plans'!$A$5:$A$104,INT((ROW()-5)/12)+1)="","",INDEX('Recurring Plans'!$A$5:$A$104,INT((ROW()-5)/12)+1)),"") | B31: =IF($A31="","",MOD(ROW()-5,12)+1) | C31: =IF($A31="","",IFERROR(VLOOKUP($A31,'Recurring Plans'!$A$5:$M$104,2,FALSE),"")) | D31: =IF($A31="","",IFERROR(VLOOKUP($A31,'Recurring Plans'!$A$5:$M$104,4,FALSE),"")) | E31: =IF(OR($A31="",$B31>IFERROR(VLOOKUP($A31,'Recurring Plans'!$A$5:$M$104,8,FALSE),0),IFERROR(VLOOKUP($A31,'Recurring Plans'!$A$5:$M$104,11,FALSE),"")<>'Assumptions'!$E$9),"",IFERROR(IF(VLOOKUP($A31,'Recurring Plans'!$A$5:$M$104,7,FALSE)='Assumptions'!$E$4,VLOOKUP($A31,'Recurring Plans'!$A$5:$M$104,5,FALSE)+($B31-1)*VLOOKUP($A31,'Recurring Plans'!$A$5:$M$104,6,FALSE),IF(VLOOKUP($A31,'Recurring Plans'!$A$5:$M$104,7,FALSE)='Assumptions'!$E$5,VLOOKUP($A31,'Recurring Plans'!$A$5:$M$104,5,FALSE)+($B31-1)*VLOOKUP($A31,'Recurring Plans'!$A$5:$M$104,6,FALSE)*7,IF(VLOOKUP($A31,'Recurring Plans'!$A$5:$M$104,7,FALSE)='Assumptions'!$E$6,EDATE(VLOOKUP($A31,'Recurring Plans'!$A$5:$M$104,5,FALSE),($B31-1)*VLOOKUP($A31,'Recurring Plans'!$A$5:$M$104,6,FALSE)),""))),"")) | G31: =IF($E31="","",IF($F31<>"",$F31,$E31)) | H31: =IF($E31="","",IFERROR(VLOOKUP($A31,'Recurring Plans'!$A$5:$M$104,9,FALSE),"")) | J31: =IF($E31="","",IF($I31<>"",$I31,IFERROR(VLOOKUP($A31,'Recurring Plans'!$A$5:$M$104,10,FALSE),""))) | L31: =IF($G31="","",IF($K31<>"",$K31,'Assumptions'!$E$14)) | N31: =IF($G31="","",IF(OR($F31<>"",$I31<>"",$M31<>"",$K31='Assumptions'!$E$16,$K31='Assumptions'!$E$17),"Exception - check",IF(AND($L31='Assumptions'!$E$14,$G31<'Assumptions'!$B$4),"Past date - check","")))
A32: =IFERROR(IF(INDEX('Recurring Plans'!$A$5:$A$104,INT((ROW()-5)/12)+1)="","",INDEX('Recurring Plans'!$A$5:$A$104,INT((ROW()-5)/12)+1)),"") | B32: =IF($A32="","",MOD(ROW()-5,12)+1) | C32: =IF($A32="","",IFERROR(VLOOKUP($A32,'Recurring Plans'!$A$5:$M$104,2,FALSE),"")) | D32: =IF($A32="","",IFERROR(VLOOKUP($A32,'Recurring Plans'!$A$5:$M$104,4,FALSE),"")) | E32: =IF(OR($A32="",$B32>IFERROR(VLOOKUP($A32,'Recurring Plans'!$A$5:$M$104,8,FALSE),0),IFERROR(VLOOKUP($A32,'Recurring Plans'!$A$5:$M$104,11,FALSE),"")<>'Assumptions'!$E$9),"",IFERROR(IF(VLOOKUP($A32,'Recurring Plans'!$A$5:$M$104,7,FALSE)='Assumptions'!$E$4,VLOOKUP($A32,'Recurring Plans'!$A$5:$M$104,5,FALSE)+($B32-1)*VLOOKUP($A32,'Recurring Plans'!$A$5:$M$104,6,FALSE),IF(VLOOKUP($A32,'Recurring Plans'!$A$5:$M$104,7,FALSE)='Assumptions'!$E$5,VLOOKUP($A32,'Recurring Plans'!$A$5:$M$104,5,FALSE)+($B32-1)*VLOOKUP($A32,'Recurring Plans'!$A$5:$M$104,6,FALSE)*7,IF(VLOOKUP($A32,'Recurring Plans'!$A$5:$M$104,7,FALSE)='Assumptions'!$E$6,EDATE(VLOOKUP($A32,'Recurring Plans'!$A$5:$M$104,5,FALSE),($B32-1)*VLOOKUP($A32,'Recurring Plans'!$A$5:$M$104,6,FALSE)),""))),"")) | G32: =IF($E32="","",IF($F32<>"",$F32,$E32)) | H32: =IF($E32="","",IFERROR(VLOOKUP($A32,'Recurring Plans'!$A$5:$M$104,9,FALSE),"")) | J32: =IF($E32="","",IF($I32<>"",$I32,IFERROR(VLOOKUP($A32,'Recurring Plans'!$A$5:$M$104,10,FALSE),""))) | L32: =IF($G32="","",IF($K32<>"",$K32,'Assumptions'!$E$14)) | N32: =IF($G32="","",IF(OR($F32<>"",$I32<>"",$M32<>"",$K32='Assumptions'!$E$16,$K32='Assumptions'!$E$17),"Exception - check",IF(AND($L32='Assumptions'!$E$14,$G32<'Assumptions'!$B$4),"Past date - check","")))
A33: =IFERROR(IF(INDEX('Recurring Plans'!$A$5:$A$104,INT((ROW()-5)/12)+1)="","",INDEX('Recurring Plans'!$A$5:$A$104,INT((ROW()-5)/12)+1)),"") | B33: =IF($A33="","",MOD(ROW()-5,12)+1) | C33: =IF($A33="","",IFERROR(VLOOKUP($A33,'Recurring Plans'!$A$5:$M$104,2,FALSE),"")) | D33: =IF($A33="","",IFERROR(VLOOKUP($A33,'Recurring Plans'!$A$5:$M$104,4,FALSE),"")) | E33: =IF(OR($A33="",$B33>IFERROR(VLOOKUP($A33,'Recurring Plans'!$A$5:$M$104,8,FALSE),0),IFERROR(VLOOKUP($A33,'Recurring Plans'!$A$5:$M$104,11,FALSE),"")<>'Assumptions'!$E$9),"",IFERROR(IF(VLOOKUP($A33,'Recurring Plans'!$A$5:$M$104,7,FALSE)='Assumptions'!$E$4,VLOOKUP($A33,'Recurring Plans'!$A$5:$M$104,5,FALSE)+($B33-1)*VLOOKUP($A33,'Recurring Plans'!$A$5:$M$104,6,FALSE),IF(VLOOKUP($A33,'Recurring Plans'!$A$5:$M$104,7,FALSE)='Assumptions'!$E$5,VLOOKUP($A33,'Recurring Plans'!$A$5:$M$104,5,FALSE)+($B33-1)*VLOOKUP($A33,'Recurring Plans'!$A$5:$M$104,6,FALSE)*7,IF(VLOOKUP($A33,'Recurring Plans'!$A$5:$M$104,7,FALSE)='Assumptions'!$E$6,EDATE(VLOOKUP($A33,'Recurring Plans'!$A$5:$M$104,5,FALSE),($B33-1)*VLOOKUP($A33,'Recurring Plans'!$A$5:$M$104,6,FALSE)),""))),"")) | G33: =IF($E33="","",IF($F33<>"",$F33,$E33)) | H33: =IF($E33="","",IFERROR(VLOOKUP($A33,'Recurring Plans'!$A$5:$M$104,9,FALSE),"")) | J33: =IF($E33="","",IF($I33<>"",$I33,IFERROR(VLOOKUP($A33,'Recurring Plans'!$A$5:$M$104,10,FALSE),""))) | L33: =IF($G33="","",IF($K33<>"",$K33,'Assumptions'!$E$14)) | N33: =IF($G33="","",IF(OR($F33<>"",$I33<>"",$M33<>"",$K33='Assumptions'!$E$16,$K33='Assumptions'!$E$17),"Exception - check",IF(AND($L33='Assumptions'!$E$14,$G33<'Assumptions'!$B$4),"Past date - check","")))
A34: =IFERROR(IF(INDEX('Recurring Plans'!$A$5:$A$104,INT((ROW()-5)/12)+1)="","",INDEX('Recurring Plans'!$A$5:$A$104,INT((ROW()-5)/12)+1)),"") | B34: =IF($A34="","",MOD(ROW()-5,12)+1) | C34: =IF($A34="","",IFERROR(VLOOKUP($A34,'Recurring Plans'!$A$5:$M$104,2,FALSE),"")) | D34: =IF($A34="","",IFERROR(VLOOKUP($A34,'Recurring Plans'!$A$5:$M$104,4,FALSE),"")) | E34: =IF(OR($A34="",$B34>IFERROR(VLOOKUP($A34,'Recurring Plans'!$A$5:$M$104,8,FALSE),0),IFERROR(VLOOKUP($A34,'Recurring Plans'!$A$5:$M$104,11,FALSE),"")<>'Assumptions'!$E$9),"",IFERROR(IF(VLOOKUP($A34,'Recurring Plans'!$A$5:$M$104,7,FALSE)='Assumptions'!$E$4,VLOOKUP($A34,'Recurring Plans'!$A$5:$M$104,5,FALSE)+($B34-1)*VLOOKUP($A34,'Recurring Plans'!$A$5:$M$104,6,FALSE),IF(VLOOKUP($A34,'Recurring Plans'!$A$5:$M$104,7,FALSE)='Assumptions'!$E$5,VLOOKUP($A34,'Recurring Plans'!$A$5:$M$104,5,FALSE)+($B34-1)*VLOOKUP($A34,'Recurring Plans'!$A$5:$M$104,6,FALSE)*7,IF(VLOOKUP($A34,'Recurring Plans'!$A$5:$M$104,7,FALSE)='Assumptions'!$E$6,EDATE(VLOOKUP($A34,'Recurring Plans'!$A$5:$M$104,5,FALSE),($B34-1)*VLOOKUP($A34,'Recurring Plans'!$A$5:$M$104,6,FALSE)),""))),"")) | G34: =IF($E34="","",IF($F34<>"",$F34,$E34)) | H34: =IF($E34="","",IFERROR(VLOOKUP($A34,'Recurring Plans'!$A$5:$M$104,9,FALSE),"")) | J34: =IF($E34="","",IF($I34<>"",$I34,IFERROR(VLOOKUP($A34,'Recurring Plans'!$A$5:$M$104,10,FALSE),""))) | L34: =IF($G34="","",IF($K34<>"",$K34,'Assumptions'!$E$14)) | N34: =IF($G34="","",IF(OR($F34<>"",$I34<>"",$M34<>"",$K34='Assumptions'!$E$16,$K34='Assumptions'!$E$17),"Exception - check",IF(AND($L34='Assumptions'!$E$14,$G34<'Assumptions'!$B$4),"Past date - check","")))
A35: =IFERROR(IF(INDEX('Recurring Plans'!$A$5:$A$104,INT((ROW()-5)/12)+1)="","",INDEX('Recurring Plans'!$A$5:$A$104,INT((ROW()-5)/12)+1)),"") | B35: =IF($A35="","",MOD(ROW()-5,12)+1) | C35: =IF($A35="","",IFERROR(VLOOKUP($A35,'Recurring Plans'!$A$5:$M$104,2,FALSE),"")) | D35: =IF($A35="","",IFERROR(VLOOKUP($A35,'Recurring Plans'!$A$5:$M$104,4,FALSE),"")) | E35: =IF(OR($A35="",$B35>IFERROR(VLOOKUP($A35,'Recurring Plans'!$A$5:$M$104,8,FALSE),0),IFERROR(VLOOKUP($A35,'Recurring Plans'!$A$5:$M$104,11,FALSE),"")<>'Assumptions'!$E$9),"",IFERROR(IF(VLOOKUP($A35,'Recurring Plans'!$A$5:$M$104,7,FALSE)='Assumptions'!$E$4,VLOOKUP($A35,'Recurring Plans'!$A$5:$M$104,5,FALSE)+($B35-1)*VLOOKUP($A35,'Recurring Plans'!$A$5:$M$104,6,FALSE),IF(VLOOKUP($A35,'Recurring Plans'!$A$5:$M$104,7,FALSE)='Assumptions'!$E$5,VLOOKUP($A35,'Recurring Plans'!$A$5:$M$104,5,FALSE)+($B35-1)*VLOOKUP($A35,'Recurring Plans'!$A$5:$M$104,6,FALSE)*7,IF(VLOOKUP($A35,'Recurring Plans'!$A$5:$M$104,7,FALSE)='Assumptions'!$E$6,EDATE(VLOOKUP($A35,'Recurring Plans'!$A$5:$M$104,5,FALSE),($B35-1)*VLOOKUP($A35,'Recurring Plans'!$A$5:$M$104,6,FALSE)),""))),"")) | G35: =IF($E35="","",IF($F35<>"",$F35,$E35)) | H35: =IF($E35="","",IFERROR(VLOOKUP($A35,'Recurring Plans'!$A$5:$M$104,9,FALSE),"")) | J35: =IF($E35="","",IF($I35<>"",$I35,IFERROR(VLOOKUP($A35,'Recurring Plans'!$A$5:$M$104,10,FALSE),""))) | L35: =IF($G35="","",IF($K35<>"",$K35,'Assumptions'!$E$14)) | N35: =IF($G35="","",IF(OR($F35<>"",$I35<>"",$M35<>"",$K35='Assumptions'!$E$16,$K35='Assumptions'!$E$17),"Exception - check",IF(AND($L35='Assumptions'!$E$14,$G35<'Assumptions'!$B$4),"Past date - check","")))
A36: =IFERROR(IF(INDEX('Recurring Plans'!$A$5:$A$104,INT((ROW()-5)/12)+1)="","",INDEX('Recurring Plans'!$A$5:$A$104,INT((ROW()-5)/12)+1)),"") | B36: =IF($A36="","",MOD(ROW()-5,12)+1) | C36: =IF($A36="","",IFERROR(VLOOKUP($A36,'Recurring Plans'!$A$5:$M$104,2,FALSE),"")) | D36: =IF($A36="","",IFERROR(VLOOKUP($A36,'Recurring Plans'!$A$5:$M$104,4,FALSE),"")) | E36: =IF(OR($A36="",$B36>IFERROR(VLOOKUP($A36,'Recurring Plans'!$A$5:$M$104,8,FALSE),0),IFERROR(VLOOKUP($A36,'Recurring Plans'!$A$5:$M$104,11,FALSE),"")<>'Assumptions'!$E$9),"",IFERROR(IF(VLOOKUP($A36,'Recurring Plans'!$A$5:$M$104,7,FALSE)='Assumptions'!$E$4,VLOOKUP($A36,'Recurring Plans'!$A$5:$M$104,5,FALSE)+($B36-1)*VLOOKUP($A36,'Recurring Plans'!$A$5:$M$104,6,FALSE),IF(VLOOKUP($A36,'Recurring Plans'!$A$5:$M$104,7,FALSE)='Assumptions'!$E$5,VLOOKUP($A36,'Recurring Plans'!$A$5:$M$104,5,FALSE)+($B36-1)*VLOOKUP($A36,'Recurring Plans'!$A$5:$M$104,6,FALSE)*7,IF(VLOOKUP($A36,'Recurring Plans'!$A$5:$M$104,7,FALSE)='Assumptions'!$E$6,EDATE(VLOOKUP($A36,'Recurring Plans'!$A$5:$M$104,5,FALSE),($B36-1)*VLOOKUP($A36,'Recurring Plans'!$A$5:$M$104,6,FALSE)),""))),"")) | G36: =IF($E36="","",IF($F36<>"",$F36,$E36)) | H36: =IF($E36="","",IFERROR(VLOOKUP($A36,'Recurring Plans'!$A$5:$M$104,9,FALSE),"")) | J36: =IF($E36="","",IF($I36<>"",$I36,IFERROR(VLOOKUP($A36,'Recurring Plans'!$A$5:$M$104,10,FALSE),""))) | L36: =IF($G36="","",IF($K36<>"",$K36,'Assumptions'!$E$14)) | N36: =IF($G36="","",IF(OR($F36<>"",$I36<>"",$M36<>"",$K36='Assumptions'!$E$16,$K36='Assumptions'!$E$17),"Exception - check",IF(AND($L36='Assumptions'!$E$14,$G36<'Assumptions'!$B$4),"Past date - check","")))
A37: =IFERROR(IF(INDEX('Recurring Plans'!$A$5:$A$104,INT((ROW()-5)/12)+1)="","",INDEX('Recurring Plans'!$A$5:$A$104,INT((ROW()-5)/12)+1)),"") | B37: =IF($A37="","",MOD(ROW()-5,12)+1) | C37: =IF($A37="","",IFERROR(VLOOKUP($A37,'Recurring Plans'!$A$5:$M$104,2,FALSE),"")) | D37: =IF($A37="","",IFERROR(VLOOKUP($A37,'Recurring Plans'!$A$5:$M$104,4,FALSE),"")) | E37: =IF(OR($A37="",$B37>IFERROR(VLOOKUP($A37,'Recurring Plans'!$A$5:$M$104,8,FALSE),0),IFERROR(VLOOKUP($A37,'Recurring Plans'!$A$5:$M$104,11,FALSE),"")<>'Assumptions'!$E$9),"",IFERROR(IF(VLOOKUP($A37,'Recurring Plans'!$A$5:$M$104,7,FALSE)='Assumptions'!$E$4,VLOOKUP($A37,'Recurring Plans'!$A$5:$M$104,5,FALSE)+($B37-1)*VLOOKUP($A37,'Recurring Plans'!$A$5:$M$104,6,FALSE),IF(VLOOKUP($A37,'Recurring Plans'!$A$5:$M$104,7,FALSE)='Assumptions'!$E$5,VLOOKUP($A37,'Recurring Plans'!$A$5:$M$104,5,FALSE)+($B37-1)*VLOOKUP($A37,'Recurring Plans'!$A$5:$M$104,6,FALSE)*7,IF(VLOOKUP($A37,'Recurring Plans'!$A$5:$M$104,7,FALSE)='Assumptions'!$E$6,EDATE(VLOOKUP($A37,'Recurring Plans'!$A$5:$M$104,5,FALSE),($B37-1)*VLOOKUP($A37,'Recurring Plans'!$A$5:$M$104,6,FALSE)),""))),"")) | G37: =IF($E37="","",IF($F37<>"",$F37,$E37)) | H37: =IF($E37="","",IFERROR(VLOOKUP($A37,'Recurring Plans'!$A$5:$M$104,9,FALSE),"")) | J37: =IF($E37="","",IF($I37<>"",$I37,IFERROR(VLOOKUP($A37,'Recurring Plans'!$A$5:$M$104,10,FALSE),""))) | L37: =IF($G37="","",IF($K37<>"",$K37,'Assumptions'!$E$14)) | N37: =IF($G37="","",IF(OR($F37<>"",$I37<>"",$M37<>"",$K37='Assumptions'!$E$16,$K37='Assumptions'!$E$17),"Exception - check",IF(AND($L37='Assumptions'!$E$14,$G37<'Assumptions'!$B$4),"Past date - check","")))
A38: =IFERROR(IF(INDEX('Recurring Plans'!$A$5:$A$104,INT((ROW()-5)/12)+1)="","",INDEX('Recurring Plans'!$A$5:$A$104,INT((ROW()-5)/12)+1)),"") | B38: =IF($A38="","",MOD(ROW()-5,12)+1) | C38: =IF($A38="","",IFERROR(VLOOKUP($A38,'Recurring Plans'!$A$5:$M$104,2,FALSE),"")) | D38: =IF($A38="","",IFERROR(VLOOKUP($A38,'Recurring Plans'!$A$5:$M$104,4,FALSE),"")) | E38: =IF(OR($A38="",$B38>IFERROR(VLOOKUP($A38,'Recurring Plans'!$A$5:$M$104,8,FALSE),0),IFERROR(VLOOKUP($A38,'Recurring Plans'!$A$5:$M$104,11,FALSE),"")<>'Assumptions'!$E$9),"",IFERROR(IF(VLOOKUP($A38,'Recurring Plans'!$A$5:$M$104,7,FALSE)='Assumptions'!$E$4,VLOOKUP($A38,'Recurring Plans'!$A$5:$M$104,5,FALSE)+($B38-1)*VLOOKUP($A38,'Recurring Plans'!$A$5:$M$104,6,FALSE),IF(VLOOKUP($A38,'Recurring Plans'!$A$5:$M$104,7,FALSE)='Assumptions'!$E$5,VLOOKUP($A38,'Recurring Plans'!$A$5:$M$104,5,FALSE)+($B38-1)*VLOOKUP($A38,'Recurring Plans'!$A$5:$M$104,6,FALSE)*7,IF(VLOOKUP($A38,'Recurring Plans'!$A$5:$M$104,7,FALSE)='Assumptions'!$E$6,EDATE(VLOOKUP($A38,'Recurring Plans'!$A$5:$M$104,5,FALSE),($B38-1)*VLOOKUP($A38,'Recurring Plans'!$A$5:$M$104,6,FALSE)),""))),"")) | G38: =IF($E38="","",IF($F38<>"",$F38,$E38)) | H38: =IF($E38="","",IFERROR(VLOOKUP($A38,'Recurring Plans'!$A$5:$M$104,9,FALSE),"")) | J38: =IF($E38="","",IF($I38<>"",$I38,IFERROR(VLOOKUP($A38,'Recurring Plans'!$A$5:$M$104,10,FALSE),""))) | L38: =IF($G38="","",IF($K38<>"",$K38,'Assumptions'!$E$14)) | N38: =IF($G38="","",IF(OR($F38<>"",$I38<>"",$M38<>"",$K38='Assumptions'!$E$16,$K38='Assumptions'!$E$17),"Exception - check",IF(AND($L38='Assumptions'!$E$14,$G38<'Assumptions'!$B$4),"Past date - check","")))
A39: =IFERROR(IF(INDEX('Recurring Plans'!$A$5:$A$104,INT((ROW()-5)/12)+1)="","",INDEX('Recurring Plans'!$A$5:$A$104,INT((ROW()-5)/12)+1)),"") | B39: =IF($A39="","",MOD(ROW()-5,12)+1) | C39: =IF($A39="","",IFERROR(VLOOKUP($A39,'Recurring Plans'!$A$5:$M$104,2,FALSE),"")) | D39: =IF($A39="","",IFERROR(VLOOKUP($A39,'Recurring Plans'!$A$5:$M$104,4,FALSE),"")) | E39: =IF(OR($A39="",$B39>IFERROR(VLOOKUP($A39,'Recurring Plans'!$A$5:$M$104,8,FALSE),0),IFERROR(VLOOKUP($A39,'Recurring Plans'!$A$5:$M$104,11,FALSE),"")<>'Assumptions'!$E$9),"",IFERROR(IF(VLOOKUP($A39,'Recurring Plans'!$A$5:$M$104,7,FALSE)='Assumptions'!$E$4,VLOOKUP($A39,'Recurring Plans'!$A$5:$M$104,5,FALSE)+($B39-1)*VLOOKUP($A39,'Recurring Plans'!$A$5:$M$104,6,FALSE),IF(VLOOKUP($A39,'Recurring Plans'!$A$5:$M$104,7,FALSE)='Assumptions'!$E$5,VLOOKUP($A39,'Recurring Plans'!$A$5:$M$104,5,FALSE)+($B39-1)*VLOOKUP($A39,'Recurring Plans'!$A$5:$M$104,6,FALSE)*7,IF(VLOOKUP($A39,'Recurring Plans'!$A$5:$M$104,7,FALSE)='Assumptions'!$E$6,EDATE(VLOOKUP($A39,'Recurring Plans'!$A$5:$M$104,5,FALSE),($B39-1)*VLOOKUP($A39,'Recurring Plans'!$A$5:$M$104,6,FALSE)),""))),"")) | G39: =IF($E39="","",IF($F39<>"",$F39,$E39)) | H39: =IF($E39="","",IFERROR(VLOOKUP($A39,'Recurring Plans'!$A$5:$M$104,9,FALSE),"")) | J39: =IF($E39="","",IF($I39<>"",$I39,IFERROR(VLOOKUP($A39,'Recurring Plans'!$A$5:$M$104,10,FALSE),""))) | L39: =IF($G39="","",IF($K39<>"",$K39,'Assumptions'!$E$14)) | N39: =IF($G39="","",IF(OR($F39<>"",$I39<>"",$M39<>"",$K39='Assumptions'!$E$16,$K39='Assumptions'!$E$17),"Exception - check",IF(AND($L39='Assumptions'!$E$14,$G39<'Assumptions'!$B$4),"Past date - check","")))
A40: =IFERROR(IF(INDEX('Recurring Plans'!$A$5:$A$104,INT((ROW()-5)/12)+1)="","",INDEX('Recurring Plans'!$A$5:$A$104,INT((ROW()-5)/12)+1)),"") | B40: =IF($A40="","",MOD(ROW()-5,12)+1) | C40: =IF($A40="","",IFERROR(VLOOKUP($A40,'Recurring Plans'!$A$5:$M$104,2,FALSE),"")) | D40: =IF($A40="","",IFERROR(VLOOKUP($A40,'Recurring Plans'!$A$5:$M$104,4,FALSE),"")) | E40: =IF(OR($A40="",$B40>IFERROR(VLOOKUP($A40,'Recurring Plans'!$A$5:$M$104,8,FALSE),0),IFERROR(VLOOKUP($A40,'Recurring Plans'!$A$5:$M$104,11,FALSE),"")<>'Assumptions'!$E$9),"",IFERROR(IF(VLOOKUP($A40,'Recurring Plans'!$A$5:$M$104,7,FALSE)='Assumptions'!$E$4,VLOOKUP($A40,'Recurring Plans'!$A$5:$M$104,5,FALSE)+($B40-1)*VLOOKUP($A40,'Recurring Plans'!$A$5:$M$104,6,FALSE),IF(VLOOKUP($A40,'Recurring Plans'!$A$5:$M$104,7,FALSE)='Assumptions'!$E$5,VLOOKUP($A40,'Recurring Plans'!$A$5:$M$104,5,FALSE)+($B40-1)*VLOOKUP($A40,'Recurring Plans'!$A$5:$M$104,6,FALSE)*7,IF(VLOOKUP($A40,'Recurring Plans'!$A$5:$M$104,7,FALSE)='Assumptions'!$E$6,EDATE(VLOOKUP($A40,'Recurring Plans'!$A$5:$M$104,5,FALSE),($B40-1)*VLOOKUP($A40,'Recurring Plans'!$A$5:$M$104,6,FALSE)),""))),"")) | G40: =IF($E40="","",IF($F40<>"",$F40,$E40)) | H40: =IF($E40="","",IFERROR(VLOOKUP($A40,'Recurring Plans'!$A$5:$M$104,9,FALSE),"")) | J40: =IF($E40="","",IF($I40<>"",$I40,IFERROR(VLOOKUP($A40,'Recurring Plans'!$A$5:$M$104,10,FALSE),""))) | L40: =IF($G40="","",IF($K40<>"",$K40,'Assumptions'!$E$14)) | N40: =IF($G40="","",IF(OR($F40<>"",$I40<>"",$M40<>"",$K40='Assumptions'!$E$16,$K40='Assumptions'!$E$17),"Exception - check",IF(AND($L40='Assumptions'!$E$14,$G40<'Assumptions'!$B$4),"Past date - check","")))
A41: =IFERROR(IF(INDEX('Recurring Plans'!$A$5:$A$104,INT((ROW()-5)/12)+1)="","",INDEX('Recurring Plans'!$A$5:$A$104,INT((ROW()-5)/12)+1)),"") | B41: =IF($A41="","",MOD(ROW()-5,12)+1) | C41: =IF($A41="","",IFERROR(VLOOKUP($A41,'Recurring Plans'!$A$5:$M$104,2,FALSE),"")) | D41: =IF($A41="","",IFERROR(VLOOKUP($A41,'Recurring Plans'!$A$5:$M$104,4,FALSE),"")) | E41: =IF(OR($A41="",$B41>IFERROR(VLOOKUP($A41,'Recurring Plans'!$A$5:$M$104,8,FALSE),0),IFERROR(VLOOKUP($A41,'Recurring Plans'!$A$5:$M$104,11,FALSE),"")<>'Assumptions'!$E$9),"",IFERROR(IF(VLOOKUP($A41,'Recurring Plans'!$A$5:$M$104,7,FALSE)='Assumptions'!$E$4,VLOOKUP($A41,'Recurring Plans'!$A$5:$M$104,5,FALSE)+($B41-1)*VLOOKUP($A41,'Recurring Plans'!$A$5:$M$104,6,FALSE),IF(VLOOKUP($A41,'Recurring Plans'!$A$5:$M$104,7,FALSE)='Assumptions'!$E$5,VLOOKUP($A41,'Recurring Plans'!$A$5:$M$104,5,FALSE)+($B41-1)*VLOOKUP($A41,'Recurring Plans'!$A$5:$M$104,6,FALSE)*7,IF(VLOOKUP($A41,'Recurring Plans'!$A$5:$M$104,7,FALSE)='Assumptions'!$E$6,EDATE(VLOOKUP($A41,'Recurring Plans'!$A$5:$M$104,5,FALSE),($B41-1)*VLOOKUP($A41,'Recurring Plans'!$A$5:$M$104,6,FALSE)),""))),"")) | F41: 46276 | G41: =IF($E41="","",IF($F41<>"",$F41,$E41)) | H41: =IF($E41="","",IFERROR(VLOOKUP($A41,'Recurring Plans'!$A$5:$M$104,9,FALSE),"")) | J41: =IF($E41="","",IF($I41<>"",$I41,IFERROR(VLOOKUP($A41,'Recurring Plans'!$A$5:$M$104,10,FALSE),""))) | L41: =IF($G41="","",IF($K41<>"",$K41,'Assumptions'!$E$14)) | M41: Owner requested the next day. | N41: =IF($G41="","",IF(OR($F41<>"",$I41<>"",$M41<>"",$K41='Assumptions'!$E$16,$K41='Assumptions'!$E$17),"Exception - check",IF(AND($L41='Assumptions'!$E$14,$G41<'Assumptions'!$B$4),"Past date - check","")))
A42: =IFERROR(IF(INDEX('Recurring Plans'!$A$5:$A$104,INT((ROW()-5)/12)+1)="","",INDEX('Recurring Plans'!$A$5:$A$104,INT((ROW()-5)/12)+1)),"") | B42: =IF($A42="","",MOD(ROW()-5,12)+1) | C42: =IF($A42="","",IFERROR(VLOOKUP($A42,'Recurring Plans'!$A$5:$M$104,2,FALSE),"")) | D42: =IF($A42="","",IFERROR(VLOOKUP($A42,'Recurring Plans'!$A$5:$M$104,4,FALSE),"")) | E42: =IF(OR($A42="",$B42>IFERROR(VLOOKUP($A42,'Recurring Plans'!$A$5:$M$104,8,FALSE),0),IFERROR(VLOOKUP($A42,'Recurring Plans'!$A$5:$M$104,11,FALSE),"")<>'Assumptions'!$E$9),"",IFERROR(IF(VLOOKUP($A42,'Recurring Plans'!$A$5:$M$104,7,FALSE)='Assumptions'!$E$4,VLOOKUP($A42,'Recurring Plans'!$A$5:$M$104,5,FALSE)+($B42-1)*VLOOKUP($A42,'Recurring Plans'!$A$5:$M$104,6,FALSE),IF(VLOOKUP($A42,'Recurring Plans'!$A$5:$M$104,7,FALSE)='Assumptions'!$E$5,VLOOKUP($A42,'Recurring Plans'!$A$5:$M$104,5,FALSE)+($B42-1)*VLOOKUP($A42,'Recurring Plans'!$A$5:$M$104,6,FALSE)*7,IF(VLOOKUP($A42,'Recurring Plans'!$A$5:$M$104,7,FALSE)='Assumptions'!$E$6,EDATE(VLOOKUP($A42,'Recurring Plans'!$A$5:$M$104,5,FALSE),($B42-1)*VLOOKUP($A42,'Recurring Plans'!$A$5:$M$104,6,FALSE)),""))),"")) | G42: =IF($E42="","",IF($F42<>"",$F42,$E42)) | H42: =IF($E42="","",IFERROR(VLOOKUP($A42,'Recurring Plans'!$A$5:$M$104,9,FALSE),"")) | J42: =IF($E42="","",IF($I42<>"",$I42,IFERROR(VLOOKUP($A42,'Recurring Plans'!$A$5:$M$104,10,FALSE),""))) | L42: =IF($G42="","",IF($K42<>"",$K42,'Assumptions'!$E$14)) | N42: =IF($G42="","",IF(OR($F42<>"",$I42<>"",$M42<>"",$K42='Assumptions'!$E$16,$K42='Assumptions'!$E$17),"Exception - check",IF(AND($L42='Assumptions'!$E$14,$G42<'Assumptions'!$B$4),"Past date - check","")))
A43: =IFERROR(IF(INDEX('Recurring Plans'!$A$5:$A$104,INT((ROW()-5)/12)+1)="","",INDEX('Recurring Plans'!$A$5:$A$104,INT((ROW()-5)/12)+1)),"") | B43: =IF($A43="","",MOD(ROW()-5,12)+1) | C43: =IF($A43="","",IFERROR(VLOOKUP($A43,'Recurring Plans'!$A$5:$M$104,2,FALSE),"")) | D43: =IF($A43="","",IFERROR(VLOOKUP($A43,'Recurring Plans'!$A$5:$M$104,4,FALSE),"")) | E43: =IF(OR($A43="",$B43>IFERROR(VLOOKUP($A43,'Recurring Plans'!$A$5:$M$104,8,FALSE),0),IFERROR(VLOOKUP($A43,'Recurring Plans'!$A$5:$M$104,11,FALSE),"")<>'Assumptions'!$E$9),"",IFERROR(IF(VLOOKUP($A43,'Recurring Plans'!$A$5:$M$104,7,FALSE)='Assumptions'!$E$4,VLOOKUP($A43,'Recurring Plans'!$A$5:$M$104,5,FALSE)+($B43-1)*VLOOKUP($A43,'Recurring Plans'!$A$5:$M$104,6,FALSE),IF(VLOOKUP($A43,'Recurring Plans'!$A$5:$M$104,7,FALSE)='Assumptions'!$E$5,VLOOKUP($A43,'Recurring Plans'!$A$5:$M$104,5,FALSE)+($B43-1)*VLOOKUP($A43,'Recurring Plans'!$A$5:$M$104,6,FALSE)*7,IF(VLOOKUP($A43,'Recurring Plans'!$A$5:$M$104,7,FALSE)='Assumptions'!$E$6,EDATE(VLOOKUP($A43,'Recurring Plans'!$A$5:$M$104,5,FALSE),($B43-1)*VLOOKUP($A43,'Recurring Plans'!$A$5:$M$104,6,FALSE)),""))),"")) | G43: =IF($E43="","",IF($F43<>"",$F43,$E43)) | H43: =IF($E43="","",IFERROR(VLOOKUP($A43,'Recurring Plans'!$A$5:$M$104,9,FALSE),"")) | J43: =IF($E43="","",IF($I43<>"",$I43,IFERROR(VLOOKUP($A43,'Recurring Plans'!$A$5:$M$104,10,FALSE),""))) | L43: =IF($G43="","",IF($K43<>"",$K43,'Assumptions'!$E$14)) | N43: =IF($G43="","",IF(OR($F43<>"",$I43<>"",$M43<>"",$K43='Assumptions'!$E$16,$K43='Assumptions'!$E$17),"Exception - check",IF(AND($L43='Assumptions'!$E$14,$G43<'Assumptions'!$B$4),"Past date - check","")))
A44: =IFERROR(IF(INDEX('Recurring Plans'!$A$5:$A$104,INT((ROW()-5)/12)+1)="","",INDEX('Recurring Plans'!$A$5:$A$104,INT((ROW()-5)/12)+1)),"") | B44: =IF($A44="","",MOD(ROW()-5,12)+1) | C44: =IF($A44="","",IFERROR(VLOOKUP($A44,'Recurring Plans'!$A$5:$M$104,2,FALSE),"")) | D44: =IF($A44="","",IFERROR(VLOOKUP($A44,'Recurring Plans'!$A$5:$M$104,4,FALSE),"")) | E44: =IF(OR($A44="",$B44>IFERROR(VLOOKUP($A44,'Recurring Plans'!$A$5:$M$104,8,FALSE),0),IFERROR(VLOOKUP($A44,'Recurring Plans'!$A$5:$M$104,11,FALSE),"")<>'Assumptions'!$E$9),"",IFERROR(IF(VLOOKUP($A44,'Recurring Plans'!$A$5:$M$104,7,FALSE)='Assumptions'!$E$4,VLOOKUP($A44,'Recurring Plans'!$A$5:$M$104,5,FALSE)+($B44-1)*VLOOKUP($A44,'Recurring Plans'!$A$5:$M$104,6,FALSE),IF(VLOOKUP($A44,'Recurring Plans'!$A$5:$M$104,7,FALSE)='Assumptions'!$E$5,VLOOKUP($A44,'Recurring Plans'!$A$5:$M$104,5,FALSE)+($B44-1)*VLOOKUP($A44,'Recurring Plans'!$A$5:$M$104,6,FALSE)*7,IF(VLOOKUP($A44,'Recurring Plans'!$A$5:$M$104,7,FALSE)='Assumptions'!$E$6,EDATE(VLOOKUP($A44,'Recurring Plans'!$A$5:$M$104,5,FALSE),($B44-1)*VLOOKUP($A44,'Recurring Plans'!$A$5:$M$104,6,FALSE)),""))),"")) | G44: =IF($E44="","",IF($F44<>"",$F44,$E44)) | H44: =IF($E44="","",IFERROR(VLOOKUP($A44,'Recurring Plans'!$A$5:$M$104,9,FALSE),"")) | J44: =IF($E44="","",IF($I44<>"",$I44,IFERROR(VLOOKUP($A44,'Recurring Plans'!$A$5:$M$104,10,FALSE),""))) | L44: =IF($G44="","",IF($K44<>"",$K44,'Assumptions'!$E$14)) | N44: =IF($G44="","",IF(OR($F44<>"",$I44<>"",$M44<>"",$K44='Assumptions'!$E$16,$K44='Assumptions'!$E$17),"Exception - check",IF(AND($L44='Assumptions'!$E$14,$G44<'Assumptions'!$B$4),"Past date - check","")))
A45: =IFERROR(IF(INDEX('Recurring Plans'!$A$5:$A$104,INT((ROW()-5)/12)+1)="","",INDEX('Recurring Plans'!$A$5:$A$104,INT((ROW()-5)/12)+1)),"") | B45: =IF($A45="","",MOD(ROW()-5,12)+1) | C45: =IF($A45="","",IFERROR(VLOOKUP($A45,'Recurring Plans'!$A$5:$M$104,2,FALSE),"")) | D45: =IF($A45="","",IFERROR(VLOOKUP($A45,'Recurring Plans'!$A$5:$M$104,4,FALSE),"")) | E45: =IF(OR($A45="",$B45>IFERROR(VLOOKUP($A45,'Recurring Plans'!$A$5:$M$104,8,FALSE),0),IFERROR(VLOOKUP($A45,'Recurring Plans'!$A$5:$M$104,11,FALSE),"")<>'Assumptions'!$E$9),"",IFERROR(IF(VLOOKUP($A45,'Recurring Plans'!$A$5:$M$104,7,FALSE)='Assumptions'!$E$4,VLOOKUP($A45,'Recurring Plans'!$A$5:$M$104,5,FALSE)+($B45-1)*VLOOKUP($A45,'Recurring Plans'!$A$5:$M$104,6,FALSE),IF(VLOOKUP($A45,'Recurring Plans'!$A$5:$M$104,7,FALSE)='Assumptions'!$E$5,VLOOKUP($A45,'Recurring Plans'!$A$5:$M$104,5,FALSE)+($B45-1)*VLOOKUP($A45,'Recurring Plans'!$A$5:$M$104,6,FALSE)*7,IF(VLOOKUP($A45,'Recurring Plans'!$A$5:$M$104,7,FALSE)='Assumptions'!$E$6,EDATE(VLOOKUP($A45,'Recurring Plans'!$A$5:$M$104,5,FALSE),($B45-1)*VLOOKUP($A45,'Recurring Plans'!$A$5:$M$104,6,FALSE)),""))),"")) | G45: =IF($E45="","",IF($F45<>"",$F45,$E45)) | H45: =IF($E45="","",IFERROR(VLOOKUP($A45,'Recurring Plans'!$A$5:$M$104,9,FALSE),"")) | J45: =IF($E45="","",IF($I45<>"",$I45,IFERROR(VLOOKUP($A45,'Recurring Plans'!$A$5:$M$104,10,FALSE),""))) | L45: =IF($G45="","",IF($K45<>"",$K45,'Assumptions'!$E$14)) | N45: =IF($G45="","",IF(OR($F45<>"",$I45<>"",$M45<>"",$K45='Assumptions'!$E$16,$K45='Assumptions'!$E$17),"Exception - check",IF(AND($L45='Assumptions'!$E$14,$G45<'Assumptions'!$B$4),"Past date - check","")))
A46: =IFERROR(IF(INDEX('Recurring Plans'!$A$5:$A$104,INT((ROW()-5)/12)+1)="","",INDEX('Recurring Plans'!$A$5:$A$104,INT((ROW()-5)/12)+1)),"") | B46: =IF($A46="","",MOD(ROW()-5,12)+1) | C46: =IF($A46="","",IFERROR(VLOOKUP($A46,'Recurring Plans'!$A$5:$M$104,2,FALSE),"")) | D46: =IF($A46="","",IFERROR(VLOOKUP($A46,'Recurring Plans'!$A$5:$M$104,4,FALSE),"")) | E46: =IF(OR($A46="",$B46>IFERROR(VLOOKUP($A46,'Recurring Plans'!$A$5:$M$104,8,FALSE),0),IFERROR(VLOOKUP($A46,'Recurring Plans'!$A$5:$M$104,11,FALSE),"")<>'Assumptions'!$E$9),"",IFERROR(IF(VLOOKUP($A46,'Recurring Plans'!$A$5:$M$104,7,FALSE)='Assumptions'!$E$4,VLOOKUP($A46,'Recurring Plans'!$A$5:$M$104,5,FALSE)+($B46-1)*VLOOKUP($A46,'Recurring Plans'!$A$5:$M$104,6,FALSE),IF(VLOOKUP($A46,'Recurring Plans'!$A$5:$M$104,7,FALSE)='Assumptions'!$E$5,VLOOKUP($A46,'Recurring Plans'!$A$5:$M$104,5,FALSE)+($B46-1)*VLOOKUP($A46,'Recurring Plans'!$A$5:$M$104,6,FALSE)*7,IF(VLOOKUP($A46,'Recurring Plans'!$A$5:$M$104,7,FALSE)='Assumptions'!$E$6,EDATE(VLOOKUP($A46,'Recurring Plans'!$A$5:$M$104,5,FALSE),($B46-1)*VLOOKUP($A46,'Recurring Plans'!$A$5:$M$104,6,FALSE)),""))),"")) | G46: =IF($E46="","",IF($F46<>"",$F46,$E46)) | H46: =IF($E46="","",IFERROR(VLOOKUP($A46,'Recurring Plans'!$A$5:$M$104,9,FALSE),"")) | J46: =IF($E46="","",IF($I46<>"",$I46,IFERROR(VLOOKUP($A46,'Recurring Plans'!$A$5:$M$104,10,FALSE),""))) | L46: =IF($G46="","",IF($K46<>"",$K46,'Assumptions'!$E$14)) | N46: =IF($G46="","",IF(OR($F46<>"",$I46<>"",$M46<>"",$K46='Assumptions'!$E$16,$K46='Assumptions'!$E$17),"Exception - check",IF(AND($L46='Assumptions'!$E$14,$G46<'Assumptions'!$B$4),"Past date - check","")))
A47: =IFERROR(IF(INDEX('Recurring Plans'!$A$5:$A$104,INT((ROW()-5)/12)+1)="","",INDEX('Recurring Plans'!$A$5:$A$104,INT((ROW()-5)/12)+1)),"") | B47: =IF($A47="","",MOD(ROW()-5,12)+1) | C47: =IF($A47="","",IFERROR(VLOOKUP($A47,'Recurring Plans'!$A$5:$M$104,2,FALSE),"")) | D47: =IF($A47="","",IFERROR(VLOOKUP($A47,'Recurring Plans'!$A$5:$M$104,4,FALSE),"")) | E47: =IF(OR($A47="",$B47>IFERROR(VLOOKUP($A47,'Recurring Plans'!$A$5:$M$104,8,FALSE),0),IFERROR(VLOOKUP($A47,'Recurring Plans'!$A$5:$M$104,11,FALSE),"")<>'Assumptions'!$E$9),"",IFERROR(IF(VLOOKUP($A47,'Recurring Plans'!$A$5:$M$104,7,FALSE)='Assumptions'!$E$4,VLOOKUP($A47,'Recurring Plans'!$A$5:$M$104,5,FALSE)+($B47-1)*VLOOKUP($A47,'Recurring Plans'!$A$5:$M$104,6,FALSE),IF(VLOOKUP($A47,'Recurring Plans'!$A$5:$M$104,7,FALSE)='Assumptions'!$E$5,VLOOKUP($A47,'Recurring Plans'!$A$5:$M$104,5,FALSE)+($B47-1)*VLOOKUP($A47,'Recurring Plans'!$A$5:$M$104,6,FALSE)*7,IF(VLOOKUP($A47,'Recurring Plans'!$A$5:$M$104,7,FALSE)='Assumptions'!$E$6,EDATE(VLOOKUP($A47,'Recurring Plans'!$A$5:$M$104,5,FALSE),($B47-1)*VLOOKUP($A47,'Recurring Plans'!$A$5:$M$104,6,FALSE)),""))),"")) | G47: =IF($E47="","",IF($F47<>"",$F47,$E47)) | H47: =IF($E47="","",IFERROR(VLOOKUP($A47,'Recurring Plans'!$A$5:$M$104,9,FALSE),"")) | J47: =IF($E47="","",IF($I47<>"",$I47,IFERROR(VLOOKUP($A47,'Recurring Plans'!$A$5:$M$104,10,FALSE),""))) | L47: =IF($G47="","",IF($K47<>"",$K47,'Assumptions'!$E$14)) | N47: =IF($G47="","",IF(OR($F47<>"",$I47<>"",$M47<>"",$K47='Assumptions'!$E$16,$K47='Assumptions'!$E$17),"Exception - check",IF(AND($L47='Assumptions'!$E$14,$G47<'Assumptions'!$B$4),"Past date - check","")))
A48: =IFERROR(IF(INDEX('Recurring Plans'!$A$5:$A$104,INT((ROW()-5)/12)+1)="","",INDEX('Recurring Plans'!$A$5:$A$104,INT((ROW()-5)/12)+1)),"") | B48: =IF($A48="","",MOD(ROW()-5,12)+1) | C48: =IF($A48="","",IFERROR(VLOOKUP($A48,'Recurring Plans'!$A$5:$M$104,2,FALSE),"")) | D48: =IF($A48="","",IFERROR(VLOOKUP($A48,'Recurring Plans'!$A$5:$M$104,4,FALSE),"")) | E48: =IF(OR($A48="",$B48>IFERROR(VLOOKUP($A48,'Recurring Plans'!$A$5:$M$104,8,FALSE),0),IFERROR(VLOOKUP($A48,'Recurring Plans'!$A$5:$M$104,11,FALSE),"")<>'Assumptions'!$E$9),"",IFERROR(IF(VLOOKUP($A48,'Recurring Plans'!$A$5:$M$104,7,FALSE)='Assumptions'!$E$4,VLOOKUP($A48,'Recurring Plans'!$A$5:$M$104,5,FALSE)+($B48-1)*VLOOKUP($A48,'Recurring Plans'!$A$5:$M$104,6,FALSE),IF(VLOOKUP($A48,'Recurring Plans'!$A$5:$M$104,7,FALSE)='Assumptions'!$E$5,VLOOKUP($A48,'Recurring Plans'!$A$5:$M$104,5,FALSE)+($B48-1)*VLOOKUP($A48,'Recurring Plans'!$A$5:$M$104,6,FALSE)*7,IF(VLOOKUP($A48,'Recurring Plans'!$A$5:$M$104,7,FALSE)='Assumptions'!$E$6,EDATE(VLOOKUP($A48,'Recurring Plans'!$A$5:$M$104,5,FALSE),($B48-1)*VLOOKUP($A48,'Recurring Plans'!$A$5:$M$104,6,FALSE)),""))),"")) | G48: =IF($E48="","",IF($F48<>"",$F48,$E48)) | H48: =IF($E48="","",IFERROR(VLOOKUP($A48,'Recurring Plans'!$A$5:$M$104,9,FALSE),"")) | J48: =IF($E48="","",IF($I48<>"",$I48,IFERROR(VLOOKUP($A48,'Recurring Plans'!$A$5:$M$104,10,FALSE),""))) | L48: =IF($G48="","",IF($K48<>"",$K48,'Assumptions'!$E$14)) | N48: =IF($G48="","",IF(OR($F48<>"",$I48<>"",$M48<>"",$K48='Assumptions'!$E$16,$K48='Assumptions'!$E$17),"Exception - check",IF(AND($L48='Assumptions'!$E$14,$G48<'Assumptions'!$B$4),"Past date - check","")))
A49: =IFERROR(IF(INDEX('Recurring Plans'!$A$5:$A$104,INT((ROW()-5)/12)+1)="","",INDEX('Recurring Plans'!$A$5:$A$104,INT((ROW()-5)/12)+1)),"") | B49: =IF($A49="","",MOD(ROW()-5,12)+1) | C49: =IF($A49="","",IFERROR(VLOOKUP($A49,'Recurring Plans'!$A$5:$M$104,2,FALSE),"")) | D49: =IF($A49="","",IFERROR(VLOOKUP($A49,'Recurring Plans'!$A$5:$M$104,4,FALSE),"")) | E49: =IF(OR($A49="",$B49>IFERROR(VLOOKUP($A49,'Recurring Plans'!$A$5:$M$104,8,FALSE),0),IFERROR(VLOOKUP($A49,'Recurring Plans'!$A$5:$M$104,11,FALSE),"")<>'Assumptions'!$E$9),"",IFERROR(IF(VLOOKUP($A49,'Recurring Plans'!$A$5:$M$104,7,FALSE)='Assumptions'!$E$4,VLOOKUP($A49,'Recurring Plans'!$A$5:$M$104,5,FALSE)+($B49-1)*VLOOKUP($A49,'Recurring Plans'!$A$5:$M$104,6,FALSE),IF(VLOOKUP($A49,'Recurring Plans'!$A$5:$M$104,7,FALSE)='Assumptions'!$E$5,VLOOKUP($A49,'Recurring Plans'!$A$5:$M$104,5,FALSE)+($B49-1)*VLOOKUP($A49,'Recurring Plans'!$A$5:$M$104,6,FALSE)*7,IF(VLOOKUP($A49,'Recurring Plans'!$A$5:$M$104,7,FALSE)='Assumptions'!$E$6,EDATE(VLOOKUP($A49,'Recurring Plans'!$A$5:$M$104,5,FALSE),($B49-1)*VLOOKUP($A49,'Recurring Plans'!$A$5:$M$104,6,FALSE)),""))),"")) | G49: =IF($E49="","",IF($F49<>"",$F49,$E49)) | H49: =IF($E49="","",IFERROR(VLOOKUP($A49,'Recurring Plans'!$A$5:$M$104,9,FALSE),"")) | J49: =IF($E49="","",IF($I49<>"",$I49,IFERROR(VLOOKUP($A49,'Recurring Plans'!$A$5:$M$104,10,FALSE),""))) | L49: =IF($G49="","",IF($K49<>"",$K49,'Assumptions'!$E$14)) | N49: =IF($G49="","",IF(OR($F49<>"",$I49<>"",$M49<>"",$K49='Assumptions'!$E$16,$K49='Assumptions'!$E$17),"Exception - check",IF(AND($L49='Assumptions'!$E$14,$G49<'Assumptions'!$B$4),"Past date - check","")))
A50: =IFERROR(IF(INDEX('Recurring Plans'!$A$5:$A$104,INT((ROW()-5)/12)+1)="","",INDEX('Recurring Plans'!$A$5:$A$104,INT((ROW()-5)/12)+1)),"") | B50: =IF($A50="","",MOD(ROW()-5,12)+1) | C50: =IF($A50="","",IFERROR(VLOOKUP($A50,'Recurring Plans'!$A$5:$M$104,2,FALSE),"")) | D50: =IF($A50="","",IFERROR(VLOOKUP($A50,'Recurring Plans'!$A$5:$M$104,4,FALSE),"")) | E50: =IF(OR($A50="",$B50>IFERROR(VLOOKUP($A50,'Recurring Plans'!$A$5:$M$104,8,FALSE),0),IFERROR(VLOOKUP($A50,'Recurring Plans'!$A$5:$M$104,11,FALSE),"")<>'Assumptions'!$E$9),"",IFERROR(IF(VLOOKUP($A50,'Recurring Plans'!$A$5:$M$104,7,FALSE)='Assumptions'!$E$4,VLOOKUP($A50,'Recurring Plans'!$A$5:$M$104,5,FALSE)+($B50-1)*VLOOKUP($A50,'Recurring Plans'!$A$5:$M$104,6,FALSE),IF(VLOOKUP($A50,'Recurring Plans'!$A$5:$M$104,7,FALSE)='Assumptions'!$E$5,VLOOKUP($A50,'Recurring Plans'!$A$5:$M$104,5,FALSE)+($B50-1)*VLOOKUP($A50,'Recurring Plans'!$A$5:$M$104,6,FALSE)*7,IF(VLOOKUP($A50,'Recurring Plans'!$A$5:$M$104,7,FALSE)='Assumptions'!$E$6,EDATE(VLOOKUP($A50,'Recurring Plans'!$A$5:$M$104,5,FALSE),($B50-1)*VLOOKUP($A50,'Recurring Plans'!$A$5:$M$104,6,FALSE)),""))),"")) | G50: =IF($E50="","",IF($F50<>"",$F50,$E50)) | H50: =IF($E50="","",IFERROR(VLOOKUP($A50,'Recurring Plans'!$A$5:$M$104,9,FALSE),"")) | J50: =IF($E50="","",IF($I50<>"",$I50,IFERROR(VLOOKUP($A50,'Recurring Plans'!$A$5:$M$104,10,FALSE),""))) | L50: =IF($G50="","",IF($K50<>"",$K50,'Assumptions'!$E$14)) | N50: =IF($G50="","",IF(OR($F50<>"",$I50<>"",$M50<>"",$K50='Assumptions'!$E$16,$K50='Assumptions'!$E$17),"Exception - check",IF(AND($L50='Assumptions'!$E$14,$G50<'Assumptions'!$B$4),"Past date - check","")))
A51: =IFERROR(IF(INDEX('Recurring Plans'!$A$5:$A$104,INT((ROW()-5)/12)+1)="","",INDEX('Recurring Plans'!$A$5:$A$104,INT((ROW()-5)/12)+1)),"") | B51: =IF($A51="","",MOD(ROW()-5,12)+1) | C51: =IF($A51="","",IFERROR(VLOOKUP($A51,'Recurring Plans'!$A$5:$M$104,2,FALSE),"")) | D51: =IF($A51="","",IFERROR(VLOOKUP($A51,'Recurring Plans'!$A$5:$M$104,4,FALSE),"")) | E51: =IF(OR($A51="",$B51>IFERROR(VLOOKUP($A51,'Recurring Plans'!$A$5:$M$104,8,FALSE),0),IFERROR(VLOOKUP($A51,'Recurring Plans'!$A$5:$M$104,11,FALSE),"")<>'Assumptions'!$E$9),"",IFERROR(IF(VLOOKUP($A51,'Recurring Plans'!$A$5:$M$104,7,FALSE)='Assumptions'!$E$4,VLOOKUP($A51,'Recurring Plans'!$A$5:$M$104,5,FALSE)+($B51-1)*VLOOKUP($A51,'Recurring Plans'!$A$5:$M$104,6,FALSE),IF(VLOOKUP($A51,'Recurring Plans'!$A$5:$M$104,7,FALSE)='Assumptions'!$E$5,VLOOKUP($A51,'Recurring Plans'!$A$5:$M$104,5,FALSE)+($B51-1)*VLOOKUP($A51,'Recurring Plans'!$A$5:$M$104,6,FALSE)*7,IF(VLOOKUP($A51,'Recurring Plans'!$A$5:$M$104,7,FALSE)='Assumptions'!$E$6,EDATE(VLOOKUP($A51,'Recurring Plans'!$A$5:$M$104,5,FALSE),($B51-1)*VLOOKUP($A51,'Recurring Plans'!$A$5:$M$104,6,FALSE)),""))),"")) | G51: =IF($E51="","",IF($F51<>"",$F51,$E51)) | H51: =IF($E51="","",IFERROR(VLOOKUP($A51,'Recurring Plans'!$A$5:$M$104,9,FALSE),"")) | J51: =IF($E51="","",IF($I51<>"",$I51,IFERROR(VLOOKUP($A51,'Recurring Plans'!$A$5:$M$104,10,FALSE),""))) | L51: =IF($G51="","",IF($K51<>"",$K51,'Assumptions'!$E$14)) | N51: =IF($G51="","",IF(OR($F51<>"",$I51<>"",$M51<>"",$K51='Assumptions'!$E$16,$K51='Assumptions'!$E$17),"Exception - check",IF(AND($L51='Assumptions'!$E$14,$G51<'Assumptions'!$B$4),"Past date - check","")))
A52: =IFERROR(IF(INDEX('Recurring Plans'!$A$5:$A$104,INT((ROW()-5)/12)+1)="","",INDEX('Recurring Plans'!$A$5:$A$104,INT((ROW()-5)/12)+1)),"") | B52: =IF($A52="","",MOD(ROW()-5,12)+1) | C52: =IF($A52="","",IFERROR(VLOOKUP($A52,'Recurring Plans'!$A$5:$M$104,2,FALSE),"")) | D52: =IF($A52="","",IFERROR(VLOOKUP($A52,'Recurring Plans'!$A$5:$M$104,4,FALSE),"")) | E52: =IF(OR($A52="",$B52>IFERROR(VLOOKUP($A52,'Recurring Plans'!$A$5:$M$104,8,FALSE),0),IFERROR(VLOOKUP($A52,'Recurring Plans'!$A$5:$M$104,11,FALSE),"")<>'Assumptions'!$E$9),"",IFERROR(IF(VLOOKUP($A52,'Recurring Plans'!$A$5:$M$104,7,FALSE)='Assumptions'!$E$4,VLOOKUP($A52,'Recurring Plans'!$A$5:$M$104,5,FALSE)+($B52-1)*VLOOKUP($A52,'Recurring Plans'!$A$5:$M$104,6,FALSE),IF(VLOOKUP($A52,'Recurring Plans'!$A$5:$M$104,7,FALSE)='Assumptions'!$E$5,VLOOKUP($A52,'Recurring Plans'!$A$5:$M$104,5,FALSE)+($B52-1)*VLOOKUP($A52,'Recurring Plans'!$A$5:$M$104,6,FALSE)*7,IF(VLOOKUP($A52,'Recurring Plans'!$A$5:$M$104,7,FALSE)='Assumptions'!$E$6,EDATE(VLOOKUP($A52,'Recurring Plans'!$A$5:$M$104,5,FALSE),($B52-1)*VLOOKUP($A52,'Recurring Plans'!$A$5:$M$104,6,FALSE)),""))),"")) | G52: =IF($E52="","",IF($F52<>"",$F52,$E52)) | H52: =IF($E52="","",IFERROR(VLOOKUP($A52,'Recurring Plans'!$A$5:$M$104,9,FALSE),"")) | J52: =IF($E52="","",IF($I52<>"",$I52,IFERROR(VLOOKUP($A52,'Recurring Plans'!$A$5:$M$104,10,FALSE),""))) | L52: =IF($G52="","",IF($K52<>"",$K52,'Assumptions'!$E$14)) | N52: =IF($G52="","",IF(OR($F52<>"",$I52<>"",$M52<>"",$K52='Assumptions'!$E$16,$K52='Assumptions'!$E$17),"Exception - check",IF(AND($L52='Assumptions'!$E$14,$G52<'Assumptions'!$B$4),"Past date - check","")))
A53: =IFERROR(IF(INDEX('Recurring Plans'!$A$5:$A$104,INT((ROW()-5)/12)+1)="","",INDEX('Recurring Plans'!$A$5:$A$104,INT((ROW()-5)/12)+1)),"") | B53: =IF($A53="","",MOD(ROW()-5,12)+1) | C53: =IF($A53="","",IFERROR(VLOOKUP($A53,'Recurring Plans'!$A$5:$M$104,2,FALSE),"")) | D53: =IF($A53="","",IFERROR(VLOOKUP($A53,'Recurring Plans'!$A$5:$M$104,4,FALSE),"")) | E53: =IF(OR($A53="",$B53>IFERROR(VLOOKUP($A53,'Recurring Plans'!$A$5:$M$104,8,FALSE),0),IFERROR(VLOOKUP($A53,'Recurring Plans'!$A$5:$M$104,11,FALSE),"")<>'Assumptions'!$E$9),"",IFERROR(IF(VLOOKUP($A53,'Recurring Plans'!$A$5:$M$104,7,FALSE)='Assumptions'!$E$4,VLOOKUP($A53,'Recurring Plans'!$A$5:$M$104,5,FALSE)+($B53-1)*VLOOKUP($A53,'Recurring Plans'!$A$5:$M$104,6,FALSE),IF(VLOOKUP($A53,'Recurring Plans'!$A$5:$M$104,7,FALSE)='Assumptions'!$E$5,VLOOKUP($A53,'Recurring Plans'!$A$5:$M$104,5,FALSE)+($B53-1)*VLOOKUP($A53,'Recurring Plans'!$A$5:$M$104,6,FALSE)*7,IF(VLOOKUP($A53,'Recurring Plans'!$A$5:$M$104,7,FALSE)='Assumptions'!$E$6,EDATE(VLOOKUP($A53,'Recurring Plans'!$A$5:$M$104,5,FALSE),($B53-1)*VLOOKUP($A53,'Recurring Plans'!$A$5:$M$104,6,FALSE)),""))),"")) | G53: =IF($E53="","",IF($F53<>"",$F53,$E53)) | H53: =IF($E53="","",IFERROR(VLOOKUP($A53,'Recurring Plans'!$A$5:$M$104,9,FALSE),"")) | J53: =IF($E53="","",IF($I53<>"",$I53,IFERROR(VLOOKUP($A53,'Recurring Plans'!$A$5:$M$104,10,FALSE),""))) | L53: =IF($G53="","",IF($K53<>"",$K53,'Assumptions'!$E$14)) | N53: =IF($G53="","",IF(OR($F53<>"",$I53<>"",$M53<>"",$K53='Assumptions'!$E$16,$K53='Assumptions'!$E$17),"Exception - check",IF(AND($L53='Assumptions'!$E$14,$G53<'Assumptions'!$B$4),"Past date - check","")))
... A64: =IFERROR(IF(INDEX('Recurring Plans'!$A$5:$A$104,INT((ROW()-5)/12)+1)="","",INDEX('Recurring Plans'!$A$5:$A$104,INT((ROW()-5)/12)+1)),"") | B64: =IF($A64="","",MOD(ROW()-5,12)+1) | C64: =IF($A64="","",IFERROR(VLOOKUP($A64,'Recurring Plans'!$A$5:$M$104,2,FALSE),"")) | D64: =IF($A64="","",IFERROR(VLOOKUP($A64,'Recurring Plans'!$A$5:$M$104,4,FALSE),"")) | E64: =IF(OR($A64="",$B64>IFERROR(VLOOKUP($A64,'Recurring Plans'!$A$5:$M$104,8,FALSE),0),IFERROR(VLOOKUP($A64,'Recurring Plans'!$A$5:$M$104,11,FALSE),"")<>'Assumptions'!$E$9),"",IFERROR(IF(VLOOKUP($A64,'Recurring Plans'!$A$5:$M$104,7,FALSE)='Assumptions'!$E$4,VLOOKUP($A64,'Recurring Plans'!$A$5:$M$104,5,FALSE)+($B64-1)*VLOOKUP($A64,'Recurring Plans'!$A$5:$M$104,6,FALSE),IF(VLOOKUP($A64,'Recurring Plans'!$A$5:$M$104,7,FALSE)='Assumptions'!$E$5,VLOOKUP($A64,'Recurring Plans'!$A$5:$M$104,5,FALSE)+($B64-1)*VLOOKUP($A64,'Recurring Plans'!$A$5:$M$104,6,FALSE)*7,IF(VLOOKUP($A64,'Recurring Plans'!$A$5:$M$104,7,FALSE)='Assumptions'!$E$6,EDATE(VLOOKUP($A64,'Recurring Plans'!$A$5:$M$104,5,FALSE),($B64-1)*VLOOKUP($A64,'Recurring Plans'!$A$5:$M$104,6,FALSE)),""))),"")) | G64: =IF($E64="","",IF($F64<>"",$F64,$E64)) | H64: =IF($E64="","",IFERROR(VLOOKUP($A64,'Recurring Plans'!$A$5:$M$104,9,FALSE),"")) | J64: =IF($E64="","",IF($I64<>"",$I64,IFERROR(VLOOKUP($A64,'Recurring Plans'!$A$5:$M$104,10,FALSE),""))) | L64: =IF($G64="","",IF($K64<>"",$K64,'Assumptions'!$E$14)) | N64: =IF($G64="","",IF(OR($F64<>"",$I64<>"",$M64<>"",$K64='Assumptions'!$E$16,$K64='Assumptions'!$E$17),"Exception - check",IF(AND($L64='Assumptions'!$E$14,$G64<'Assumptions'!$B$4),"Past date - check","")))
A65: =IFERROR(IF(INDEX('Recurring Plans'!$A$5:$A$104,INT((ROW()-5)/12)+1)="","",INDEX('Recurring Plans'!$A$5:$A$104,INT((ROW()-5)/12)+1)),"") | B65: =IF($A65="","",MOD(ROW()-5,12)+1) | C65: =IF($A65="","",IFERROR(VLOOKUP($A65,'Recurring Plans'!$A$5:$M$104,2,FALSE),"")) | D65: =IF($A65="","",IFERROR(VLOOKUP($A65,'Recurring Plans'!$A$5:$M$104,4,FALSE),"")) | E65: =IF(OR($A65="",$B65>IFERROR(VLOOKUP($A65,'Recurring Plans'!$A$5:$M$104,8,FALSE),0),IFERROR(VLOOKUP($A65,'Recurring Plans'!$A$5:$M$104,11,FALSE),"")<>'Assumptions'!$E$9),"",IFERROR(IF(VLOOKUP($A65,'Recurring Plans'!$A$5:$M$104,7,FALSE)='Assumptions'!$E$4,VLOOKUP($A65,'Recurring Plans'!$A$5:$M$104,5,FALSE)+($B65-1)*VLOOKUP($A65,'Recurring Plans'!$A$5:$M$104,6,FALSE),IF(VLOOKUP($A65,'Recurring Plans'!$A$5:$M$104,7,FALSE)='Assumptions'!$E$5,VLOOKUP($A65,'Recurring Plans'!$A$5:$M$104,5,FALSE)+($B65-1)*VLOOKUP($A65,'Recurring Plans'!$A$5:$M$104,6,FALSE)*7,IF(VLOOKUP($A65,'Recurring Plans'!$A$5:$M$104,7,FALSE)='Assumptions'!$E$6,EDATE(VLOOKUP($A65,'Recurring Plans'!$A$5:$M$104,5,FALSE),($B65-1)*VLOOKUP($A65,'Recurring Plans'!$A$5:$M$104,6,FALSE)),""))),"")) | G65: =IF($E65="","",IF($F65<>"",$F65,$E65)) | H65: =IF($E65="","",IFERROR(VLOOKUP($A65,'Recurring Plans'!$A$5:$M$104,9,FALSE),"")) | J65: =IF($E65="","",IF($I65<>"",$I65,IFERROR(VLOOKUP($A65,'Recurring Plans'!$A$5:$M$104,10,FALSE),""))) | K65: Completed | L65: =IF($G65="","",IF($K65<>"",$K65,'Assumptions'!$E$14)) | N65: =IF($G65="","",IF(OR($F65<>"",$I65<>"",$M65<>"",$K65='Assumptions'!$E$16,$K65='Assumptions'!$E$17),"Exception - check",IF(AND($L65='Assumptions'!$E$14,$G65<'Assumptions'!$B$4),"Past date - check","")))
A66: =IFERROR(IF(INDEX('Recurring Plans'!$A$5:$A$104,INT((ROW()-5)/12)+1)="","",INDEX('Recurring Plans'!$A$5:$A$104,INT((ROW()-5)/12)+1)),"") | B66: =IF($A66="","",MOD(ROW()-5,12)+1) | C66: =IF($A66="","",IFERROR(VLOOKUP($A66,'Recurring Plans'!$A$5:$M$104,2,FALSE),"")) | D66: =IF($A66="","",IFERROR(VLOOKUP($A66,'Recurring Plans'!$A$5:$M$104,4,FALSE),"")) | E66: =IF(OR($A66="",$B66>IFERROR(VLOOKUP($A66,'Recurring Plans'!$A$5:$M$104,8,FALSE),0),IFERROR(VLOOKUP($A66,'Recurring Plans'!$A$5:$M$104,11,FALSE),"")<>'Assumptions'!$E$9),"",IFERROR(IF(VLOOKUP($A66,'Recurring Plans'!$A$5:$M$104,7,FALSE)='Assumptions'!$E$4,VLOOKUP($A66,'Recurring Plans'!$A$5:$M$104,5,FALSE)+($B66-1)*VLOOKUP($A66,'Recurring Plans'!$A$5:$M$104,6,FALSE),IF(VLOOKUP($A66,'Recurring Plans'!$A$5:$M$104,7,FALSE)='Assumptions'!$E$5,VLOOKUP($A66,'Recurring Plans'!$A$5:$M$104,5,FALSE)+($B66-1)*VLOOKUP($A66,'Recurring Plans'!$A$5:$M$104,6,FALSE)*7,IF(VLOOKUP($A66,'Recurring Plans'!$A$5:$M$104,7,FALSE)='Assumptions'!$E$6,EDATE(VLOOKUP($A66,'Recurring Plans'!$A$5:$M$104,5,FALSE),($B66-1)*VLOOKUP($A66,'Recurring Plans'!$A$5:$M$104,6,FALSE)),""))),"")) | G66: =IF($E66="","",IF($F66<>"",$F66,$E66)) | H66: =IF($E66="","",IFERROR(VLOOKUP($A66,'Recurring Plans'!$A$5:$M$104,9,FALSE),"")) | J66: =IF($E66="","",IF($I66<>"",$I66,IFERROR(VLOOKUP($A66,'Recurring Plans'!$A$5:$M$104,10,FALSE),""))) | L66: =IF($G66="","",IF($K66<>"",$K66,'Assumptions'!$E$14)) | N66: =IF($G66="","",IF(OR($F66<>"",$I66<>"",$M66<>"",$K66='Assumptions'!$E$16,$K66='Assumptions'!$E$17),"Exception - check",IF(AND($L66='Assumptions'!$E$14,$G66<'Assumptions'!$B$4),"Past date - check","")))
A67: =IFERROR(IF(INDEX('Recurring Plans'!$A$5:$A$104,INT((ROW()-5)/12)+1)="","",INDEX('Recurring Plans'!$A$5:$A$104,INT((ROW()-5)/12)+1)),"") | B67: =IF($A67="","",MOD(ROW()-5,12)+1) | C67: =IF($A67="","",IFERROR(VLOOKUP($A67,'Recurring Plans'!$A$5:$M$104,2,FALSE),"")) | D67: =IF($A67="","",IFERROR(VLOOKUP($A67,'Recurring Plans'!$A$5:$M$104,4,FALSE),"")) | E67: =IF(OR($A67="",$B67>IFERROR(VLOOKUP($A67,'Recurring Plans'!$A$5:$M$104,8,FALSE),0),IFERROR(VLOOKUP($A67,'Recurring Plans'!$A$5:$M$104,11,FALSE),"")<>'Assumptions'!$E$9),"",IFERROR(IF(VLOOKUP($A67,'Recurring Plans'!$A$5:$M$104,7,FALSE)='Assumptions'!$E$4,VLOOKUP($A67,'Recurring Plans'!$A$5:$M$104,5,FALSE)+($B67-1)*VLOOKUP($A67,'Recurring Plans'!$A$5:$M$104,6,FALSE),IF(VLOOKUP($A67,'Recurring Plans'!$A$5:$M$104,7,FALSE)='Assumptions'!$E$5,VLOOKUP($A67,'Recurring Plans'!$A$5:$M$104,5,FALSE)+($B67-1)*VLOOKUP($A67,'Recurring Plans'!$A$5:$M$104,6,FALSE)*7,IF(VLOOKUP($A67,'Recurring Plans'!$A$5:$M$104,7,FALSE)='Assumptions'!$E$6,EDATE(VLOOKUP($A67,'Recurring Plans'!$A$5:$M$104,5,FALSE),($B67-1)*VLOOKUP($A67,'Recurring Plans'!$A$5:$M$104,6,FALSE)),""))),"")) | G67: =IF($E67="","",IF($F67<>"",$F67,$E67)) | H67: =IF($E67="","",IFERROR(VLOOKUP($A67,'Recurring Plans'!$A$5:$M$104,9,FALSE),"")) | J67: =IF($E67="","",IF($I67<>"",$I67,IFERROR(VLOOKUP($A67,'Recurring Plans'!$A$5:$M$104,10,FALSE),""))) | L67: =IF($G67="","",IF($K67<>"",$K67,'Assumptions'!$E$14)) | N67: =IF($G67="","",IF(OR($F67<>"",$I67<>"",$M67<>"",$K67='Assumptions'!$E$16,$K67='Assumptions'!$E$17),"Exception - check",IF(AND($L67='Assumptions'!$E$14,$G67<'Assumptions'!$B$4),"Past date - check","")))
A68: =IFERROR(IF(INDEX('Recurring Plans'!$A$5:$A$104,INT((ROW()-5)/12)+1)="","",INDEX('Recurring Plans'!$A$5:$A$104,INT((ROW()-5)/12)+1)),"") | B68: =IF($A68="","",MOD(ROW()-5,12)+1) | C68: =IF($A68="","",IFERROR(VLOOKUP($A68,'Recurring Plans'!$A$5:$M$104,2,FALSE),"")) | D68: =IF($A68="","",IFERROR(VLOOKUP($A68,'Recurring Plans'!$A$5:$M$104,4,FALSE),"")) | E68: =IF(OR($A68="",$B68>IFERROR(VLOOKUP($A68,'Recurring Plans'!$A$5:$M$104,8,FALSE),0),IFERROR(VLOOKUP($A68,'Recurring Plans'!$A$5:$M$104,11,FALSE),"")<>'Assumptions'!$E$9),"",IFERROR(IF(VLOOKUP($A68,'Recurring Plans'!$A$5:$M$104,7,FALSE)='Assumptions'!$E$4,VLOOKUP($A68,'Recurring Plans'!$A$5:$M$104,5,FALSE)+($B68-1)*VLOOKUP($A68,'Recurring Plans'!$A$5:$M$104,6,FALSE),IF(VLOOKUP($A68,'Recurring Plans'!$A$5:$M$104,7,FALSE)='Assumptions'!$E$5,VLOOKUP($A68,'Recurring Plans'!$A$5:$M$104,5,FALSE)+($B68-1)*VLOOKUP($A68,'Recurring Plans'!$A$5:$M$104,6,FALSE)*7,IF(VLOOKUP($A68,'Recurring Plans'!$A$5:$M$104,7,FALSE)='Assumptions'!$E$6,EDATE(VLOOKUP($A68,'Recurring Plans'!$A$5:$M$104,5,FALSE),($B68-1)*VLOOKUP($A68,'Recurring Plans'!$A$5:$M$104,6,FALSE)),""))),"")) | G68: =IF($E68="","",IF($F68<>"",$F68,$E68)) | H68: =IF($E68="","",IFERROR(VLOOKUP($A68,'Recurring Plans'!$A$5:$M$104,9,FALSE),"")) | J68: =IF($E68="","",IF($I68<>"",$I68,IFERROR(VLOOKUP($A68,'Recurring Plans'!$A$5:$M$104,10,FALSE),""))) | L68: =IF($G68="","",IF($K68<>"",$K68,'Assumptions'!$E$14)) | N68: =IF($G68="","",IF(OR($F68<>"",$I68<>"",$M68<>"",$K68='Assumptions'!$E$16,$K68='Assumptions'!$E$17),"Exception - check",IF(AND($L68='Assumptions'!$E$14,$G68<'Assumptions'!$B$4),"Past date - check","")))
A69: =IFERROR(IF(INDEX('Recurring Plans'!$A$5:$A$104,INT((ROW()-5)/12)+1)="","",INDEX('Recurring Plans'!$A$5:$A$104,INT((ROW()-5)/12)+1)),"") | B69: =IF($A69="","",MOD(ROW()-5,12)+1) | C69: =IF($A69="","",IFERROR(VLOOKUP($A69,'Recurring Plans'!$A$5:$M$104,2,FALSE),"")) | D69: =IF($A69="","",IFERROR(VLOOKUP($A69,'Recurring Plans'!$A$5:$M$104,4,FALSE),"")) | E69: =IF(OR($A69="",$B69>IFERROR(VLOOKUP($A69,'Recurring Plans'!$A$5:$M$104,8,FALSE),0),IFERROR(VLOOKUP($A69,'Recurring Plans'!$A$5:$M$104,11,FALSE),"")<>'Assumptions'!$E$9),"",IFERROR(IF(VLOOKUP($A69,'Recurring Plans'!$A$5:$M$104,7,FALSE)='Assumptions'!$E$4,VLOOKUP($A69,'Recurring Plans'!$A$5:$M$104,5,FALSE)+($B69-1)*VLOOKUP($A69,'Recurring Plans'!$A$5:$M$104,6,FALSE),IF(VLOOKUP($A69,'Recurring Plans'!$A$5:$M$104,7,FALSE)='Assumptions'!$E$5,VLOOKUP($A69,'Recurring Plans'!$A$5:$M$104,5,FALSE)+($B69-1)*VLOOKUP($A69,'Recurring Plans'!$A$5:$M$104,6,FALSE)*7,IF(VLOOKUP($A69,'Recurring Plans'!$A$5:$M$104,7,FALSE)='Assumptions'!$E$6,EDATE(VLOOKUP($A69,'Recurring Plans'!$A$5:$M$104,5,FALSE),($B69-1)*VLOOKUP($A69,'Recurring Plans'!$A$5:$M$104,6,FALSE)),""))),"")) | G69: =IF($E69="","",IF($F69<>"",$F69,$E69)) | H69: =IF($E69="","",IFERROR(VLOOKUP($A69,'Recurring Plans'!$A$5:$M$104,9,FALSE),"")) | J69: =IF($E69="","",IF($I69<>"",$I69,IFERROR(VLOOKUP($A69,'Recurring Plans'!$A$5:$M$104,10,FALSE),""))) | L69: =IF($G69="","",IF($K69<>"",$K69,'Assumptions'!$E$14)) | N69: =IF($G69="","",IF(OR($F69<>"",$I69<>"",$M69<>"",$K69='Assumptions'!$E$16,$K69='Assumptions'!$E$17),"Exception - check",IF(AND($L69='Assumptions'!$E$14,$G69<'Assumptions'!$B$4),"Past date - check","")))
A70: =IFERROR(IF(INDEX('Recurring Plans'!$A$5:$A$104,INT((ROW()-5)/12)+1)="","",INDEX('Recurring Plans'!$A$5:$A$104,INT((ROW()-5)/12)+1)),"") | B70: =IF($A70="","",MOD(ROW()-5,12)+1) | C70: =IF($A70="","",IFERROR(VLOOKUP($A70,'Recurring Plans'!$A$5:$M$104,2,FALSE),"")) | D70: =IF($A70="","",IFERROR(VLOOKUP($A70,'Recurring Plans'!$A$5:$M$104,4,FALSE),"")) | E70: =IF(OR($A70="",$B70>IFERROR(VLOOKUP($A70,'Recurring Plans'!$A$5:$M$104,8,FALSE),0),IFERROR(VLOOKUP($A70,'Recurring Plans'!$A$5:$M$104,11,FALSE),"")<>'Assumptions'!$E$9),"",IFERROR(IF(VLOOKUP($A70,'Recurring Plans'!$A$5:$M$104,7,FALSE)='Assumptions'!$E$4,VLOOKUP($A70,'Recurring Plans'!$A$5:$M$104,5,FALSE)+($B70-1)*VLOOKUP($A70,'Recurring Plans'!$A$5:$M$104,6,FALSE),IF(VLOOKUP($A70,'Recurring Plans'!$A$5:$M$104,7,FALSE)='Assumptions'!$E$5,VLOOKUP($A70,'Recurring Plans'!$A$5:$M$104,5,FALSE)+($B70-1)*VLOOKUP($A70,'Recurring Plans'!$A$5:$M$104,6,FALSE)*7,IF(VLOOKUP($A70,'Recurring Plans'!$A$5:$M$104,7,FALSE)='Assumptions'!$E$6,EDATE(VLOOKUP($A70,'Recurring Plans'!$A$5:$M$104,5,FALSE),($B70-1)*VLOOKUP($A70,'Recurring Plans'!$A$5:$M$104,6,FALSE)),""))),"")) | G70: =IF($E70="","",IF($F70<>"",$F70,$E70)) | H70: =IF($E70="","",IFERROR(VLOOKUP($A70,'Recurring Plans'!$A$5:$M$104,9,FALSE),"")) | J70: =IF($E70="","",IF($I70<>"",$I70,IFERROR(VLOOKUP($A70,'Recurring Plans'!$A$5:$M$104,10,FALSE),""))) | L70: =IF($G70="","",IF($K70<>"",$K70,'Assumptions'!$E$14)) | N70: =IF($G70="","",IF(OR($F70<>"",$I70<>"",$M70<>"",$K70='Assumptions'!$E$16,$K70='Assumptions'!$E$17),"Exception - check",IF(AND($L70='Assumptions'!$E$14,$G70<'Assumptions'!$B$4),"Past date - check","")))
A71: =IFERROR(IF(INDEX('Recurring Plans'!$A$5:$A$104,INT((ROW()-5)/12)+1)="","",INDEX('Recurring Plans'!$A$5:$A$104,INT((ROW()-5)/12)+1)),"") | B71: =IF($A71="","",MOD(ROW()-5,12)+1) | C71: =IF($A71="","",IFERROR(VLOOKUP($A71,'Recurring Plans'!$A$5:$M$104,2,FALSE),"")) | D71: =IF($A71="","",IFERROR(VLOOKUP($A71,'Recurring Plans'!$A$5:$M$104,4,FALSE),"")) | E71: =IF(OR($A71="",$B71>IFERROR(VLOOKUP($A71,'Recurring Plans'!$A$5:$M$104,8,FALSE),0),IFERROR(VLOOKUP($A71,'Recurring Plans'!$A$5:$M$104,11,FALSE),"")<>'Assumptions'!$E$9),"",IFERROR(IF(VLOOKUP($A71,'Recurring Plans'!$A$5:$M$104,7,FALSE)='Assumptions'!$E$4,VLOOKUP($A71,'Recurring Plans'!$A$5:$M$104,5,FALSE)+($B71-1)*VLOOKUP($A71,'Recurring Plans'!$A$5:$M$104,6,FALSE),IF(VLOOKUP($A71,'Recurring Plans'!$A$5:$M$104,7,FALSE)='Assumptions'!$E$5,VLOOKUP($A71,'Recurring Plans'!$A$5:$M$104,5,FALSE)+($B71-1)*VLOOKUP($A71,'Recurring Plans'!$A$5:$M$104,6,FALSE)*7,IF(VLOOKUP($A71,'Recurring Plans'!$A$5:$M$104,7,FALSE)='Assumptions'!$E$6,EDATE(VLOOKUP($A71,'Recurring Plans'!$A$5:$M$104,5,FALSE),($B71-1)*VLOOKUP($A71,'Recurring Plans'!$A$5:$M$104,6,FALSE)),""))),"")) | G71: =IF($E71="","",IF($F71<>"",$F71,$E71)) | H71: =IF($E71="","",IFERROR(VLOOKUP($A71,'Recurring Plans'!$A$5:$M$104,9,FALSE),"")) | J71: =IF($E71="","",IF($I71<>"",$I71,IFERROR(VLOOKUP($A71,'Recurring Plans'!$A$5:$M$104,10,FALSE),""))) | L71: =IF($G71="","",IF($K71<>"",$K71,'Assumptions'!$E$14)) | N71: =IF($G71="","",IF(OR($F71<>"",$I71<>"",$M71<>"",$K71='Assumptions'!$E$16,$K71='Assumptions'!$E$17),"Exception - check",IF(AND($L71='Assumptions'!$E$14,$G71<'Assumptions'!$B$4),"Past date - check","")))
A72: =IFERROR(IF(INDEX('Recurring Plans'!$A$5:$A$104,INT((ROW()-5)/12)+1)="","",INDEX('Recurring Plans'!$A$5:$A$104,INT((ROW()-5)/12)+1)),"") | B72: =IF($A72="","",MOD(ROW()-5,12)+1) | C72: =IF($A72="","",IFERROR(VLOOKUP($A72,'Recurring Plans'!$A$5:$M$104,2,FALSE),"")) | D72: =IF($A72="","",IFERROR(VLOOKUP($A72,'Recurring Plans'!$A$5:$M$104,4,FALSE),"")) | E72: =IF(OR($A72="",$B72>IFERROR(VLOOKUP($A72,'Recurring Plans'!$A$5:$M$104,8,FALSE),0),IFERROR(VLOOKUP($A72,'Recurring Plans'!$A$5:$M$104,11,FALSE),"")<>'Assumptions'!$E$9),"",IFERROR(IF(VLOOKUP($A72,'Recurring Plans'!$A$5:$M$104,7,FALSE)='Assumptions'!$E$4,VLOOKUP($A72,'Recurring Plans'!$A$5:$M$104,5,FALSE)+($B72-1)*VLOOKUP($A72,'Recurring Plans'!$A$5:$M$104,6,FALSE),IF(VLOOKUP($A72,'Recurring Plans'!$A$5:$M$104,7,FALSE)='Assumptions'!$E$5,VLOOKUP($A72,'Recurring Plans'!$A$5:$M$104,5,FALSE)+($B72-1)*VLOOKUP($A72,'Recurring Plans'!$A$5:$M$104,6,FALSE)*7,IF(VLOOKUP($A72,'Recurring Plans'!$A$5:$M$104,7,FALSE)='Assumptions'!$E$6,EDATE(VLOOKUP($A72,'Recurring Plans'!$A$5:$M$104,5,FALSE),($B72-1)*VLOOKUP($A72,'Recurring Plans'!$A$5:$M$104,6,FALSE)),""))),"")) | G72: =IF($E72="","",IF($F72<>"",$F72,$E72)) | H72: =IF($E72="","",IFERROR(VLOOKUP($A72,'Recurring Plans'!$A$5:$M$104,9,FALSE),"")) | J72: =IF($E72="","",IF($I72<>"",$I72,IFERROR(VLOOKUP($A72,'Recurring Plans'!$A$5:$M$104,10,FALSE),""))) | L72: =IF($G72="","",IF($K72<>"",$K72,'Assumptions'!$E$14)) | N72: =IF($G72="","",IF(OR($F72<>"",$I72<>"",$M72<>"",$K72='Assumptions'!$E$16,$K72='Assumptions'!$E$17),"Exception - check",IF(AND($L72='Assumptions'!$E$14,$G72<'Assumptions'!$B$4),"Past date - check","")))
A73: =IFERROR(IF(INDEX('Recurring Plans'!$A$5:$A$104,INT((ROW()-5)/12)+1)="","",INDEX('Recurring Plans'!$A$5:$A$104,INT((ROW()-5)/12)+1)),"") | B73: =IF($A73="","",MOD(ROW()-5,12)+1) | C73: =IF($A73="","",IFERROR(VLOOKUP($A73,'Recurring Plans'!$A$5:$M$104,2,FALSE),"")) | D73: =IF($A73="","",IFERROR(VLOOKUP($A73,'Recurring Plans'!$A$5:$M$104,4,FALSE),"")) | E73: =IF(OR($A73="",$B73>IFERROR(VLOOKUP($A73,'Recurring Plans'!$A$5:$M$104,8,FALSE),0),IFERROR(VLOOKUP($A73,'Recurring Plans'!$A$5:$M$104,11,FALSE),"")<>'Assumptions'!$E$9),"",IFERROR(IF(VLOOKUP($A73,'Recurring Plans'!$A$5:$M$104,7,FALSE)='Assumptions'!$E$4,VLOOKUP($A73,'Recurring Plans'!$A$5:$M$104,5,FALSE)+($B73-1)*VLOOKUP($A73,'Recurring Plans'!$A$5:$M$104,6,FALSE),IF(VLOOKUP($A73,'Recurring Plans'!$A$5:$M$104,7,FALSE)='Assumptions'!$E$5,VLOOKUP($A73,'Recurring Plans'!$A$5:$M$104,5,FALSE)+($B73-1)*VLOOKUP($A73,'Recurring Plans'!$A$5:$M$104,6,FALSE)*7,IF(VLOOKUP($A73,'Recurring Plans'!$A$5:$M$104,7,FALSE)='Assumptions'!$E$6,EDATE(VLOOKUP($A73,'Recurring Plans'!$A$5:$M$104,5,FALSE),($B73-1)*VLOOKUP($A73,'Recurring Plans'!$A$5:$M$104,6,FALSE)),""))),"")) | G73: =IF($E73="","",IF($F73<>"",$F73,$E73)) | H73: =IF($E73="","",IFERROR(VLOOKUP($A73,'Recurring Plans'!$A$5:$M$104,9,FALSE),"")) | J73: =IF($E73="","",IF($I73<>"",$I73,IFERROR(VLOOKUP($A73,'Recurring Plans'!$A$5:$M$104,10,FALSE),""))) | L73: =IF($G73="","",IF($K73<>"",$K73,'Assumptions'!$E$14)) | N73: =IF($G73="","",IF(OR($F73<>"",$I73<>"",$M73<>"",$K73='Assumptions'!$E$16,$K73='Assumptions'!$E$17),"Exception - check",IF(AND($L73='Assumptions'!$E$14,$G73<'Assumptions'!$B$4),"Past date - check","")))
A74: =IFERROR(IF(INDEX('Recurring Plans'!$A$5:$A$104,INT((ROW()-5)/12)+1)="","",INDEX('Recurring Plans'!$A$5:$A$104,INT((ROW()-5)/12)+1)),"") | B74: =IF($A74="","",MOD(ROW()-5,12)+1) | C74: =IF($A74="","",IFERROR(VLOOKUP($A74,'Recurring Plans'!$A$5:$M$104,2,FALSE),"")) | D74: =IF($A74="","",IFERROR(VLOOKUP($A74,'Recurring Plans'!$A$5:$M$104,4,FALSE),"")) | E74: =IF(OR($A74="",$B74>IFERROR(VLOOKUP($A74,'Recurring Plans'!$A$5:$M$104,8,FALSE),0),IFERROR(VLOOKUP($A74,'Recurring Plans'!$A$5:$M$104,11,FALSE),"")<>'Assumptions'!$E$9),"",IFERROR(IF(VLOOKUP($A74,'Recurring Plans'!$A$5:$M$104,7,FALSE)='Assumptions'!$E$4,VLOOKUP($A74,'Recurring Plans'!$A$5:$M$104,5,FALSE)+($B74-1)*VLOOKUP($A74,'Recurring Plans'!$A$5:$M$104,6,FALSE),IF(VLOOKUP($A74,'Recurring Plans'!$A$5:$M$104,7,FALSE)='Assumptions'!$E$5,VLOOKUP($A74,'Recurring Plans'!$A$5:$M$104,5,FALSE)+($B74-1)*VLOOKUP($A74,'Recurring Plans'!$A$5:$M$104,6,FALSE)*7,IF(VLOOKUP($A74,'Recurring Plans'!$A$5:$M$104,7,FALSE)='Assumptions'!$E$6,EDATE(VLOOKUP($A74,'Recurring Plans'!$A$5:$M$104,5,FALSE),($B74-1)*VLOOKUP($A74,'Recurring Plans'!$A$5:$M$104,6,FALSE)),""))),"")) | G74: =IF($E74="","",IF($F74<>"",$F74,$E74)) | H74: =IF($E74="","",IFERROR(VLOOKUP($A74,'Recurring Plans'!$A$5:$M$104,9,FALSE),"")) | J74: =IF($E74="","",IF($I74<>"",$I74,IFERROR(VLOOKUP($A74,'Recurring Plans'!$A$5:$M$104,10,FALSE),""))) | L74: =IF($G74="","",IF($K74<>"",$K74,'Assumptions'!$E$14)) | N74: =IF($G74="","",IF(OR($F74<>"",$I74<>"",$M74<>"",$K74='Assumptions'!$E$16,$K74='Assumptions'!$E$17),"Exception - check",IF(AND($L74='Assumptions'!$E$14,$G74<'Assumptions'!$B$4),"Past date - check","")))
A75: =IFERROR(IF(INDEX('Recurring Plans'!$A$5:$A$104,INT((ROW()-5)/12)+1)="","",INDEX('Recurring Plans'!$A$5:$A$104,INT((ROW()-5)/12)+1)),"") | B75: =IF($A75="","",MOD(ROW()-5,12)+1) | C75: =IF($A75="","",IFERROR(VLOOKUP($A75,'Recurring Plans'!$A$5:$M$104,2,FALSE),"")) | D75: =IF($A75="","",IFERROR(VLOOKUP($A75,'Recurring Plans'!$A$5:$M$104,4,FALSE),"")) | E75: =IF(OR($A75="",$B75>IFERROR(VLOOKUP($A75,'Recurring Plans'!$A$5:$M$104,8,FALSE),0),IFERROR(VLOOKUP($A75,'Recurring Plans'!$A$5:$M$104,11,FALSE),"")<>'Assumptions'!$E$9),"",IFERROR(IF(VLOOKUP($A75,'Recurring Plans'!$A$5:$M$104,7,FALSE)='Assumptions'!$E$4,VLOOKUP($A75,'Recurring Plans'!$A$5:$M$104,5,FALSE)+($B75-1)*VLOOKUP($A75,'Recurring Plans'!$A$5:$M$104,6,FALSE),IF(VLOOKUP($A75,'Recurring Plans'!$A$5:$M$104,7,FALSE)='Assumptions'!$E$5,VLOOKUP($A75,'Recurring Plans'!$A$5:$M$104,5,FALSE)+($B75-1)*VLOOKUP($A75,'Recurring Plans'!$A$5:$M$104,6,FALSE)*7,IF(VLOOKUP($A75,'Recurring Plans'!$A$5:$M$104,7,FALSE)='Assumptions'!$E$6,EDATE(VLOOKUP($A75,'Recurring Plans'!$A$5:$M$104,5,FALSE),($B75-1)*VLOOKUP($A75,'Recurring Plans'!$A$5:$M$104,6,FALSE)),""))),"")) | G75: =IF($E75="","",IF($F75<>"",$F75,$E75)) | H75: =IF($E75="","",IFERROR(VLOOKUP($A75,'Recurring Plans'!$A$5:$M$104,9,FALSE),"")) | J75: =IF($E75="","",IF($I75<>"",$I75,IFERROR(VLOOKUP($A75,'Recurring Plans'!$A$5:$M$104,10,FALSE),""))) | L75: =IF($G75="","",IF($K75<>"",$K75,'Assumptions'!$E$14)) | N75: =IF($G75="","",IF(OR($F75<>"",$I75<>"",$M75<>"",$K75='Assumptions'!$E$16,$K75='Assumptions'!$E$17),"Exception - check",IF(AND($L75='Assumptions'!$E$14,$G75<'Assumptions'!$B$4),"Past date - check","")))
A76: =IFERROR(IF(INDEX('Recurring Plans'!$A$5:$A$104,INT((ROW()-5)/12)+1)="","",INDEX('Recurring Plans'!$A$5:$A$104,INT((ROW()-5)/12)+1)),"") | B76: =IF($A76="","",MOD(ROW()-5,12)+1) | C76: =IF($A76="","",IFERROR(VLOOKUP($A76,'Recurring Plans'!$A$5:$M$104,2,FALSE),"")) | D76: =IF($A76="","",IFERROR(VLOOKUP($A76,'Recurring Plans'!$A$5:$M$104,4,FALSE),"")) | E76: =IF(OR($A76="",$B76>IFERROR(VLOOKUP($A76,'Recurring Plans'!$A$5:$M$104,8,FALSE),0),IFERROR(VLOOKUP($A76,'Recurring Plans'!$A$5:$M$104,11,FALSE),"")<>'Assumptions'!$E$9),"",IFERROR(IF(VLOOKUP($A76,'Recurring Plans'!$A$5:$M$104,7,FALSE)='Assumptions'!$E$4,VLOOKUP($A76,'Recurring Plans'!$A$5:$M$104,5,FALSE)+($B76-1)*VLOOKUP($A76,'Recurring Plans'!$A$5:$M$104,6,FALSE),IF(VLOOKUP($A76,'Recurring Plans'!$A$5:$M$104,7,FALSE)='Assumptions'!$E$5,VLOOKUP($A76,'Recurring Plans'!$A$5:$M$104,5,FALSE)+($B76-1)*VLOOKUP($A76,'Recurring Plans'!$A$5:$M$104,6,FALSE)*7,IF(VLOOKUP($A76,'Recurring Plans'!$A$5:$M$104,7,FALSE)='Assumptions'!$E$6,EDATE(VLOOKUP($A76,'Recurring Plans'!$A$5:$M$104,5,FALSE),($B76-1)*VLOOKUP($A76,'Recurring Plans'!$A$5:$M$104,6,FALSE)),""))),"")) | G76: =IF($E76="","",IF($F76<>"",$F76,$E76)) | H76: =IF($E76="","",IFERROR(VLOOKUP($A76,'Recurring Plans'!$A$5:$M$104,9,FALSE),"")) | J76: =IF($E76="","",IF($I76<>"",$I76,IFERROR(VLOOKUP($A76,'Recurring Plans'!$A$5:$M$104,10,FALSE),""))) | L76: =IF($G76="","",IF($K76<>"",$K76,'Assumptions'!$E$14)) | N76: =IF($G76="","",IF(OR($F76<>"",$I76<>"",$M76<>"",$K76='Assumptions'!$E$16,$K76='Assumptions'!$E$17),"Exception - check",IF(AND($L76='Assumptions'!$E$14,$G76<'Assumptions'!$B$4),"Past date - check","")))
A77: =IFERROR(IF(INDEX('Recurring Plans'!$A$5:$A$104,INT((ROW()-5)/12)+1)="","",INDEX('Recurring Plans'!$A$5:$A$104,INT((ROW()-5)/12)+1)),"") | B77: =IF($A77="","",MOD(ROW()-5,12)+1) | C77: =IF($A77="","",IFERROR(VLOOKUP($A77,'Recurring Plans'!$A$5:$M$104,2,FALSE),"")) | D77: =IF($A77="","",IFERROR(VLOOKUP($A77,'Recurring Plans'!$A$5:$M$104,4,FALSE),"")) | E77: =IF(OR($A77="",$B77>IFERROR(VLOOKUP($A77,'Recurring Plans'!$A$5:$M$104,8,FALSE),0),IFERROR(VLOOKUP($A77,'Recurring Plans'!$A$5:$M$104,11,FALSE),"")<>'Assumptions'!$E$9),"",IFERROR(IF(VLOOKUP($A77,'Recurring Plans'!$A$5:$M$104,7,FALSE)='Assumptions'!$E$4,VLOOKUP($A77,'Recurring Plans'!$A$5:$M$104,5,FALSE)+($B77-1)*VLOOKUP($A77,'Recurring Plans'!$A$5:$M$104,6,FALSE),IF(VLOOKUP($A77,'Recurring Plans'!$A$5:$M$104,7,FALSE)='Assumptions'!$E$5,VLOOKUP($A77,'Recurring Plans'!$A$5:$M$104,5,FALSE)+($B77-1)*VLOOKUP($A77,'Recurring Plans'!$A$5:$M$104,6,FALSE)*7,IF(VLOOKUP($A77,'Recurring Plans'!$A$5:$M$104,7,FALSE)='Assumptions'!$E$6,EDATE(VLOOKUP($A77,'Recurring Plans'!$A$5:$M$104,5,FALSE),($B77-1)*VLOOKUP($A77,'Recurring Plans'!$A$5:$M$104,6,FALSE)),""))),"")) | G77: =IF($E77="","",IF($F77<>"",$F77,$E77)) | H77: =IF($E77="","",IFERROR(VLOOKUP($A77,'Recurring Plans'!$A$5:$M$104,9,FALSE),"")) | J77: =IF($E77="","",IF($I77<>"",$I77,IFERROR(VLOOKUP($A77,'Recurring Plans'!$A$5:$M$104,10,FALSE),""))) | L77: =IF($G77="","",IF($K77<>"",$K77,'Assumptions'!$E$14)) | N77: =IF($G77="","",IF(OR($F77<>"",$I77<>"",$M77<>"",$K77='Assumptions'!$E$16,$K77='Assumptions'!$E$17),"Exception - check",IF(AND($L77='Assumptions'!$E$14,$G77<'Assumptions'!$B$4),"Past date - check","")))
... A100: =IFERROR(IF(INDEX('Recurring Plans'!$A$5:$A$104,INT((ROW()-5)/12)+1)="","",INDEX('Recurring Plans'!$A$5:$A$104,INT((ROW()-5)/12)+1)),"") | B100: =IF($A100="","",MOD(ROW()-5,12)+1) | C100: =IF($A100="","",IFERROR(VLOOKUP($A100,'Recurring Plans'!$A$5:$M$104,2,FALSE),"")) | D100: =IF($A100="","",IFERROR(VLOOKUP($A100,'Recurring Plans'!$A$5:$M$104,4,FALSE),"")) | E100: =IF(OR($A100="",$B100>IFERROR(VLOOKUP($A100,'Recurring Plans'!$A$5:$M$104,8,FALSE),0),IFERROR(VLOOKUP($A100,'Recurring Plans'!$A$5:$M$104,11,FALSE),"")<>'Assumptions'!$E$9),"",IFERROR(IF(VLOOKUP($A100,'Recurring Plans'!$A$5:$M$104,7,FALSE)='Assumptions'!$E$4,VLOOKUP($A100,'Recurring Plans'!$A$5:$M$104,5,FALSE)+($B100-1)*VLOOKUP($A100,'Recurring Plans'!$A$5:$M$104,6,FALSE),IF(VLOOKUP($A100,'Recurring Plans'!$A$5:$M$104,7,FALSE)='Assumptions'!$E$5,VLOOKUP($A100,'Recurring Plans'!$A$5:$M$104,5,FALSE)+($B100-1)*VLOOKUP($A100,'Recurring Plans'!$A$5:$M$104,6,FALSE)*7,IF(VLOOKUP($A100,'Recurring Plans'!$A$5:$M$104,7,FALSE)='Assumptions'!$E$6,EDATE(VLOOKUP($A100,'Recurring Plans'!$A$5:$M$104,5,FALSE),($B100-1)*VLOOKUP($A100,'Recurring Plans'!$A$5:$M$104,6,FALSE)),""))),"")) | G100: =IF($E100="","",IF($F100<>"",$F100,$E100)) | H100: =IF($E100="","",IFERROR(VLOOKUP($A100,'Recurring Plans'!$A$5:$M$104,9,FALSE),"")) | J100: =IF($E100="","",IF($I100<>"",$I100,IFERROR(VLOOKUP($A100,'Recurring Plans'!$A$5:$M$104,10,FALSE),""))) | L100: =IF($G100="","",IF($K100<>"",$K100,'Assumptions'!$E$14)) | N100: =IF($G100="","",IF(OR($F100<>"",$I100<>"",$M100<>"",$K100='Assumptions'!$E$16,$K100='Assumptions'!$E$17),"Exception - check",IF(AND($L100='Assumptions'!$E$14,$G100<'Assumptions'!$B$4),"Past date - check","")))
A101: =IFERROR(IF(INDEX('Recurring Plans'!$A$5:$A$104,INT((ROW()-5)/12)+1)="","",INDEX('Recurring Plans'!$A$5:$A$104,INT((ROW()-5)/12)+1)),"") | B101: =IF($A101="","",MOD(ROW()-5,12)+1) | C101: =IF($A101="","",IFERROR(VLOOKUP($A101,'Recurring Plans'!$A$5:$M$104,2,FALSE),"")) | D101: =IF($A101="","",IFERROR(VLOOKUP($A101,'Recurring Plans'!$A$5:$M$104,4,FALSE),"")) | E101: =IF(OR($A101="",$B101>IFERROR(VLOOKUP($A101,'Recurring Plans'!$A$5:$M$104,8,FALSE),0),IFERROR(VLOOKUP($A101,'Recurring Plans'!$A$5:$M$104,11,FALSE),"")<>'Assumptions'!$E$9),"",IFERROR(IF(VLOOKUP($A101,'Recurring Plans'!$A$5:$M$104,7,FALSE)='Assumptions'!$E$4,VLOOKUP($A101,'Recurring Plans'!$A$5:$M$104,5,FALSE)+($B101-1)*VLOOKUP($A101,'Recurring Plans'!$A$5:$M$104,6,FALSE),IF(VLOOKUP($A101,'Recurring Plans'!$A$5:$M$104,7,FALSE)='Assumptions'!$E$5,VLOOKUP($A101,'Recurring Plans'!$A$5:$M$104,5,FALSE)+($B101-1)*VLOOKUP($A101,'Recurring Plans'!$A$5:$M$104,6,FALSE)*7,IF(VLOOKUP($A101,'Recurring Plans'!$A$5:$M$104,7,FALSE)='Assumptions'!$E$6,EDATE(VLOOKUP($A101,'Recurring Plans'!$A$5:$M$104,5,FALSE),($B101-1)*VLOOKUP($A101,'Recurring Plans'!$A$5:$M$104,6,FALSE)),""))),"")) | G101: =IF($E101="","",IF($F101<>"",$F101,$E101)) | H101: =IF($E101="","",IFERROR(VLOOKUP($A101,'Recurring Plans'!$A$5:$M$104,9,FALSE),"")) | J101: =IF($E101="","",IF($I101<>"",$I101,IFERROR(VLOOKUP($A101,'Recurring Plans'!$A$5:$M$104,10,FALSE),""))) | K101: Canceled | L101: =IF($G101="","",IF($K101<>"",$K101,'Assumptions'!$E$14)) | M101: Owner canceled this occurrence. | N101: =IF($G101="","",IF(OR($F101<>"",$I101<>"",$M101<>"",$K101='Assumptions'!$E$16,$K101='Assumptions'!$E$17),"Exception - check",IF(AND($L101='Assumptions'!$E$14,$G101<'Assumptions'!$B$4),"Past date - check","")))
A102: =IFERROR(IF(INDEX('Recurring Plans'!$A$5:$A$104,INT((ROW()-5)/12)+1)="","",INDEX('Recurring Plans'!$A$5:$A$104,INT((ROW()-5)/12)+1)),"") | B102: =IF($A102="","",MOD(ROW()-5,12)+1) | C102: =IF($A102="","",IFERROR(VLOOKUP($A102,'Recurring Plans'!$A$5:$M$104,2,FALSE),"")) | D102: =IF($A102="","",IFERROR(VLOOKUP($A102,'Recurring Plans'!$A$5:$M$104,4,FALSE),"")) | E102: =IF(OR($A102="",$B102>IFERROR(VLOOKUP($A102,'Recurring Plans'!$A$5:$M$104,8,FALSE),0),IFERROR(VLOOKUP($A102,'Recurring Plans'!$A$5:$M$104,11,FALSE),"")<>'Assumptions'!$E$9),"",IFERROR(IF(VLOOKUP($A102,'Recurring Plans'!$A$5:$M$104,7,FALSE)='Assumptions'!$E$4,VLOOKUP($A102,'Recurring Plans'!$A$5:$M$104,5,FALSE)+($B102-1)*VLOOKUP($A102,'Recurring Plans'!$A$5:$M$104,6,FALSE),IF(VLOOKUP($A102,'Recurring Plans'!$A$5:$M$104,7,FALSE)='Assumptions'!$E$5,VLOOKUP($A102,'Recurring Plans'!$A$5:$M$104,5,FALSE)+($B102-1)*VLOOKUP($A102,'Recurring Plans'!$A$5:$M$104,6,FALSE)*7,IF(VLOOKUP($A102,'Recurring Plans'!$A$5:$M$104,7,FALSE)='Assumptions'!$E$6,EDATE(VLOOKUP($A102,'Recurring Plans'!$A$5:$M$104,5,FALSE),($B102-1)*VLOOKUP($A102,'Recurring Plans'!$A$5:$M$104,6,FALSE)),""))),"")) | G102: =IF($E102="","",IF($F102<>"",$F102,$E102)) | H102: =IF($E102="","",IFERROR(VLOOKUP($A102,'Recurring Plans'!$A$5:$M$104,9,FALSE),"")) | J102: =IF($E102="","",IF($I102<>"",$I102,IFERROR(VLOOKUP($A102,'Recurring Plans'!$A$5:$M$104,10,FALSE),""))) | L102: =IF($G102="","",IF($K102<>"",$K102,'Assumptions'!$E$14)) | N102: =IF($G102="","",IF(OR($F102<>"",$I102<>"",$M102<>"",$K102='Assumptions'!$E$16,$K102='Assumptions'!$E$17),"Exception - check",IF(AND($L102='Assumptions'!$E$14,$G102<'Assumptions'!$B$4),"Past date - check","")))
A103: =IFERROR(IF(INDEX('Recurring Plans'!$A$5:$A$104,INT((ROW()-5)/12)+1)="","",INDEX('Recurring Plans'!$A$5:$A$104,INT((ROW()-5)/12)+1)),"") | B103: =IF($A103="","",MOD(ROW()-5,12)+1) | C103: =IF($A103="","",IFERROR(VLOOKUP($A103,'Recurring Plans'!$A$5:$M$104,2,FALSE),"")) | D103: =IF($A103="","",IFERROR(VLOOKUP($A103,'Recurring Plans'!$A$5:$M$104,4,FALSE),"")) | E103: =IF(OR($A103="",$B103>IFERROR(VLOOKUP($A103,'Recurring Plans'!$A$5:$M$104,8,FALSE),0),IFERROR(VLOOKUP($A103,'Recurring Plans'!$A$5:$M$104,11,FALSE),"")<>'Assumptions'!$E$9),"",IFERROR(IF(VLOOKUP($A103,'Recurring Plans'!$A$5:$M$104,7,FALSE)='Assumptions'!$E$4,VLOOKUP($A103,'Recurring Plans'!$A$5:$M$104,5,FALSE)+($B103-1)*VLOOKUP($A103,'Recurring Plans'!$A$5:$M$104,6,FALSE),IF(VLOOKUP($A103,'Recurring Plans'!$A$5:$M$104,7,FALSE)='Assumptions'!$E$5,VLOOKUP($A103,'Recurring Plans'!$A$5:$M$104,5,FALSE)+($B103-1)*VLOOKUP($A103,'Recurring Plans'!$A$5:$M$104,6,FALSE)*7,IF(VLOOKUP($A103,'Recurring Plans'!$A$5:$M$104,7,FALSE)='Assumptions'!$E$6,EDATE(VLOOKUP($A103,'Recurring Plans'!$A$5:$M$104,5,FALSE),($B103-1)*VLOOKUP($A103,'Recurring Plans'!$A$5:$M$104,6,FALSE)),""))),"")) | G103: =IF($E103="","",IF($F103<>"",$F103,$E103)) | H103: =IF($E103="","",IFERROR(VLOOKUP($A103,'Recurring Plans'!$A$5:$M$104,9,FALSE),"")) | J103: =IF($E103="","",IF($I103<>"",$I103,IFERROR(VLOOKUP($A103,'Recurring Plans'!$A$5:$M$104,10,FALSE),""))) | L103: =IF($G103="","",IF($K103<>"",$K103,'Assumptions'!$E$14)) | N103: =IF($G103="","",IF(OR($F103<>"",$I103<>"",$M103<>"",$K103='Assumptions'!$E$16,$K103='Assumptions'!$E$17),"Exception - check",IF(AND($L103='Assumptions'!$E$14,$G103<'Assumptions'!$B$4),"Past date - check","")))
A104: =IFERROR(IF(INDEX('Recurring Plans'!$A$5:$A$104,INT((ROW()-5)/12)+1)="","",INDEX('Recurring Plans'!$A$5:$A$104,INT((ROW()-5)/12)+1)),"") | B104: =IF($A104="","",MOD(ROW()-5,12)+1) | C104: =IF($A104="","",IFERROR(VLOOKUP($A104,'Recurring Plans'!$A$5:$M$104,2,FALSE),"")) | D104: =IF($A104="","",IFERROR(VLOOKUP($A104,'Recurring Plans'!$A$5:$M$104,4,FALSE),"")) | E104: =IF(OR($A104="",$B104>IFERROR(VLOOKUP($A104,'Recurring Plans'!$A$5:$M$104,8,FALSE),0),IFERROR(VLOOKUP($A104,'Recurring Plans'!$A$5:$M$104,11,FALSE),"")<>'Assumptions'!$E$9),"",IFERROR(IF(VLOOKUP($A104,'Recurring Plans'!$A$5:$M$104,7,FALSE)='Assumptions'!$E$4,VLOOKUP($A104,'Recurring Plans'!$A$5:$M$104,5,FALSE)+($B104-1)*VLOOKUP($A104,'Recurring Plans'!$A$5:$M$104,6,FALSE),IF(VLOOKUP($A104,'Recurring Plans'!$A$5:$M$104,7,FALSE)='Assumptions'!$E$5,VLOOKUP($A104,'Recurring Plans'!$A$5:$M$104,5,FALSE)+($B104-1)*VLOOKUP($A104,'Recurring Plans'!$A$5:$M$104,6,FALSE)*7,IF(VLOOKUP($A104,'Recurring Plans'!$A$5:$M$104,7,FALSE)='Assumptions'!$E$6,EDATE(VLOOKUP($A104,'Recurring Plans'!$A$5:$M$104,5,FALSE),($B104-1)*VLOOKUP($A104,'Recurring Plans'!$A$5:$M$104,6,FALSE)),""))),"")) | G104: =IF($E104="","",IF($F104<>"",$F104,$E104)) | H104: =IF($E104="","",IFERROR(VLOOKUP($A104,'Recurring Plans'!$A$5:$M$104,9,FALSE),"")) | J104: =IF($E104="","",IF($I104<>"",$I104,IFERROR(VLOOKUP($A104,'Recurring Plans'!$A$5:$M$104,10,FALSE),""))) | L104: =IF($G104="","",IF($K104<>"",$K104,'Assumptions'!$E$14)) | N104: =IF($G104="","",IF(OR($F104<>"",$I104<>"",$M104<>"",$K104='Assumptions'!$E$16,$K104='Assumptions'!$E$17),"Exception - check",IF(AND($L104='Assumptions'!$E$14,$G104<'Assumptions'!$B$4),"Past date - check","")))
A105: =IFERROR(IF(INDEX('Recurring Plans'!$A$5:$A$104,INT((ROW()-5)/12)+1)="","",INDEX('Recurring Plans'!$A$5:$A$104,INT((ROW()-5)/12)+1)),"") | B105: =IF($A105="","",MOD(ROW()-5,12)+1) | C105: =IF($A105="","",IFERROR(VLOOKUP($A105,'Recurring Plans'!$A$5:$M$104,2,FALSE),"")) | D105: =IF($A105="","",IFERROR(VLOOKUP($A105,'Recurring Plans'!$A$5:$M$104,4,FALSE),"")) | E105: =IF(OR($A105="",$B105>IFERROR(VLOOKUP($A105,'Recurring Plans'!$A$5:$M$104,8,FALSE),0),IFERROR(VLOOKUP($A105,'Recurring Plans'!$A$5:$M$104,11,FALSE),"")<>'Assumptions'!$E$9),"",IFERROR(IF(VLOOKUP($A105,'Recurring Plans'!$A$5:$M$104,7,FALSE)='Assumptions'!$E$4,VLOOKUP($A105,'Recurring Plans'!$A$5:$M$104,5,FALSE)+($B105-1)*VLOOKUP($A105,'Recurring Plans'!$A$5:$M$104,6,FALSE),IF(VLOOKUP($A105,'Recurring Plans'!$A$5:$M$104,7,FALSE)='Assumptions'!$E$5,VLOOKUP($A105,'Recurring Plans'!$A$5:$M$104,5,FALSE)+($B105-1)*VLOOKUP($A105,'Recurring Plans'!$A$5:$M$104,6,FALSE)*7,IF(VLOOKUP($A105,'Recurring Plans'!$A$5:$M$104,7,FALSE)='Assumptions'!$E$6,EDATE(VLOOKUP($A105,'Recurring Plans'!$A$5:$M$104,5,FALSE),($B105-1)*VLOOKUP($A105,'Recurring Plans'!$A$5:$M$104,6,FALSE)),""))),"")) | G105: =IF($E105="","",IF($F105<>"",$F105,$E105)) | H105: =IF($E105="","",IFERROR(VLOOKUP($A105,'Recurring Plans'!$A$5:$M$104,9,FALSE),"")) | J105: =IF($E105="","",IF($I105<>"",$I105,IFERROR(VLOOKUP($A105,'Recurring Plans'!$A$5:$M$104,10,FALSE),""))) | L105: =IF($G105="","",IF($K105<>"",$K105,'Assumptions'!$E$14)) | N105: =IF($G105="","",IF(OR($F105<>"",$I105<>"",$M105<>"",$K105='Assumptions'!$E$16,$K105='Assumptions'!$E$17),"Exception - check",IF(AND($L105='Assumptions'!$E$14,$G105<'Assumptions'!$B$4),"Past date - check","")))
A106: =IFERROR(IF(INDEX('Recurring Plans'!$A$5:$A$104,INT((ROW()-5)/12)+1)="","",INDEX('Recurring Plans'!$A$5:$A$104,INT((ROW()-5)/12)+1)),"") | B106: =IF($A106="","",MOD(ROW()-5,12)+1) | C106: =IF($A106="","",IFERROR(VLOOKUP($A106,'Recurring Plans'!$A$5:$M$104,2,FALSE),"")) | D106: =IF($A106="","",IFERROR(VLOOKUP($A106,'Recurring Plans'!$A$5:$M$104,4,FALSE),"")) | E106: =IF(OR($A106="",$B106>IFERROR(VLOOKUP($A106,'Recurring Plans'!$A$5:$M$104,8,FALSE),0),IFERROR(VLOOKUP($A106,'Recurring Plans'!$A$5:$M$104,11,FALSE),"")<>'Assumptions'!$E$9),"",IFERROR(IF(VLOOKUP($A106,'Recurring Plans'!$A$5:$M$104,7,FALSE)='Assumptions'!$E$4,VLOOKUP($A106,'Recurring Plans'!$A$5:$M$104,5,FALSE)+($B106-1)*VLOOKUP($A106,'Recurring Plans'!$A$5:$M$104,6,FALSE),IF(VLOOKUP($A106,'Recurring Plans'!$A$5:$M$104,7,FALSE)='Assumptions'!$E$5,VLOOKUP($A106,'Recurring Plans'!$A$5:$M$104,5,FALSE)+($B106-1)*VLOOKUP($A106,'Recurring Plans'!$A$5:$M$104,6,FALSE)*7,IF(VLOOKUP($A106,'Recurring Plans'!$A$5:$M$104,7,FALSE)='Assumptions'!$E$6,EDATE(VLOOKUP($A106,'Recurring Plans'!$A$5:$M$104,5,FALSE),($B106-1)*VLOOKUP($A106,'Recurring Plans'!$A$5:$M$104,6,FALSE)),""))),"")) | G106: =IF($E106="","",IF($F106<>"",$F106,$E106)) | H106: =IF($E106="","",IFERROR(VLOOKUP($A106,'Recurring Plans'!$A$5:$M$104,9,FALSE),"")) | J106: =IF($E106="","",IF($I106<>"",$I106,IFERROR(VLOOKUP($A106,'Recurring Plans'!$A$5:$M$104,10,FALSE),""))) | L106: =IF($G106="","",IF($K106<>"",$K106,'Assumptions'!$E$14)) | N106: =IF($G106="","",IF(OR($F106<>"",$I106<>"",$M106<>"",$K106='Assumptions'!$E$16,$K106='Assumptions'!$E$17),"Exception - check",IF(AND($L106='Assumptions'!$E$14,$G106<'Assumptions'!$B$4),"Past date - check","")))
A107: =IFERROR(IF(INDEX('Recurring Plans'!$A$5:$A$104,INT((ROW()-5)/12)+1)="","",INDEX('Recurring Plans'!$A$5:$A$104,INT((ROW()-5)/12)+1)),"") | B107: =IF($A107="","",MOD(ROW()-5,12)+1) | C107: =IF($A107="","",IFERROR(VLOOKUP($A107,'Recurring Plans'!$A$5:$M$104,2,FALSE),"")) | D107: =IF($A107="","",IFERROR(VLOOKUP($A107,'Recurring Plans'!$A$5:$M$104,4,FALSE),"")) | E107: =IF(OR($A107="",$B107>IFERROR(VLOOKUP($A107,'Recurring Plans'!$A$5:$M$104,8,FALSE),0),IFERROR(VLOOKUP($A107,'Recurring Plans'!$A$5:$M$104,11,FALSE),"")<>'Assumptions'!$E$9),"",IFERROR(IF(VLOOKUP($A107,'Recurring Plans'!$A$5:$M$104,7,FALSE)='Assumptions'!$E$4,VLOOKUP($A107,'Recurring Plans'!$A$5:$M$104,5,FALSE)+($B107-1)*VLOOKUP($A107,'Recurring Plans'!$A$5:$M$104,6,FALSE),IF(VLOOKUP($A107,'Recurring Plans'!$A$5:$M$104,7,FALSE)='Assumptions'!$E$5,VLOOKUP($A107,'Recurring Plans'!$A$5:$M$104,5,FALSE)+($B107-1)*VLOOKUP($A107,'Recurring Plans'!$A$5:$M$104,6,FALSE)*7,IF(VLOOKUP($A107,'Recurring Plans'!$A$5:$M$104,7,FALSE)='Assumptions'!$E$6,EDATE(VLOOKUP($A107,'Recurring Plans'!$A$5:$M$104,5,FALSE),($B107-1)*VLOOKUP($A107,'Recurring Plans'!$A$5:$M$104,6,FALSE)),""))),"")) | G107: =IF($E107="","",IF($F107<>"",$F107,$E107)) | H107: =IF($E107="","",IFERROR(VLOOKUP($A107,'Recurring Plans'!$A$5:$M$104,9,FALSE),"")) | J107: =IF($E107="","",IF($I107<>"",$I107,IFERROR(VLOOKUP($A107,'Recurring Plans'!$A$5:$M$104,10,FALSE),""))) | L107: =IF($G107="","",IF($K107<>"",$K107,'Assumptions'!$E$14)) | N107: =IF($G107="","",IF(OR($F107<>"",$I107<>"",$M107<>"",$K107='Assumptions'!$E$16,$K107='Assumptions'!$E$17),"Exception - check",IF(AND($L107='Assumptions'!$E$14,$G107<'Assumptions'!$B$4),"Past date - check","")))
A108: =IFERROR(IF(INDEX('Recurring Plans'!$A$5:$A$104,INT((ROW()-5)/12)+1)="","",INDEX('Recurring Plans'!$A$5:$A$104,INT((ROW()-5)/12)+1)),"") | B108: =IF($A108="","",MOD(ROW()-5,12)+1) | C108: =IF($A108="","",IFERROR(VLOOKUP($A108,'Recurring Plans'!$A$5:$M$104,2,FALSE),"")) | D108: =IF($A108="","",IFERROR(VLOOKUP($A108,'Recurring Plans'!$A$5:$M$104,4,FALSE),"")) | E108: =IF(OR($A108="",$B108>IFERROR(VLOOKUP($A108,'Recurring Plans'!$A$5:$M$104,8,FALSE),0),IFERROR(VLOOKUP($A108,'Recurring Plans'!$A$5:$M$104,11,FALSE),"")<>'Assumptions'!$E$9),"",IFERROR(IF(VLOOKUP($A108,'Recurring Plans'!$A$5:$M$104,7,FALSE)='Assumptions'!$E$4,VLOOKUP($A108,'Recurring Plans'!$A$5:$M$104,5,FALSE)+($B108-1)*VLOOKUP($A108,'Recurring Plans'!$A$5:$M$104,6,FALSE),IF(VLOOKUP($A108,'Recurring Plans'!$A$5:$M$104,7,FALSE)='Assumptions'!$E$5,VLOOKUP($A108,'Recurring Plans'!$A$5:$M$104,5,FALSE)+($B108-1)*VLOOKUP($A108,'Recurring Plans'!$A$5:$M$104,6,FALSE)*7,IF(VLOOKUP($A108,'Recurring Plans'!$A$5:$M$104,7,FALSE)='Assumptions'!$E$6,EDATE(VLOOKUP($A108,'Recurring Plans'!$A$5:$M$104,5,FALSE),($B108-1)*VLOOKUP($A108,'Recurring Plans'!$A$5:$M$104,6,FALSE)),""))),"")) | G108: =IF($E108="","",IF($F108<>"",$F108,$E108)) | H108: =IF($E108="","",IFERROR(VLOOKUP($A108,'Recurring Plans'!$A$5:$M$104,9,FALSE),"")) | J108: =IF($E108="","",IF($I108<>"",$I108,IFERROR(VLOOKUP($A108,'Recurring Plans'!$A$5:$M$104,10,FALSE),""))) | L108: =IF($G108="","",IF($K108<>"",$K108,'Assumptions'!$E$14)) | N108: =IF($G108="","",IF(OR($F108<>"",$I108<>"",$M108<>"",$K108='Assumptions'!$E$16,$K108='Assumptions'!$E$17),"Exception - check",IF(AND($L108='Assumptions'!$E$14,$G108<'Assumptions'!$B$4),"Past date - check","")))
A109: =IFERROR(IF(INDEX('Recurring Plans'!$A$5:$A$104,INT((ROW()-5)/12)+1)="","",INDEX('Recurring Plans'!$A$5:$A$104,INT((ROW()-5)/12)+1)),"") | B109: =IF($A109="","",MOD(ROW()-5,12)+1) | C109: =IF($A109="","",IFERROR(VLOOKUP($A109,'Recurring Plans'!$A$5:$M$104,2,FALSE),"")) | D109: =IF($A109="","",IFERROR(VLOOKUP($A109,'Recurring Plans'!$A$5:$M$104,4,FALSE),"")) | E109: =IF(OR($A109="",$B109>IFERROR(VLOOKUP($A109,'Recurring Plans'!$A$5:$M$104,8,FALSE),0),IFERROR(VLOOKUP($A109,'Recurring Plans'!$A$5:$M$104,11,FALSE),"")<>'Assumptions'!$E$9),"",IFERROR(IF(VLOOKUP($A109,'Recurring Plans'!$A$5:$M$104,7,FALSE)='Assumptions'!$E$4,VLOOKUP($A109,'Recurring Plans'!$A$5:$M$104,5,FALSE)+($B109-1)*VLOOKUP($A109,'Recurring Plans'!$A$5:$M$104,6,FALSE),IF(VLOOKUP($A109,'Recurring Plans'!$A$5:$M$104,7,FALSE)='Assumptions'!$E$5,VLOOKUP($A109,'Recurring Plans'!$A$5:$M$104,5,FALSE)+($B109-1)*VLOOKUP($A109,'Recurring Plans'!$A$5:$M$104,6,FALSE)*7,IF(VLOOKUP($A109,'Recurring Plans'!$A$5:$M$104,7,FALSE)='Assumptions'!$E$6,EDATE(VLOOKUP($A109,'Recurring Plans'!$A$5:$M$104,5,FALSE),($B109-1)*VLOOKUP($A109,'Recurring Plans'!$A$5:$M$104,6,FALSE)),""))),"")) | G109: =IF($E109="","",IF($F109<>"",$F109,$E109)) | H109: =IF($E109="","",IFERROR(VLOOKUP($A109,'Recurring Plans'!$A$5:$M$104,9,FALSE),"")) | J109: =IF($E109="","",IF($I109<>"",$I109,IFERROR(VLOOKUP($A109,'Recurring Plans'!$A$5:$M$104,10,FALSE),""))) | L109: =IF($G109="","",IF($K109<>"",$K109,'Assumptions'!$E$14)) | N109: =IF($G109="","",IF(OR($F109<>"",$I109<>"",$M109<>"",$K109='Assumptions'!$E$16,$K109='Assumptions'!$E$17),"Exception - check",IF(AND($L109='Assumptions'!$E$14,$G109<'Assumptions'!$B$4),"Past date - check","")))
A110: =IFERROR(IF(INDEX('Recurring Plans'!$A$5:$A$104,INT((ROW()-5)/12)+1)="","",INDEX('Recurring Plans'!$A$5:$A$104,INT((ROW()-5)/12)+1)),"") | B110: =IF($A110="","",MOD(ROW()-5,12)+1) | C110: =IF($A110="","",IFERROR(VLOOKUP($A110,'Recurring Plans'!$A$5:$M$104,2,FALSE),"")) | D110: =IF($A110="","",IFERROR(VLOOKUP($A110,'Recurring Plans'!$A$5:$M$104,4,FALSE),"")) | E110: =IF(OR($A110="",$B110>IFERROR(VLOOKUP($A110,'Recurring Plans'!$A$5:$M$104,8,FALSE),0),IFERROR(VLOOKUP($A110,'Recurring Plans'!$A$5:$M$104,11,FALSE),"")<>'Assumptions'!$E$9),"",IFERROR(IF(VLOOKUP($A110,'Recurring Plans'!$A$5:$M$104,7,FALSE)='Assumptions'!$E$4,VLOOKUP($A110,'Recurring Plans'!$A$5:$M$104,5,FALSE)+($B110-1)*VLOOKUP($A110,'Recurring Plans'!$A$5:$M$104,6,FALSE),IF(VLOOKUP($A110,'Recurring Plans'!$A$5:$M$104,7,FALSE)='Assumptions'!$E$5,VLOOKUP($A110,'Recurring Plans'!$A$5:$M$104,5,FALSE)+($B110-1)*VLOOKUP($A110,'Recurring Plans'!$A$5:$M$104,6,FALSE)*7,IF(VLOOKUP($A110,'Recurring Plans'!$A$5:$M$104,7,FALSE)='Assumptions'!$E$6,EDATE(VLOOKUP($A110,'Recurring Plans'!$A$5:$M$104,5,FALSE),($B110-1)*VLOOKUP($A110,'Recurring Plans'!$A$5:$M$104,6,FALSE)),""))),"")) | G110: =IF($E110="","",IF($F110<>"",$F110,$E110)) | H110: =IF($E110="","",IFERROR(VLOOKUP($A110,'Recurring Plans'!$A$5:$M$104,9,FALSE),"")) | J110: =IF($E110="","",IF($I110<>"",$I110,IFERROR(VLOOKUP($A110,'Recurring Plans'!$A$5:$M$104,10,FALSE),""))) | L110: =IF($G110="","",IF($K110<>"",$K110,'Assumptions'!$E$14)) | N110: =IF($G110="","",IF(OR($F110<>"",$I110<>"",$M110<>"",$K110='Assumptions'!$E$16,$K110='Assumptions'!$E$17),"Exception - check",IF(AND($L110='Assumptions'!$E$14,$G110<'Assumptions'!$B$4),"Past date - check","")))
A111: =IFERROR(IF(INDEX('Recurring Plans'!$A$5:$A$104,INT((ROW()-5)/12)+1)="","",INDEX('Recurring Plans'!$A$5:$A$104,INT((ROW()-5)/12)+1)),"") | B111: =IF($A111="","",MOD(ROW()-5,12)+1) | C111: =IF($A111="","",IFERROR(VLOOKUP($A111,'Recurring Plans'!$A$5:$M$104,2,FALSE),"")) | D111: =IF($A111="","",IFERROR(VLOOKUP($A111,'Recurring Plans'!$A$5:$M$104,4,FALSE),"")) | E111: =IF(OR($A111="",$B111>IFERROR(VLOOKUP($A111,'Recurring Plans'!$A$5:$M$104,8,FALSE),0),IFERROR(VLOOKUP($A111,'Recurring Plans'!$A$5:$M$104,11,FALSE),"")<>'Assumptions'!$E$9),"",IFERROR(IF(VLOOKUP($A111,'Recurring Plans'!$A$5:$M$104,7,FALSE)='Assumptions'!$E$4,VLOOKUP($A111,'Recurring Plans'!$A$5:$M$104,5,FALSE)+($B111-1)*VLOOKUP($A111,'Recurring Plans'!$A$5:$M$104,6,FALSE),IF(VLOOKUP($A111,'Recurring Plans'!$A$5:$M$104,7,FALSE)='Assumptions'!$E$5,VLOOKUP($A111,'Recurring Plans'!$A$5:$M$104,5,FALSE)+($B111-1)*VLOOKUP($A111,'Recurring Plans'!$A$5:$M$104,6,FALSE)*7,IF(VLOOKUP($A111,'Recurring Plans'!$A$5:$M$104,7,FALSE)='Assumptions'!$E$6,EDATE(VLOOKUP($A111,'Recurring Plans'!$A$5:$M$104,5,FALSE),($B111-1)*VLOOKUP($A111,'Recurring Plans'!$A$5:$M$104,6,FALSE)),""))),"")) | G111: =IF($E111="","",IF($F111<>"",$F111,$E111)) | H111: =IF($E111="","",IFERROR(VLOOKUP($A111,'Recurring Plans'!$A$5:$M$104,9,FALSE),"")) | J111: =IF($E111="","",IF($I111<>"",$I111,IFERROR(VLOOKUP($A111,'Recurring Plans'!$A$5:$M$104,10,FALSE),""))) | L111: =IF($G111="","",IF($K111<>"",$K111,'Assumptions'!$E$14)) | N111: =IF($G111="","",IF(OR($F111<>"",$I111<>"",$M111<>"",$K111='Assumptions'!$E$16,$K111='Assumptions'!$E$17),"Exception - check",IF(AND($L111='Assumptions'!$E$14,$G111<'Assumptions'!$B$4),"Past date - check","")))
A112: =IFERROR(IF(INDEX('Recurring Plans'!$A$5:$A$104,INT((ROW()-5)/12)+1)="","",INDEX('Recurring Plans'!$A$5:$A$104,INT((ROW()-5)/12)+1)),"") | B112: =IF($A112="","",MOD(ROW()-5,12)+1) | C112: =IF($A112="","",IFERROR(VLOOKUP($A112,'Recurring Plans'!$A$5:$M$104,2,FALSE),"")) | D112: =IF($A112="","",IFERROR(VLOOKUP($A112,'Recurring Plans'!$A$5:$M$104,4,FALSE),"")) | E112: =IF(OR($A112="",$B112>IFERROR(VLOOKUP($A112,'Recurring Plans'!$A$5:$M$104,8,FALSE),0),IFERROR(VLOOKUP($A112,'Recurring Plans'!$A$5:$M$104,11,FALSE),"")<>'Assumptions'!$E$9),"",IFERROR(IF(VLOOKUP($A112,'Recurring Plans'!$A$5:$M$104,7,FALSE)='Assumptions'!$E$4,VLOOKUP($A112,'Recurring Plans'!$A$5:$M$104,5,FALSE)+($B112-1)*VLOOKUP($A112,'Recurring Plans'!$A$5:$M$104,6,FALSE),IF(VLOOKUP($A112,'Recurring Plans'!$A$5:$M$104,7,FALSE)='Assumptions'!$E$5,VLOOKUP($A112,'Recurring Plans'!$A$5:$M$104,5,FALSE)+($B112-1)*VLOOKUP($A112,'Recurring Plans'!$A$5:$M$104,6,FALSE)*7,IF(VLOOKUP($A112,'Recurring Plans'!$A$5:$M$104,7,FALSE)='Assumptions'!$E$6,EDATE(VLOOKUP($A112,'Recurring Plans'!$A$5:$M$104,5,FALSE),($B112-1)*VLOOKUP($A112,'Recurring Plans'!$A$5:$M$104,6,FALSE)),""))),"")) | G112: =IF($E112="","",IF($F112<>"",$F112,$E112)) | H112: =IF($E112="","",IFERROR(VLOOKUP($A112,'Recurring Plans'!$A$5:$M$104,9,FALSE),"")) | J112: =IF($E112="","",IF($I112<>"",$I112,IFERROR(VLOOKUP($A112,'Recurring Plans'!$A$5:$M$104,10,FALSE),""))) | L112: =IF($G112="","",IF($K112<>"",$K112,'Assumptions'!$E$14)) | N112: =IF($G112="","",IF(OR($F112<>"",$I112<>"",$M112<>"",$K112='Assumptions'!$E$16,$K112='Assumptions'!$E$17),"Exception - check",IF(AND($L112='Assumptions'!$E$14,$G112<'Assumptions'!$B$4),"Past date - check","")))
A113: =IFERROR(IF(INDEX('Recurring Plans'!$A$5:$A$104,INT((ROW()-5)/12)+1)="","",INDEX('Recurring Plans'!$A$5:$A$104,INT((ROW()-5)/12)+1)),"") | B113: =IF($A113="","",MOD(ROW()-5,12)+1) | C113: =IF($A113="","",IFERROR(VLOOKUP($A113,'Recurring Plans'!$A$5:$M$104,2,FALSE),"")) | D113: =IF($A113="","",IFERROR(VLOOKUP($A113,'Recurring Plans'!$A$5:$M$104,4,FALSE),"")) | E113: =IF(OR($A113="",$B113>IFERROR(VLOOKUP($A113,'Recurring Plans'!$A$5:$M$104,8,FALSE),0),IFERROR(VLOOKUP($A113,'Recurring Plans'!$A$5:$M$104,11,FALSE),"")<>'Assumptions'!$E$9),"",IFERROR(IF(VLOOKUP($A113,'Recurring Plans'!$A$5:$M$104,7,FALSE)='Assumptions'!$E$4,VLOOKUP($A113,'Recurring Plans'!$A$5:$M$104,5,FALSE)+($B113-1)*VLOOKUP($A113,'Recurring Plans'!$A$5:$M$104,6,FALSE),IF(VLOOKUP($A113,'Recurring Plans'!$A$5:$M$104,7,FALSE)='Assumptions'!$E$5,VLOOKUP($A113,'Recurring Plans'!$A$5:$M$104,5,FALSE)+($B113-1)*VLOOKUP($A113,'Recurring Plans'!$A$5:$M$104,6,FALSE)*7,IF(VLOOKUP($A113,'Recurring Plans'!$A$5:$M$104,7,FALSE)='Assumptions'!$E$6,EDATE(VLOOKUP($A113,'Recurring Plans'!$A$5:$M$104,5,FALSE),($B113-1)*VLOOKUP($A113,'Recurring Plans'!$A$5:$M$104,6,FALSE)),""))),"")) | G113: =IF($E113="","",IF($F113<>"",$F113,$E113)) | H113: =IF($E113="","",IFERROR(VLOOKUP($A113,'Recurring Plans'!$A$5:$M$104,9,FALSE),"")) | I113: Staff B | J113: =IF($E113="","",IF($I113<>"",$I113,IFERROR(VLOOKUP($A113,'Recurring Plans'!$A$5:$M$104,10,FALSE),""))) | K113: Scheduled | L113: =IF($G113="","",IF($K113<>"",$K113,'Assumptions'!$E$14)) | N113: =IF($G113="","",IF(OR($F113<>"",$I113<>"",$M113<>"",$K113='Assumptions'!$E$16,$K113='Assumptions'!$E$17),"Exception - check",IF(AND($L113='Assumptions'!$E$14,$G113<'Assumptions'!$B$4),"Past date - check","")))
A114: =IFERROR(IF(INDEX('Recurring Plans'!$A$5:$A$104,INT((ROW()-5)/12)+1)="","",INDEX('Recurring Plans'!$A$5:$A$104,INT((ROW()-5)/12)+1)),"") | B114: =IF($A114="","",MOD(ROW()-5,12)+1) | C114: =IF($A114="","",IFERROR(VLOOKUP($A114,'Recurring Plans'!$A$5:$M$104,2,FALSE),"")) | D114: =IF($A114="","",IFERROR(VLOOKUP($A114,'Recurring Plans'!$A$5:$M$104,4,FALSE),"")) | E114: =IF(OR($A114="",$B114>IFERROR(VLOOKUP($A114,'Recurring Plans'!$A$5:$M$104,8,FALSE),0),IFERROR(VLOOKUP($A114,'Recurring Plans'!$A$5:$M$104,11,FALSE),"")<>'Assumptions'!$E$9),"",IFERROR(IF(VLOOKUP($A114,'Recurring Plans'!$A$5:$M$104,7,FALSE)='Assumptions'!$E$4,VLOOKUP($A114,'Recurring Plans'!$A$5:$M$104,5,FALSE)+($B114-1)*VLOOKUP($A114,'Recurring Plans'!$A$5:$M$104,6,FALSE),IF(VLOOKUP($A114,'Recurring Plans'!$A$5:$M$104,7,FALSE)='Assumptions'!$E$5,VLOOKUP($A114,'Recurring Plans'!$A$5:$M$104,5,FALSE)+($B114-1)*VLOOKUP($A114,'Recurring Plans'!$A$5:$M$104,6,FALSE)*7,IF(VLOOKUP($A114,'Recurring Plans'!$A$5:$M$104,7,FALSE)='Assumptions'!$E$6,EDATE(VLOOKUP($A114,'Recurring Plans'!$A$5:$M$104,5,FALSE),($B114-1)*VLOOKUP($A114,'Recurring Plans'!$A$5:$M$104,6,FALSE)),""))),"")) | G114: =IF($E114="","",IF($F114<>"",$F114,$E114)) | H114: =IF($E114="","",IFERROR(VLOOKUP($A114,'Recurring Plans'!$A$5:$M$104,9,FALSE),"")) | J114: =IF($E114="","",IF($I114<>"",$I114,IFERROR(VLOOKUP($A114,'Recurring Plans'!$A$5:$M$104,10,FALSE),""))) | L114: =IF($G114="","",IF($K114<>"",$K114,'Assumptions'!$E$14)) | N114: =IF($G114="","",IF(OR($F114<>"",$I114<>"",$M114<>"",$K114='Assumptions'!$E$16,$K114='Assumptions'!$E$17),"Exception - check",IF(AND($L114='Assumptions'!$E$14,$G114<'Assumptions'!$B$4),"Past date - check","")))
A115: =IFERROR(IF(INDEX('Recurring Plans'!$A$5:$A$104,INT((ROW()-5)/12)+1)="","",INDEX('Recurring Plans'!$A$5:$A$104,INT((ROW()-5)/12)+1)),"") | B115: =IF($A115="","",MOD(ROW()-5,12)+1) | C115: =IF($A115="","",IFERROR(VLOOKUP($A115,'Recurring Plans'!$A$5:$M$104,2,FALSE),"")) | D115: =IF($A115="","",IFERROR(VLOOKUP($A115,'Recurring Plans'!$A$5:$M$104,4,FALSE),"")) | E115: =IF(OR($A115="",$B115>IFERROR(VLOOKUP($A115,'Recurring Plans'!$A$5:$M$104,8,FALSE),0),IFERROR(VLOOKUP($A115,'Recurring Plans'!$A$5:$M$104,11,FALSE),"")<>'Assumptions'!$E$9),"",IFERROR(IF(VLOOKUP($A115,'Recurring Plans'!$A$5:$M$104,7,FALSE)='Assumptions'!$E$4,VLOOKUP($A115,'Recurring Plans'!$A$5:$M$104,5,FALSE)+($B115-1)*VLOOKUP($A115,'Recurring Plans'!$A$5:$M$104,6,FALSE),IF(VLOOKUP($A115,'Recurring Plans'!$A$5:$M$104,7,FALSE)='Assumptions'!$E$5,VLOOKUP($A115,'Recurring Plans'!$A$5:$M$104,5,FALSE)+($B115-1)*VLOOKUP($A115,'Recurring Plans'!$A$5:$M$104,6,FALSE)*7,IF(VLOOKUP($A115,'Recurring Plans'!$A$5:$M$104,7,FALSE)='Assumptions'!$E$6,EDATE(VLOOKUP($A115,'Recurring Plans'!$A$5:$M$104,5,FALSE),($B115-1)*VLOOKUP($A115,'Recurring Plans'!$A$5:$M$104,6,FALSE)),""))),"")) | G115: =IF($E115="","",IF($F115<>"",$F115,$E115)) | H115: =IF($E115="","",IFERROR(VLOOKUP($A115,'Recurring Plans'!$A$5:$M$104,9,FALSE),"")) | J115: =IF($E115="","",IF($I115<>"",$I115,IFERROR(VLOOKUP($A115,'Recurring Plans'!$A$5:$M$104,10,FALSE),""))) | L115: =IF($G115="","",IF($K115<>"",$K115,'Assumptions'!$E$14)) | N115: =IF($G115="","",IF(OR($F115<>"",$I115<>"",$M115<>"",$K115='Assumptions'!$E$16,$K115='Assumptions'!$E$17),"Exception - check",IF(AND($L115='Assumptions'!$E$14,$G115<'Assumptions'!$B$4),"Past date - check","")))
A116: =IFERROR(IF(INDEX('Recurring Plans'!$A$5:$A$104,INT((ROW()-5)/12)+1)="","",INDEX('Recurring Plans'!$A$5:$A$104,INT((ROW()-5)/12)+1)),"") | B116: =IF($A116="","",MOD(ROW()-5,12)+1) | C116: =IF($A116="","",IFERROR(VLOOKUP($A116,'Recurring Plans'!$A$5:$M$104,2,FALSE),"")) | D116: =IF($A116="","",IFERROR(VLOOKUP($A116,'Recurring Plans'!$A$5:$M$104,4,FALSE),"")) | E116: =IF(OR($A116="",$B116>IFERROR(VLOOKUP($A116,'Recurring Plans'!$A$5:$M$104,8,FALSE),0),IFERROR(VLOOKUP($A116,'Recurring Plans'!$A$5:$M$104,11,FALSE),"")<>'Assumptions'!$E$9),"",IFERROR(IF(VLOOKUP($A116,'Recurring Plans'!$A$5:$M$104,7,FALSE)='Assumptions'!$E$4,VLOOKUP($A116,'Recurring Plans'!$A$5:$M$104,5,FALSE)+($B116-1)*VLOOKUP($A116,'Recurring Plans'!$A$5:$M$104,6,FALSE),IF(VLOOKUP($A116,'Recurring Plans'!$A$5:$M$104,7,FALSE)='Assumptions'!$E$5,VLOOKUP($A116,'Recurring Plans'!$A$5:$M$104,5,FALSE)+($B116-1)*VLOOKUP($A116,'Recurring Plans'!$A$5:$M$104,6,FALSE)*7,IF(VLOOKUP($A116,'Recurring Plans'!$A$5:$M$104,7,FALSE)='Assumptions'!$E$6,EDATE(VLOOKUP($A116,'Recurring Plans'!$A$5:$M$104,5,FALSE),($B116-1)*VLOOKUP($A116,'Recurring Plans'!$A$5:$M$104,6,FALSE)),""))),"")) | G116: =IF($E116="","",IF($F116<>"",$F116,$E116)) | H116: =IF($E116="","",IFERROR(VLOOKUP($A116,'Recurring Plans'!$A$5:$M$104,9,FALSE),"")) | J116: =IF($E116="","",IF($I116<>"",$I116,IFERROR(VLOOKUP($A116,'Recurring Plans'!$A$5:$M$104,10,FALSE),""))) | L116: =IF($G116="","",IF($K116<>"",$K116,'Assumptions'!$E$14)) | N116: =IF($G116="","",IF(OR($F116<>"",$I116<>"",$M116<>"",$K116='Assumptions'!$E$16,$K116='Assumptions'!$E$17),"Exception - check",IF(AND($L116='Assumptions'!$E$14,$G116<'Assumptions'!$B$4),"Past date - check","")))
A117: =IFERROR(IF(INDEX('Recurring Plans'!$A$5:$A$104,INT((ROW()-5)/12)+1)="","",INDEX('Recurring Plans'!$A$5:$A$104,INT((ROW()-5)/12)+1)),"") | B117: =IF($A117="","",MOD(ROW()-5,12)+1) | C117: =IF($A117="","",IFERROR(VLOOKUP($A117,'Recurring Plans'!$A$5:$M$104,2,FALSE),"")) | D117: =IF($A117="","",IFERROR(VLOOKUP($A117,'Recurring Plans'!$A$5:$M$104,4,FALSE),"")) | E117: =IF(OR($A117="",$B117>IFERROR(VLOOKUP($A117,'Recurring Plans'!$A$5:$M$104,8,FALSE),0),IFERROR(VLOOKUP($A117,'Recurring Plans'!$A$5:$M$104,11,FALSE),"")<>'Assumptions'!$E$9),"",IFERROR(IF(VLOOKUP($A117,'Recurring Plans'!$A$5:$M$104,7,FALSE)='Assumptions'!$E$4,VLOOKUP($A117,'Recurring Plans'!$A$5:$M$104,5,FALSE)+($B117-1)*VLOOKUP($A117,'Recurring Plans'!$A$5:$M$104,6,FALSE),IF(VLOOKUP($A117,'Recurring Plans'!$A$5:$M$104,7,FALSE)='Assumptions'!$E$5,VLOOKUP($A117,'Recurring Plans'!$A$5:$M$104,5,FALSE)+($B117-1)*VLOOKUP($A117,'Recurring Plans'!$A$5:$M$104,6,FALSE)*7,IF(VLOOKUP($A117,'Recurring Plans'!$A$5:$M$104,7,FALSE)='Assumptions'!$E$6,EDATE(VLOOKUP($A117,'Recurring Plans'!$A$5:$M$104,5,FALSE),($B117-1)*VLOOKUP($A117,'Recurring Plans'!$A$5:$M$104,6,FALSE)),""))),"")) | G117: =IF($E117="","",IF($F117<>"",$F117,$E117)) | H117: =IF($E117="","",IFERROR(VLOOKUP($A117,'Recurring Plans'!$A$5:$M$104,9,FALSE),"")) | J117: =IF($E117="","",IF($I117<>"",$I117,IFERROR(VLOOKUP($A117,'Recurring Plans'!$A$5:$M$104,10,FALSE),""))) | L117: =IF($G117="","",IF($K117<>"",$K117,'Assumptions'!$E$14)) | N117: =IF($G117="","",IF(OR($F117<>"",$I117<>"",$M117<>"",$K117='Assumptions'!$E$16,$K117='Assumptions'!$E$17),"Exception - check",IF(AND($L117='Assumptions'!$E$14,$G117<'Assumptions'!$B$4),"Past date - check","")))
A118: =IFERROR(IF(INDEX('Recurring Plans'!$A$5:$A$104,INT((ROW()-5)/12)+1)="","",INDEX('Recurring Plans'!$A$5:$A$104,INT((ROW()-5)/12)+1)),"") | B118: =IF($A118="","",MOD(ROW()-5,12)+1) | C118: =IF($A118="","",IFERROR(VLOOKUP($A118,'Recurring Plans'!$A$5:$M$104,2,FALSE),"")) | D118: =IF($A118="","",IFERROR(VLOOKUP($A118,'Recurring Plans'!$A$5:$M$104,4,FALSE),"")) | E118: =IF(OR($A118="",$B118>IFERROR(VLOOKUP($A118,'Recurring Plans'!$A$5:$M$104,8,FALSE),0),IFERROR(VLOOKUP($A118,'Recurring Plans'!$A$5:$M$104,11,FALSE),"")<>'Assumptions'!$E$9),"",IFERROR(IF(VLOOKUP($A118,'Recurring Plans'!$A$5:$M$104,7,FALSE)='Assumptions'!$E$4,VLOOKUP($A118,'Recurring Plans'!$A$5:$M$104,5,FALSE)+($B118-1)*VLOOKUP($A118,'Recurring Plans'!$A$5:$M$104,6,FALSE),IF(VLOOKUP($A118,'Recurring Plans'!$A$5:$M$104,7,FALSE)='Assumptions'!$E$5,VLOOKUP($A118,'Recurring Plans'!$A$5:$M$104,5,FALSE)+($B118-1)*VLOOKUP($A118,'Recurring Plans'!$A$5:$M$104,6,FALSE)*7,IF(VLOOKUP($A118,'Recurring Plans'!$A$5:$M$104,7,FALSE)='Assumptions'!$E$6,EDATE(VLOOKUP($A118,'Recurring Plans'!$A$5:$M$104,5,FALSE),($B118-1)*VLOOKUP($A118,'Recurring Plans'!$A$5:$M$104,6,FALSE)),""))),"")) | G118: =IF($E118="","",IF($F118<>"",$F118,$E118)) | H118: =IF($E118="","",IFERROR(VLOOKUP($A118,'Recurring Plans'!$A$5:$M$104,9,FALSE),"")) | J118: =IF($E118="","",IF($I118<>"",$I118,IFERROR(VLOOKUP($A118,'Recurring Plans'!$A$5:$M$104,10,FALSE),""))) | L118: =IF($G118="","",IF($K118<>"",$K118,'Assumptions'!$E$14)) | N118: =IF($G118="","",IF(OR($F118<>"",$I118<>"",$M118<>"",$K118='Assumptions'!$E$16,$K118='Assumptions'!$E$17),"Exception - check",IF(AND($L118='Assumptions'!$E$14,$G118<'Assumptions'!$B$4),"Past date - check","")))
A119: =IFERROR(IF(INDEX('Recurring Plans'!$A$5:$A$104,INT((ROW()-5)/12)+1)="","",INDEX('Recurring Plans'!$A$5:$A$104,INT((ROW()-5)/12)+1)),"") | B119: =IF($A119="","",MOD(ROW()-5,12)+1) | C119: =IF($A119="","",IFERROR(VLOOKUP($A119,'Recurring Plans'!$A$5:$M$104,2,FALSE),"")) | D119: =IF($A119="","",IFERROR(VLOOKUP($A119,'Recurring Plans'!$A$5:$M$104,4,FALSE),"")) | E119: =IF(OR($A119="",$B119>IFERROR(VLOOKUP($A119,'Recurring Plans'!$A$5:$M$104,8,FALSE),0),IFERROR(VLOOKUP($A119,'Recurring Plans'!$A$5:$M$104,11,FALSE),"")<>'Assumptions'!$E$9),"",IFERROR(IF(VLOOKUP($A119,'Recurring Plans'!$A$5:$M$104,7,FALSE)='Assumptions'!$E$4,VLOOKUP($A119,'Recurring Plans'!$A$5:$M$104,5,FALSE)+($B119-1)*VLOOKUP($A119,'Recurring Plans'!$A$5:$M$104,6,FALSE),IF(VLOOKUP($A119,'Recurring Plans'!$A$5:$M$104,7,FALSE)='Assumptions'!$E$5,VLOOKUP($A119,'Recurring Plans'!$A$5:$M$104,5,FALSE)+($B119-1)*VLOOKUP($A119,'Recurring Plans'!$A$5:$M$104,6,FALSE)*7,IF(VLOOKUP($A119,'Recurring Plans'!$A$5:$M$104,7,FALSE)='Assumptions'!$E$6,EDATE(VLOOKUP($A119,'Recurring Plans'!$A$5:$M$104,5,FALSE),($B119-1)*VLOOKUP($A119,'Recurring Plans'!$A$5:$M$104,6,FALSE)),""))),"")) | G119: =IF($E119="","",IF($F119<>"",$F119,$E119)) | H119: =IF($E119="","",IFERROR(VLOOKUP($A119,'Recurring Plans'!$A$5:$M$104,9,FALSE),"")) | J119: =IF($E119="","",IF($I119<>"",$I119,IFERROR(VLOOKUP($A119,'Recurring Plans'!$A$5:$M$104,10,FALSE),""))) | L119: =IF($G119="","",IF($K119<>"",$K119,'Assumptions'!$E$14)) | N119: =IF($G119="","",IF(OR($F119<>"",$I119<>"",$M119<>"",$K119='Assumptions'!$E$16,$K119='Assumptions'!$E$17),"Exception - check",IF(AND($L119='Assumptions'!$E$14,$G119<'Assumptions'!$B$4),"Past date - check","")))
A120: =IFERROR(IF(INDEX('Recurring Plans'!$A$5:$A$104,INT((ROW()-5)/12)+1)="","",INDEX('Recurring Plans'!$A$5:$A$104,INT((ROW()-5)/12)+1)),"") | B120: =IF($A120="","",MOD(ROW()-5,12)+1) | C120: =IF($A120="","",IFERROR(VLOOKUP($A120,'Recurring Plans'!$A$5:$M$104,2,FALSE),"")) | D120: =IF($A120="","",IFERROR(VLOOKUP($A120,'Recurring Plans'!$A$5:$M$104,4,FALSE),"")) | E120: =IF(OR($A120="",$B120>IFERROR(VLOOKUP($A120,'Recurring Plans'!$A$5:$M$104,8,FALSE),0),IFERROR(VLOOKUP($A120,'Recurring Plans'!$A$5:$M$104,11,FALSE),"")<>'Assumptions'!$E$9),"",IFERROR(IF(VLOOKUP($A120,'Recurring Plans'!$A$5:$M$104,7,FALSE)='Assumptions'!$E$4,VLOOKUP($A120,'Recurring Plans'!$A$5:$M$104,5,FALSE)+($B120-1)*VLOOKUP($A120,'Recurring Plans'!$A$5:$M$104,6,FALSE),IF(VLOOKUP($A120,'Recurring Plans'!$A$5:$M$104,7,FALSE)='Assumptions'!$E$5,VLOOKUP($A120,'Recurring Plans'!$A$5:$M$104,5,FALSE)+($B120-1)*VLOOKUP($A120,'Recurring Plans'!$A$5:$M$104,6,FALSE)*7,IF(VLOOKUP($A120,'Recurring Plans'!$A$5:$M$104,7,FALSE)='Assumptions'!$E$6,EDATE(VLOOKUP($A120,'Recurring Plans'!$A$5:$M$104,5,FALSE),($B120-1)*VLOOKUP($A120,'Recurring Plans'!$A$5:$M$104,6,FALSE)),""))),"")) | G120: =IF($E120="","",IF($F120<>"",$F120,$E120)) | H120: =IF($E120="","",IFERROR(VLOOKUP($A120,'Recurring Plans'!$A$5:$M$104,9,FALSE),"")) | J120: =IF($E120="","",IF($I120<>"",$I120,IFERROR(VLOOKUP($A120,'Recurring Plans'!$A$5:$M$104,10,FALSE),""))) | L120: =IF($G120="","",IF($K120<>"",$K120,'Assumptions'!$E$14)) | N120: =IF($G120="","",IF(OR($F120<>"",$I120<>"",$M120<>"",$K120='Assumptions'!$E$16,$K120='Assumptions'!$E$17),"Exception - check",IF(AND($L120='Assumptions'!$E$14,$G120<'Assumptions'!$B$4),"Past date - check","")))
A121: =IFERROR(IF(INDEX('Recurring Plans'!$A$5:$A$104,INT((ROW()-5)/12)+1)="","",INDEX('Recurring Plans'!$A$5:$A$104,INT((ROW()-5)/12)+1)),"") | B121: =IF($A121="","",MOD(ROW()-5,12)+1) | C121: =IF($A121="","",IFERROR(VLOOKUP($A121,'Recurring Plans'!$A$5:$M$104,2,FALSE),"")) | D121: =IF($A121="","",IFERROR(VLOOKUP($A121,'Recurring Plans'!$A$5:$M$104,4,FALSE),"")) | E121: =IF(OR($A121="",$B121>IFERROR(VLOOKUP($A121,'Recurring Plans'!$A$5:$M$104,8,FALSE),0),IFERROR(VLOOKUP($A121,'Recurring Plans'!$A$5:$M$104,11,FALSE),"")<>'Assumptions'!$E$9),"",IFERROR(IF(VLOOKUP($A121,'Recurring Plans'!$A$5:$M$104,7,FALSE)='Assumptions'!$E$4,VLOOKUP($A121,'Recurring Plans'!$A$5:$M$104,5,FALSE)+($B121-1)*VLOOKUP($A121,'Recurring Plans'!$A$5:$M$104,6,FALSE),IF(VLOOKUP($A121,'Recurring Plans'!$A$5:$M$104,7,FALSE)='Assumptions'!$E$5,VLOOKUP($A121,'Recurring Plans'!$A$5:$M$104,5,FALSE)+($B121-1)*VLOOKUP($A121,'Recurring Plans'!$A$5:$M$104,6,FALSE)*7,IF(VLOOKUP($A121,'Recurring Plans'!$A$5:$M$104,7,FALSE)='Assumptions'!$E$6,EDATE(VLOOKUP($A121,'Recurring Plans'!$A$5:$M$104,5,FALSE),($B121-1)*VLOOKUP($A121,'Recurring Plans'!$A$5:$M$104,6,FALSE)),""))),"")) | G121: =IF($E121="","",IF($F121<>"",$F121,$E121)) | H121: =IF($E121="","",IFERROR(VLOOKUP($A121,'Recurring Plans'!$A$5:$M$104,9,FALSE),"")) | J121: =IF($E121="","",IF($I121<>"",$I121,IFERROR(VLOOKUP($A121,'Recurring Plans'!$A$5:$M$104,10,FALSE),""))) | L121: =IF($G121="","",IF($K121<>"",$K121,'Assumptions'!$E$14)) | N121: =IF($G121="","",IF(OR($F121<>"",$I121<>"",$M121<>"",$K121='Assumptions'!$E$16,$K121='Assumptions'!$E$17),"Exception - check",IF(AND($L121='Assumptions'!$E$14,$G121<'Assumptions'!$B$4),"Past date - check","")))
A122: =IFERROR(IF(INDEX('Recurring Plans'!$A$5:$A$104,INT((ROW()-5)/12)+1)="","",INDEX('Recurring Plans'!$A$5:$A$104,INT((ROW()-5)/12)+1)),"") | B122: =IF($A122="","",MOD(ROW()-5,12)+1) | C122: =IF($A122="","",IFERROR(VLOOKUP($A122,'Recurring Plans'!$A$5:$M$104,2,FALSE),"")) | D122: =IF($A122="","",IFERROR(VLOOKUP($A122,'Recurring Plans'!$A$5:$M$104,4,FALSE),"")) | E122: =IF(OR($A122="",$B122>IFERROR(VLOOKUP($A122,'Recurring Plans'!$A$5:$M$104,8,FALSE),0),IFERROR(VLOOKUP($A122,'Recurring Plans'!$A$5:$M$104,11,FALSE),"")<>'Assumptions'!$E$9),"",IFERROR(IF(VLOOKUP($A122,'Recurring Plans'!$A$5:$M$104,7,FALSE)='Assumptions'!$E$4,VLOOKUP($A122,'Recurring Plans'!$A$5:$M$104,5,FALSE)+($B122-1)*VLOOKUP($A122,'Recurring Plans'!$A$5:$M$104,6,FALSE),IF(VLOOKUP($A122,'Recurring Plans'!$A$5:$M$104,7,FALSE)='Assumptions'!$E$5,VLOOKUP($A122,'Recurring Plans'!$A$5:$M$104,5,FALSE)+($B122-1)*VLOOKUP($A122,'Recurring Plans'!$A$5:$M$104,6,FALSE)*7,IF(VLOOKUP($A122,'Recurring Plans'!$A$5:$M$104,7,FALSE)='Assumptions'!$E$6,EDATE(VLOOKUP($A122,'Recurring Plans'!$A$5:$M$104,5,FALSE),($B122-1)*VLOOKUP($A122,'Recurring Plans'!$A$5:$M$104,6,FALSE)),""))),"")) | G122: =IF($E122="","",IF($F122<>"",$F122,$E122)) | H122: =IF($E122="","",IFERROR(VLOOKUP($A122,'Recurring Plans'!$A$5:$M$104,9,FALSE),"")) | J122: =IF($E122="","",IF($I122<>"",$I122,IFERROR(VLOOKUP($A122,'Recurring Plans'!$A$5:$M$104,10,FALSE),""))) | L122: =IF($G122="","",IF($K122<>"",$K122,'Assumptions'!$E$14)) | N122: =IF($G122="","",IF(OR($F122<>"",$I122<>"",$M122<>"",$K122='Assumptions'!$E$16,$K122='Assumptions'!$E$17),"Exception - check",IF(AND($L122='Assumptions'!$E$14,$G122<'Assumptions'!$B$4),"Past date - check","")))
A123: =IFERROR(IF(INDEX('Recurring Plans'!$A$5:$A$104,INT((ROW()-5)/12)+1)="","",INDEX('Recurring Plans'!$A$5:$A$104,INT((ROW()-5)/12)+1)),"") | B123: =IF($A123="","",MOD(ROW()-5,12)+1) | C123: =IF($A123="","",IFERROR(VLOOKUP($A123,'Recurring Plans'!$A$5:$M$104,2,FALSE),"")) | D123: =IF($A123="","",IFERROR(VLOOKUP($A123,'Recurring Plans'!$A$5:$M$104,4,FALSE),"")) | E123: =IF(OR($A123="",$B123>IFERROR(VLOOKUP($A123,'Recurring Plans'!$A$5:$M$104,8,FALSE),0),IFERROR(VLOOKUP($A123,'Recurring Plans'!$A$5:$M$104,11,FALSE),"")<>'Assumptions'!$E$9),"",IFERROR(IF(VLOOKUP($A123,'Recurring Plans'!$A$5:$M$104,7,FALSE)='Assumptions'!$E$4,VLOOKUP($A123,'Recurring Plans'!$A$5:$M$104,5,FALSE)+($B123-1)*VLOOKUP($A123,'Recurring Plans'!$A$5:$M$104,6,FALSE),IF(VLOOKUP($A123,'Recurring Plans'!$A$5:$M$104,7,FALSE)='Assumptions'!$E$5,VLOOKUP($A123,'Recurring Plans'!$A$5:$M$104,5,FALSE)+($B123-1)*VLOOKUP($A123,'Recurring Plans'!$A$5:$M$104,6,FALSE)*7,IF(VLOOKUP($A123,'Recurring Plans'!$A$5:$M$104,7,FALSE)='Assumptions'!$E$6,EDATE(VLOOKUP($A123,'Recurring Plans'!$A$5:$M$104,5,FALSE),($B123-1)*VLOOKUP($A123,'Recurring Plans'!$A$5:$M$104,6,FALSE)),""))),"")) | G123: =IF($E123="","",IF($F123<>"",$F123,$E123)) | H123: =IF($E123="","",IFERROR(VLOOKUP($A123,'Recurring Plans'!$A$5:$M$104,9,FALSE),"")) | J123: =IF($E123="","",IF($I123<>"",$I123,IFERROR(VLOOKUP($A123,'Recurring Plans'!$A$5:$M$104,10,FALSE),""))) | L123: =IF($G123="","",IF($K123<>"",$K123,'Assumptions'!$E$14)) | N123: =IF($G123="","",IF(OR($F123<>"",$I123<>"",$M123<>"",$K123='Assumptions'!$E$16,$K123='Assumptions'!$E$17),"Exception - check",IF(AND($L123='Assumptions'!$E$14,$G123<'Assumptions'!$B$4),"Past date - check","")))
A124: =IFERROR(IF(INDEX('Recurring Plans'!$A$5:$A$104,INT((ROW()-5)/12)+1)="","",INDEX('Recurring Plans'!$A$5:$A$104,INT((ROW()-5)/12)+1)),"") | B124: =IF($A124="","",MOD(ROW()-5,12)+1) | C124: =IF($A124="","",IFERROR(VLOOKUP($A124,'Recurring Plans'!$A$5:$M$104,2,FALSE),"")) | D124: =IF($A124="","",IFERROR(VLOOKUP($A124,'Recurring Plans'!$A$5:$M$104,4,FALSE),"")) | E124: =IF(OR($A124="",$B124>IFERROR(VLOOKUP($A124,'Recurring Plans'!$A$5:$M$104,8,FALSE),0),IFERROR(VLOOKUP($A124,'Recurring Plans'!$A$5:$M$104,11,FALSE),"")<>'Assumptions'!$E$9),"",IFERROR(IF(VLOOKUP($A124,'Recurring Plans'!$A$5:$M$104,7,FALSE)='Assumptions'!$E$4,VLOOKUP($A124,'Recurring Plans'!$A$5:$M$104,5,FALSE)+($B124-1)*VLOOKUP($A124,'Recurring Plans'!$A$5:$M$104,6,FALSE),IF(VLOOKUP($A124,'Recurring Plans'!$A$5:$M$104,7,FALSE)='Assumptions'!$E$5,VLOOKUP($A124,'Recurring Plans'!$A$5:$M$104,5,FALSE)+($B124-1)*VLOOKUP($A124,'Recurring Plans'!$A$5:$M$104,6,FALSE)*7,IF(VLOOKUP($A124,'Recurring Plans'!$A$5:$M$104,7,FALSE)='Assumptions'!$E$6,EDATE(VLOOKUP($A124,'Recurring Plans'!$A$5:$M$104,5,FALSE),($B124-1)*VLOOKUP($A124,'Recurring Plans'!$A$5:$M$104,6,FALSE)),""))),"")) | G124: =IF($E124="","",IF($F124<>"",$F124,$E124)) | H124: =IF($E124="","",IFERROR(VLOOKUP($A124,'Recurring Plans'!$A$5:$M$104,9,FALSE),"")) | J124: =IF($E124="","",IF($I124<>"",$I124,IFERROR(VLOOKUP($A124,'Recurring Plans'!$A$5:$M$104,10,FALSE),""))) | L124: =IF($G124="","",IF($K124<>"",$K124,'Assumptions'!$E$14)) | N124: =IF($G124="","",IF(OR($F124<>"",$I124<>"",$M124<>"",$K124='Assumptions'!$E$16,$K124='Assumptions'!$E$17),"Exception - check",IF(AND($L124='Assumptions'!$E$14,$G124<'Assumptions'!$B$4),"Past date - check","")))
A125: =IFERROR(IF(INDEX('Recurring Plans'!$A$5:$A$104,INT((ROW()-5)/12)+1)="","",INDEX('Recurring Plans'!$A$5:$A$104,INT((ROW()-5)/12)+1)),"") | B125: =IF($A125="","",MOD(ROW()-5,12)+1) | C125: =IF($A125="","",IFERROR(VLOOKUP($A125,'Recurring Plans'!$A$5:$M$104,2,FALSE),"")) | D125: =IF($A125="","",IFERROR(VLOOKUP($A125,'Recurring Plans'!$A$5:$M$104,4,FALSE),"")) | E125: =IF(OR($A125="",$B125>IFERROR(VLOOKUP($A125,'Recurring Plans'!$A$5:$M$104,8,FALSE),0),IFERROR(VLOOKUP($A125,'Recurring Plans'!$A$5:$M$104,11,FALSE),"")<>'Assumptions'!$E$9),"",IFERROR(IF(VLOOKUP($A125,'Recurring Plans'!$A$5:$M$104,7,FALSE)='Assumptions'!$E$4,VLOOKUP($A125,'Recurring Plans'!$A$5:$M$104,5,FALSE)+($B125-1)*VLOOKUP($A125,'Recurring Plans'!$A$5:$M$104,6,FALSE),IF(VLOOKUP($A125,'Recurring Plans'!$A$5:$M$104,7,FALSE)='Assumptions'!$E$5,VLOOKUP($A125,'Recurring Plans'!$A$5:$M$104,5,FALSE)+($B125-1)*VLOOKUP($A125,'Recurring Plans'!$A$5:$M$104,6,FALSE)*7,IF(VLOOKUP($A125,'Recurring Plans'!$A$5:$M$104,7,FALSE)='Assumptions'!$E$6,EDATE(VLOOKUP($A125,'Recurring Plans'!$A$5:$M$104,5,FALSE),($B125-1)*VLOOKUP($A125,'Recurring Plans'!$A$5:$M$104,6,FALSE)),""))),"")) | G125: =IF($E125="","",IF($F125<>"",$F125,$E125)) | H125: =IF($E125="","",IFERROR(VLOOKUP($A125,'Recurring Plans'!$A$5:$M$104,9,FALSE),"")) | J125: =IF($E125="","",IF($I125<>"",$I125,IFERROR(VLOOKUP($A125,'Recurring Plans'!$A$5:$M$104,10,FALSE),""))) | L125: =IF($G125="","",IF($K125<>"",$K125,'Assumptions'!$E$14)) | N125: =IF($G125="","",IF(OR($F125<>"",$I125<>"",$M125<>"",$K125='Assumptions'!$E$16,$K125='Assumptions'!$E$17),"Exception - check",IF(AND($L125='Assumptions'!$E$14,$G125<'Assumptions'!$B$4),"Past date - check","")))
... A1204: =IFERROR(IF(INDEX('Recurring Plans'!$A$5:$A$104,INT((ROW()-5)/12)+1)="","",INDEX('Recurring Plans'!$A$5:$A$104,INT((ROW()-5)/12)+1)),"") | B1204: =IF($A1204="","",MOD(ROW()-5,12)+1) | C1204: =IF($A1204="","",IFERROR(VLOOKUP($A1204,'Recurring Plans'!$A$5:$M$104,2,FALSE),"")) | D1204: =IF($A1204="","",IFERROR(VLOOKUP($A1204,'Recurring Plans'!$A$5:$M$104,4,FALSE),"")) | E1204: =IF(OR($A1204="",$B1204>IFERROR(VLOOKUP($A1204,'Recurring Plans'!$A$5:$M$104,8,FALSE),0),IFERROR(VLOOKUP($A1204,'Recurring Plans'!$A$5:$M$104,11,FALSE),"")<>'Assumptions'!$E$9),"",IFERROR(IF(VLOOKUP($A1204,'Recurring Plans'!$A$5:$M$104,7,FALSE)='Assumptions'!$E$4,VLOOKUP($A1204,'Recurring Plans'!$A$5:$M$104,5,FALSE)+($B1204-1)*VLOOKUP($A1204,'Recurring Plans'!$A$5:$M$104,6,FALSE),IF(VLOOKUP($A1204,'Recurring Plans'!$A$5:$M$104,7,FALSE)='Assumptions'!$E$5,VLOOKUP($A1204,'Recurring Plans'!$A$5:$M$104,5,FALSE)+($B1204-1)*VLOOKUP($A1204,'Recurring Plans'!$A$5:$M$104,6,FALSE)*7,IF(VLOOKUP($A1204,'Recurring Plans'!$A$5:$M$104,7,FALSE)='Assumptions'!$E$6,EDATE(VLOOKUP($A1204,'Recurring Plans'!$A$5:$M$104,5,FALSE),($B1204-1)*VLOOKUP($A1204,'Recurring Plans'!$A$5:$M$104,6,FALSE)),""))),"")) | G1204: =IF($E1204="","",IF($F1204<>"",$F1204,$E1204)) | H1204: =IF($E1204="","",IFERROR(VLOOKUP($A1204,'Recurring Plans'!$A$5:$M$104,9,FALSE),"")) | J1204: =IF($E1204="","",IF($I1204<>"",$I1204,IFERROR(VLOOKUP($A1204,'Recurring Plans'!$A$5:$M$104,10,FALSE),""))) | L1204: =IF($G1204="","",IF($K1204<>"",$K1204,'Assumptions'!$E$14)) | N1204: =IF($G1204="","",IF(OR($F1204<>"",$I1204<>"",$M1204<>"",$K1204='Assumptions'!$E$16,$K1204='Assumptions'!$E$17),"Exception - check",IF(AND($L1204='Assumptions'!$E$14,$G1204<'Assumptions'!$B$4),"Past date - check","")))

Sheet Assumptions
A1: Recurring Appointment Assumptions
A2: Editable limits, dates, and stable choices used by the recurring appointment calendar.
A3: Setting | B3: Value | C3: Purpose | E3: Frequency Units | F3: Use
A4: Calendar as-of date | B4: 46274 | C4: Summary counts and past-date checks use this editable date. | E4: Days | F4: Stable choice used by validations and formulas.
A5: Weekly summary periods | B5: 8 | C5: Number of weekly indicator rows to emphasize, from 1 through 8. | E5: Weeks | F5: Stable choice used by validations and formulas.
A6: Maximum occurrences per plan | B6: 12 | C6: Allowed occurrences per plan; the calendar provides 12 slots per plan. | E6: Months | F6: Stable choice used by validations and formulas.
A7: Earliest allowed appointment date | B7: 44197 | C7: Lower date boundary for plan starts and date overrides.
A8: Latest allowed appointment date | B8: 50040 | C8: Upper date boundary for plan starts and date overrides. | E8: Plan Statuses | F8: Use
E9: Active | F9: Stable choice used by validations and formulas.
E10: Paused | F10: Stable choice used by validations and formulas.
E11: Ended | F11: Stable choice used by validations and formulas.
E13: Appointment Statuses | F13: Use
E14: Scheduled | F14: Stable choice used by validations and formulas.
E15: Completed | F15: Stable choice used by validations and formulas.
E16: Canceled | F16: Stable choice used by validations and formulas.
E17: Needs Review | F17: Stable choice used by validations and formulas.
