Workbook

Sheet Summary
A1: Walk-In Pet Service Request Log — Summary
A3: Request Indicators | B3: Value | D3: Queue and Value Indicators | E3: Value | G3: Status | H3: Requests
A4: Total Requests | B4: =COUNTIF(Requests!$A$5:$A$104,"<>") | D4: Human Checks | E4: =COUNTIF(Requests!$N$5:$N$104,"Human check:*") | G4: Pending | H4: =COUNTIF(Requests!$K$5:$K$104,"Pending")
A5: Pending Requests | B5: =COUNTIF(Requests!$K$5:$K$104,"Pending") | D5: High or Urgent Pending | E5: =COUNTIFS(Requests!$K$5:$K$104,"Pending",Requests!$I$5:$I$104,"High")+COUNTIFS(Requests!$K$5:$K$104,"Pending",Requests!$I$5:$I$104,"Urgent") | G5: Accepted | H5: =COUNTIF(Requests!$K$5:$K$104,"Accepted")
A6: Accepted Requests | B6: =COUNTIF(Requests!$K$5:$K$104,"Accepted") | D6: Total Quoted Amount | E6: =IF(B4=0,"",IFERROR(SUM(Requests!$H$5:$H$104),"")) | G6: Deferred | H6: =COUNTIF(Requests!$K$5:$K$104,"Deferred")
A7: Deferred Requests | B7: =COUNTIF(Requests!$K$5:$K$104,"Deferred") | D7: Average Quoted Amount | E7: =IFERROR(AVERAGE(Requests!$H$5:$H$104),"") | G7: Declined | H7: =COUNTIF(Requests!$K$5:$K$104,"Declined")
A8: Declined Requests | B8: =COUNTIF(Requests!$K$5:$K$104,"Declined") | D8: Earliest Request Date | E8: =IF(COUNT(Requests!$B$5:$B$104)=0,"",MIN(Requests!$B$5:$B$104))
A9: Decided Requests | B9: =SUM(B6:B8) | D9: Latest Request Date | E9: =IF(COUNT(Requests!$B$5:$B$104)=0,"",MAX(Requests!$B$5:$B$104))
A10: Acceptance Rate | B10: =IFERROR(B6/B9,"")
A11: Average Decision Wait (minutes) | B11: =IFERROR(AVERAGE(Requests!$M$5:$M$104),"")
A12: Accepted Quoted Amount | B12: =IF(B4=0,"",IFERROR(SUMIF(Requests!$K$5:$K$104,"Accepted",Requests!$H$5:$H$104),""))

Sheet Requests
A1: Walk-In Pet Service Request Log
A2: Enter walk-in requests in yellow cells. Wait minutes and human-check prompts calculate automatically. All examples are fictional.
A4: Request ID | B4: Request Date | C4: Arrival Time | D4: Client ID | E4: Pet ID | F4: Service Requested | G4: Service Units | H4: Quoted Amount | I4: Priority | J4: Assigned To | K4: Status | L4: Decision Time | M4: Wait Minutes | N4: Queue Check | O4: Follow-Up Date | P4: Request Notes
A5: WI-FIC-0001 | B5: 46266 | C5: 0.375 | D5: FIC-CLIENT-001 | E5: FIC-PET-COMET | F5: Dog walk | G5: 1 | H5: 28 | I5: Normal | J5: Fictional Staff A | K5: Accepted | L5: 0.38888889 | M5: =IF(OR($A5="",$B5="",$C5="",$L5="",$K5="Pending"),"",IFERROR(IF($L5>=$C5,ROUND(($L5-$C5)*1440,0),""),"")) | N5: =IF($A5="","",IF($K5="","Human check: choose status",IF($K5="Pending","Human check: still pending",IF(AND(OR($K5="Accepted",$K5="Deferred",$K5="Declined"),$L5=""),"Human check: add decision time",IF(AND($L5<>"",$C5<>"",$L5<$C5),"Human check: decision before arrival",IF(AND($K5="Deferred",$O5=""),"Human check: add follow-up date",IF(AND(ISNUMBER($M5),$M5>IFERROR(VLOOKUP("Wait alert minutes",Assumptions!$I$4:$J$9,2,FALSE),30)),"Human check: wait exceeded",""))))))) | P5: Requested a same-day neighborhood walk.
A6: WI-FIC-0002 | B6: 46267 | C6: 0.42708333 | D6: FIC-CLIENT-002 | E6: FIC-PET-MAPLE | F6: Bath and brush | G6: 1 | H6: 45 | I6: High | J6: Fictional Staff B | K6: Deferred | L6: 0.45833333 | M6: =IF(OR($A6="",$B6="",$C6="",$L6="",$K6="Pending"),"",IFERROR(IF($L6>=$C6,ROUND(($L6-$C6)*1440,0),""),"")) | N6: =IF($A6="","",IF($K6="","Human check: choose status",IF($K6="Pending","Human check: still pending",IF(AND(OR($K6="Accepted",$K6="Deferred",$K6="Declined"),$L6=""),"Human check: add decision time",IF(AND($L6<>"",$C6<>"",$L6<$C6),"Human check: decision before arrival",IF(AND($K6="Deferred",$O6=""),"Human check: add follow-up date",IF(AND(ISNUMBER($M6),$M6>IFERROR(VLOOKUP("Wait alert minutes",Assumptions!$I$4:$J$9,2,FALSE),30)),"Human check: wait exceeded",""))))))) | O6: 46270 | P6: Asked for the next available opening.
A7: WI-FIC-0003 | B7: 46268 | C7: 0.54166667 | D7: FIC-CLIENT-003 | E7: FIC-PET-PIPER | F7: Nail trim | G7: 1 | H7: 18 | I7: Normal | J7: Unassigned | K7: Declined | L7: 0.54861111 | M7: =IF(OR($A7="",$B7="",$C7="",$L7="",$K7="Pending"),"",IFERROR(IF($L7>=$C7,ROUND(($L7-$C7)*1440,0),""),"")) | N7: =IF($A7="","",IF($K7="","Human check: choose status",IF($K7="Pending","Human check: still pending",IF(AND(OR($K7="Accepted",$K7="Deferred",$K7="Declined"),$L7=""),"Human check: add decision time",IF(AND($L7<>"",$C7<>"",$L7<$C7),"Human check: decision before arrival",IF(AND($K7="Deferred",$O7=""),"Human check: add follow-up date",IF(AND(ISNUMBER($M7),$M7>IFERROR(VLOOKUP("Wait alert minutes",Assumptions!$I$4:$J$9,2,FALSE),30)),"Human check: wait exceeded",""))))))) | P7: Requested service after the day's queue was full.
A8: WI-FIC-0004 | B8: 46269 | C8: 0.35416667 | D8: FIC-CLIENT-004 | E8: FIC-PET-SCOUT | F8: Grooming consultation | G8: 0.25 | H8: 0 | I8: Normal | J8: Fictional Staff A | K8: Accepted | L8: 0.375 | M8: =IF(OR($A8="",$B8="",$C8="",$L8="",$K8="Pending"),"",IFERROR(IF($L8>=$C8,ROUND(($L8-$C8)*1440,0),""),"")) | N8: =IF($A8="","",IF($K8="","Human check: choose status",IF($K8="Pending","Human check: still pending",IF(AND(OR($K8="Accepted",$K8="Deferred",$K8="Declined"),$L8=""),"Human check: add decision time",IF(AND($L8<>"",$C8<>"",$L8<$C8),"Human check: decision before arrival",IF(AND($K8="Deferred",$O8=""),"Human check: add follow-up date",IF(AND(ISNUMBER($M8),$M8>IFERROR(VLOOKUP("Wait alert minutes",Assumptions!$I$4:$J$9,2,FALSE),30)),"Human check: wait exceeded",""))))))) | P8: Requested a brief service-planning conversation.
A9: WI-FIC-0005 | B9: 46270 | C9: 0.63194444 | D9: FIC-CLIENT-005 | E9: FIC-PET-NOVA | F9: Dog walk | G9: 2 | H9: 56 | I9: Urgent | J9: Unassigned | K9: Pending | M9: =IF(OR($A9="",$B9="",$C9="",$L9="",$K9="Pending"),"",IFERROR(IF($L9>=$C9,ROUND(($L9-$C9)*1440,0),""),"")) | N9: =IF($A9="","",IF($K9="","Human check: choose status",IF($K9="Pending","Human check: still pending",IF(AND(OR($K9="Accepted",$K9="Deferred",$K9="Declined"),$L9=""),"Human check: add decision time",IF(AND($L9<>"",$C9<>"",$L9<$C9),"Human check: decision before arrival",IF(AND($K9="Deferred",$O9=""),"Human check: add follow-up date",IF(AND(ISNUMBER($M9),$M9>IFERROR(VLOOKUP("Wait alert minutes",Assumptions!$I$4:$J$9,2,FALSE),30)),"Human check: wait exceeded",""))))))) | P9: Waiting for a staff availability decision.
A10: WI-FIC-0006 | B10: 46271 | C10: 0.47222222 | D10: FIC-CLIENT-006 | E10: FIC-PET-BEAN | F10: Pet sitting visit | G10: 4 | H10: 120 | I10: High | J10: Fictional Staff C | K10: Deferred | L10: 0.48263889 | M10: =IF(OR($A10="",$B10="",$C10="",$L10="",$K10="Pending"),"",IFERROR(IF($L10>=$C10,ROUND(($L10-$C10)*1440,0),""),"")) | N10: =IF($A10="","",IF($K10="","Human check: choose status",IF($K10="Pending","Human check: still pending",IF(AND(OR($K10="Accepted",$K10="Deferred",$K10="Declined"),$L10=""),"Human check: add decision time",IF(AND($L10<>"",$C10<>"",$L10<$C10),"Human check: decision before arrival",IF(AND($K10="Deferred",$O10=""),"Human check: add follow-up date",IF(AND(ISNUMBER($M10),$M10>IFERROR(VLOOKUP("Wait alert minutes",Assumptions!$I$4:$J$9,2,FALSE),30)),"Human check: wait exceeded",""))))))) | P10: Requested several future visits; follow-up date is not entered.
A11: WI-FIC-0007 | B11: 46272 | C11: 0.58333333 | D11: FIC-CLIENT-007 | E11: FIC-PET-ROCKET | F11: Nail trim | G11: 1 | H11: 20 | I11: Normal | J11: Fictional Staff B | K11: Accepted | L11: 0.58888889 | M11: =IF(OR($A11="",$B11="",$C11="",$L11="",$K11="Pending"),"",IFERROR(IF($L11>=$C11,ROUND(($L11-$C11)*1440,0),""),"")) | N11: =IF($A11="","",IF($K11="","Human check: choose status",IF($K11="Pending","Human check: still pending",IF(AND(OR($K11="Accepted",$K11="Deferred",$K11="Declined"),$L11=""),"Human check: add decision time",IF(AND($L11<>"",$C11<>"",$L11<$C11),"Human check: decision before arrival",IF(AND($K11="Deferred",$O11=""),"Human check: add follow-up date",IF(AND(ISNUMBER($M11),$M11>IFERROR(VLOOKUP("Wait alert minutes",Assumptions!$I$4:$J$9,2,FALSE),30)),"Human check: wait exceeded",""))))))) | P11: Accepted into the current walk-in queue.
A12: WI-FIC-0008 | B12: 46273 | C12: 0.6875 | D12: FIC-CLIENT-008 | E12: FIC-PET-WILLOW | F12: Boarding availability request | G12: 8 | H12: 500 | I12: Normal | J12: Unassigned | K12: Declined | L12: 0.70486111 | M12: =IF(OR($A12="",$B12="",$C12="",$L12="",$K12="Pending"),"",IFERROR(IF($L12>=$C12,ROUND(($L12-$C12)*1440,0),""),"")) | N12: =IF($A12="","",IF($K12="","Human check: choose status",IF($K12="Pending","Human check: still pending",IF(AND(OR($K12="Accepted",$K12="Deferred",$K12="Declined"),$L12=""),"Human check: add decision time",IF(AND($L12<>"",$C12<>"",$L12<$C12),"Human check: decision before arrival",IF(AND($K12="Deferred",$O12=""),"Human check: add follow-up date",IF(AND(ISNUMBER($M12),$M12>IFERROR(VLOOKUP("Wait alert minutes",Assumptions!$I$4:$J$9,2,FALSE),30)),"Human check: wait exceeded",""))))))) | P12: Requested the maximum configured service units and quote boundary.
A13: WI-FIC-0009 | B13: 46274 | C13: 0.40277778 | D13: FIC-CLIENT-009 | E13: FIC-PET-ZIGGY | F13: Bath and brush | G13: 1 | H13: 52 | I13: High | J13: Fictional Staff C | K13: Accepted | L13: 0.43055556 | M13: =IF(OR($A13="",$B13="",$C13="",$L13="",$K13="Pending"),"",IFERROR(IF($L13>=$C13,ROUND(($L13-$C13)*1440,0),""),"")) | N13: =IF($A13="","",IF($K13="","Human check: choose status",IF($K13="Pending","Human check: still pending",IF(AND(OR($K13="Accepted",$K13="Deferred",$K13="Declined"),$L13=""),"Human check: add decision time",IF(AND($L13<>"",$C13<>"",$L13<$C13),"Human check: decision before arrival",IF(AND($K13="Deferred",$O13=""),"Human check: add follow-up date",IF(AND(ISNUMBER($M13),$M13>IFERROR(VLOOKUP("Wait alert minutes",Assumptions!$I$4:$J$9,2,FALSE),30)),"Human check: wait exceeded",""))))))) | P13: Accepted after a longer-than-configured decision wait.
A14: WI-FIC-0010 | B14: 46275 | C14: 0.50347222 | D14: FIC-CLIENT-010 | E14: FIC-PET-PEBBLE | F14: Daycare availability request | G14: 1 | H14: 38 | I14: Normal | J14: Unassigned | K14: Pending | M14: =IF(OR($A14="",$B14="",$C14="",$L14="",$K14="Pending"),"",IFERROR(IF($L14>=$C14,ROUND(($L14-$C14)*1440,0),""),"")) | N14: =IF($A14="","",IF($K14="","Human check: choose status",IF($K14="Pending","Human check: still pending",IF(AND(OR($K14="Accepted",$K14="Deferred",$K14="Declined"),$L14=""),"Human check: add decision time",IF(AND($L14<>"",$C14<>"",$L14<$C14),"Human check: decision before arrival",IF(AND($K14="Deferred",$O14=""),"Human check: add follow-up date",IF(AND(ISNUMBER($M14),$M14>IFERROR(VLOOKUP("Wait alert minutes",Assumptions!$I$4:$J$9,2,FALSE),30)),"Human check: wait exceeded",""))))))) | P14: Awaiting a same-day capacity decision.
M15: =IF(OR($A15="",$B15="",$C15="",$L15="",$K15="Pending"),"",IFERROR(IF($L15>=$C15,ROUND(($L15-$C15)*1440,0),""),"")) | N15: =IF($A15="","",IF($K15="","Human check: choose status",IF($K15="Pending","Human check: still pending",IF(AND(OR($K15="Accepted",$K15="Deferred",$K15="Declined"),$L15=""),"Human check: add decision time",IF(AND($L15<>"",$C15<>"",$L15<$C15),"Human check: decision before arrival",IF(AND($K15="Deferred",$O15=""),"Human check: add follow-up date",IF(AND(ISNUMBER($M15),$M15>IFERROR(VLOOKUP("Wait alert minutes",Assumptions!$I$4:$J$9,2,FALSE),30)),"Human check: wait exceeded","")))))))
M16: =IF(OR($A16="",$B16="",$C16="",$L16="",$K16="Pending"),"",IFERROR(IF($L16>=$C16,ROUND(($L16-$C16)*1440,0),""),"")) | N16: =IF($A16="","",IF($K16="","Human check: choose status",IF($K16="Pending","Human check: still pending",IF(AND(OR($K16="Accepted",$K16="Deferred",$K16="Declined"),$L16=""),"Human check: add decision time",IF(AND($L16<>"",$C16<>"",$L16<$C16),"Human check: decision before arrival",IF(AND($K16="Deferred",$O16=""),"Human check: add follow-up date",IF(AND(ISNUMBER($M16),$M16>IFERROR(VLOOKUP("Wait alert minutes",Assumptions!$I$4:$J$9,2,FALSE),30)),"Human check: wait exceeded","")))))))
M17: =IF(OR($A17="",$B17="",$C17="",$L17="",$K17="Pending"),"",IFERROR(IF($L17>=$C17,ROUND(($L17-$C17)*1440,0),""),"")) | N17: =IF($A17="","",IF($K17="","Human check: choose status",IF($K17="Pending","Human check: still pending",IF(AND(OR($K17="Accepted",$K17="Deferred",$K17="Declined"),$L17=""),"Human check: add decision time",IF(AND($L17<>"",$C17<>"",$L17<$C17),"Human check: decision before arrival",IF(AND($K17="Deferred",$O17=""),"Human check: add follow-up date",IF(AND(ISNUMBER($M17),$M17>IFERROR(VLOOKUP("Wait alert minutes",Assumptions!$I$4:$J$9,2,FALSE),30)),"Human check: wait exceeded","")))))))
M18: =IF(OR($A18="",$B18="",$C18="",$L18="",$K18="Pending"),"",IFERROR(IF($L18>=$C18,ROUND(($L18-$C18)*1440,0),""),"")) | N18: =IF($A18="","",IF($K18="","Human check: choose status",IF($K18="Pending","Human check: still pending",IF(AND(OR($K18="Accepted",$K18="Deferred",$K18="Declined"),$L18=""),"Human check: add decision time",IF(AND($L18<>"",$C18<>"",$L18<$C18),"Human check: decision before arrival",IF(AND($K18="Deferred",$O18=""),"Human check: add follow-up date",IF(AND(ISNUMBER($M18),$M18>IFERROR(VLOOKUP("Wait alert minutes",Assumptions!$I$4:$J$9,2,FALSE),30)),"Human check: wait exceeded","")))))))
M19: =IF(OR($A19="",$B19="",$C19="",$L19="",$K19="Pending"),"",IFERROR(IF($L19>=$C19,ROUND(($L19-$C19)*1440,0),""),"")) | N19: =IF($A19="","",IF($K19="","Human check: choose status",IF($K19="Pending","Human check: still pending",IF(AND(OR($K19="Accepted",$K19="Deferred",$K19="Declined"),$L19=""),"Human check: add decision time",IF(AND($L19<>"",$C19<>"",$L19<$C19),"Human check: decision before arrival",IF(AND($K19="Deferred",$O19=""),"Human check: add follow-up date",IF(AND(ISNUMBER($M19),$M19>IFERROR(VLOOKUP("Wait alert minutes",Assumptions!$I$4:$J$9,2,FALSE),30)),"Human check: wait exceeded","")))))))
M20: =IF(OR($A20="",$B20="",$C20="",$L20="",$K20="Pending"),"",IFERROR(IF($L20>=$C20,ROUND(($L20-$C20)*1440,0),""),"")) | N20: =IF($A20="","",IF($K20="","Human check: choose status",IF($K20="Pending","Human check: still pending",IF(AND(OR($K20="Accepted",$K20="Deferred",$K20="Declined"),$L20=""),"Human check: add decision time",IF(AND($L20<>"",$C20<>"",$L20<$C20),"Human check: decision before arrival",IF(AND($K20="Deferred",$O20=""),"Human check: add follow-up date",IF(AND(ISNUMBER($M20),$M20>IFERROR(VLOOKUP("Wait alert minutes",Assumptions!$I$4:$J$9,2,FALSE),30)),"Human check: wait exceeded","")))))))
M21: =IF(OR($A21="",$B21="",$C21="",$L21="",$K21="Pending"),"",IFERROR(IF($L21>=$C21,ROUND(($L21-$C21)*1440,0),""),"")) | N21: =IF($A21="","",IF($K21="","Human check: choose status",IF($K21="Pending","Human check: still pending",IF(AND(OR($K21="Accepted",$K21="Deferred",$K21="Declined"),$L21=""),"Human check: add decision time",IF(AND($L21<>"",$C21<>"",$L21<$C21),"Human check: decision before arrival",IF(AND($K21="Deferred",$O21=""),"Human check: add follow-up date",IF(AND(ISNUMBER($M21),$M21>IFERROR(VLOOKUP("Wait alert minutes",Assumptions!$I$4:$J$9,2,FALSE),30)),"Human check: wait exceeded","")))))))
M22: =IF(OR($A22="",$B22="",$C22="",$L22="",$K22="Pending"),"",IFERROR(IF($L22>=$C22,ROUND(($L22-$C22)*1440,0),""),"")) | N22: =IF($A22="","",IF($K22="","Human check: choose status",IF($K22="Pending","Human check: still pending",IF(AND(OR($K22="Accepted",$K22="Deferred",$K22="Declined"),$L22=""),"Human check: add decision time",IF(AND($L22<>"",$C22<>"",$L22<$C22),"Human check: decision before arrival",IF(AND($K22="Deferred",$O22=""),"Human check: add follow-up date",IF(AND(ISNUMBER($M22),$M22>IFERROR(VLOOKUP("Wait alert minutes",Assumptions!$I$4:$J$9,2,FALSE),30)),"Human check: wait exceeded","")))))))
M23: =IF(OR($A23="",$B23="",$C23="",$L23="",$K23="Pending"),"",IFERROR(IF($L23>=$C23,ROUND(($L23-$C23)*1440,0),""),"")) | N23: =IF($A23="","",IF($K23="","Human check: choose status",IF($K23="Pending","Human check: still pending",IF(AND(OR($K23="Accepted",$K23="Deferred",$K23="Declined"),$L23=""),"Human check: add decision time",IF(AND($L23<>"",$C23<>"",$L23<$C23),"Human check: decision before arrival",IF(AND($K23="Deferred",$O23=""),"Human check: add follow-up date",IF(AND(ISNUMBER($M23),$M23>IFERROR(VLOOKUP("Wait alert minutes",Assumptions!$I$4:$J$9,2,FALSE),30)),"Human check: wait exceeded","")))))))
M24: =IF(OR($A24="",$B24="",$C24="",$L24="",$K24="Pending"),"",IFERROR(IF($L24>=$C24,ROUND(($L24-$C24)*1440,0),""),"")) | N24: =IF($A24="","",IF($K24="","Human check: choose status",IF($K24="Pending","Human check: still pending",IF(AND(OR($K24="Accepted",$K24="Deferred",$K24="Declined"),$L24=""),"Human check: add decision time",IF(AND($L24<>"",$C24<>"",$L24<$C24),"Human check: decision before arrival",IF(AND($K24="Deferred",$O24=""),"Human check: add follow-up date",IF(AND(ISNUMBER($M24),$M24>IFERROR(VLOOKUP("Wait alert minutes",Assumptions!$I$4:$J$9,2,FALSE),30)),"Human check: wait exceeded","")))))))
M25: =IF(OR($A25="",$B25="",$C25="",$L25="",$K25="Pending"),"",IFERROR(IF($L25>=$C25,ROUND(($L25-$C25)*1440,0),""),"")) | N25: =IF($A25="","",IF($K25="","Human check: choose status",IF($K25="Pending","Human check: still pending",IF(AND(OR($K25="Accepted",$K25="Deferred",$K25="Declined"),$L25=""),"Human check: add decision time",IF(AND($L25<>"",$C25<>"",$L25<$C25),"Human check: decision before arrival",IF(AND($K25="Deferred",$O25=""),"Human check: add follow-up date",IF(AND(ISNUMBER($M25),$M25>IFERROR(VLOOKUP("Wait alert minutes",Assumptions!$I$4:$J$9,2,FALSE),30)),"Human check: wait exceeded","")))))))
M26: =IF(OR($A26="",$B26="",$C26="",$L26="",$K26="Pending"),"",IFERROR(IF($L26>=$C26,ROUND(($L26-$C26)*1440,0),""),"")) | N26: =IF($A26="","",IF($K26="","Human check: choose status",IF($K26="Pending","Human check: still pending",IF(AND(OR($K26="Accepted",$K26="Deferred",$K26="Declined"),$L26=""),"Human check: add decision time",IF(AND($L26<>"",$C26<>"",$L26<$C26),"Human check: decision before arrival",IF(AND($K26="Deferred",$O26=""),"Human check: add follow-up date",IF(AND(ISNUMBER($M26),$M26>IFERROR(VLOOKUP("Wait alert minutes",Assumptions!$I$4:$J$9,2,FALSE),30)),"Human check: wait exceeded","")))))))
... M104: =IF(OR($A104="",$B104="",$C104="",$L104="",$K104="Pending"),"",IFERROR(IF($L104>=$C104,ROUND(($L104-$C104)*1440,0),""),"")) | N104: =IF($A104="","",IF($K104="","Human check: choose status",IF($K104="Pending","Human check: still pending",IF(AND(OR($K104="Accepted",$K104="Deferred",$K104="Declined"),$L104=""),"Human check: add decision time",IF(AND($L104<>"",$C104<>"",$L104<$C104),"Human check: decision before arrival",IF(AND($K104="Deferred",$O104=""),"Human check: add follow-up date",IF(AND(ISNUMBER($M104),$M104>IFERROR(VLOOKUP("Wait alert minutes",Assumptions!$I$4:$J$9,2,FALSE),30)),"Human check: wait exceeded","")))))))

Sheet Assumptions
A1: Walk-In Request Log — Assumptions
A2: Edit the choices and limits used for consistent entry. These are operating assumptions, not guarantees.
A3: Service Choices | C3: Status Choices | E3: Priority Choices | G3: Assignment Choices | I3: Input Limit | J3: Editable Value
A4: Dog walk | C4: Pending | E4: Normal | G4: Fictional Staff A | I4: Minimum service units | J4: 0.25
A5: Bath and brush | C5: Accepted | E5: High | G5: Fictional Staff B | I5: Maximum service units | J5: 8
A6: Nail trim | C6: Deferred | E6: Urgent | G6: Fictional Staff C | I6: Maximum quoted amount | J6: 500
A7: Grooming consultation | C7: Declined | G7: Unassigned | I7: Wait alert minutes | J7: 30
A8: Pet sitting visit | I8: Earliest request date | J8: 45910
A9: Boarding availability request | I9: Latest request date | J9: 46640
A10: Daycare availability request
A12: Changing a choice or limit affects future entry checks; review existing rows separately.
